{"text_format":"1","workbook":"xlsx","n_sheets":6,"sheets":["Key Indicators Charts","Additional Charts","All Respondents","Month-to-Month Change","Renters Only","Month-to-Month Renters Change"],"not_rendered":{"charts":31,"images":0,"macros":1,"external_links":1,"defined_names":8,"comments":0,"pivot_tables":0},"unopened":[],"bounds":{"document_bytes":16777216,"sheet_cells":100000,"rows_first":2000,"rows_last":500,"rows_between":2000,"halvings":0,"cell_chars":16384,"cell_head_chars":4096},"cells_cut":0,"cells_raw":0,"read":"whole","date_system":"1900"}

{"sheet":"Key Indicators Charts","index":0,"n_rows":31,"n_cols":1,"rows_kept":31,"cut":false,"hidden":false,"merged":[]}
[" "]
[]
[]
[]
[]
[]
[]
[]
[]
[]
[]
[]
[]
[]
[]
[]
[]
[]
[]
[]
[]
[]
[]
[]
[]
[]
[]
[]
[]
[]
[" "]

{"sheet":"Additional Charts","index":1,"n_rows":1,"n_cols":1,"rows_kept":1,"cut":false,"hidden":false,"merged":[]}
[" "]

{"sheet":"All Respondents","index":2,"n_rows":134,"n_cols":123,"rows_kept":134,"cut":false,"hidden":false,"merged":[[0,1,0,3],[0,46,0,50],[0,56,0,58],[0,17,0,23],[0,34,0,40],[0,4,0,7],[0,74,0,76],[0,84,0,87],[0,77,0,83],[0,109,0,115],[0,107,0,108],[0,105,0,106],[0,100,0,104],[0,95,0,99],[0,118,0,122],[0,11,0,14],[0,70,0,73],[0,88,0,94],[0,8,1,8],[0,9,1,9],[0,10,1,10],[0,59,0,61],[0,62,0,69],[0,51,0,54],[0,15,0,16],[0,24,0,28],[0,29,0,33],[0,41,0,45],[0,55,1,55],[0,116,0,117]]}
[" ","Home Purchase Sentiment Index",null,null,"Share of respondents who say home prices will go up/go down/stay the same in the next 12 months (15) ",null,null,null,"Average Home Price Decrease Expectation (16)","Average Home Price Increase Expectation (17)","Average Home Price Change Expectation","Share of respondents who say mortgage rates will go up/go down/stay the same in the next 12 months (20B)",null,null,null,"With current Freddie Mac rate provided (20F)",null,"Share of respondents who say it is a good time to buy \n(12)",null,null,null,null,null,null,"Please tell me the primary reason why you think this is a good time to buy a house (12b)",null,null,null,null,"Please tell me the primary reason why you think this is a bad time to buy a house (12c)",null,null,null,null,"Share of respondents who say it is a good time to sell (13) ",null,null,null,null,null,null,"Please tell me the primary reason why you think this is a good time to sell a house (13c)",null,null,null,null,"Please tell me the primary reason why you think this is a bad time to sell a house (13d)",null,null,null,null,"Share of respondents who say home rental prices will go up/go down/stay the same in the next 12 months (18)",null,null,null,"Average Rental Price Level Expectation ","Share of respondents who say they would buy/rent if they were going to move (31) ",null,null,"Direction of economy (10) ",null,null,"Share of respondents who expect their financial situation to get better/get worse/stay the same over the next 12 months (11) ",null,null,null,null,null,null,null,"Share of respondents who say their household income is significantly higher/significantly lower/about the same than it was 12 months ago (116)",null,null,null,"Do you think it will be difficult or easy for you to get a home mortgage today? (22)",null,null,"Thinking about the total amount you owe on your home compared to the value of your home today, would you say the total amount you owe on your home is: (91)",null,null,null,null,null,null,"How concerned are you that you will lose your job in the next twelve months? (112B) ",null,null,null,"How concerned are you that you will lose your job in the next twelve months? \n(112B filtered) ",null,null,null,null,null,null,"When do you expect to move next? (13bb)",null,null,null,null,"Employment Type (QEmployment)",null,null,null,null,"Which is closer to your view? (47, financial reasons)",null,"Which is closer to your view? (47bb, lifestyle reasons)",null,"Thinking about the value of your home today compared to what you paid for the home, would you say your home is worth: (99)",null,null,null,null,null,null,"Current Home Selling Price\n(223 filtered)",null,"Current Home Selling Price\n(223a filtered)"]
[null,"HPSI","Difference (HPSI without rates - HPSI)","HPSI without rates","Go Up","Go Down","Stay the Same","Net Home Prices Will Go Up",null,null,null,"Go Up","Go Down","Stay the Same","Net Rates Will Go Down","Freddie Mac Data Provided","Mean","Very Good Time to Buy","Somewhat Good Time to Buy","Good Time to Buy","Somewhat Bad Time to Buy","Very Bad Time to Buy","Bad Time to Buy","Net Good Time to Buy","Home prices are low","Mortgage rates are favorable","There are many homes available on the market","It is easy to qualify for a mortgage","Economic conditions overall are favorable","Home prices are high","Mortgage rates are not favorable","There are not many homes available on the market","It is difficult to qualify for a mortgage","Economic conditions overall are not favorable","Very Good Time to Sell","Somewhat Good Time to Sell","Good Time to Sell","Somewhat Bad Time to Sell","Very Bad Time to Sell","Bad Time to Sell","Net Good Time To Sell","Home prices are high","Mortgage rates are favorable","There are not many homes available on the market","It is easy for buyers to qualify for a mortgage","Economic conditions overall are favorable","Home prices are low","Mortgage rates are not favorable","There are many homes available on the market","It is difficult for buyers to qualify for a mortgage","Economic conditions overall are not favorable","Go Up ","Go Down","Stay the Same","Net Rental Prices Will Go Up",null,"Buy","Rent","Net Buy on Next Move","Right Track","Wrong Track","Net Right Track","Much Better","Somewhat Better","Get Better","Stay the Same","Somewhat Worse","Much Worse","Get Worse","Net Get Better","Significantly Higher","Significantly Lower","About the Same","Net Significantly Higher","Difficult","Easy","Net Easy","At least 20% more","About 5-20% more","Underwater","At/Above Water","About the Same","About 5-20% less","At least 20% less","Very Concerned","Somewhat Concerned","Not Very Concerned","Not at All Concerned","Very Concerned","Somewhat Concerned","Concerned","Not Concerned","Not Very Concerned","Not at All Concerned","Net Not Concerned about Losing Job","Never","Less than 1 year","1-3 years","3-5 years","More than 5 years","Employed Full-Time","Employed Part-Time","Unemployed","Discouraged Worker","Employed Part-Time For Econ Reasons","Renting makes more sense","Owning makes more sense","Renting makes more sense","Owning makes more sense","At least 20% more than you paid","About 5-20% more than you paid","Home Value Increase","About the Same","Home Value Decrease","About 5-20% less than you paid","At least 20% less than you paid","Mean","Median","Less than $100,000","$100,000-$249,999","$250,000-$499,999","$500,000-$749,999","$750,000 or more"]
["2010-06-01",null,null,null,0.31,0.18,0.47,{"$f":"E3-F3","v":0.13},-0.1239,0.1129,1.2696999999999998E-2,0.51,0.12,0.34,{"$f":"M3-L3","v":-0.39},null,null,0.37,0.35,{"$f":"R3+S3","v":0.72},0.14000000000000001,0.11,{"$f":"U3+V3","v":0.25},{"$f":"T3-W3","v":0.47},null,null,null,null,null,null,null,null,null,null,0.03,0.11,{"$f":"AI3+AJ3","v":0.14000000000000001},0.38,0.45,{"$f":"AL3+AM3","v":0.83000000000000007},{"$f":"AK3-AN3","v":-0.69000000000000006},null,null,null,null,null,null,null,null,null,null,0.39,0.11,0.46,{"$f":"AZ3-BA3","v":0.28000000000000003},3.1220000000000005E-2,0.66,0.3,{"$f":"BE3-BF3","v":0.36000000000000004},0.32,0.57999999999999996,{"$f":"BH3-BI3","v":-0.25999999999999995},0.15,0.32,{"$f":"BK3+BL3","v":0.47},0.38,0.08,0.05,{"$f":"BO3+BP3","v":0.13},{"$f":"BM3-BQ3","v":0.33999999999999997},0.19,0.21,0.59,{"$f":"BS3-BT3","v":-1.999999999999999E-2},0.53,0.44,{"$f":"BX3-BW3","v":-9.0000000000000024E-2},0.16,0.12,{"$f":"SUM(BZ3:CA3)","v":0.28000000000000003},{"$f":"SUM(CD3:CF3)","v":0.64},0.15,0.17,0.32,null,null,null,null,null,null,null,null,null,null,null,null,null,null,null,null,null,null,null,null,null,0.13,0.84,null,null,0.46,0.2,{"$f":"SUM(DF3:DG3)","v":0.66},0.15,{"$f":"SUM(DK3:DL3)","v":0.16},0.09,7.0000000000000007E-2]
["2010-07-01",null,null,null,0.28999999999999998,0.21,0.47,7.9999999999999988E-2,-9.06E-2,8.2400000000000001E-2,4.8699999999999967E-3,0.48,0.12,0.37,{"$f":"M4-L4","v":-0.36},null,null,0.32,0.37,0.69,0.17,0.12,{"$f":"U4+V4","v":0.29000000000000004},{"$f":"T4-W4","v":0.39999999999999991},null,null,null,null,null,null,null,null,null,null,0.03,0.1,{"$f":"AI4+AJ4","v":0.13},0.34,0.5,{"$f":"AL4+AM4","v":0.84000000000000008},{"$f":"AK4-AN4","v":-0.71000000000000008},null,null,null,null,null,null,null,null,null,null,0.38,0.1,0.46,{"$f":"AZ4-BA4","v":0.28000000000000003},2.9780000000000001E-2,0.67,0.28999999999999998,{"$f":"BE4-BF4","v":0.38000000000000006},0.3,0.6,{"$f":"BH4-BI4","v":-0.3},0.16,0.26,{"$f":"BK4+BL4","v":0.42000000000000004},0.4,0.11,0.06,{"$f":"BO4+BP4","v":0.16999999999999998},{"$f":"BM4-BQ4","v":0.25000000000000006},0.22,0.2,0.56000000000000005,{"$f":"BS4-BT4","v":1.999999999999999E-2},0.55000000000000004,0.42,{"$f":"BX4-BW4","v":-0.13000000000000006},0.15,0.12,{"$f":"SUM(BZ4:CA4)","v":0.27},{"$f":"SUM(CD4:CF4)","v":0.69},0.17,0.18,0.34,null,null,null,null,null,null,null,null,null,null,null,null,null,null,null,null,null,null,null,null,null,0.12,0.85,null,null,0.46,0.22,{"$f":"SUM(DF4:DG4)","v":0.68},0.15,0.15,0.09,0.06]
["2010-08-01",null,null,null,0.25,0.17,0.54,7.9999999999999988E-2,-0.1062,8.4900000000000003E-2,3.1710000000000015E-3,0.48,0.13,0.36,-0.35,null,null,0.36,0.34,0.7,0.14000000000000001,0.11,0.25,0.44999999999999996,null,null,null,null,null,null,null,null,null,null,0.03,0.1,0.13,0.35,0.49,0.84,-0.71,null,null,null,null,null,null,null,null,null,null,0.38,0.09,0.49,0.29000000000000004,2.7717000000000002E-2,0.63,0.32,0.31,0.3,0.6,-0.3,0.14000000000000001,0.27,0.41000000000000003,0.41,0.13,0.04,0.17,0.24000000000000002,0.18,0.21,0.59,-0.03,0.55000000000000004,0.41,-0.14000000000000007,0.11,0.13,0.24,0.72,0.24,0.2,0.28000000000000003,null,null,null,null,null,null,null,null,null,null,null,null,null,null,null,null,null,null,null,null,null,0.12,0.85,null,null,0.45,0.2,0.65,0.16,0.16999999999999998,0.11,0.06]
["2010-09-01",null,null,null,0.27,0.2,0.49,7.0000000000000007E-2,-9.69E-2,9.4100000000000003E-2,6.027000000000002E-3,0.46,0.13,0.36,-0.33,null,null,0.39,0.33,0.72,0.14000000000000001,0.11,0.25,0.47,null,null,null,null,null,null,null,null,null,null,0.02,7.0000000000000007E-2,9.0000000000000011E-2,0.33,0.55000000000000004,0.88000000000000012,-0.79000000000000015,null,null,null,null,null,null,null,null,null,null,0.37,7.0000000000000007E-2,0.52,0.3,2.8362000000000002E-2,0.62,0.33,0.28999999999999998,0.27,0.63,-0.36,0.15,0.26,0.41000000000000003,0.41,0.11,0.05,0.16,0.25,0.19,0.21,0.57999999999999996,-1.999999999999999E-2,0.56999999999999995,0.4,-0.16999999999999993,0.2,0.09,0.29000000000000004,0.64,0.17,0.17,0.3,null,null,null,null,null,null,null,null,null,null,null,null,null,null,null,null,null,null,null,null,null,0.14000000000000001,0.84,null,null,0.45,0.18,0.63,0.17,0.18,0.1,0.08]
["2010-10-01",null,null,null,0.25,0.21,0.5,4.0000000000000008E-2,-0.10059999999999999,9.4200000000000006E-2,2.4239999999999995E-3,0.49,0.11,0.35,-0.38,null,null,0.39,0.3,0.69,0.14000000000000001,0.13,0.27,0.41999999999999993,null,null,null,null,null,null,null,null,null,null,0.03,0.08,0.11,0.31,0.54,0.85000000000000009,-0.7400000000000001,null,null,null,null,null,null,null,null,null,null,0.37,0.08,0.5,0.28999999999999998,2.9580000000000002E-2,0.64,0.32,0.32,0.28999999999999998,0.61,-0.32,0.16,0.26,0.42000000000000004,0.4,0.12,0.05,0.16999999999999998,0.25000000000000006,0.2,0.21,0.56999999999999995,-9.9999999999999811E-3,0.55000000000000004,0.41,-0.14000000000000007,0.17,0.11,0.28000000000000003,0.69,0.16,0.2,0.33,null,null,null,null,null,null,null,null,null,null,null,null,null,null,null,null,null,null,null,null,null,0.12,0.84,null,null,0.44,0.19,0.63,0.18,0.16,0.1,0.06]
["2010-11-01",null,null,null,0.28000000000000003,0.18,0.51,0.10000000000000003,-0.1086,8.9899999999999994E-2,5.6240000000000049E-3,0.52,0.09,0.36,-0.43000000000000005,null,null,0.37,0.28999999999999998,0.65999999999999992,0.18,0.14000000000000001,0.32,0.33999999999999991,null,null,null,null,null,null,null,null,null,null,0.03,0.08,0.11,0.36,0.51,0.87,-0.76,null,null,null,null,null,null,null,null,null,null,0.4,7.0000000000000007E-2,0.48,0.33,3.0876000000000001E-2,0.64,0.31,0.33,0.32,0.56999999999999995,-0.24999999999999994,0.16,0.28000000000000003,0.44000000000000006,0.4,0.1,0.05,0.15000000000000002,0.29000000000000004,0.22,0.16,0.6,0.06,0.56999999999999995,0.42,-0.14999999999999997,0.15,0.12,0.27,0.67999999999999994,0.18,0.18,0.32,null,null,null,null,null,null,null,null,null,null,null,null,null,null,null,null,null,null,null,null,null,0.14000000000000001,0.83,null,null,0.45,0.22,0.67,0.17,0.14000000000000001,0.09,0.05]
["2010-12-01",null,null,null,0.25,0.18,0.55000000000000004,7.0000000000000007E-2,-9.7000000000000003E-2,8.4000000000000005E-2,3.5400000000000032E-3,0.48,0.12,0.35,-0.36,null,null,0.35,0.31,0.65999999999999992,0.15,0.15,0.3,0.35999999999999993,null,null,null,null,null,null,null,null,null,null,0.02,7.0000000000000007E-2,9.0000000000000011E-2,0.35,0.54,0.89,-0.8,null,null,null,null,null,null,null,null,null,null,0.37,7.0000000000000007E-2,0.52,0.3,3.0053E-2,0.68,0.27,0.41000000000000003,0.28999999999999998,0.63,-0.34,0.12,0.27,0.39,0.42,0.11,0.05,0.16,0.23,0.17,0.2,0.62,-0.03,0.53,0.45,-8.0000000000000016E-2,0.15,0.12,0.27,0.67999999999999994,0.18,0.17,0.33,null,null,null,null,null,null,null,null,null,null,null,null,null,null,null,null,null,null,null,null,null,0.13,0.85,null,null,0.45,0.2,0.65,0.17,0.16,0.09,7.0000000000000007E-2]
["2011-01-01",null,null,null,0.28999999999999998,0.17,0.49,0.11999999999999997,-9.0899999999999995E-2,7.9799999999999996E-2,7.6889999999999988E-3,0.45,7.0000000000000007E-2,0.43,-0.38,null,null,0.34,0.35,0.69,0.14000000000000001,0.13,0.27,0.41999999999999993,null,null,null,null,null,null,null,null,null,null,0.01,0.1,0.11,0.34,0.53,0.87000000000000011,-0.76000000000000012,null,null,null,null,null,null,null,null,null,null,0.4,0.06,0.49,0.34,3.2660000000000008E-2,0.68,0.28000000000000003,0.4,0.34,0.57999999999999996,-0.23999999999999994,0.16,0.3,0.45999999999999996,0.42,0.08,0.04,0.12,0.33999999999999997,0.22,0.19,0.56000000000000005,0.03,0.56000000000000005,0.41,-0.15000000000000008,0.13,0.08,0.21000000000000002,0.73,0.21,0.15,0.37,null,null,null,null,null,null,null,null,null,null,null,null,null,null,null,null,null,null,null,null,null,0.12,0.86,null,null,0.41,0.21,0.62,0.18,0.17,0.1,7.0000000000000007E-2]
["2011-02-01",null,null,null,0.31,0.14000000000000001,0.51,0.16999999999999998,-8.4400000000000003E-2,7.1900000000000006E-2,1.0473000000000003E-2,0.5,0.06,0.4,-0.44,null,null,0.33,0.35,0.67999999999999994,0.16,0.11,0.27,0.40999999999999992,null,null,null,null,null,null,null,null,null,null,0.02,0.08,0.1,0.37,0.49,0.86,-0.76,null,null,null,null,null,null,null,null,null,null,0.43,7.0000000000000007E-2,0.46,0.36,3.1153E-2,0.66,0.3,0.36000000000000004,0.35,0.54,-0.19000000000000006,0.15,0.28000000000000003,0.43000000000000005,0.43,0.1,0.03,0.13,0.30000000000000004,0.22,0.19,0.56999999999999995,0.03,0.52,0.45,-7.0000000000000007E-2,0.15,0.11,0.26,0.71,0.19,0.17,0.35,null,null,null,null,null,null,null,null,null,null,null,null,null,null,null,null,null,null,null,null,null,0.12,0.87,null,null,0.47,0.19,0.65999999999999992,0.17,0.16,0.09,7.0000000000000007E-2]
["2011-03-01",{"$f":"ROUND(63.5+100*($T$12-$W$12+$AK$12-$AN$12+$E$12-$F$12+$M$12-$L$12+$BS$12-$BT$12+$CN$12-$CM$12)/6,1)","v":60},{"$f":"D12-B12","v":8.0999999999999943},{"$f":"ROUND(63.5+100*(T12-W12+AK12-AN12+E12-F12+BS12-BT12+CN12-CM12)/5,1)","v":68.099999999999994},0.33,0.19,0.43,0.14000000000000001,-8.7599999999999997E-2,8.2600000000000007E-2,1.0614000000000002E-2,0.51,7.0000000000000007E-2,0.38,-0.44,null,null,0.31,0.36,0.66999999999999993,0.19,0.1,0.29000000000000004,0.37999999999999989,null,null,null,null,null,null,null,null,null,null,0.02,0.1,0.12000000000000001,0.36,0.48,0.84,-0.72,null,null,null,null,null,null,null,null,null,null,0.46,0.06,0.44,0.4,3.2226000000000005E-2,0.65,0.31,0.34,0.3,0.63,-0.33,0.13,0.26,0.39,0.39,0.15,0.06,0.21,0.18000000000000002,0.19,0.2,0.59,-1.0000000000000009E-2,0.56999999999999995,0.41,-0.15999999999999998,0.11,0.1,0.21000000000000002,0.73,0.17,0.17,0.39,0.1,0.14000000000000001,0.17,0.55000000000000004,0.09,0.19,{"$f":"CK12+CL12","v":0.28000000000000003},{"$f":"SUM(CO12:CP12)","v":0.72},0.23,0.49,{"$f":"CN12-CM12","v":0.43999999999999995},null,null,null,null,null,null,null,null,null,null,0.12,0.86,null,null,0.43,0.21,0.64,0.16,0.19,0.12,7.0000000000000007E-2]
["2011-04-01",{"$f":"ROUND(63.5+100*(T13-W13+AK13-AN13+E13-F13+M13-L13+BS13-BT13+CN13-CM13)/6,1)","v":62.5},{"$f":"D13-B13","v":8.5999999999999943},71.099999999999994,0.3,0.19,0.48,0.10999999999999999,-8.9499999999999996E-2,9.4200000000000006E-2,1.1255000000000001E-2,0.51,7.0000000000000007E-2,0.34,-0.44,null,null,0.36,0.36,0.72,0.14000000000000001,0.11,0.25,0.47,null,null,null,null,null,null,null,null,null,null,0.02,0.09,0.11,0.38,0.49,0.87,-0.76,null,null,null,null,null,null,null,null,null,null,0.43,0.06,0.44,0.37,3.2070000000000001E-2,0.65,0.31,0.34,0.28999999999999998,0.63,-0.34,0.12,0.28000000000000003,0.4,0.42,0.11,0.06,0.16999999999999998,0.23000000000000004,0.23,0.18,0.56999999999999995,5.0000000000000017E-2,0.55000000000000004,0.43,-0.12000000000000005,0.16,0.11,0.27,0.69,0.16,0.19,0.34,7.0000000000000007E-2,0.11,0.18,0.56999999999999995,7.0000000000000007E-2,0.17,{"$f":"CK13+CL13","v":0.24000000000000002},{"$f":"SUM(CO13:CP13)","v":0.75},0.24,0.51,{"$f":"CN13-CM13","v":0.51},null,null,null,null,null,null,null,null,null,null,0.13,0.85,null,null,0.44,0.21,0.65,0.15,0.18,0.1,0.08]
["2011-05-01",60.3,7.6000000000000085,67.900000000000006,0.27,0.19,0.5,8.0000000000000016E-2,-9.2100000000000001E-2,8.7999999999999995E-2,6.2610000000000009E-3,0.47,0.06,0.4,-0.41,null,null,0.35,0.31,0.65999999999999992,0.18,0.12,0.3,0.35999999999999993,null,null,null,null,null,null,null,null,null,null,0.03,0.08,0.11,0.37,0.48,0.85,-0.74,null,null,null,null,null,null,null,null,null,null,0.46,0.04,0.44,0.42000000000000004,3.9079999999999997E-2,0.66,0.3,0.36000000000000004,0.3,0.61,-0.31,0.14000000000000001,0.26,0.4,0.42,0.11,0.06,0.16999999999999998,0.23000000000000004,0.21,0.16,0.61,4.9999999999999989E-2,0.55000000000000004,0.43,-0.12000000000000005,0.12,0.11,0.22999999999999998,0.7,0.2,0.16,0.34,0.08,0.15,0.17,0.56999999999999995,0.08,0.19,0.27,0.74,0.23,0.51,0.47,null,null,null,null,null,null,null,null,null,null,0.12,0.86,null,null,0.44,0.18,{"$f":"SUM(DF14:DG14)","v":0.62},0.16,0.19,0.1,0.09]
["2011-06-01",61,5.2999999999999972,66.3,0.22,0.25,0.5,-0.03,-9.2200000000000004E-2,8.2699999999999996E-2,-4.8560000000000027E-3,0.37,0.08,0.49,-0.28999999999999998,null,null,0.34,0.33,0.67,0.15,0.14000000000000001,0.29000000000000004,0.38,null,null,null,null,null,null,null,null,null,null,0.02,0.09,0.11,0.31,0.56000000000000005,0.87000000000000011,-0.76000000000000012,null,null,null,null,null,null,null,null,null,null,0.44,0.06,0.46,0.38,4.07E-2,0.65,0.32,0.33,0.26,0.67,-0.41000000000000003,0.14000000000000001,0.26,0.4,0.42,0.11,0.05,0.16,0.24000000000000002,0.21,0.17,0.62,3.999999999999998E-2,0.51,0.45,-0.06,0.18,0.1,0.28000000000000003,0.67999999999999994,0.17,0.15,0.36,7.0000000000000007E-2,0.12,0.17,0.56999999999999995,7.0000000000000007E-2,0.17,0.24000000000000002,0.75,0.21,0.54,0.51,null,null,null,null,null,null,null,null,null,null,0.14000000000000001,0.83,null,null,0.44,0.17,0.61,0.18,0.16999999999999998,0.08,0.09]
["2011-07-01",60,6.5,66.5,0.22,0.25,0.49,-0.03,-0.10539999999999999,8.4900000000000003E-2,-7.6719999999999965E-3,0.45,0.09,0.4,-0.36,null,null,0.28999999999999998,0.38,0.66999999999999993,0.16,0.14000000000000001,0.30000000000000004,0.36999999999999988,null,null,null,null,null,null,null,null,null,null,0.03,0.09,0.12,0.31,0.55000000000000004,0.8600000000000001,-0.7400000000000001,null,null,null,null,null,null,null,null,null,null,0.47,0.06,0.44,0.41,3.8572999999999996E-2,0.62,0.33,0.28999999999999998,0.23,0.71,-0.48,0.13,0.25,0.38,0.41,0.14000000000000001,7.0000000000000007E-2,0.21000000000000002,0.16999999999999998,0.2,0.18,0.6,2.0000000000000018E-2,0.55000000000000004,0.43,-0.12000000000000005,0.14000000000000001,0.14000000000000001,0.28000000000000003,0.69,0.15,0.15,0.39,0.08,0.12,0.19,0.55000000000000004,0.08,0.15,0.22999999999999998,0.76,0.26,0.5,0.53,null,null,null,null,null,null,null,null,null,null,0.12,0.85,null,null,0.46,0.18,0.64,0.16,0.19,0.08,0.11]
["2011-08-01",59.3,6.2000000000000028,65.5,0.21,0.27,0.5,-6.0000000000000026E-2,-9.3399999999999997E-2,8.5500000000000007E-2,-7.2630000000000021E-3,0.45,0.1,0.41,-0.35,null,null,0.33,0.35,0.67999999999999994,0.17,0.12,0.29000000000000004,0.3899999999999999,null,null,null,null,null,null,null,null,null,null,0.01,0.08,0.09,0.35,0.52,0.87,-0.78,null,null,null,null,null,null,null,null,null,null,0.48,0.06,0.4,0.42,3.9149999999999997E-2,0.63,0.34,0.28999999999999998,0.15,0.79,-0.64,0.09,0.26,0.35,0.42,0.14000000000000001,7.0000000000000007E-2,0.21000000000000002,0.13999999999999996,0.23,0.17,0.59,0.06,0.54,0.43,-0.11000000000000004,0.12,0.09,0.21,0.75,0.19,0.23,0.33,0.08,0.15,0.18,0.56999999999999995,0.08,0.17,0.25,0.74,0.24,0.5,0.49,null,null,null,null,null,null,null,null,null,null,0.15,0.83,null,null,0.4,0.2,0.60000000000000009,0.19,0.18,0.1,0.08]
["2011-09-01",60.2,4.0999999999999943,64.3,0.18,0.26,0.54,-8.0000000000000016E-2,-0.10440000000000001,0.08,-1.2744E-2,0.35,0.11,0.51,-0.24,null,null,0.33,0.35,0.67999999999999994,0.16,0.12,0.28000000000000003,0.39999999999999991,null,null,null,null,null,null,null,null,null,null,0.02,0.06,0.08,0.34,0.54,0.88000000000000012,-0.80000000000000016,null,null,null,null,null,null,null,null,null,null,0.45,7.0000000000000007E-2,0.43,0.38,3.6395999999999998E-2,0.62,0.33,0.28999999999999998,0.15,0.77,-0.62,0.14000000000000001,0.23,0.37,0.41,0.15,0.05,0.2,0.16999999999999998,0.23,0.21,0.55000000000000004,2.0000000000000018E-2,0.55000000000000004,0.43,-0.12000000000000005,0.15,0.11,0.26,0.7,0.19,0.17,0.34,0.1,0.11,0.17,0.57999999999999996,0.11,0.14000000000000001,0.25,0.75,0.26,0.49,0.5,null,null,null,null,null,null,null,null,null,null,0.13,0.85,null,null,0.43,0.19,0.62,0.17,0.19,0.09,0.1]
["2011-10-01",61.2,5.0999999999999943,66.3,0.2,0.23,0.54,-0.03,-9.7199999999999995E-2,9.2399999999999996E-2,-3.8760000000000018E-3,0.37,0.09,0.49,-0.28000000000000003,null,null,0.34,0.34,0.68,0.16,0.11,0.27,0.41000000000000003,null,null,null,null,null,null,null,null,null,null,0.02,0.08,0.1,0.35,0.52,0.87,-0.77,null,null,null,null,null,null,null,null,null,null,0.44,0.05,0.46,0.39,3.5887000000000002E-2,0.66,0.3,0.36000000000000004,0.16,0.76,-0.6,0.11,0.24,0.35,0.45,0.13,0.05,0.18,0.16999999999999998,0.19,0.16,0.65,0.03,0.55000000000000004,0.42,-0.13000000000000006,0.13,0.11,0.24,0.72,0.14000000000000001,0.21,0.37,0.08,0.13,0.15,0.62,0.08,0.17,0.25,0.75,0.2,0.55000000000000004,0.5,null,null,null,null,null,null,null,null,null,null,0.12,0.86,null,null,0.44,0.19,0.63,0.15,0.2,0.11,0.09]
["2011-11-01",61.7,4,65.7,0.23,0.22,0.52,1.0000000000000009E-2,-8.8300000000000003E-2,8.9700000000000002E-2,1.2050000000000027E-3,0.35,0.13,0.48,-0.21999999999999997,null,null,0.35,0.33,0.67999999999999994,0.16,0.13,0.29000000000000004,0.3899999999999999,null,null,null,null,null,null,null,null,null,null,0.01,0.1,0.11,0.3,0.56000000000000005,0.8600000000000001,-0.75000000000000011,null,null,null,null,null,null,null,null,null,null,0.41,0.06,0.49,0.35,3.3440999999999992E-2,0.61,0.35,0.26,0.14000000000000001,0.76,-0.62,0.12,0.25,0.37,0.43,0.13,0.05,0.18,0.19,0.17,0.17,0.65,0,0.55000000000000004,0.42,-0.13000000000000006,0.15,0.13,0.28000000000000003,0.69,0.19,0.18,0.32,0.09,0.14000000000000001,0.17,0.56000000000000005,0.09,0.18,0.27,0.73,0.23,0.5,0.45999999999999996,null,null,null,null,null,null,null,null,null,null,0.14000000000000001,0.82,null,null,0.38,0.2,0.58000000000000007,0.15,0.22999999999999998,0.15,0.08]
["2011-12-01",63.5,5,68.5,0.26,0.17,0.52,0.09,-9.0499999999999997E-2,8.2400000000000001E-2,6.039000000000001E-3,0.36,0.11,0.47,-0.25,null,null,0.34,0.35,0.69,0.16,0.12,0.28000000000000003,0.40999999999999992,null,null,null,null,null,null,null,null,null,null,0.03,0.08,0.11,0.34,0.53,0.87000000000000011,-0.76000000000000012,null,null,null,null,null,null,null,null,null,null,0.43,0.05,0.45,0.38,3.5015999999999999E-2,0.65,0.31,0.34,0.22,0.69,-0.47,0.13,0.28999999999999998,0.42,0.38,0.12,0.06,0.18,0.24,0.2,0.18,0.6,2.0000000000000018E-2,0.55000000000000004,0.43,-0.12000000000000005,0.18,0.1,0.28000000000000003,0.69,0.22,0.16,0.31,0.09,0.11,0.15,0.61,0.09,0.16,0.25,0.74,0.21,0.53,0.49,null,null,null,null,null,null,null,null,null,null,0.13,0.84,null,null,0.45,0.18,0.63,0.14000000000000001,0.2,0.11,0.09]
["2012-01-01",66.2,5.8999999999999915,72.099999999999994,0.3,0.16,0.48,0.13999999999999999,-7.7100000000000002E-2,8.2400000000000001E-2,1.2383999999999999E-2,0.35,0.08,0.51,-0.26999999999999996,null,null,0.32,0.37,0.69,0.13,0.13,0.26,0.42999999999999994,null,null,null,null,null,null,null,null,null,null,0.02,0.09,0.11,0.34,0.51,0.85000000000000009,-0.7400000000000001,null,null,null,null,null,null,null,null,null,null,0.45,0.04,0.45,0.41000000000000003,3.5468E-2,0.64,0.31,0.33,0.3,0.61,-0.31,0.17,0.27,0.44000000000000006,0.4,0.09,0.05,0.14000000000000001,0.30000000000000004,0.21,0.16,0.61,4.9999999999999989E-2,0.55000000000000004,0.42,-0.13000000000000006,0.17,0.09,0.26,0.7,0.13,0.22,0.35,0.08,0.1,0.19,0.59,0.08,0.14000000000000001,0.22000000000000003,0.77,0.25,0.52,0.55000000000000004,0.48,0.09,0.17,7.0000000000000007E-2,0.06,null,null,null,null,null,0.17,0.82,null,null,0.42,0.18,0.6,0.18,0.21000000000000002,0.11,0.1]
["2012-02-01",66.3,5.4000000000000057,71.7,0.27,0.15,0.53,0.12000000000000002,-8.0299999999999996E-2,7.6100000000000001E-2,8.5020000000000043E-3,0.35,0.11,0.48,-0.24,null,null,0.34,0.35,0.69,0.15,0.1,0.25,0.43999999999999995,null,null,null,null,null,null,null,null,null,null,0.03,0.1,0.13,0.36,0.48,0.84,-0.71,null,null,null,null,null,null,null,null,null,null,0.45,0.04,0.45,0.41000000000000003,3.3418000000000003E-2,0.65,0.3,0.35000000000000003,0.35,0.56999999999999995,-0.21999999999999997,0.15,0.3,0.44999999999999996,0.42,0.09,0.03,0.12,0.32999999999999996,0.2,0.16,0.64,4.0000000000000008E-2,0.52,0.44,-8.0000000000000016E-2,0.11,0.12,0.22999999999999998,0.7,0.16,0.19,0.35,7.0000000000000007E-2,0.12,0.17,0.59,0.08,0.16,0.24,0.76,0.24,0.52,0.52,0.5,0.06,0.15,7.0000000000000007E-2,7.0000000000000007E-2,null,null,null,null,null,0.15,0.83,null,null,0.4,0.17,0.57000000000000006,0.18,0.23,0.13,0.1]
["2012-03-01",66.2,7.0999999999999943,73.3,0.35,0.14000000000000001,0.49,0.20999999999999996,-9.98E-2,7.3300000000000004E-2,1.1682999999999994E-2,0.41,0.08,0.46,-0.32999999999999996,null,null,0.34,0.37,0.71,0.14000000000000001,0.1,0.24000000000000002,0.47,null,null,null,null,null,null,null,null,null,null,0.03,0.11,0.14000000000000001,0.37,0.47,0.84,-0.7,null,null,null,null,null,null,null,null,null,null,0.48,0.04,0.44,0.44,4.0111999999999995E-2,0.66,0.3,0.36000000000000004,0.34,0.57999999999999996,-0.23999999999999994,0.13,0.31,0.44,0.44,7.0000000000000007E-2,0.04,0.11000000000000001,0.32999999999999996,0.22,0.16,0.61,0.06,0.52,0.45,-7.0000000000000007E-2,0.12,0.12,0.24,0.71,0.15,0.21,0.35,7.0000000000000007E-2,0.14000000000000001,0.17,0.59,0.08,0.19,0.27,0.72,0.22,0.5,0.44999999999999996,0.47,0.08,0.19,7.0000000000000007E-2,0.08,null,null,null,null,null,0.13,0.86,null,null,0.42,0.18,0.6,0.17,0.22,0.13,0.09]
["2012-04-01",68.2,6.8999999999999915,75.099999999999994,0.32,0.15,0.49,0.17,-8.8400000000000006E-2,8.14E-2,1.2788000000000006E-2,0.39,0.09,0.46,-0.30000000000000004,null,null,0.33,0.38,0.71,0.13,0.11,0.24,0.47,null,null,null,null,null,null,null,null,null,null,0.03,0.12,0.15,0.36,0.46,0.82000000000000006,-0.67,null,null,null,null,null,null,null,null,null,null,0.49,0.05,0.43,0.44,3.3888000000000001E-2,0.63,0.32,0.31,0.37,0.55000000000000004,-0.18000000000000005,0.15,0.28999999999999998,0.43999999999999995,0.43,0.09,0.03,0.12,0.31999999999999995,0.25,0.15,0.59,0.1,0.52,0.45,-7.0000000000000007E-2,0.17,0.16,0.33,0.64000000000000012,0.17,0.13,0.34,0.09,0.1,0.17,0.61,0.11,0.13,0.24,0.75,0.22,0.53,0.51,0.4,0.11,0.12,0.09,0.17,null,null,null,null,null,0.15,0.83,null,null,0.4,0.17,0.57000000000000006,0.19,0.22,0.13,0.09]
["2012-05-01",69.3,7.7999999999999972,77.099999999999994,0.35,0.12,0.5,0.22999999999999998,-0.1062,8.09E-2,1.5571E-2,0.41,0.08,0.47,-0.32999999999999996,null,null,0.34,0.38,0.72,0.16,0.09,0.25,0.47,null,null,null,null,null,null,null,null,null,null,0.03,0.13,0.16,0.43,0.39,0.82000000000000006,-0.66,null,null,null,null,null,null,null,null,null,null,0.48,0.05,0.44,0.43,3.9609999999999992E-2,0.63,0.34,0.28999999999999998,0.38,0.56000000000000005,-0.18000000000000005,0.14000000000000001,0.28000000000000003,0.42000000000000004,0.45,0.08,0.03,0.11,0.31000000000000005,0.22,0.16,0.6,0.06,0.51,0.46,-4.9999999999999989E-2,0.15,0.13,0.28000000000000003,0.7,0.17,0.19,0.34,0.09,0.09,0.16,0.63,0.09,0.12,0.21,0.79,0.2,0.59,0.58000000000000007,0.37,0.12,0.13,0.08,0.19,null,null,null,null,null,0.14000000000000001,0.84,null,null,0.4,0.22,0.62,0.16,0.2,0.11,0.09]
["2012-06-01",68.5,7,75.5,0.35,0.13,0.49,0.21999999999999997,-8.6400000000000005E-2,8.6699999999999999E-2,1.9112999999999998E-2,0.38,0.08,0.48,-0.3,null,null,0.4,0.32,0.72,0.12,0.1,0.22,0.5,null,null,null,null,null,null,null,null,null,null,0.03,0.13,0.16,0.36,0.45,0.81,-0.65,null,null,null,null,null,null,null,null,null,null,0.48,0.05,0.43,0.43,4.0023999999999997E-2,0.67,0.28000000000000003,0.39,0.36,0.56999999999999995,-0.20999999999999996,0.12,0.31,0.43,0.4,0.09,0.05,0.14000000000000001,0.28999999999999998,0.18,0.15,0.66,0.03,0.52,0.47,-5.0000000000000044E-2,0.15,0.13,0.28000000000000003,0.67999999999999994,0.15,0.2,0.33,7.0000000000000007E-2,0.11,0.14000000000000001,0.65,0.09,0.15,0.24,0.74,0.18,0.56000000000000005,0.5,0.36,0.11,0.15,0.09,0.17,null,null,null,null,null,0.13,0.85,null,null,0.34,0.22,0.56000000000000005,0.19,0.24,0.13,0.11]
["2012-07-01",69.5,7,76.5,0.36,0.11,0.49,0.25,-0.1012,8.2699999999999996E-2,1.864E-2,0.36,7.0000000000000007E-2,0.5,-0.28999999999999998,null,null,0.37,0.34,0.71,0.13,0.1,0.23,0.48,null,null,null,null,null,null,null,null,null,null,0.02,0.14000000000000001,0.16,0.44,0.35,0.79,-0.63,null,null,null,null,null,null,null,null,null,null,0.49,0.02,0.45,0.47,4.1357999999999999E-2,0.65,0.31,0.34,0.35,0.57999999999999996,-0.22999999999999998,0.15,0.3,0.44999999999999996,0.37,0.1,0.05,0.15000000000000002,0.29999999999999993,0.21,0.16,0.62,4.9999999999999989E-2,0.56000000000000005,0.41,-0.15000000000000008,0.18,0.13,0.31,0.65999999999999992,0.16,0.18,0.32,0.08,0.13,0.16,0.61,0.08,0.16,0.24,0.74,0.21,0.53,0.5,0.38,0.13,0.15,0.08,0.17,null,null,null,null,null,0.15,0.83,0.23,0.76,0.42,0.19,0.61,0.17,0.19,0.11,0.08]
["2012-08-01",68,7.5,75.5,0.33,0.12,0.48,0.21000000000000002,-7.0499999999999993E-2,6.9599999999999995E-2,1.4508E-2,0.41,0.08,0.46,-0.32999999999999996,null,null,0.35,0.36,0.71,0.15,0.11,0.26,0.44999999999999996,null,null,null,null,null,null,null,null,null,null,0.03,0.15,0.18,0.37,0.41,0.78,-0.60000000000000009,null,null,null,null,null,null,null,null,null,null,0.43,0.05,0.45,0.38,3.1428999999999999E-2,0.66,0.28999999999999998,0.37000000000000005,0.32,0.61,-0.28999999999999998,0.13,0.3,0.43,0.38,0.1,0.05,0.15000000000000002,0.27999999999999997,0.22,0.16,0.61,0.06,0.51,0.47,-4.0000000000000036E-2,0.15,0.12,0.27,0.67999999999999994,0.16,0.16,0.36,7.0000000000000007E-2,0.14000000000000001,0.18,0.59,7.0000000000000007E-2,0.19,0.26,0.74,0.25,0.49,0.48,0.35,0.1,0.19,0.08,0.18,null,null,null,null,null,0.13,0.84,0.19,0.79,0.43,0.18,0.61,0.2,0.16999999999999998,0.09,0.08]
["2012-09-01",71.8,6.2999999999999972,78.099999999999994,0.37,0.11,0.45,0.26,-9.2799999999999994E-2,6.9500000000000006E-2,1.5507E-2,0.32,0.09,0.5,-0.23,null,null,0.32,0.38,0.7,0.16,0.08,0.24,0.45999999999999996,null,null,null,null,null,null,null,null,null,null,0.03,0.16,0.19,0.4,0.34,0.74,-0.55000000000000004,null,null,null,null,null,null,null,null,null,null,0.47,0.04,0.42,0.43,3.1533999999999993E-2,0.68,0.3,0.38000000000000006,0.42,0.53,-0.11000000000000004,0.17,0.28000000000000003,0.45000000000000007,0.39,0.09,0.04,0.13,0.32000000000000006,0.18,0.18,0.63,0,0.51,0.47,-4.0000000000000036E-2,0.16,0.12,0.28000000000000003,0.69,0.18,0.14000000000000001,0.37,0.08,0.11,0.17,0.61,0.09,0.13,0.22,0.78,0.24,0.54,0.56000000000000005,0.39,0.12,0.15,0.09,0.15,null,null,null,null,null,0.14000000000000001,0.84,0.23,0.77,0.44,0.19,0.63,0.17,0.18,0.09,0.09]
["2012-10-01",72.3,7.2000000000000028,79.5,0.37,0.1,0.47,0.27,-8.7099999999999997E-2,7.1400000000000005E-2,1.7707999999999998E-2,0.35,0.08,0.49,-0.26999999999999996,null,null,0.3,0.44,0.74,0.13,0.08,0.21000000000000002,0.53,null,null,null,null,null,null,null,null,null,null,0.03,0.15,0.18,0.44,0.34,0.78,-0.60000000000000009,null,null,null,null,null,null,null,null,null,null,0.49,0.03,0.44,0.45999999999999996,3.8795999999999997E-2,0.66,0.28999999999999998,0.37000000000000005,0.39,0.56000000000000005,-0.17000000000000004,0.18,0.27,0.45,0.39,0.08,0.05,0.13,0.32,0.19,0.16,0.63,0.03,0.54,0.45,-9.0000000000000024E-2,0.15,0.1,0.25,0.72,0.23,0.15,0.34,0.08,0.09,0.16,0.63,0.08,0.13,0.21000000000000002,0.78,0.22,0.56000000000000005,0.57000000000000006,0.39,0.09,0.18,0.1,0.16,null,null,null,null,null,0.12,0.86,0.2,0.79,0.42,0.21,0.63,0.2,0.14000000000000001,0.08,0.06]
["2012-11-01",71.7,8.3999999999999915,80.099999999999994,0.37,0.14000000000000001,0.44,0.22999999999999998,-0.1086,8.5500000000000007E-2,1.6431000000000005E-2,0.42,0.08,0.43,-0.33999999999999997,null,null,0.31,0.4,0.71,0.17,0.08,0.25,0.45999999999999996,null,null,null,null,null,null,null,null,null,null,0.03,0.21,0.24,0.4,0.32,0.72,-0.48,null,null,null,null,null,null,null,null,null,null,0.48,0.04,0.44,0.44,4.1527999999999989E-2,0.67,0.28000000000000003,0.39,0.45,0.48,-2.9999999999999971E-2,0.13,0.28000000000000003,0.41000000000000003,0.4,0.11,0.06,0.16999999999999998,0.24000000000000005,0.21,0.14000000000000001,0.64,6.9999999999999979E-2,0.47,0.5,3.0000000000000027E-2,0.17,0.1,0.27,0.69,0.17,0.18,0.34,7.0000000000000007E-2,0.11,0.18,0.61,7.0000000000000007E-2,0.15,0.22,0.77,0.24,0.53,0.55000000000000004,0.39,0.12,0.16,0.08,0.17,null,null,null,null,null,0.13,0.85,0.22,0.78,0.43,0.19,0.62,0.18,0.19,0.11,0.08]
["2012-12-01",72.8,9.1000000000000085,81.900000000000006,0.43,0.11,0.4,0.32,-0.1069,8.8800000000000004E-2,2.6425000000000004E-2,0.44,0.08,0.43,-0.36,null,null,0.31,0.39,0.7,0.15,0.09,0.24,0.45999999999999996,null,null,null,null,null,null,null,null,null,null,0.04,0.17,0.21000000000000002,0.42,0.32,0.74,-0.53,null,null,null,null,null,null,null,null,null,null,0.48,0.04,0.42,0.44,4.6096000000000005E-2,0.65,0.31,0.34,0.38,0.54,-0.16000000000000003,0.15,0.25,0.4,0.39,0.13,7.0000000000000007E-2,0.2,0.2,0.23,0.16,0.6,7.0000000000000007E-2,0.54,0.45,-9.0000000000000024E-2,0.16,0.16,0.32,0.64,0.16,0.17,0.31,0.08,0.1,0.16,0.65,0.08,0.12,0.2,0.79999999999999993,0.23,0.56999999999999995,0.59999999999999987,0.4,0.1,0.15,0.1,0.15,null,null,null,null,null,0.16,0.83,0.21,0.78,0.43,0.2,0.63,0.17,0.18,0.09,0.09]
["2013-01-01",73.5,8.7999999999999972,82.3,0.41,0.1,0.45,0.30999999999999994,-0.1014,8.3500000000000005E-2,2.4094999999999995E-2,0.41,7.0000000000000007E-2,0.46,-0.33999999999999997,null,null,0.28000000000000003,0.41,0.69,0.16,0.1,0.26,0.42999999999999994,null,null,null,null,null,null,null,null,null,null,0.05,0.18,0.22999999999999998,0.4,0.32,0.72,-0.49,null,null,null,null,null,null,null,null,null,null,0.5,0.06,0.4,0.44,3.7034000000000004E-2,0.65,0.3,0.35000000000000003,0.39,0.53,-0.14000000000000001,0.16,0.27,0.43000000000000005,0.37,0.12,7.0000000000000007E-2,0.19,0.24000000000000005,0.23,0.15,0.61,8.0000000000000016E-2,0.55000000000000004,0.42,-0.13000000000000006,0.17,0.09,0.26,0.71,0.21,0.17,0.33,7.0000000000000007E-2,0.09,0.19,0.6,7.0000000000000007E-2,0.12,0.19,0.8,0.26,0.54,0.6100000000000001,0.38,0.12,0.16,0.09,0.16,0.72,0.18,7.0000000000000007E-2,0.01,0.02,0.13,0.84,0.2,0.77,0.46,0.18,0.64,0.19,0.14000000000000001,0.08,0.06]
["2013-02-01",73.7,9.5999999999999943,83.3,0.48,0.1,0.39,{"$f":"E35-F35","v":0.38},-0.10059999999999999,8.1199999999999994E-2,2.8915999999999994E-2,0.45,7.0000000000000007E-2,0.44,-0.38,null,null,0.31,0.42,0.73,0.15,0.09,0.24,0.49,null,null,null,null,null,null,null,null,null,null,0.05,0.2,0.25,0.43,0.28999999999999998,0.72,-0.47,null,null,null,null,null,null,null,null,null,null,0.5,0.04,0.42,0.46,3.9227999999999999E-2,0.67,0.3,0.37000000000000005,0.38,0.53,-0.15000000000000002,0.14000000000000001,0.27,0.41000000000000003,0.41,0.11,0.06,0.16999999999999998,0.24000000000000005,0.21,0.17,0.61,3.999999999999998E-2,0.49,0.47,-2.0000000000000018E-2,0.1,0.1,0.2,0.73,0.19,0.19,0.35,7.0000000000000007E-2,0.09,0.15,0.62,0.08,0.13,0.21000000000000002,0.76,0.2,0.56000000000000005,0.55000000000000004,0.39,0.11,0.15,0.09,0.17,0.76,0.15,0.05,0.02,0.01,0.16,0.83,0.21,0.78,0.41,0.23,0.64,0.17,0.17,0.1,7.0000000000000007E-2]
["2013-03-01",74.2,10.099999999999994,84.3,0.48,0.1,0.37,0.38,-0.1057,7.7299999999999994E-2,2.6533999999999995E-2,0.46,0.06,0.43,-0.4,null,null,0.28000000000000003,0.43,0.71,0.15,0.09,0.24,0.47,null,null,null,null,null,null,null,null,null,null,0.04,0.22,0.26,0.42,0.27,0.69,-0.42999999999999994,null,null,null,null,null,null,null,null,null,null,0.5,0.03,0.41,0.47,4.1154999999999997E-2,0.64,0.32,0.32,0.35,0.57999999999999996,-0.22999999999999998,0.12,0.26,0.38,0.39,0.13,0.08,0.21000000000000002,0.16999999999999998,0.2,0.17,0.62,0.03,0.51,0.47,-4.0000000000000036E-2,0.13,0.13,{"$f":"SUM(BZ36:CA36)","v":0.26},0.69,0.18,0.16,0.35,0.06,0.11,0.16,0.65,0.06,0.14000000000000001,0.2,0.79,0.2,0.59,0.59000000000000008,0.39,0.14000000000000001,0.16,7.0000000000000007E-2,0.16,0.78,0.15,0.05,0.01,0.01,0.16,0.82,0.22,0.77,0.45,0.18,0.63,0.19,0.16,0.09,7.0000000000000007E-2]
["2013-04-01",77.3,10,87.3,0.51,0.1,0.35,0.41000000000000003,-9.0800000000000006E-2,7.1499999999999994E-2,2.7385000000000003E-2,0.43,7.0000000000000007E-2,0.46,-0.36,null,null,0.28999999999999998,0.42,0.71,0.14000000000000001,0.09,0.23,0.48,null,null,null,null,null,null,null,null,null,null,0.08,0.22,0.3,0.39,0.25,0.64,-0.34,null,null,null,null,null,null,null,null,null,null,0.48,0.03,0.43,0.44999999999999996,4.0791000000000001E-2,0.65,0.3,0.35000000000000003,0.39,0.56000000000000005,-0.17000000000000004,0.17,0.24,0.41000000000000003,0.43,0.11,0.05,0.16,0.25,0.2,0.16,0.61,4.0000000000000008E-2,0.51,0.47,-4.0000000000000036E-2,0.19,0.08,{"$f":"SUM(BZ37:CA37)","v":0.27},0.67999999999999994,0.18,0.2,0.3,0.06,0.11,0.15,0.65,0.05,0.15,0.2,{"$f":"CO37+CP37","v":0.8},0.19,0.61,0.60000000000000009,0.36,0.13,0.13,0.1,0.17,0.77,0.16,0.04,0.02,0.01,0.19,0.79,0.24,0.74,0.42,0.19,0.61,0.19,0.19,0.11,0.08]
["2013-05-01",82.2,11.899999999999991,94.1,0.55000000000000004,7.0000000000000007E-2,0.34,0.48000000000000004,-8.9099999999999999E-2,8.2600000000000007E-2,3.9193000000000006E-2,0.46,0.05,0.44,-0.41000000000000003,null,null,0.3,0.46,0.76,0.13,0.06,0.19,0.57000000000000006,null,null,null,null,null,null,null,null,null,null,0.1,0.3,0.4,0.31,0.26,0.57000000000000006,-0.17000000000000004,null,null,null,null,null,null,null,null,null,null,0.48,0.04,0.45,0.44,3.4004E-2,0.66,0.28999999999999998,0.37000000000000005,0.4,0.53,-0.13,0.15,0.26,0.41000000000000003,0.42,0.11,0.05,0.16,0.25,0.2,0.13,0.65,7.0000000000000007E-2,0.5,0.46,-3.999999999999998E-2,0.18,0.1,0.28000000000000003,0.67999999999999994,0.16,0.17,0.35,0.06,0.1,0.16,0.64,7.0000000000000007E-2,0.13,0.2,0.78,0.24,0.54,0.58000000000000007,0.41,0.14000000000000001,0.15,7.0000000000000007E-2,0.12,0.76,0.14000000000000001,0.08,0.01,0.01,0.14000000000000001,0.85,0.23,0.77,0.45,0.18,0.63,0.18,0.16999999999999998,0.08,0.09]
["2013-06-01",79.3,13.799999999999997,93.1,0.56999999999999995,7.0000000000000007E-2,0.34,0.49999999999999994,-9.8599999999999993E-2,7.9200000000000007E-2,3.8241999999999991E-2,0.56999999999999995,0.04,0.35,-0.52999999999999992,null,null,0.25,0.47,0.72,0.17,7.0000000000000007E-2,0.24000000000000002,0.48,null,null,null,null,null,null,null,null,null,null,0.08,0.28000000000000003,0.36000000000000004,0.4,0.21,0.61,-0.24999999999999994,null,null,null,null,null,null,null,null,null,null,0.56000000000000005,0.03,0.37,0.53,4.6373000000000004E-2,0.65,0.3,0.35000000000000003,0.38,0.55000000000000004,-0.17000000000000004,0.17,0.28999999999999998,0.45999999999999996,0.36,0.11,0.05,0.16,0.29999999999999993,0.26,0.15,0.56999999999999995,0.11000000000000001,0.51,0.47,-4.0000000000000036E-2,0.15,0.1,0.25,0.72,0.17,0.15,0.4,0.04,0.11,0.14000000000000001,0.65,0.04,0.14000000000000001,0.18000000000000002,0.82000000000000006,0.2,0.62,0.64,0.44,0.12,0.13,0.08,0.13,0.81,0.13,0.05,0,0.01,0.13,0.85,0.23,0.75,0.41,0.22,0.63,0.19,0.19,0.09,0.1]
["2013-07-01",77.7,14.200000000000003,91.9,0.53,0.06,0.37,0.47000000000000003,-0.1116,8.7099999999999997E-2,3.9467000000000009E-2,0.62,0.05,0.28000000000000003,-0.56999999999999995,null,null,0.28999999999999998,0.45,0.74,0.14000000000000001,7.0000000000000007E-2,0.21000000000000002,0.53,null,null,null,null,null,null,null,null,null,null,0.09,0.31,0.4,0.38,0.17,0.55000000000000004,-0.15000000000000002,null,null,null,null,null,null,null,null,null,null,0.54,0.03,0.39,0.51,4.2429000000000008E-2,0.64,0.32,0.32,0.4,0.54,-0.14000000000000001,0.19,0.24,0.43,0.41,0.09,0.06,0.15,0.28000000000000003,0.26,0.16,0.56999999999999995,0.1,0.52,0.45,-7.0000000000000007E-2,0.19,0.11,0.3,0.65,0.14000000000000001,0.14000000000000001,0.37,7.0000000000000007E-2,0.14000000000000001,0.13,0.63,7.0000000000000007E-2,0.19,0.26,0.73000000000000009,0.17,0.56000000000000005,0.47000000000000008,0.41,0.11,0.16,0.08,0.13,0.76,0.14000000000000001,0.06,0.01,0.03,0.14000000000000001,0.85,0.19,0.8,0.48,0.18,0.65999999999999992,0.16,0.16,0.09,7.0000000000000007E-2]
["2013-08-01",78.3,14,92.3,0.55000000000000004,7.0000000000000007E-2,0.35,0.48000000000000004,-7.85E-2,7.0900000000000005E-2,3.3500000000000002E-2,0.6,0.05,0.31,-0.54999999999999993,null,null,0.24,0.47,0.71,0.15,0.08,0.22999999999999998,0.48,null,null,null,null,null,null,null,null,null,null,0.09,0.27,0.36,0.38,0.21,0.59,-0.22999999999999998,null,null,null,null,null,null,null,null,null,null,0.53,0.03,0.39,0.5,4.0894000000000007E-2,0.65,0.32,0.33,0.37,0.56999999999999995,-0.19999999999999996,0.14000000000000001,0.3,0.44,0.43,0.08,0.04,0.12,0.32,0.23,0.17,0.57999999999999996,0.06,0.53,0.46,-7.0000000000000007E-2,0.14000000000000001,0.09,0.23,0.73,0.2,0.14000000000000001,0.39,0.05,0.1,0.16,0.67,0.04,0.13,0.17,0.82,0.21,0.61,0.64999999999999991,0.43,0.12,0.14000000000000001,7.0000000000000007E-2,0.14000000000000001,0.81,0.15,0.04,0,0.01,0.16,0.82,0.22,0.77,0.43,0.22,0.65,0.2,0.13,0.08,0.05]
["2013-09-01",78.3,14.799999999999997,93.1,0.52,0.06,0.38,0.46,-8.4699999999999998E-2,6.9900000000000004E-2,3.1266000000000002E-2,0.63,0.04,0.3,-0.59,null,null,0.24,0.48,0.72,0.15,0.09,0.24,0.48,null,null,null,null,null,null,null,null,null,null,0.08,0.3,0.38,0.34,0.23,0.57000000000000006,-0.19000000000000006,null,null,null,null,null,null,null,null,null,null,0.52,0.03,0.41,0.49,3.3737000000000003E-2,0.69,0.27,0.41999999999999993,0.39,0.55000000000000004,-0.16000000000000003,0.17,0.25,0.42000000000000004,0.41,0.09,7.0000000000000007E-2,0.16,0.26,0.22,0.12,0.65,0.1,0.51,0.47,-4.0000000000000036E-2,0.16,0.12,0.28000000000000003,0.66999999999999993,0.16,0.18,0.33,7.0000000000000007E-2,0.08,0.15,0.65,0.08,0.1,0.18,0.81,0.2,0.61,0.63000000000000012,0.4,0.1,0.16,0.09,0.14000000000000001,0.79,0.13,0.05,0.02,0.01,0.12,0.87,0.24,0.75,0.44,0.25,0.69,0.17,0.12000000000000001,7.0000000000000007E-2,0.05]
["2013-10-01",72.5,12,84.5,0.46,0.1,0.39,0.36,-9.01E-2,8.2500000000000004E-2,2.894E-2,0.56999999999999995,0.06,0.32,-0.51,4.3200000000000002E-2,4.9299999999999997E-2,0.2,0.45,0.65,0.19,0.12,0.31,0.34,0.28999999999999998,0.37,0.16,0.02,0.06,0.15,0.06,0.01,0.17,0.49,0.05,0.32,0.37,0.37,0.22,0.59,-0.21999999999999997,0.11,0.37,0.15,0.09,0.15,0.28999999999999998,0.03,0.12,0.12,0.34,0.52,0.05,0.38,0.47000000000000003,4.4455999999999996E-2,0.7,0.27,0.42999999999999994,0.27,0.67,-0.4,0.17,0.21,0.38,0.39,0.15,7.0000000000000007E-2,0.22,0.16,0.2,0.15,0.63,5.0000000000000017E-2,0.53,0.46,-7.0000000000000007E-2,0.17,7.0000000000000007E-2,0.24000000000000002,0.7,0.21,0.16,0.33,0.06,0.13,0.15,0.63,7.0000000000000007E-2,0.17,0.24000000000000002,0.76,0.21,0.55000000000000004,0.52,0.45,0.11,0.13,0.08,0.12,0.75,0.17,7.0000000000000007E-2,0.01,0,0.15,0.84,0.2,0.78,0.47,0.2,0.66999999999999993,0.18,0.13,0.08,0.05]
["2013-11-01",72.8,13.100000000000009,{"$f":"ROUND(63.5+100*(T44-W44+AK44-AN44+E44-F44+BS44-BT44+CN44-CM44)/5,1)","v":85.9},0.45,0.09,0.42,0.36,-9.4600000000000004E-2,7.4499999999999997E-2,2.5011000000000002E-2,0.59,0.03,0.33,-0.55999999999999994,4.1000000000000002E-2,0.05,0.17,0.47,0.64,0.18,0.12,0.3,0.34,0.27,0.35,0.2,0.03,0.08,0.18,0.05,0.02,0.11,0.53,7.0000000000000007E-2,0.3,0.37,0.36,0.22,0.57999999999999996,-0.20999999999999996,0.14000000000000001,0.3,0.17,0.09,0.15,0.28999999999999998,0.05,0.16,0.11,0.32,0.5,0.04,0.41,0.46,2.7858000000000001E-2,0.68,0.28000000000000003,0.4,0.32,0.61,-0.28999999999999998,0.13,0.25,0.38,0.39,0.13,0.09,0.22,0.16,0.22,0.17,0.59,4.9999999999999989E-2,0.49,0.5,1.0000000000000009E-2,0.15,0.14000000000000001,0.29000000000000004,0.66999999999999993,0.2,0.16,0.31,7.0000000000000007E-2,0.11,0.12,0.66,0.08,0.13,0.21000000000000002,0.79,0.17,0.62,0.58000000000000007,0.4,0.12,0.12,7.0000000000000007E-2,0.19,0.79,0.13,0.05,0.02,0.01,0.11,0.88,0.18,0.8,0.45,0.23,0.68,0.19,0.12000000000000001,7.0000000000000007E-2,0.05]
["2013-12-01",{"$f":"ROUND(63.5+100*(T45-W45+AK45-AN45+E45-F45+M45-L45+BS45-BT45+CN45-CM45)/6,1)","v":72.7},12.399999999999991,85.1,0.49,0.09,0.38,0.4,-7.2900000000000006E-2,7.9600000000000004E-2,3.2443E-2,0.56999999999999995,0.04,0.33,-0.52999999999999992,4.2900000000000001E-2,5.0999999999999997E-2,0.23,0.44,0.67,0.18,0.09,0.27,0.4,0.28999999999999998,0.35,0.18,0.05,0.09,0.12,0.04,0.03,0.17,0.53,0.05,0.28000000000000003,0.33,0.4,0.2,0.60000000000000009,-0.27000000000000007,0.1,0.35,0.14000000000000001,0.1,0.18,0.33,0.03,0.14000000000000001,0.12,0.33,0.53,0.03,0.39,0.5,3.8071000000000008E-2,0.66,0.31,0.35000000000000003,0.31,0.59,-0.27999999999999997,0.15,0.27,0.42000000000000004,0.41,0.11,0.06,0.16999999999999998,0.25000000000000006,0.23,0.14000000000000001,0.61,0.09,0.48,0.5,2.0000000000000018E-2,0.15,0.08,0.22999999999999998,0.72,0.2,0.17,0.35,0.09,0.14000000000000001,0.15,0.6,0.09,0.18,0.27,0.73,0.2,0.53,0.45999999999999996,0.42,0.12,0.15,0.08,0.13,0.78,0.16,0.04,0.01,0.01,0.12,0.87,0.19,0.79,0.48,0.2,0.67999999999999994,0.15,0.15,0.09,0.06]
["2014-01-01",76.5,12.599999999999994,89.1,0.43,0.06,0.45,0.37,-8.5699999999999998E-2,5.9299999999999999E-2,2.0357000000000004E-2,0.55000000000000004,0.05,0.34,-0.5,4.53E-2,0.05,0.19,0.46,0.65,0.21,7.0000000000000007E-2,0.28000000000000003,0.37,0.25,0.37,0.16,0.04,0.1,0.21,0.05,0.03,0.12,0.48,0.06,0.32,0.38,0.39,0.16,0.55000000000000004,-0.17000000000000004,0.14000000000000001,0.34,0.13,0.11,0.15,0.31,0.04,0.15,0.12,0.3,0.48,0.03,0.43,0.44999999999999996,2.811E-2,0.7,0.26,0.43999999999999995,0.39,0.54,-0.15000000000000002,0.16,0.28000000000000003,0.44000000000000006,0.41,0.1,0.04,0.14000000000000001,0.30000000000000004,0.22,0.13,0.63,0.09,0.45,0.52,7.0000000000000007E-2,0.15,0.09,0.24,0.71,0.1,0.18,0.43,0.06,0.1,0.14000000000000001,0.66,0.06,0.13,0.19,0.81,0.19,0.62,0.62000000000000011,0.43,0.12,0.15,0.08,0.13,0.76,0.2,0.03,0.01,0.01,0.14000000000000001,0.85,0.19,0.8,0.5,0.21,0.71,0.14000000000000001,0.13,0.08,0.05]
["2014-02-01",75,12.700000000000003,87.7,0.5,7.0000000000000007E-2,0.38,0.43,-7.46E-2,7.4300000000000005E-2,3.1927999999999998E-2,0.56000000000000005,0.04,0.33,-0.52,4.3200000000000002E-2,5.0099999999999999E-2,0.17,0.51,0.68,0.17,0.1,0.27,0.41000000000000003,0.28999999999999998,0.33,0.2,0.04,7.0000000000000007E-2,0.19,0.03,0.03,0.11,0.53,7.0000000000000007E-2,0.27,0.34,0.4,0.19,0.59000000000000008,-0.25000000000000006,0.18,0.28999999999999998,0.17,0.08,0.17,0.28000000000000003,0.05,0.17,0.13,0.32,0.51,0.02,0.42,0.49,4.3394000000000002E-2,0.66,0.3,0.36000000000000004,0.35,0.56999999999999995,-0.21999999999999997,0.15,0.28000000000000003,0.43000000000000005,0.41,0.1,0.05,0.15000000000000002,0.28000000000000003,0.24,0.16,0.59,7.9999999999999988E-2,0.52,0.45,-7.0000000000000007E-2,0.19,0.08,0.27,0.70000000000000007,0.17,0.14000000000000001,0.39,0.08,0.11,0.18,0.6,0.1,0.13,0.23,0.77,0.23,0.54,0.54,0.44,0.11,0.14000000000000001,7.0000000000000007E-2,0.13,0.76,0.18,0.05,0.01,0.02,0.14000000000000001,0.84,0.25,0.74,0.47,0.19,0.65999999999999992,0.18,0.14000000000000001,0.1,0.04]
["2014-03-01",77.7,13,90.7,0.48,0.05,0.42,0.43,-0.1137,6.8699999999999997E-2,2.7290999999999999E-2,0.54,0.03,0.38,-0.51,4.3700000000000003E-2,0.05,0.19,0.5,0.69,0.19,7.0000000000000007E-2,0.26,0.42999999999999994,0.26,0.36,0.18,0.01,0.1,0.14000000000000001,0.1,0.03,0.12,0.53,0.08,0.3,0.38,0.42,0.15,0.56999999999999995,-0.18999999999999995,0.15,0.34,0.14000000000000001,0.08,0.19,0.32,0.06,0.14000000000000001,0.14000000000000001,0.3,0.52,0.04,0.41,0.48000000000000004,4.1695999999999997E-2,0.68,0.28000000000000003,0.4,0.33,0.57999999999999996,-0.24999999999999994,0.14000000000000001,0.28000000000000003,0.42000000000000004,0.45,0.08,0.04,0.12,0.30000000000000004,0.21,0.14000000000000001,0.63,6.9999999999999979E-2,0.47,0.52,5.0000000000000044E-2,0.14000000000000001,0.12,0.26,0.72,0.14000000000000001,0.16,0.42,0.05,0.1,0.13,0.71,0.05,0.14000000000000001,0.19,0.81,0.18,0.63,0.62000000000000011,0.42,0.14000000000000001,0.14000000000000001,0.06,0.15,0.78,0.16,0.05,0.01,0.01,0.15,0.84,0.22,0.76,0.47,0.24,0.71,0.19,0.09,0.06,0.03]
["2014-04-01",82.7,12.799999999999997,95.5,0.5,0.05,0.39,0.45,-0.10150000000000001,6.88E-2,2.9325E-2,0.52,7.0000000000000007E-2,0.38,-0.45,4.3999999999999997E-2,4.9599999999999998E-2,0.18,0.51,0.69,0.19,7.0000000000000007E-2,0.26,0.42999999999999994,0.23,0.34,0.23,0.02,0.09,0.16,0.09,0.02,0.2,0.44,0.06,0.36,0.42,0.37,0.14000000000000001,0.51,-9.0000000000000024E-2,0.16,0.34,0.14000000000000001,0.09,0.17,0.24,0.05,0.2,0.1,0.33,0.52,0.02,0.43,0.5,4.0099999999999997E-2,0.65,0.32,0.33,0.35,0.56999999999999995,-0.21999999999999997,0.14000000000000001,0.3,0.44,0.41,0.1,0.04,0.14000000000000001,0.3,0.25,0.12,0.62,0.13,0.52,0.45,-7.0000000000000007E-2,0.1,0.14000000000000001,0.24000000000000002,0.73,0.17,0.15,0.41,0.06,0.08,0.17,0.67,0.06,0.1,0.16,0.84,0.23,0.61,0.67999999999999994,0.38,0.13,0.13,0.09,0.17,0.76,0.17,0.05,0.01,0.01,0.11,0.86,0.23,0.75,0.44,0.24,0.67999999999999994,0.18,0.12,0.06,0.06]
["2014-05-01",81.5,12.400000000000006,93.9,0.48,7.0000000000000007E-2,0.39,0.41,-8.2900000000000001E-2,7.1800000000000003E-2,2.8660999999999996E-2,0.49,0.05,0.38,-0.44,4.2900000000000001E-2,5.0900000000000001E-2,0.18,0.5,0.67999999999999994,0.17,0.09,0.26,0.41999999999999993,0.21,0.36,0.23,0.04,0.06,0.21,0.04,0.03,0.13,0.48,0.08,0.35,0.43,0.33,0.16,0.49,-0.06,0.14000000000000001,0.3,0.13,0.12,0.18,0.22,0.05,0.2,0.11,0.33,0.51,0.03,0.39,0.48,3.8933999999999996E-2,0.66,0.28999999999999998,0.37000000000000005,0.38,0.56999999999999995,-0.18999999999999995,0.13,0.28999999999999998,0.42,0.43,0.1,0.04,0.14000000000000001,0.27999999999999997,0.21,0.12,0.65,0.09,0.47,0.49,2.0000000000000018E-2,0.16,0.08,0.24,0.71,0.15,0.16,0.4,0.05,0.09,0.19,0.64,0.06,0.11,0.16999999999999998,0.83,0.26,0.56999999999999995,0.65999999999999992,0.42,0.09,0.16,7.0000000000000007E-2,0.16,0.74,0.18,0.05,0.01,0.02,0.14000000000000001,0.85,0.21,0.78,0.45,0.26,0.71,0.14000000000000001,0.12000000000000001,0.05,7.0000000000000007E-2]
["2014-06-01",79.8,13.5,93.3,0.46,0.1,0.41,0.36,-8.0799999999999997E-2,7.0000000000000007E-2,2.4119999999999999E-2,0.55000000000000004,0.04,0.35,-0.51,4.1200000000000001E-2,4.87E-2,0.17,0.53,0.70000000000000007,0.18,7.0000000000000007E-2,0.25,0.45000000000000007,0.26,0.32,0.22,0.04,0.08,0.17,0.16,0.03,0.16,0.42,0.09,0.31,0.4,0.38,0.16,0.54,-0.14000000000000001,0.18,0.26,0.14000000000000001,0.1,0.19,0.3,0.05,0.2,0.12,0.27,0.54,0.03,0.38,0.51,4.3295999999999994E-2,0.68,0.28000000000000003,0.4,0.39,0.54,-0.15000000000000002,0.16,0.27,0.43000000000000005,0.42,0.11,0.04,0.15,0.28000000000000003,0.24,0.11,0.64,0.13,0.46,0.52,0.06,0.11,0.11,0.22,0.74,0.2,0.19,0.35,0.05,0.08,0.17,0.68,0.05,0.1,0.15000000000000002,0.84,0.22,0.62,0.69,0.45,0.12,0.12,0.08,0.16,0.79,0.17,0.02,0,0.01,0.13,0.86,0.24,0.75,0.45,0.23,0.68,0.16,0.13,0.08,0.05]
["2014-07-01",79,13.099999999999994,92.1,0.42,0.08,0.45,0.33999999999999997,-0.1061,7.5600000000000001E-2,2.3263999999999996E-2,0.54,0.04,0.39,-0.5,4.1200000000000001E-2,5.0500000000000003E-2,0.18,0.49,0.66999999999999993,0.18,0.09,0.27,0.39999999999999991,0.24,0.36,0.21,0.03,0.08,0.22,0.06,0.03,0.16,0.45,0.09,0.34,0.43000000000000005,0.35,0.16,0.51,-7.999999999999996E-2,0.18,0.33,0.14000000000000001,0.1,0.16,0.28999999999999998,0.04,0.18,0.12,0.31,0.51,0.03,0.42,0.48,3.8436000000000005E-2,0.67,0.28999999999999998,0.38000000000000006,0.35,0.59,-0.24,0.15,0.25,0.4,0.43,0.09,0.06,0.15,0.25,0.28000000000000003,0.12,0.57999999999999996,0.16000000000000003,0.5,0.47,-3.0000000000000027E-2,0.14000000000000001,0.09,0.23,0.71,0.18,0.16,0.37,0.05,0.11,0.14000000000000001,0.67,0.05,0.14000000000000001,0.19,0.8,0.19,0.61,0.6100000000000001,0.45,0.14000000000000001,0.12,7.0000000000000007E-2,0.14000000000000001,0.8,0.13,0.04,0,0.03,0.14000000000000001,0.83,0.21,0.77,0.5,0.22,0.72,0.13,0.13,0.06,7.0000000000000007E-2]
["2014-08-01",75.5,11.400000000000006,86.9,0.42,0.09,0.45,0.32999999999999996,-8.3599999999999994E-2,6.8000000000000005E-2,2.1036000000000003E-2,0.5,0.05,0.4,-0.45,4.1200000000000001E-2,4.8800000000000003E-2,0.18,0.46,0.64,0.2,0.09,0.29000000000000004,0.35,0.26,0.36,0.21,0.01,0.1,0.19,0.06,0.02,0.22,0.38,0.08,0.3,0.38,0.38,0.16,0.54,-0.16000000000000003,0.22,0.33,0.14000000000000001,0.05,0.16,0.27,0.04,0.17,0.15,0.34,0.53,0.04,0.38,0.49000000000000005,4.0910000000000002E-2,0.64,0.32,0.32,0.35,0.56000000000000005,-0.21000000000000008,0.17,0.27,0.44000000000000006,0.4,0.1,0.04,0.14000000000000001,0.30000000000000004,0.23,0.15,0.6,8.0000000000000016E-2,0.49,0.48,-1.0000000000000009E-2,0.1,0.09,{"$f":"SUM(BZ53:CA53)","v":0.19},0.76,0.22,0.14000000000000001,0.4,0.06,0.09,0.14000000000000001,0.66,0.08,0.13,0.21000000000000002,0.78,0.2,0.57999999999999996,0.57000000000000006,0.4,0.13,0.12,0.08,0.16,0.79,0.16,0.03,0.01,0,0.15,0.83,0.26,0.73,0.45,0.2,0.65,0.18,0.15000000000000002,0.1,0.05]
["2014-09-01",80.2,11.299999999999997,91.5,0.45,0.08,0.42,0.37,-5.7099999999999998E-2,5.8900000000000001E-2,2.1937000000000002E-2,0.45,0.05,0.45,-0.4,4.1000000000000002E-2,4.7100000000000003E-2,0.16,0.52,0.68,0.16,0.09,0.25,0.43000000000000005,0.22,0.32,0.21,0.03,0.11,0.16,7.0000000000000007E-2,0.05,0.12,0.44,7.0000000000000007E-2,0.32,0.39,0.35,0.16,0.51,-0.12,0.14000000000000001,0.28999999999999998,0.13,0.09,0.22,0.26,0.05,0.17,0.11,0.33,0.55000000000000004,0.03,0.37,0.52,3.1507000000000007E-2,0.66,0.28000000000000003,0.38,0.4,0.54,-0.14000000000000001,0.14000000000000001,0.27,0.41000000000000003,0.44,0.08,0.04,0.12,0.29000000000000004,0.25,0.14000000000000001,0.59,0.10999999999999999,0.48,0.48,0,0.14000000000000001,0.09,{"$f":"SUM(BZ54:CA54)","v":0.23},0.73,0.16,0.22,0.35,0.06,0.1,0.15,0.66,0.05,0.14000000000000001,0.19,0.8,0.2,0.6,0.6100000000000001,0.42,0.11,0.14000000000000001,0.09,0.13,0.8,0.15,0.03,0.01,0.01,0.16,0.81,0.21,0.76,0.41,0.26,0.66999999999999993,0.18,0.14000000000000001,7.0000000000000007E-2,7.0000000000000007E-2]
["2014-10-01",82.5,12.200000000000003,94.7,0.44,7.0000000000000007E-2,0.43,0.37,-7.6200000000000004E-2,7.6499999999999999E-2,2.8326000000000004E-2,0.48,0.06,0.38,-0.42,4.2000000000000003E-2,4.7800000000000002E-2,0.16,0.49,0.65,0.2,7.0000000000000007E-2,0.27,0.38,0.24,0.33,0.24,0.03,0.09,0.26,0.1,0.02,0.16,0.32,0.08,0.36,0.44,0.32,0.15,0.47,-2.9999999999999971E-2,0.15,0.26,0.2,0.11,0.17,0.25,0.05,0.2,0.2,0.22,0.49,0.04,0.41,0.45,3.7436999999999998E-2,0.65,0.3,0.35000000000000003,0.4,0.53,-0.13,0.15,0.3,0.44999999999999996,0.43,0.08,0.02,0.1,0.35,0.25,0.12,0.61,0.13,0.5,0.48,-2.0000000000000018E-2,0.15,0.09,{"$f":"SUM(BZ55:CA55)","v":0.24},0.73,0.14000000000000001,0.19,0.4,0.04,0.08,0.12,0.72,0.04,0.1,0.14000000000000001,0.85,0.16,0.69,0.71,0.39,0.14000000000000001,0.14000000000000001,0.09,0.14000000000000001,0.79,0.15,0.04,0,0.01,0.14000000000000001,0.83,0.17,0.82,0.44,0.25,0.69,0.16,0.12000000000000001,7.0000000000000007E-2,0.05]
["2014-11-01",81,11.700000000000003,92.7,0.44,0.06,0.44,0.38,-9.7600000000000006E-2,7.1499999999999994E-2,2.5604000000000005E-2,0.45,0.04,0.41,-0.41000000000000003,3.9800000000000002E-2,4.3799999999999999E-2,0.17,0.51,0.68,0.15,0.09,0.24,0.44000000000000006,0.24,0.36,0.21,0.04,0.1,0.21,0.06,0.02,0.24,0.34,0.09,0.3,0.39,0.37,0.14000000000000001,0.51,-0.12,0.17,0.32,0.13,0.1,0.15,0.26,0.06,0.17,0.17,0.25,0.53,0.04,0.37,0.49000000000000005,3.5882000000000004E-2,0.62,0.31,0.31,0.36,0.52,-0.16000000000000003,0.17,0.28999999999999998,0.45999999999999996,0.41,0.08,0.04,0.12,0.33999999999999997,0.25,0.11,0.62,0.14000000000000001,0.47,0.48,1.0000000000000009E-2,0.15,0.06,0.21,0.72,0.15,0.24,0.33,0.05,0.12,0.14000000000000001,0.66,0.06,0.13,0.19,0.81,0.19,0.62,0.62000000000000011,0.38,0.12,0.18,0.08,0.14000000000000001,0.8,0.15,0.04,0.01,0.01,0.15,0.82,0.22,0.76,0.45,0.22,0.67,0.18,0.12000000000000001,7.0000000000000007E-2,0.05]
["2014-12-01",81.3,11.799999999999997,93.1,0.46,0.08,0.41,0.38,-9.2499999999999999E-2,6.5600000000000006E-2,2.2775999999999998E-2,0.48,7.0000000000000007E-2,0.38,-0.41,3.9699999999999999E-2,4.3099999999999999E-2,0.17,0.47,0.64,0.18,0.1,0.28000000000000003,0.36,0.23,0.34,0.17,0.03,0.11,0.18,0.04,0.02,0.17,0.42,0.09,0.31,0.4,0.33,0.16,0.49,-8.9999999999999969E-2,0.17,0.31,0.1,0.09,0.2,0.28999999999999998,0.06,0.13,0.12,0.28999999999999998,0.53,0.04,0.4,0.49000000000000005,4.095300000000001E-2,0.61,0.34,0.26999999999999996,0.41,0.51,-0.10000000000000003,0.16,0.28999999999999998,0.44999999999999996,0.42,7.0000000000000007E-2,0.05,0.12000000000000001,0.32999999999999996,0.25,0.14000000000000001,0.57999999999999996,0.10999999999999999,0.44,0.52,8.0000000000000016E-2,0.12,0.11,{"$f":"SUM(BZ57:CA57)","v":0.22999999999999998},0.71,0.19,0.15,0.37,0.03,0.09,0.15,0.69,0.02,0.11,0.13,0.85,0.21,0.64,0.72,0.4,0.14000000000000001,0.14000000000000001,0.1,0.13,0.8,0.16,0.03,0.01,0.01,0.16,0.81,0.24,0.75,0.45,0.25,0.7,0.17,0.1,0.06,0.04]
["2015-01-01",82.8,11.5,94.3,0.49,0.08,0.38,0.41,-0.1103,6.9800000000000001E-2,2.5378000000000001E-2,0.45,7.0000000000000007E-2,0.41,-0.38,3.8699999999999998E-2,4.2900000000000001E-2,0.17,0.5,0.67,0.17,0.08,0.25,0.42000000000000004,0.22,0.35,0.15,7.0000000000000007E-2,0.11,0.19,0.03,0.01,0.16,0.45,0.1,0.34,0.44000000000000006,0.34,0.15,0.49,-4.9999999999999933E-2,0.13,0.28999999999999998,0.12,0.1,0.22,0.3,0.03,0.14000000000000001,0.14000000000000001,0.27,0.52,0.02,0.41,0.5,3.7828000000000001E-2,0.66,0.28999999999999998,0.37000000000000005,0.44,0.49,-4.9999999999999989E-2,0.16,0.32,0.48,0.39,7.0000000000000007E-2,0.04,0.11000000000000001,0.37,0.28999999999999998,0.13,0.56000000000000005,0.15999999999999998,0.47,0.5,3.0000000000000027E-2,0.17,0.08,0.25,0.7,0.15,0.16,0.39,0.06,0.11,0.16,0.65,0.06,0.14000000000000001,0.2,0.8,0.19,0.61,0.60000000000000009,0.39,0.15,0.13,0.08,0.14000000000000001,0.79,0.15,0.04,0.01,0.01,0.16,0.82,0.19,0.79,0.46,0.22,0.68,0.15,0.14000000000000001,7.0000000000000007E-2,7.0000000000000007E-2]
["2015-02-01",81.5,12,93.5,0.46,0.06,0.41,0.4,-0.10929999999999999,6.8000000000000005E-2,2.4722000000000001E-2,0.48,0.06,0.4,-0.42,3.6600000000000001E-2,4.36E-2,0.17,0.5,{"$f":"R59+S59","v":0.67},0.2,7.0000000000000007E-2,{"$f":"U59+V59","v":0.27},0.4,0.18,0.4,0.15,0.04,0.12,0.19,0.12,0.03,0.16,0.37,0.08,0.32,{"$f":"AI59+AJ59","v":0.4},0.38,0.13,{"$f":"AL59+AM59","v":0.51},-0.10999999999999999,0.12,0.34,0.1,0.09,0.26,0.31,0.05,0.15,0.14000000000000001,0.25,0.52,0.03,0.38,0.49,3.9763999999999994E-2,0.65,0.28999999999999998,0.36000000000000004,0.47,0.45,1.9999999999999962E-2,0.16,0.3,{"$f":"BK59+BL59","v":0.45999999999999996},0.42,0.08,0.03,0.11,0.35,0.24,0.12,0.61,0.12,0.43,0.54,0.11000000000000004,0.19,0.08,{"$f":"SUM(BZ59:CA59)","v":0.27},{"$f":"SUM(CD59:CF59)","v":0.67},0.13,0.2,0.34,0.05,0.09,0.16,0.66,0.04,0.11,{"$f":"CK59+CL59","v":0.15},{"$f":"CO59+CP59","v":0.84},0.23,0.61,0.69,0.35,0.15,0.15,0.08,0.14000000000000001,0.74,0.2,0.04,0.01,0.01,0.15,0.83,0.2,0.79,0.48,0.21,{"$f":"SUM(DF59:DG59)","v":0.69},0.15,{"$f":"SUM(DK59:DL59)","v":0.12000000000000001},7.0000000000000007E-2,0.05]
["2015-03-01",81.7,13.200000000000003,94.9,0.48,0.08,0.39,0.39999999999999997,-0.1149,7.5399999999999995E-2,2.6999999999999996E-2,0.52,0.04,0.37,-0.48000000000000004,3.78E-2,4.3900000000000002E-2,0.16,0.5,0.66,0.18,0.08,0.26,0.4,0.24,0.36,0.19,0.03,0.1,0.24,0.08,7.0000000000000007E-2,0.14000000000000001,0.27,0.1,0.36,0.45999999999999996,0.31,0.13,0.44,1.9999999999999962E-2,0.16,0.32,0.12,0.09,0.21,0.27,0.06,0.15,0.14000000000000001,0.28000000000000003,0.53,0.04,0.38,0.49000000000000005,3.9812E-2,0.6,0.34,0.25999999999999995,0.43,0.48,-4.9999999999999989E-2,0.15,0.26,0.41000000000000003,0.44,0.1,0.04,0.14000000000000001,0.27,0.22,0.15,0.61,7.0000000000000007E-2,0.46,0.5,3.999999999999998E-2,0.13,0.09,0.22,0.71,0.11,0.18,0.42,0.06,0.08,0.15,0.68,0.06,0.1,0.16,0.84000000000000008,0.2,0.64,0.68,0.4,0.14000000000000001,0.15,7.0000000000000007E-2,0.15,0.73,0.21,0.03,0.01,0.02,0.14000000000000001,0.83,0.19,0.8,0.47,0.23,0.7,0.14000000000000001,0.12000000000000001,7.0000000000000007E-2,0.05]
["2015-04-01",82.3,12.799999999999997,95.1,0.46,7.0000000000000007E-2,0.41,0.39,-7.0900000000000005E-2,7.1900000000000006E-2,2.8111000000000001E-2,0.52,7.0000000000000007E-2,0.34,-0.45,3.6900000000000002E-2,4.2599999999999999E-2,0.18,0.45,0.63,0.19,0.09,0.28000000000000003,0.35,0.22,0.39,0.18,0.03,0.12,0.33,7.0000000000000007E-2,0.05,0.1,0.33,0.11,0.35,0.45999999999999996,0.32,0.13,0.45,9.9999999999999534E-3,0.15,0.32,0.14000000000000001,0.09,0.2,0.26,7.0000000000000007E-2,0.17,0.09,0.34,0.54,0.03,0.38,0.51,4.1124000000000001E-2,0.63,0.32,0.31,0.42,0.49,-7.0000000000000007E-2,0.18,0.27,0.45,0.44,7.0000000000000007E-2,0.03,0.1,0.35,0.24,0.12,0.62,0.12,0.46,0.52,0.06,0.18,0.08,0.26,0.68,0.17,0.17,0.34,0.05,0.08,0.14000000000000001,0.69,0.05,0.09,0.14000000000000001,0.85000000000000009,0.19,0.66,0.71000000000000008,0.35,0.16,0.19,0.09,0.12,0.82,0.14000000000000001,0.03,0.01,0.01,0.17,0.8,0.21,0.77,0.47,0.21,0.67999999999999994,0.19,0.1,0.05,0.05]
["2015-05-01",84.3,12.799999999999997,97.1,0.49,0.06,0.36,0.43,-7.1199999999999999E-2,6.6500000000000004E-2,2.8313000000000001E-2,0.47,0.04,0.43,-0.43,3.6799999999999999E-2,4.2799999999999998E-2,0.19,0.47,0.65999999999999992,0.19,0.09,0.28000000000000003,0.37999999999999989,0.17,0.35,0.22,0.04,0.13,0.27,0.05,0.05,0.16,0.37,0.12,0.37,0.49,0.28999999999999998,0.12,0.41,8.0000000000000016E-2,0.21,0.3,0.13,0.08,0.17,0.24,7.0000000000000007E-2,0.15,0.11,0.37,0.55000000000000004,0.04,0.33,0.51,4.317300000000001E-2,0.66,0.27,0.39,0.38,0.52,-0.14000000000000001,0.17,0.28999999999999998,0.45999999999999996,0.42,0.08,0.04,0.12,0.33999999999999997,0.28000000000000003,0.12,0.57999999999999996,0.16000000000000003,0.46,0.5,3.999999999999998E-2,0.14000000000000001,7.0000000000000007E-2,0.21000000000000002,0.7,0.18,0.19,0.33,0.06,0.09,0.16,0.64,0.06,0.13,0.19,0.82,0.21,0.61,0.62999999999999989,0.4,0.14000000000000001,0.15,0.08,0.13,0.8,0.15,0.03,0,0.01,0.13,0.85,0.18,0.8,0.5,0.21,0.71,0.13,0.11,0.08,0.03]
["2015-06-01",84.7,13.399999999999991,98.1,0.47,7.0000000000000007E-2,0.38,0.39999999999999997,-9.2600000000000002E-2,6.9800000000000001E-2,2.6324E-2,0.5,0.04,0.37,-0.46,3.8699999999999998E-2,4.2900000000000001E-2,0.18,0.45,0.63,0.19,0.09,0.28000000000000003,0.35,0.18,0.35,0.18,0.04,0.15,0.28000000000000003,0.08,0.03,0.11,0.38,0.12,0.4,0.52,0.27,0.11,0.38,0.14000000000000001,0.17,0.27,0.15,0.08,0.22,0.26,0.06,0.2,0.14000000000000001,0.26,0.59,0.03,0.34,0.55999999999999994,4.1761E-2,0.64,0.3,0.34,0.39,0.51,-0.12,0.16,0.31,0.47,0.42,7.0000000000000007E-2,0.03,0.1,0.37,0.27,0.12,0.6,0.15000000000000002,0.46,0.5,3.999999999999998E-2,0.16,0.11,0.27,0.66999999999999993,0.15,0.15,0.37,0.05,0.09,0.16,0.66,0.05,0.11,0.16,0.85,0.22,0.63,0.69,0.36,0.16,0.15,7.0000000000000007E-2,0.14000000000000001,0.79,0.16,0.04,0,0.01,0.12,0.84,0.18,0.79,0.44,0.23,0.67,0.17,0.14000000000000001,7.0000000000000007E-2,7.0000000000000007E-2]
["2015-07-01",81.3,12.799999999999997,94.1,0.49,0.08,0.37,0.41,-6.3899999999999998E-2,7.17E-2,3.0020999999999999E-2,0.51,0.05,0.35,-0.46,4.02E-2,4.82E-2,0.16,0.45,0.61,0.18,0.09,0.27,0.33999999999999997,0.18,0.35,0.23,0.02,0.1,0.27,0.06,0.04,0.13,0.39,0.12,0.33,0.45,0.32,0.11,0.43,2.0000000000000018E-2,0.15,0.28000000000000003,0.13,0.09,0.23,0.23,7.0000000000000007E-2,0.18,0.12,0.3,0.54,0.03,0.37,0.51,4.4726999999999996E-2,0.65,0.28000000000000003,0.37,0.37,0.54,-0.17000000000000004,0.16,0.28000000000000003,0.44000000000000006,0.42,0.08,0.04,0.12,0.32000000000000006,0.27,0.15,0.56999999999999995,0.12000000000000002,0.49,0.48,-1.0000000000000009E-2,0.14000000000000001,0.1,0.24000000000000002,0.72,0.12,0.15,0.45,7.0000000000000007E-2,0.09,0.17,0.63,0.06,0.12,0.18,0.82,0.22,0.6,0.6399999999999999,0.38,0.14000000000000001,0.16,0.09,0.15,0.78,0.16,0.05,0.01,0.01,0.13,0.84,0.19,0.8,0.47,0.24,0.71,0.17,0.11,0.05,0.06]
["2015-08-01",80.8,13.299999999999997,94.1,0.47,0.09,0.37,0.38,-0.11509999999999999,7.8700000000000006E-2,2.6629999999999994E-2,0.54,0.05,0.34,-0.49000000000000005,3.9800000000000002E-2,4.4299999999999999E-2,0.17,0.46,0.63,0.21,0.09,0.3,0.33,0.16,0.43,0.23,0.02,0.09,0.3,7.0000000000000007E-2,0.06,0.09,0.4,0.1,0.37,0.47,0.33,0.11,0.44,2.9999999999999971E-2,0.2,0.33,0.14000000000000001,0.09,0.15,0.18,0.04,0.23,0.12,0.34,0.55000000000000004,0.02,0.37,0.53,4.0345000000000006E-2,0.65,0.31,0.34,0.32,0.57999999999999996,-0.25999999999999995,0.15,0.26,0.41000000000000003,0.43,0.1,0.04,0.14000000000000001,0.27,0.24,0.12,0.64,0.12,0.43,0.55000000000000004,0.12000000000000005,0.19,0.08,0.27,0.69,0.14000000000000001,0.18,0.37,0.04,0.09,0.13,0.72,0.05,0.11,0.16,0.83000000000000007,0.17,0.66,0.67,0.39,0.15,0.14000000000000001,0.08,0.15,0.82,0.15,0.03,0,0,0.16,0.82,0.19,0.8,0.48,0.26,0.74,0.15,0.1,0.05,0.05]
["2015-09-01",83.8,14.100000000000009,97.9,0.45,0.09,0.41,0.36,-7.3800000000000004E-2,8.2900000000000001E-2,3.0662999999999996E-2,0.55000000000000004,0.05,0.31,-0.5,3.8399999999999997E-2,4.3099999999999999E-2,0.17,0.47,{"$f":"S66+R66","v":0.64},0.19,0.09,{"$f":"V66+U66","v":0.28000000000000003},0.36,0.18,0.41,0.17,0.03,0.13,0.34,0.08,0.02,0.17,0.28999999999999998,0.13,0.39,{"$f":"AJ66+AI66","v":0.52},0.26,0.1,{"$f":"AM66+AL66","v":0.36},0.16000000000000003,0.22,0.34,0.12,0.08,0.17,0.27,0.05,0.18,0.09,0.33,0.54,0.04,0.37,0.5,4.3558000000000006E-2,0.67,0.28999999999999998,0.38000000000000006,0.35,0.56999999999999995,-0.21999999999999997,0.18,0.27,{"$f":"BL66+BK66","v":0.45},0.41,0.09,0.04,0.13,0.32,0.28000000000000003,0.13,0.57999999999999996,0.15000000000000002,0.47,0.5,3.0000000000000027E-2,0.17,0.09,0.26,0.67999999999999994,0.11,0.19,0.38,0.06,7.0000000000000007E-2,0.13,0.71,0.06,0.09,{"$f":"CL66+CK66","v":0.15},{"$f":"CO66+CP66","v":0.84000000000000008},0.17,0.67,0.69000000000000006,0.4,0.11,0.18,0.08,0.14000000000000001,0.78,0.18,0.02,0.01,0.02,0.13,0.84,0.19,0.8,0.53,0.23,{"$f":"DG66+DF66","v":0.76},0.14000000000000001,{"$f":"DK66+DL66","v":0.08},0.05,0.03]
["2015-10-01",83.2,13.099999999999994,96.3,0.46,0.08,0.39,{"$f":"E67-F67","v":0.38},-8.48E-2,6.8500000000000005E-2,2.4725999999999998E-2,0.51,0.05,0.38,-0.46,3.8600000000000002E-2,4.2999999999999997E-2,0.17,0.45,0.62,0.19,0.09,0.28000000000000003,0.33999999999999997,0.19,0.4,0.19,0.03,0.11,0.28999999999999998,0.08,0.06,0.11,0.36,0.14000000000000001,0.37,0.51,0.28999999999999998,0.12,0.41,0.10000000000000003,0.18,0.25,0.14000000000000001,0.11,0.2,0.25,7.0000000000000007E-2,0.18,0.12,0.31,0.57999999999999996,0.04,0.34,0.53999999999999992,4.2107999999999993E-2,0.63,0.31,0.32,0.37,0.55000000000000004,-0.18000000000000005,0.17,0.28000000000000003,0.45000000000000007,0.42,0.08,0.04,0.12,0.33000000000000007,0.24,0.13,0.6,0.10999999999999999,0.47,0.49,2.0000000000000018E-2,0.18,0.09,0.27,0.65999999999999992,0.15,0.15,0.36,0.04,0.08,0.17,0.66,0.04,0.1,0.14000000000000001,0.85,0.24,0.61,0.71,0.39,0.12,0.19,0.06,0.14000000000000001,0.8,0.15,0.04,0,0.01,0.13,0.85,0.21,0.78,0.52,0.24,0.76,0.13,7.0000000000000007E-2,0.03,0.04,343868.73,189607.77,0.2,0.31,0.21,0.05,7.0000000000000007E-2]
["2015-11-01",80.8,13.100000000000009,93.9,0.44,0.06,0.44,0.38,-8.1299999999999997E-2,6.4100000000000004E-2,2.3326000000000003E-2,0.53,0.05,0.35,{"$f":"M68-L68","v":-0.48000000000000004},3.7600000000000001E-2,4.2599999999999999E-2,0.16,0.48,0.64,0.2,0.09,0.29000000000000004,{"$f":"T68-W68","v":0.35},0.19,0.42,0.15,0.04,0.12,0.27,0.06,0.05,0.15,0.36,0.14000000000000001,0.34,0.48000000000000004,0.31,0.13,0.44,{"$f":"AK68-AN68","v":4.0000000000000036E-2},0.26,0.26,0.1,0.09,0.2,0.24,7.0000000000000007E-2,0.22,0.15,0.22,0.53,0.03,0.39,{"$f":"AZ68-BA68","v":0.5},4.3573000000000001E-2,0.67,0.28999999999999998,{"$f":"BE68-BF68","v":0.38000000000000006},0.37,0.56000000000000005,{"$f":"BH68-BI68","v":-0.19000000000000006},0.16,0.28000000000000003,0.44000000000000006,0.43,0.09,0.03,{"$f":"BO68+BP68","v":0.12},{"$f":"BM68-BQ68","v":0.32000000000000006},0.21,0.15,0.63,{"$f":"BS68-BT68","v":0.06},0.45,0.52,{"$f":"BX68-BW68","v":7.0000000000000007E-2},0.15,0.09,0.24,0.69,0.13,0.14000000000000001,0.42,0.04,0.09,0.18,0.66,0.03,0.12,0.15,0.84,0.23,0.61,0.69,0.38,0.15,0.14000000000000001,0.08,0.14000000000000001,0.79,0.17,0.03,0,0,0.13,0.85,0.23,0.75,0.52,0.24,0.76,0.14000000000000001,7.0000000000000007E-2,0.04,0.03,351138.45,220000,0.15,0.28999999999999998,0.23,0.08,7.0000000000000007E-2]
["2015-12-01",83.2,14.299999999999997,97.5,0.48,0.08,0.38,0.39999999999999997,-8.4699999999999998E-2,6.8500000000000005E-2,2.6103999999999999E-2,0.56000000000000005,0.04,0.35,-0.52,3.95E-2,4.4600000000000001E-2,0.17,0.46,0.63,0.18,0.1,0.28000000000000003,0.35,0.19,0.38,0.2,0.04,0.12,0.26,0.06,0.05,0.11,0.38,0.12,0.37,0.49,0.28999999999999998,0.12,0.41,8.0000000000000016E-2,0.14000000000000001,0.31,0.14000000000000001,0.11,0.21,0.28000000000000003,0.04,0.2,0.09,0.27,0.53,0.03,0.36,0.5,3.7767000000000002E-2,0.63,0.33,0.3,0.42,0.49,-7.0000000000000007E-2,0.18,0.28000000000000003,0.46,0.41,0.06,0.04,0.1,0.36,0.27,0.12,0.6,0.15000000000000002,0.46,0.51,4.9999999999999989E-2,0.15,0.09,0.24,0.71,0.11,0.2,0.4,0.05,0.08,0.15,0.68,0.05,0.08,0.13,0.85,0.21,0.64,0.72,0.39,0.13,0.14000000000000001,7.0000000000000007E-2,0.14000000000000001,0.77,0.14000000000000001,0.06,0.02,0.01,0.13,0.85,0.23,0.74,0.52,0.22,0.74,0.13,0.11,0.05,0.06,359922.47,200000,0.14000000000000001,0.33,0.23,0.05,7.0000000000000007E-2]
["2016-01-01",81.5,14,95.5,0.45,0.08,0.41,0.37,-0.104,6.8400000000000002E-2,2.2459999999999994E-2,0.56999999999999995,0.05,0.3,-0.51999999999999991,4.0099999999999997E-2,4.7500000000000001E-2,0.14000000000000001,0.47,0.61,0.21,0.09,0.3,0.31,0.15,0.41,0.2,0.04,0.14000000000000001,0.33,0.09,0.05,0.1,0.32,0.1,0.4,0.5,0.32,0.09,0.41000000000000003,8.9999999999999969E-2,0.22,0.3,0.13,0.08,0.16,0.28999999999999998,0.06,0.17,0.08,0.31,0.52,0.03,0.4,0.49,4.0340000000000001E-2,0.68,0.28999999999999998,0.39000000000000007,0.38,0.52,-0.14000000000000001,0.17,0.28999999999999998,0.45999999999999996,0.41,0.08,0.04,0.12,0.33999999999999997,0.26,0.14000000000000001,0.59,0.12,0.4,0.55000000000000004,0.15000000000000002,0.15,0.06,0.21,0.72,0.11,0.16,0.45,0.05,7.0000000000000007E-2,0.14000000000000001,0.71,0.05,0.09,0.14000000000000001,0.85000000000000009,0.18,0.67,0.71000000000000008,0.4,0.12,0.16,0.08,0.12,0.78,0.18,0.03,0,0.01,0.18,0.78,0.24,0.74,0.52,0.2,0.72,0.15,0.1,0.08,0.02,310731.89,200000,0.16,0.34,0.24,7.0000000000000007E-2,0.05]
["2016-02-01",82.7,13.799999999999997,96.5,0.44,0.11,0.4,0.33,-9.5600000000000004E-2,6.3100000000000003E-2,1.7247999999999996E-2,0.55000000000000004,0.05,0.36,-0.5,3.7900000000000003E-2,4.2799999999999998E-2,0.17,0.46,0.63,0.19,0.09,0.28000000000000003,0.35,0.16,0.44,0.19,0.02,0.1,0.34,7.0000000000000007E-2,0.05,0.12,0.32,0.14000000000000001,0.36,0.5,0.34,0.09,0.43000000000000005,6.9999999999999951E-2,0.16,0.28999999999999998,0.16,0.1,0.2,0.25,0.05,0.19,0.13,0.27,0.52,0.03,0.39,0.49,3.3325E-2,0.63,0.31,0.32,0.37,0.56000000000000005,-0.19000000000000006,0.16,0.3,0.45999999999999996,0.4,0.09,0.04,0.13,0.32999999999999996,0.27,0.12,0.6,0.15000000000000002,0.43,0.54,0.11000000000000004,0.17,0.04,0.21000000000000002,0.7,0.11,0.17,0.42,0.03,7.0000000000000007E-2,0.14000000000000001,0.72,0.03,0.09,0.12,0.86999999999999988,0.18,0.69,0.74999999999999989,0.35,0.17,0.14000000000000001,0.1,0.12,0.8,0.15,0.04,0.01,0.01,0.16,0.8,0.23,0.75,0.54,0.2,0.74,0.16,7.0000000000000007E-2,0.04,0.03,349453.56,200000,0.17,0.28999999999999998,0.22,0.06,7.0000000000000007E-2]
["2016-03-01",80.2,12.299999999999997,92.5,0.44,0.1,0.4,0.33999999999999997,-9.4299999999999995E-2,6.6299999999999998E-2,1.9741999999999996E-2,0.51,0.06,0.37,-0.45,3.6200000000000003E-2,4.2500000000000003E-2,0.13,0.5,0.63,0.21,0.09,0.3,0.33,0.21,0.38,0.16,0.05,0.1,0.32,0.06,7.0000000000000007E-2,7.0000000000000007E-2,0.4,0.11,0.34,0.45,0.35,0.11,0.45999999999999996,-9.9999999999999534E-3,0.23,0.27,0.12,0.11,0.16,0.27,0.03,0.18,0.12,0.28999999999999998,0.54,0.04,0.37,0.5,3.9909999999999994E-2,0.65,0.28999999999999998,0.36000000000000004,0.33,0.57999999999999996,-0.24999999999999994,0.15,0.27,0.42000000000000004,0.46,7.0000000000000007E-2,0.04,0.11000000000000001,0.31000000000000005,0.24,0.13,0.61,0.10999999999999999,0.46,0.51,4.9999999999999989E-2,0.16,0.06,0.22,0.68,0.14000000000000001,0.17,0.37,0.05,0.09,0.14000000000000001,0.7,0.06,0.1,0.16,0.84000000000000008,0.18,0.66,0.68,0.35,0.15,0.16,0.06,0.13,0.78,0.17,0.02,0.01,0.02,0.15,0.81,0.2,0.77,0.52,0.23,0.75,0.11,0.09,0.04,0.05,350760.15,200000,0.15,0.32,0.21,0.06,7.0000000000000007E-2]
["2016-04-01",83.7,13.200000000000003,96.9,0.46,0.09,0.37,0.37,-9.9500000000000005E-2,6.2199999999999998E-2,1.9657000000000004E-2,0.5,0.04,0.36,-0.46,3.7100000000000001E-2,4.2099999999999999E-2,0.14000000000000001,0.47,0.61,0.22,0.09,0.31,0.3,0.16,0.4,0.21,0.04,0.12,0.31,0.04,0.04,0.14000000000000001,0.35,0.15,0.37,0.52,0.28000000000000003,0.09,0.37,0.15000000000000002,0.19,0.28999999999999998,0.15,7.0000000000000007E-2,0.22,0.2,0.05,0.15,0.19,0.32,0.56000000000000005,0.04,0.35,0.52,3.5436000000000002E-2,0.63,0.32,0.31,0.38,0.52,-0.14000000000000001,0.17,0.27,0.44000000000000006,0.4,0.09,0.04,0.13,0.31000000000000005,0.24,0.13,0.61,0.10999999999999999,0.44,0.53,9.0000000000000024E-2,0.16,0.09,0.25,0.66,0.12,0.1,0.44,0.03,0.09,0.15,0.71,0.03,0.1,0.13,0.87000000000000011,0.2,0.67,{"$f":"CN73-CM73","v":0.7400000000000001},0.36,0.14000000000000001,0.15,7.0000000000000007E-2,0.12,0.76,0.21,0.02,0,0.01,0.18,0.77,0.23,0.75,0.55000000000000004,0.2,0.75,0.13,0.1,0.05,0.05,272596.46000000002,200000,0.14000000000000001,0.36,0.25,0.05,0.05]
["2016-05-01",85.3,13,98.3,0.48,0.06,0.39,0.42,-8.9899999999999994E-2,6.1400000000000003E-2,2.4077999999999995E-2,0.48,0.05,0.4,-0.43,3.6600000000000001E-2,4.1599999999999998E-2,0.14000000000000001,0.46,0.60000000000000009,0.2,0.11,0.31,0.29000000000000009,0.21,0.36,0.19,0.02,0.13,0.3,0.06,0.11,0.15,0.3,0.15,0.37,0.52,0.28000000000000003,0.11,0.39,0.13,0.21,0.28000000000000003,0.16,0.05,0.2,0.23,0.06,0.18,0.15,0.28999999999999998,0.54,0.04,0.35,0.5,3.6520000000000004E-2,0.63,0.3,0.33,0.36,0.57999999999999996,-0.21999999999999997,0.14000000000000001,0.28999999999999998,0.43,0.42,0.08,0.04,0.12,0.31,0.27,0.09,0.62,0.18000000000000002,0.43,0.55000000000000004,0.12000000000000005,0.15,7.0000000000000007E-2,0.22,0.66999999999999993,0.09,0.17,0.41,0.05,0.08,0.17,0.67,0.04,0.1,0.14000000000000001,0.86,0.22,0.64,0.72,0.4,0.11,0.16,0.09,0.11,0.82,0.16,0.02,0,0,0.2,0.77,0.24,0.75,0.55000000000000004,0.21,0.76,0.15,0.06,0.03,0.03,319852.03999999998,200000,0.14000000000000001,0.31,0.22,0.05,0.05]
["2016-06-01",83.2,12.099999999999994,95.3,0.42,0.09,0.41,0.32999999999999996,-8.7300000000000003E-2,6.5600000000000006E-2,1.9695000000000001E-2,0.46,0.05,0.4,-0.41000000000000003,3.6400000000000002E-2,4.2099999999999999E-2,0.18,0.43,0.61,0.21,0.08,0.28999999999999998,0.32,0.13,0.44,0.19,0.04,0.12,0.32,0.11,0.1,0.11,0.28999999999999998,0.2,0.34,0.54,0.26,0.1,0.36,0.18000000000000005,0.2,0.28999999999999998,0.15,0.1,0.19,0.25,0.06,0.15,0.13,0.34,0.54,0.05,0.35,0.49000000000000005,3.6093000000000007E-2,0.63,0.31,0.32,0.33,0.59,-0.25999999999999995,0.14000000000000001,0.31,0.45,0.43,0.06,0.03,0.09,0.36,0.22,0.14000000000000001,0.62,7.9999999999999988E-2,0.43,0.54,0.11000000000000004,0.21,7.0000000000000007E-2,0.28000000000000003,0.63,0.09,0.11,0.43,0.04,0.09,0.16,0.67,0.04,0.12,0.16,0.84,0.22,0.62,0.67999999999999994,0.4,0.14000000000000001,0.14000000000000001,0.08,0.12,0.78,0.15,0.04,0.01,0.01,0.15,0.81,0.2,0.78,0.55000000000000004,0.21,0.76,0.12,0.09,0.05,0.04,264368.84999999998,180000,0.2,0.32,0.21,0.05,0.04]
["2016-07-01",86.5,11.799999999999997,{"$f":"ROUND(63.5+100*(T76-W76+AK76-AN76+E76-F76+BS76-BT76+CN76-CM76)/5,1)","v":98.3},0.49,0.08,0.36,0.41,-0.1129,6.1199999999999997E-2,2.0956000000000002E-2,0.43,7.0000000000000007E-2,0.43,-0.36,3.4799999999999998E-2,4.02E-2,0.18,0.45,0.63,0.22,0.08,0.3,0.33,0.17,0.41,0.21,0.03,0.09,0.34,0.05,0.05,0.11,0.36,0.17,0.39,0.56000000000000005,0.27,0.09,0.36,0.20000000000000007,0.23,0.31,0.12,0.11,0.16,0.2,0.06,0.15,0.17,0.28999999999999998,0.57999999999999996,0.04,0.33,0.53999999999999992,4.0147999999999989E-2,0.67,0.26,0.41000000000000003,0.33,0.59,-0.25999999999999995,0.17,0.27,0.44000000000000006,0.41,0.09,0.04,0.13,0.31000000000000005,0.22,0.11,0.64,0.11,0.45,0.52,7.0000000000000007E-2,0.16,0.09,0.25,0.66999999999999993,0.11,0.15,0.41,0.05,0.09,0.16,0.67,0.05,0.11,0.16,0.85,0.21,0.64,0.69,0.36,0.13,0.14000000000000001,0.08,0.12,0.83,0.12,0.04,0.01,0,0.17,0.8,0.21,0.78,0.5,0.24,0.74,0.13,0.09,0.05,0.04,351229.38,212460.3,0.1,0.34,0.25,0.06,0.05]
["2016-08-01",{"$f":"ROUND(63.5+100*(T77-W77+AK77-AN77+E77-F77+M77-L77+BS77-BT77+CN77-CM77)/6,1)","v":85},{"$f":"D77-B77","v":11.900000000000006},96.9,0.43,0.08,0.4,0.35,-9.4100000000000003E-2,6.6500000000000004E-2,2.1066999999999999E-2,0.44,0.06,0.4,-0.38,3.4799999999999998E-2,4.1500000000000002E-2,0.17,0.46,0.63,0.2,0.09,0.29000000000000004,0.33999999999999997,0.18,0.42,0.19,0.02,0.1,0.3,7.0000000000000007E-2,0.02,0.17,0.33,0.17,0.36,0.53,0.27,0.11,0.38,0.15000000000000002,0.25,0.26,0.12,0.1,0.17,0.2,0.09,0.19,0.15,0.31,0.55000000000000004,0.04,0.34,0.51,3.9688000000000001E-2,0.65,0.28999999999999998,0.36000000000000004,0.38,0.52,-0.14000000000000001,0.19,0.28000000000000003,0.47000000000000003,0.37,0.08,0.04,0.12,0.35000000000000003,0.23,0.13,0.61,0.1,0.43,0.54,0.11000000000000004,0.16,0.09,0.25,0.67999999999999994,0.12,0.15,0.41,0.05,0.06,0.18,0.69,0.05,0.08,0.13,0.86,0.23,0.63,0.73,0.37,0.13,0.13,0.06,0.15,0.82,0.14000000000000001,0.02,0,0.01,0.18,0.79,0.24,0.74,0.56000000000000005,0.21,0.77,0.14000000000000001,0.05,0.02,0.03,332264.83,220000,0.12,0.32,0.25,7.0000000000000007E-2,0.06]
["2016-09-01",82.8,12.700000000000003,95.5,0.43,0.09,0.38,0.33999999999999997,-9.5500000000000002E-2,6.59E-2,1.9741999999999996E-2,0.49,0.05,0.36,-0.44,3.4599999999999999E-2,4.1399999999999999E-2,0.17,0.43,0.6,0.21,0.1,0.31,0.28999999999999998,0.14000000000000001,0.43,0.18,0.06,0.11,0.33,0.04,0.04,0.18,0.35,0.16,0.37,0.53,0.28999999999999998,0.09,0.38,0.15000000000000002,0.25,0.28000000000000003,0.11,0.09,0.19,0.18,7.0000000000000007E-2,0.22,0.17,0.32,0.54,0.03,0.36,0.51,3.8058000000000002E-2,0.64,0.31,0.33,0.35,0.56999999999999995,-0.21999999999999997,0.15,0.26,0.41000000000000003,0.45,7.0000000000000007E-2,0.04,0.11000000000000001,0.30000000000000004,0.25,0.13,0.61,0.12,0.45,0.52,7.0000000000000007E-2,0.19,0.05,0.24,0.64,0.14000000000000001,0.13,0.37,0.05,0.08,0.18,0.65,0.06,0.09,0.15,0.85,0.24,0.61,0.7,0.39,0.14000000000000001,0.12,0.08,0.12,0.83,0.13,0.03,0,0,0.17,0.8,0.22,0.75,0.5,0.22,0.72,0.16,7.0000000000000007E-2,0.04,0.03,429853.99,200000,0.15,0.31,0.2,0.06,0.08]
["2016-10-01",81.7,12.599999999999994,94.3,0.41,0.1,0.4,0.30999999999999994,-0.10199999999999999,7.1599999999999997E-2,1.9155999999999999E-2,0.5,0.05,0.36,-0.45,3.4200000000000001E-2,4.1300000000000003E-2,0.15,0.45,0.6,0.2,0.09,0.29000000000000004,0.30999999999999994,0.14000000000000001,0.41,0.21,0.03,0.12,0.36,0.04,0.04,0.1,0.35,0.17,0.38,0.55000000000000004,0.25,0.11,0.36,0.19000000000000006,0.23,0.27,0.14000000000000001,0.09,0.18,0.2,0.05,0.19,0.16,0.32,0.54,0.04,0.34,0.5,3.893400000000001E-2,0.67,0.3,0.37000000000000005,0.36,0.56000000000000005,-0.20000000000000007,0.18,0.26,0.44,0.39,0.06,0.04,0.1,0.33999999999999997,0.2,0.16,0.62,4.0000000000000008E-2,0.46,0.52,0.06,0.14000000000000001,0.05,0.19,0.72,0.11,0.15,0.46,0.06,0.08,0.13,0.7,0.04,0.11,0.15,0.84000000000000008,0.17,0.67,0.69000000000000006,0.37,0.12,0.17,0.08,0.12,0.78,0.18,0.03,0.01,0,0.15,0.83,0.23,0.76,0.51,0.23,0.74,0.13,0.08,0.04,0.04,441429.44,223275.98,0.12,0.34,0.22,0.06,0.1]
["2016-11-01",81.2,13.700000000000003,94.9,0.43,0.08,0.4,0.35,-9.6100000000000005E-2,7.7799999999999994E-2,2.5766000000000001E-2,0.55000000000000004,0.04,0.31,-0.51,3.5200000000000002E-2,4.2099999999999999E-2,0.16,0.44,0.6,0.2,0.1,0.30000000000000004,0.29999999999999993,0.14000000000000001,0.43,0.19,0.03,0.1,0.34,0.06,0.03,0.12,0.28999999999999998,0.13,0.38,0.51,0.28000000000000003,0.1,0.38,0.13,0.2,0.28999999999999998,0.17,0.08,0.14000000000000001,0.21,0.04,0.16,0.14000000000000001,0.38,0.52,0.03,0.37,0.49,4.1710000000000004E-2,0.67,0.27,0.4,0.34,0.56999999999999995,-0.22999999999999993,0.18,0.28999999999999998,0.47,0.39,7.0000000000000007E-2,0.04,0.11000000000000001,0.36,0.25,0.1,0.64,0.15,0.44,0.54,0.10000000000000003,0.13,0.05,0.18,0.75,0.13,0.15,0.47,0.05,0.1,0.14000000000000001,0.68,0.05,0.12,0.16999999999999998,0.81,0.19,0.62,0.64000000000000012,0.39,0.13,0.13,0.08,0.12,0.82,0.14000000000000001,0.03,0,0,0.13,0.86,0.22,0.77,0.56999999999999995,0.24,0.80999999999999994,0.09,0.08,0.04,0.04,372943.5,225000,0.13,0.3,0.21,7.0000000000000007E-2,0.08]
["2016-12-01",80.7,14.399999999999991,95.1,0.46,0.11,0.36,0.35000000000000003,-9.06E-2,6.8000000000000005E-2,2.1314000000000003E-2,0.6,0.05,0.26,-0.54999999999999993,4.0800000000000003E-2,4.9500000000000002E-2,0.16,0.46,0.62,0.2,0.1,0.30000000000000004,0.31999999999999995,0.15,0.45,0.17,0.03,0.12,0.34,0.05,0.05,0.16,0.26,0.17,0.34,0.51,0.28000000000000003,0.1,0.38,0.13,0.25,0.22,0.14000000000000001,7.0000000000000007E-2,0.2,0.22,0.05,0.18,0.17,0.28999999999999998,0.54,0.05,0.36,0.49000000000000005,3.7513000000000005E-2,0.68,0.28000000000000003,0.4,0.43,0.45,-2.0000000000000018E-2,0.17,0.31,0.48,0.41,0.06,0.03,0.09,0.39,0.22,0.12,0.65,0.1,0.41,0.56000000000000005,0.15000000000000008,0.12,0.05,0.16999999999999998,0.77,0.12,0.15,0.5,0.04,0.09,0.12,0.72,0.04,0.12,0.16,0.84,0.15,0.69,0.67999999999999994,0.46,0.12,0.14000000000000001,7.0000000000000007E-2,0.11,0.8,0.18,0.02,0,0.01,0.15,0.83,0.24,0.74,0.59,0.22,0.80999999999999994,0.12,0.05,0.02,0.03,415332.66,250000,0.12,0.28000000000000003,0.25,0.06,0.09]
["2017-01-01",82.7,14.799999999999997,97.5,0.5,0.08,0.35,0.42,-8.3099999999999993E-2,7.6300000000000007E-2,3.1502000000000002E-2,0.61,0.06,0.26,-0.55000000000000004,4.3200000000000002E-2,4.99E-2,0.16,0.44,0.6,0.22,0.09,0.31,0.28999999999999998,0.14000000000000001,0.37,0.18,0.06,0.15,0.36,0.06,0.04,0.13,0.31,0.17,0.35,0.52,0.27,0.1,0.37,0.15000000000000002,0.23,0.28000000000000003,0.11,0.1,0.17,0.2,0.04,0.19,0.14000000000000001,0.31,0.54,0.04,0.37,0.5,4.251400000000001E-2,0.64,0.3,0.34,0.46,0.42,4.0000000000000036E-2,0.2,0.31,0.51,0.35,0.08,0.04,0.12,0.39,0.26,0.11,0.6,0.15000000000000002,0.46,0.5,3.999999999999998E-2,0.19,0.08,0.27,0.66,0.1,0.11,0.45,0.04,0.08,0.14000000000000001,0.71,0.04,0.11,0.15,0.84000000000000008,0.17,0.67,0.69000000000000006,0.41,0.15,0.14000000000000001,7.0000000000000007E-2,0.12,0.8,0.17,0.02,0.01,0,0.14000000000000001,0.83,0.23,0.75,0.56000000000000005,0.21,0.77,0.13,0.06,0.03,0.03,323622.03999999998,225000,0.15,0.3,0.25,0.08,7.0000000000000007E-2]
["2017-02-01",88.3,16,104.3,0.53,0.08,0.32,0.45,-8.43E-2,7.2800000000000004E-2,3.1840000000000007E-2,0.61,0.06,0.28000000000000003,-0.55000000000000004,4.19E-2,4.8399999999999999E-2,0.18,0.48,0.65999999999999992,0.18,0.08,0.26,0.39999999999999991,0.15,0.4,0.17,0.04,0.15,0.32,0.13,0.04,0.1,0.21,0.17,0.39,0.56000000000000005,0.26,0.08,0.34,0.22000000000000003,0.23,0.24,0.14000000000000001,0.1,0.16,0.25,0.05,0.21,0.12,0.22,0.56000000000000005,0.03,0.35,0.53,3.8350000000000009E-2,0.66,0.28999999999999998,0.37000000000000005,0.48,0.35,0.13,0.23,0.28999999999999998,0.52,0.37,0.04,0.03,7.0000000000000007E-2,0.45,0.28000000000000003,0.09,0.61,0.19000000000000003,0.4,0.56000000000000005,0.16000000000000003,0.13,7.0000000000000007E-2,0.2,0.70000000000000007,0.1,0.14000000000000001,0.46,0.03,0.06,0.17,0.72,0.03,0.08,0.11,0.89,0.22,0.67,0.78,0.42,0.14000000000000001,0.14000000000000001,0.06,0.12,0.81,0.13,0.05,0,0.01,0.15,0.82,0.22,0.76,0.55000000000000004,0.24,0.79,0.12,0.05,0.04,0.01,408403.76,239956.72,0.09,0.35,0.23,0.08,0.09]
["2017-03-01",84.5,16.200000000000003,100.7,0.51,7.0000000000000007E-2,0.35,0.44,-7.8200000000000006E-2,6.8699999999999997E-2,2.9563000000000002E-2,0.64,0.04,0.25,-0.6,4.1599999999999998E-2,5.0599999999999999E-2,0.16,0.44,0.6,0.2,0.1,0.30000000000000004,0.29999999999999993,0.14000000000000001,0.35,0.16,7.0000000000000007E-2,0.17,0.39,0.09,0.05,0.12,0.24,0.21,0.39,0.6,0.21,0.08,0.28999999999999998,0.31,0.24,0.23,0.14000000000000001,0.1,0.21,0.15,0.12,0.19,0.16,0.26,0.56999999999999995,0.03,0.36,0.53999999999999992,4.122E-2,0.65,0.3,0.35000000000000003,0.47,0.41,0.06,0.19,0.3,0.49,0.38,0.06,0.04,0.1,0.39,0.23,0.12,0.63,0.11000000000000001,0.43,0.54,0.11000000000000004,0.13,0.05,0.18,0.74,0.11,0.17,0.46,0.05,0.08,0.13,0.72,0.05,0.1,0.15000000000000002,0.85000000000000009,0.19,0.66,0.70000000000000007,0.4,0.14000000000000001,0.11,0.08,0.12,0.81,0.15,0.03,0,0,0.17,0.8,0.2,0.77,0.51,0.26,0.77,0.13,7.0000000000000007E-2,0.03,0.04,400812.26,240000,0.1,0.31,0.25,7.0000000000000007E-2,0.09]
["2017-04-01",86.7,16,102.7,0.53,0.08,0.3,0.45,-6.8900000000000003E-2,6.6500000000000004E-2,2.9732999999999999E-2,0.62,0.05,0.26,-0.56999999999999995,4.1399999999999999E-2,5.0200000000000002E-2,0.16,0.46,0.62,0.19,0.08,0.27,0.35,0.15,0.36,0.18,0.05,0.13,0.35,0.12,7.0000000000000007E-2,0.1,0.24,0.18,0.39,0.57000000000000006,0.24,7.0000000000000007E-2,0.31,0.26000000000000006,0.26,0.21,0.13,0.09,0.17,0.22,7.0000000000000007E-2,0.22,0.11,0.26,0.52,0.03,0.38,0.49,3.9705999999999998E-2,0.67,0.28000000000000003,0.39,0.46,0.39,7.0000000000000007E-2,0.17,0.3,0.47,0.4,7.0000000000000007E-2,0.03,0.1,0.37,0.25,0.12,0.63,0.13,0.39,0.56999999999999995,0.17999999999999994,0.16,0.05,0.21000000000000002,0.7,0.12,0.15,0.43,0.04,7.0000000000000007E-2,0.15,0.73,0.04,7.0000000000000007E-2,0.11000000000000001,0.88000000000000012,0.2,0.68,0.77000000000000013,0.37,0.13,0.16,0.05,0.14000000000000001,0.76,0.19,0.03,0.02,0,0.14000000000000001,0.82,0.21,0.78,0.56999999999999995,0.22,0.78999999999999992,0.16,0.04,0.02,0.02,512066.29,250000,0.1,0.3,0.26,0.09,0.11]
["2017-05-01",86.2,14.899999999999991,101.1,0.48,0.08,0.39,0.39999999999999997,-9.7199999999999995E-2,6.93E-2,2.5487999999999997E-2,0.56000000000000005,0.04,0.33,-0.52,4.0300000000000002E-2,4.7100000000000003E-2,0.16,0.44,0.6,0.23,0.1,0.33,0.26999999999999996,0.13,0.35,0.19,0.04,0.17,0.37,0.06,0.06,0.14000000000000001,0.28999999999999998,0.22,0.39,0.61,0.22,7.0000000000000007E-2,0.29000000000000004,0.31999999999999995,0.23,0.19,0.16,0.09,0.21,0.18,7.0000000000000007E-2,0.18,0.19,0.3,0.56999999999999995,0.04,0.34,0.52999999999999992,3.7471999999999998E-2,0.68,0.27,0.41000000000000003,0.47,0.4,6.9999999999999951E-2,0.21,0.28000000000000003,0.49,0.38,0.08,0.03,0.11,0.38,0.28000000000000003,0.1,0.61,0.18000000000000002,0.42,0.55000000000000004,0.13000000000000006,0.16,7.0000000000000007E-2,0.23,0.74,0.1,0.15,0.49,0.04,7.0000000000000007E-2,0.11,0.76,0.05,0.09,0.14000000000000001,0.85,0.14000000000000001,0.71,0.71,0.39,0.13,0.14000000000000001,0.08,0.17,0.82,0.14000000000000001,0.03,0.01,0,0.19,0.78,0.23,0.75,0.56000000000000005,0.23,0.79,0.13,7.0000000000000007E-2,0.03,0.04,376102.31,240000,0.13,0.31,0.2,0.12,0.1]
["2017-06-01",88.3,14.799999999999997,103.1,0.54,0.08,0.31,0.46,-8.7499999999999994E-2,7.5300000000000006E-2,3.3661999999999997E-2,0.56999999999999995,0.08,0.27,-0.48999999999999994,3.9399999999999998E-2,4.7699999999999999E-2,0.16,0.46,0.62,0.22,0.1,0.32,0.3,0.12,0.36,0.21,0.06,0.16,0.42,0.06,0.1,0.1,0.23,0.23,0.41,0.64,0.2,0.05,0.25,0.39,0.24,0.23,0.17,7.0000000000000007E-2,0.17,0.2,7.0000000000000007E-2,0.22,0.13,0.22,0.57999999999999996,0.04,0.32,0.53999999999999992,4.8367999999999994E-2,0.67,0.28000000000000003,0.39,0.5,0.36,0.14000000000000001,0.22,0.27,0.49,0.37,0.08,0.04,0.12,0.37,0.28000000000000003,0.11,0.57999999999999996,0.17000000000000004,0.37,0.59,0.21999999999999997,0.16,0.09,0.25,0.68,0.09,0.14000000000000001,0.45,0.04,0.1,0.13,0.72,0.03,0.14000000000000001,0.17,0.83000000000000007,0.17,0.66,0.66,0.39,0.13,0.11,0.1,0.15,0.81,0.15,0.03,0,0.01,0.17,0.8,0.2,0.78,0.56000000000000005,0.24,0.8,0.12,0.05,0.02,0.03,354980.1,230000,0.11,0.32,0.23,0.09,0.09]
["2017-07-01",86.8,14.5,101.3,0.53,0.06,0.35,0.47000000000000003,-9.0899999999999995E-2,8.09E-2,3.7423000000000005E-2,0.55000000000000004,0.06,0.32,-0.49000000000000005,3.8800000000000001E-2,5.4199999999999998E-2,0.16,0.41,0.56999999999999995,0.24,0.1,0.33999999999999997,0.22999999999999998,0.14000000000000001,0.32,0.24,0.05,0.16,0.44,0.09,0.08,0.08,0.22,0.24,0.34,0.58000000000000007,0.22,0.08,0.3,0.28000000000000008,0.27,0.2,0.18,0.08,0.18,0.15,0.06,0.2,0.2,0.3,0.56999999999999995,0.03,0.34,0.53999999999999992,4.8819000000000001E-2,0.65,0.3,0.35000000000000003,0.46,0.39,7.0000000000000007E-2,0.16,0.3,0.45999999999999996,0.39,0.08,0.05,0.13,0.32999999999999996,0.27,0.11,0.61,0.16000000000000003,0.42,0.53,0.11000000000000004,0.21,7.0000000000000007E-2,0.28000000000000003,0.65,0.09,0.19,0.37,0.03,7.0000000000000007E-2,0.13,0.74,0.02,0.1,0.12000000000000001,0.87,0.16,0.71,0.75,0.4,0.11,0.16,0.08,0.12,0.83,0.14000000000000001,0.02,0,0.01,0.16,0.79,0.2,0.77,0.57999999999999996,0.2,0.78,0.11,0.08,0.04,0.04,416572.47,215000,0.12,0.32,0.21,0.05,0.1]
["2017-08-02",88,13.900000000000006,101.9,0.54,0.06,0.33,0.48000000000000004,-7.85E-2,7.0199999999999999E-2,3.3197999999999998E-2,0.51,0.06,0.35,-0.45,3.9199999999999999E-2,4.3499999999999997E-2,0.14000000000000001,0.41,0.55000000000000004,0.24,0.13,0.37,0.18000000000000005,0.12,0.36,0.2,0.05,0.14000000000000001,0.44,0.09,0.1,0.11,0.16,0.22,0.4,0.62,0.19,7.0000000000000007E-2,0.26,0.36,0.31,0.2,0.15,0.12,0.14000000000000001,0.14000000000000001,0.05,0.18,0.15,0.38,0.6,0.02,0.34,0.57999999999999996,4.5543999999999994E-2,0.66,0.28999999999999998,0.37000000000000005,0.49,0.38,0.10999999999999999,0.2,0.27,0.47000000000000003,0.39,7.0000000000000007E-2,0.05,0.12000000000000001,0.35000000000000003,0.26,0.1,0.62,0.16,0.42,0.55000000000000004,0.13000000000000006,0.13,0.08,0.21000000000000002,0.71,0.1,0.12,0.49,0.03,0.08,0.11,0.75,0.03,0.1,0.13,0.87,0.15,0.72,0.74,0.44,0.11,0.17,0.06,0.11,0.8,0.15,0.04,0.01,0.01,0.16,0.8,0.21,0.77,0.56999999999999995,0.23,0.79999999999999993,0.14000000000000001,0.04,0.03,0.01,412581.18,225442.25,0.11,0.31,0.22,0.08,0.1]
["2017-09-01",88.3,14.400000000000006,102.7,0.5,0.1,0.34,0.4,-7.8200000000000006E-2,6.93E-2,2.683E-2,0.53,0.06,0.34,-0.47000000000000003,3.8199999999999998E-2,4.2000000000000003E-2,0.14000000000000001,0.45,0.59000000000000008,0.2,0.11,0.31,0.28000000000000008,0.12,0.32,0.24,0.05,0.16,0.49,0.03,0.06,0.12,0.23,0.23,0.41,0.64,0.18,0.08,0.26,0.38,0.28999999999999998,0.21,0.14000000000000001,0.1,0.17,0.22,0.06,0.23,0.12,0.3,0.56999999999999995,0.03,0.35,0.53999999999999992,4.3719000000000001E-2,0.67,0.27,0.4,0.47,0.41,0.06,0.15,0.35,0.5,0.39,0.05,0.04,0.09,0.41000000000000003,0.27,0.12,0.6,0.15000000000000002,0.42,0.55000000000000004,0.13000000000000006,0.15,0.1,0.25,0.66999999999999993,0.11,0.13,0.43,0.04,7.0000000000000007E-2,0.15,0.71,0.04,0.08,0.12,0.87,0.17,0.7,0.75,0.41,0.12,0.16,0.06,0.13,0.8,0.16,0.02,0,0.01,0.18,0.78,0.22,0.76,0.61,0.22,0.83,0.1,0.05,0.02,0.03,451474.93,240000,0.14000000000000001,0.31,0.23,0.1,0.09]
["2017-10-01",85.2,13.5,98.7,0.48,0.08,0.36,0.39999999999999997,-9.74E-2,6.3299999999999995E-2,2.2591999999999998E-2,0.5,0.04,0.36,-0.46,3.8300000000000001E-2,4.2999999999999997E-2,0.15,0.42,0.56999999999999995,0.23,0.12,0.35,0.21999999999999997,0.12,0.32,0.18,0.05,0.24,0.45,0.06,7.0000000000000007E-2,0.09,0.25,0.21,0.4,0.61,0.21,0.1,0.31,0.3,0.28000000000000003,0.19,0.18,0.05,0.19,0.15,0.1,0.14000000000000001,0.14000000000000001,0.34,0.57999999999999996,0.03,0.32,0.54999999999999993,4.4202000000000005E-2,0.67,0.25,0.42000000000000004,0.48,0.38,9.9999999999999978E-2,0.18,0.32,0.5,0.4,0.06,0.03,0.09,0.41000000000000003,0.25,0.11,0.62,0.14000000000000001,0.39,0.59,0.19999999999999996,0.16,0.06,{"$f":"SUM(BZ91:CA91)","v":0.22},{"$f":"SUM(CD91:CF91)","v":0.69},0.14000000000000001,0.11,0.44,0.05,0.08,0.18,0.66,0.04,0.11,0.15,0.85,0.24,0.61,0.7,0.42,0.12,0.15,0.06,0.14000000000000001,0.82,0.16,0.02,0,0,0.16,0.81,0.21,0.77,0.6,0.19,0.79,0.1,7.0000000000000007E-2,0.05,0.02,407271.94,209277.76,0.14000000000000001,0.32,0.23,0.06,0.08]
["2017-11-01",87.8,15.100000000000009,102.9,0.53,7.0000000000000007E-2,0.35,0.46,-8.2699999999999996E-2,8.0100000000000005E-2,3.6664000000000002E-2,0.56000000000000005,0.05,0.33,-0.51,3.9399999999999998E-2,4.48E-2,0.16,0.45,0.61,0.22,0.1,0.32,0.28999999999999998,0.14000000000000001,0.31,0.22,0.04,0.17,0.45,0.05,0.05,0.16,0.21,0.21,0.41,0.62,0.19,0.09,0.28000000000000003,0.33999999999999997,0.24,0.2,0.17,0.08,0.22,0.19,0.11,0.18,0.1,0.32,0.6,0.02,0.34,0.57999999999999996,4.8644E-2,0.65,0.3,0.35000000000000003,0.5,0.38,0.12,0.22,0.28000000000000003,0.5,0.37,0.08,0.03,0.11,0.39,0.25,0.11,0.62,0.14000000000000001,0.38,0.59,0.20999999999999996,0.13,0.06,0.19,0.73,0.14000000000000001,0.14000000000000001,0.45,0.03,7.0000000000000007E-2,0.15,0.7,0.04,0.09,0.13,0.87,0.21,0.66,0.74,0.42,0.13,0.16,0.06,0.11,0.8,0.17,0.02,0.01,0.01,0.16,0.82,0.23,0.74,0.55000000000000004,0.25,0.8,0.11,0.05,0.03,0.02,445175.16,250000,0.11,0.28000000000000003,0.26,0.08,0.09]
["2017-12-01",85.8,14.900000000000006,100.7,0.5,0.06,0.37,0.44,-7.6499999999999999E-2,7.4499999999999997E-2,3.2660000000000002E-2,0.56000000000000005,0.04,0.32,-0.52,3.9E-2,4.3299999999999998E-2,0.14000000000000001,0.44,0.58000000000000007,0.23,0.11,0.34,0.24000000000000005,0.11,0.32,0.16,0.06,0.24,0.41,0.06,0.09,0.09,0.22,0.21,0.41,0.62,0.2,0.08,0.28000000000000003,0.33999999999999997,0.26,0.2,0.15,0.08,0.23,0.15,0.03,0.2,0.11,0.28999999999999998,0.61,0.01,0.33,0.6,5.181100000000001E-2,0.69,0.27,0.41999999999999993,0.52,0.41,0.11000000000000004,0.19,0.3,0.49,0.4,7.0000000000000007E-2,0.04,0.11000000000000001,0.38,0.26,0.1,0.62,0.16,0.44,0.52,8.0000000000000016E-2,0.1,0.05,0.15000000000000002,0.75,0.13,0.17,0.45,0.03,0.1,0.15,0.67,0.03,0.12,0.15,0.83000000000000007,0.19,0.64,0.68,0.42,0.12,0.17,7.0000000000000007E-2,0.12,0.8,0.16,0.03,0,0.01,0.14000000000000001,0.83,0.19,0.78,0.5,0.26,0.76,0.14000000000000001,0.06,0.03,0.03,495170.37,250000,0.11,0.28999999999999998,0.24,7.0000000000000007E-2,0.1]
["2018-01-01",89.5,15.200000000000003,104.7,0.57999999999999996,0.06,0.31,0.52,-8.5599999999999996E-2,7.1800000000000003E-2,3.6507999999999992E-2,0.55000000000000004,0.05,0.32,-0.5,3.9899999999999998E-2,4.41E-2,0.16,0.43,0.59,0.22,0.1,0.32,0.26999999999999996,0.14000000000000001,0.33,0.17,0.05,0.21,0.44,0.08,0.04,0.1,0.24,0.26,0.39,0.65,0.21,0.06,0.27,0.38,0.27,0.15,0.18,0.06,0.22,0.15,0.13,0.17,0.12,0.28000000000000003,0.59,0.04,0.31,0.54999999999999993,4.7897999999999989E-2,0.67,0.28000000000000003,0.39,0.5,0.38,0.12,0.2,0.32,0.52,0.36,7.0000000000000007E-2,0.03,0.1,0.42000000000000004,0.27,0.11,0.6,0.16000000000000003,0.39,0.56999999999999995,0.17999999999999994,0.17,0.06,0.23,0.69,0.08,0.17,0.44,0.04,7.0000000000000007E-2,0.14000000000000001,0.72,0.04,0.09,0.13,0.8600000000000001,0.19,0.67,0.73000000000000009,0.41,0.16,0.15,7.0000000000000007E-2,0.12,0.81,0.17,0.02,0,0.01,0.17,0.79,0.2,0.78,0.56000000000000005,0.21,0.77,0.12,0.08,0.03,0.05,449283.13,265621.81,0.1,0.28000000000000003,0.27,0.08,0.09]
["2018-02-01",85.8,15.900000000000006,101.7,0.52,7.0000000000000007E-2,0.35,0.45,-0.104,7.6499999999999999E-2,3.2500000000000001E-2,0.62,0.05,0.25,-0.56999999999999995,4.2200000000000001E-2,5.04E-2,0.14000000000000001,0.43,0.57000000000000006,0.24,0.11,0.35,0.22000000000000008,0.11,0.36,0.18,0.03,0.22,0.45,0.05,0.04,0.09,0.28999999999999998,0.25,0.38,0.63,0.2,7.0000000000000007E-2,0.27,0.36,0.25,0.19,0.17,0.06,0.23,0.19,0.11,0.16,0.17,0.25,0.59,0.04,0.32,0.54999999999999993,4.4077999999999999E-2,0.66,0.28999999999999998,0.37000000000000005,0.53,0.35,0.18000000000000005,0.2,0.28999999999999998,0.49,0.4,0.06,0.03,0.09,0.4,0.26,0.09,0.63,0.17,0.41,0.56999999999999995,0.15999999999999998,0.14000000000000001,7.0000000000000007E-2,0.21000000000000002,0.75,0.1,0.16,0.49,0.05,0.06,0.12,0.73,0.06,0.08,0.14000000000000001,0.85,0.16,0.69,0.71,0.42,0.12,0.17,0.08,0.15,0.81,0.17,0.01,0,0.01,0.16,0.81,0.2,0.79,0.56999999999999995,0.22,0.78999999999999992,0.11,7.0000000000000007E-2,0.03,0.04,465120.35,250000,0.1,0.31,0.27,7.0000000000000007E-2,0.09]
["2018-03-01",88.3,15.400000000000006,103.7,0.51,0.09,0.35,0.42000000000000004,-9.2999999999999999E-2,7.5499999999999998E-2,3.0134999999999995E-2,0.56999999999999995,0.05,0.31,-0.51999999999999991,4.4299999999999999E-2,4.9799999999999997E-2,0.16,0.46,0.62,0.19,0.11,0.3,0.32,0.12,0.28000000000000003,0.18,0.09,0.22,0.36,0.09,0.06,0.11,0.26,0.25,0.41,0.65999999999999992,0.2,7.0000000000000007E-2,0.27,0.3899999999999999,0.28999999999999998,0.16,0.16,7.0000000000000007E-2,0.26,0.15,0.1,0.17,0.16,0.28999999999999998,0.57999999999999996,0.02,0.36,0.55999999999999994,4.4738E-2,0.7,0.26,0.43999999999999995,0.53,0.38,0.15000000000000002,0.26,0.26,0.52,0.36,7.0000000000000007E-2,0.04,0.11000000000000001,0.41000000000000003,0.28000000000000003,0.11,0.57999999999999996,0.17000000000000004,0.37,0.59,0.21999999999999997,0.13,0.05,0.18,0.78,0.11,0.16,0.51,0.04,0.06,0.15,0.72,0.05,0.09,0.14000000000000001,0.85000000000000009,0.2,0.65,0.71000000000000008,0.37,0.14000000000000001,0.16,0.06,0.14000000000000001,0.8,0.16,0.03,0.01,0.01,0.13,0.83,0.19,0.78,0.57999999999999996,0.25,0.83,0.09,7.0000000000000007E-2,0.05,0.02,448375.88,250000,0.09,0.32,0.26,0.08,0.09]
["2018-04-01",91.7,15.200000000000003,106.9,0.55000000000000004,0.06,0.34,0.49000000000000005,-7.8799999999999995E-2,7.9399999999999998E-2,3.8942000000000011E-2,0.54,0.06,0.32,-0.48000000000000004,4.4400000000000002E-2,4.9500000000000002E-2,0.18,0.43,0.61,0.22,0.1,0.32,0.28999999999999998,0.11,0.31,0.22,0.03,0.2,0.42,0.05,7.0000000000000007E-2,0.12,0.17,0.28000000000000003,0.4,0.68,0.19,0.04,0.23,0.45000000000000007,0.28000000000000003,0.18,0.15,0.09,0.23,0.19,0.08,0.2,0.14000000000000001,0.31,0.61,0.02,0.31,0.59,5.6487999999999997E-2,0.66,0.28000000000000003,0.38,0.51,0.38,0.13,0.21,0.33,0.54,0.34,7.0000000000000007E-2,0.04,0.11000000000000001,0.43000000000000005,0.28000000000000003,0.1,0.6,0.18000000000000002,0.43,0.54,0.11000000000000004,0.2,0.06,0.26,0.69,7.0000000000000007E-2,0.14000000000000001,0.48,0.03,0.06,0.11,0.77,0.03,0.09,0.12,0.88,0.14000000000000001,0.74,0.76,0.41,0.13,0.15,7.0000000000000007E-2,0.14000000000000001,0.82,0.14000000000000001,0.03,0,0.01,0.16,0.81,0.22,0.76,0.66,0.17,0.83000000000000007,0.1,0.05,0.03,0.02,510871.92,275000,0.09,0.27,0.27,0.09,0.13]
["2018-05-01",92.3,15.600000000000009,107.9,0.55000000000000004,0.06,0.33,0.49000000000000005,-8.2400000000000001E-2,7.3099999999999998E-2,3.5261000000000001E-2,0.54,0.05,0.31,-0.49000000000000005,4.58E-2,5.0999999999999997E-2,0.15,0.44,0.59,0.23,0.08,0.31,0.27999999999999997,0.1,0.3,0.18,0.05,0.25,0.51,0.06,0.09,7.0000000000000007E-2,0.18,0.25,0.42,0.66999999999999993,0.16,0.05,0.21000000000000002,0.45999999999999991,0.26,0.14000000000000001,0.18,0.09,0.23,0.17,0.09,0.22,0.11,0.27,0.61,0.02,0.31,0.59,4.6052000000000003E-2,0.67,0.28999999999999998,0.38000000000000006,0.5,0.37,0.13,0.21,0.27,0.48,0.4,7.0000000000000007E-2,0.03,0.1,0.38,0.3,0.09,0.6,0.21,0.41,0.56000000000000005,0.15000000000000008,0.18,0.05,0.22999999999999998,0.67999999999999994,0.06,0.15,0.47,0.04,0.06,0.16,0.72,0.03,0.08,0.11,0.89,0.22,0.67,0.78,0.4,0.15,0.12,7.0000000000000007E-2,0.12,0.81,0.16,0.02,0,0.01,0.13,0.82,0.18,0.79,0.56000000000000005,0.27,0.83000000000000007,0.13,0.04,0.03,0.01,376341.76000000001,227037.89,0.15,0.28999999999999998,0.24,0.06,0.08]
["2018-06-18",90.7,16,106.7,0.55000000000000004,0.09,0.31,{"$f":"E99-F99","v":0.46000000000000008},-0.12770000000000001,6.83E-2,2.6072000000000005E-2,0.57999999999999996,0.05,0.3,-0.52999999999999992,4.5600000000000002E-2,5.1900000000000002E-2,0.16,0.43,0.59,0.19,0.12,0.31,0.27999999999999997,0.12,0.25,0.23,0.04,0.23,0.5,0.08,0.1,7.0000000000000007E-2,0.18,0.28999999999999998,0.4,0.69,0.15,7.0000000000000007E-2,0.22,0.47,0.28999999999999998,0.12,0.18,0.08,0.26,0.17,0.06,0.18,0.17,0.3,0.54,0.04,0.39,0.5,3.9534000000000007E-2,0.68,0.26,0.42000000000000004,0.53,0.36,0.17000000000000004,0.24,0.3,0.54,0.34,0.08,0.04,0.12,0.42000000000000004,0.28000000000000003,0.09,0.62,0.19000000000000003,0.38,0.57999999999999996,0.19999999999999996,0.16,0.08,0.24,0.69,0.08,0.11,0.5,0.05,0.06,0.11,0.76,0.05,7.0000000000000007E-2,0.12000000000000001,0.88,0.15,0.73,0.76,0.39,0.13,0.16,7.0000000000000007E-2,0.13,0.8,0.17,0.02,0,0,0.16,0.81,0.18,0.8,0.61,0.22,0.83,0.09,0.05,0.03,0.02,333144.59000000003,225000,0.13,0.31,0.26,0.08,7.0000000000000007E-2]
["2018-07-01",86.5,15,101.5,0.49,0.1,0.35,0.39,-8.6300000000000002E-2,6.5100000000000005E-2,2.3268999999999998E-2,0.57999999999999996,0.06,0.3,-0.52,4.5499999999999999E-2,5.0799999999999998E-2,0.15,0.43,0.57999999999999996,0.22,0.12,0.33999999999999997,0.24,0.1,0.23,0.23,7.0000000000000007E-2,0.2,0.47,0.11,0.06,0.11,0.17,0.31,0.35,0.65999999999999992,0.19,0.06,0.25,0.40999999999999992,0.3,0.11,0.16,7.0000000000000007E-2,0.22,0.14000000000000001,0.06,0.21,0.15,0.28000000000000003,0.6,0.03,0.32,0.56999999999999995,4.7588999999999999E-2,0.65,0.3,0.35000000000000003,0.55000000000000004,0.37,0.18000000000000005,0.23,0.28000000000000003,0.51,0.37,0.06,0.03,0.09,0.42000000000000004,0.31,0.1,0.59,0.21,0.39,0.56999999999999995,0.17999999999999994,0.17,0.06,0.23,0.7,7.0000000000000007E-2,0.2,0.43,0.05,0.09,0.13,0.72,0.05,0.12,0.16999999999999998,0.82000000000000006,0.17,0.65,0.65000000000000013,0.37,0.14000000000000001,0.16,0.09,0.14000000000000001,0.8,0.16,0.03,0,0.01,0.19,0.78,0.22,0.76,0.62,0.21,0.83,7.0000000000000007E-2,7.0000000000000007E-2,0.04,0.03,406741.41,250000,0.12,0.28000000000000003,0.28000000000000003,0.08,7.0000000000000007E-2]
["2018-08-02",88,15.299999999999997,103.3,0.48,0.1,0.36,0.38,-8.0399999999999999E-2,7.4200000000000002E-2,2.7576E-2,0.57999999999999996,0.06,0.31,-0.52,4.5400000000000003E-2,5.0500000000000003E-2,0.16,0.41,0.56999999999999995,0.25,0.11,0.36,0.20999999999999996,0.1,0.26,0.24,0.03,0.27,0.49,7.0000000000000007E-2,0.05,0.11,0.19,0.25,0.39,0.64,0.18,0.08,0.26,0.38,0.32,0.16,0.16,0.04,0.24,0.16,0.05,0.17,0.17,0.28999999999999998,0.59,0.05,0.31,0.53999999999999992,4.4467999999999994E-2,0.67,0.28000000000000003,0.39,0.51,0.41,0.10000000000000003,0.24,0.28999999999999998,0.53,0.35,7.0000000000000007E-2,0.05,0.12000000000000001,0.41000000000000003,0.31,0.09,0.59,0.22,0.41,0.57999999999999996,0.16999999999999998,0.16,7.0000000000000007E-2,0.23,0.7,7.0000000000000007E-2,0.16,0.47,0.03,0.06,0.14000000000000001,0.74,0.04,0.06,0.1,0.89999999999999991,0.19,0.71,0.79999999999999993,0.39,0.14000000000000001,0.16,0.06,0.13,0.81,0.16,0.02,0.01,0.01,0.17,0.79,0.21,0.78,0.63,0.2,0.83000000000000007,0.1,0.05,0.03,0.02,377565.32,240000,0.13,0.3,0.27,0.08,7.0000000000000007E-2]
["2018-09-03",87.7,16,103.7,0.49,0.1,0.36,0.39,-9.7500000000000003E-2,7.2499999999999995E-2,2.5774999999999996E-2,0.6,0.04,0.28999999999999998,-0.55999999999999994,4.5199999999999997E-2,5.0799999999999998E-2,0.16,0.42,0.57999999999999996,0.22,0.1,0.32,0.25999999999999995,0.11,0.24,0.21,0.05,0.28999999999999998,0.51,7.0000000000000007E-2,0.06,0.09,0.17,0.26,0.38,0.64,0.16,0.1,0.26,0.38,0.31,0.11,0.15,0.06,0.28000000000000003,0.22,0.06,0.23,0.18,0.21,0.59,0.02,0.33,0.56999999999999995,4.4827999999999993E-2,0.66,0.3,0.36000000000000004,0.55000000000000004,0.34,0.21000000000000002,0.26,0.27,0.53,0.38,0.06,0.02,0.08,0.45,0.28000000000000003,0.09,0.61,0.19000000000000003,0.41,0.56000000000000005,0.15000000000000008,0.19,0.08,0.27,0.62,0.08,0.11,0.43,0.03,0.05,0.15,0.75,0.03,7.0000000000000007E-2,0.1,0.8899999999999999,0.19,0.7,0.78999999999999992,0.4,0.11,0.15,7.0000000000000007E-2,0.14000000000000001,0.84,0.14000000000000001,0.02,0.01,0,0.14000000000000001,0.82,0.22,0.76,0.6,0.21,0.80999999999999994,0.11,0.04,0.02,0.02,399572.68,250000,0.1,0.3,0.26,0.08,0.1]
["2018-10-01",85.7,15.799999999999997,101.5,0.46,0.09,0.37,0.37,-0.1089,7.8799999999999995E-2,2.6447000000000002E-2,0.61,0.04,0.28000000000000003,-0.56999999999999995,4.7199999999999999E-2,5.21E-2,0.15,0.4,0.55000000000000004,0.24,0.1,0.33999999999999997,0.21000000000000008,0.11,0.23,0.19,0.05,0.3,0.42,0.13,0.08,0.08,0.21,0.25,0.37,0.62,0.21,0.06,0.27,0.35,0.28000000000000003,0.13,0.19,7.0000000000000007E-2,0.26,0.18,0.1,0.22,0.14000000000000001,0.24,0.56999999999999995,0.04,0.32,0.52999999999999992,4.3209999999999998E-2,0.69,0.26,0.42999999999999994,0.59,0.33,0.25999999999999995,0.22,0.25,0.47,0.4,0.09,0.02,0.11,0.36,0.28999999999999998,0.1,0.57999999999999996,0.18999999999999997,0.45,0.52,7.0000000000000007E-2,0.18,7.0000000000000007E-2,0.25,0.70000000000000007,0.1,0.14000000000000001,0.46,0.03,0.06,0.14000000000000001,0.73,0.04,7.0000000000000007E-2,0.11000000000000001,0.8899999999999999,0.19,0.7,0.77999999999999992,0.34,0.14000000000000001,0.14000000000000001,0.08,0.18,0.83,0.14000000000000001,0.02,0.01,0,0.12,0.86,0.19,0.78,0.53,0.24,0.77,0.12,0.08,0.03,0.05,457385.94,250000,0.11,0.31,0.26,7.0000000000000007E-2,0.1]
["2018-11-01",86.2,15.700000000000003,101.9,0.46,0.13,0.37,0.33,-8.2600000000000007E-2,7.7499999999999999E-2,2.4912E-2,0.6,0.04,0.28999999999999998,-0.55999999999999994,4.8300000000000003E-2,5.2999999999999999E-2,0.12,0.45,0.57000000000000006,0.24,0.1,0.33999999999999997,0.23000000000000009,0.11,0.27,0.2,0.09,0.22,0.45,0.11,0.05,0.12,0.19,0.2,0.43,0.63,0.21,7.0000000000000007E-2,0.28000000000000003,0.35,0.28000000000000003,0.12,0.18,0.09,0.24,0.15,0.08,0.22,0.17,0.23,0.6,0.04,0.33,0.55999999999999994,4.3732E-2,0.68,0.28000000000000003,0.4,0.53,0.37,0.16000000000000003,0.2,0.31,0.51,0.38,7.0000000000000007E-2,0.03,0.1,0.41000000000000003,0.32,0.08,0.57999999999999996,0.24,0.4,0.56999999999999995,0.16999999999999993,0.19,0.09,0.28000000000000003,0.69,0.1,0.15,0.44,0.04,0.05,0.12,0.74,0.05,0.06,0.11,0.88,0.17,0.71,0.77,0.4,0.11,0.16,0.08,0.12,0.83,0.15,0.01,0.01,0,0.1,0.87,0.19,0.78,0.56999999999999995,0.24,0.80999999999999994,0.12,0.05,0.03,0.02,414925.85,221737.63,0.13,0.31,0.25,0.08,0.08]
["2018-12-01",83.5,15.200000000000003,98.7,0.45,0.14000000000000001,0.37,0.31,-8.3500000000000005E-2,7.6799999999999993E-2,2.2869999999999998E-2,0.61,0.05,0.26,-0.55999999999999994,4.8099999999999997E-2,5.1799999999999999E-2,0.12,0.4,0.52,0.27,0.14000000000000001,0.41000000000000003,0.10999999999999999,0.16,0.28000000000000003,0.2,0.04,0.23,0.52,0.08,0.05,7.0000000000000007E-2,0.15,0.21,0.43,0.64,0.18,0.1,0.28000000000000003,0.36,0.31,0.16,0.13,7.0000000000000007E-2,0.25,0.13,0.12,0.14000000000000001,0.15,0.24,0.57999999999999996,0.03,0.33,0.54999999999999993,4.6553999999999991E-2,0.66,0.28999999999999998,0.37000000000000005,0.5,0.4,9.9999999999999978E-2,0.22,0.26,0.48,0.38,0.09,0.03,0.12,0.36,0.31,0.12,0.54,0.19,0.43,0.55000000000000004,0.12000000000000005,0.2,0.04,0.24000000000000002,0.69,0.1,0.15,0.44,0.04,0.05,0.13,0.74,0.04,0.06,0.1,0.89,0.17,0.72,0.79,0.41,0.12,0.15,0.09,0.14000000000000001,0.83,0.13,0.04,0.01,0,0.13,0.86,0.2,0.78,0.62,0.17,0.79,0.11,7.0000000000000007E-2,0.04,0.03,460315.79,245332.39,0.11,0.3,0.25,7.0000000000000007E-2,0.09]
["2019-01-01",84.7,14.799999999999997,99.5,0.45,0.15,0.36,0.30000000000000004,-9.8599999999999993E-2,6.83E-2,1.5945000000000001E-2,0.59,0.06,0.3,-0.53,4.5499999999999999E-2,5.04E-2,0.14000000000000001,0.39,0.53,0.26,0.12,0.38,0.15000000000000002,0.1,0.23,0.25,0.06,0.26,0.36,0.12,0.08,0.09,0.25,0.2,0.43,0.63,0.2,0.08,0.28000000000000003,0.35,0.28999999999999998,0.17,0.15,7.0000000000000007E-2,0.22,0.13,0.1,0.16,0.13,0.36,0.57999999999999996,0.06,0.34,0.52,3.8013999999999999E-2,0.68,0.27,0.41000000000000003,0.49,0.43,0.06,0.22,0.28999999999999998,0.51,0.38,7.0000000000000007E-2,0.04,0.11000000000000001,0.4,0.34,7.0000000000000007E-2,0.56999999999999995,0.27,0.42,0.55000000000000004,0.13000000000000006,0.15,0.06,0.21,0.74,0.1,0.16,0.48,0.03,0.08,0.12,0.73,0.03,0.1,0.13,0.86,0.17,0.69,0.73,0.42,0.12,0.16,0.1,0.12,0.82,0.14000000000000001,0.03,0.01,0,0.17,0.8,0.21,0.78,0.56999999999999995,0.23,0.79999999999999993,0.12,0.05,0.03,0.02,394811.26,226998.41,0.13,0.33,0.25,0.06,0.08]
["2019-02-01",84.3,14.600000000000009,98.9,0.43,0.1,0.41,0.32999999999999996,-7.85E-2,7.7200000000000005E-2,2.5345999999999997E-2,0.55000000000000004,0.03,0.34,-0.52,4.4600000000000001E-2,5.0599999999999999E-2,0.13,0.4,0.53,0.26,0.12,0.38,0.15000000000000002,7.0000000000000007E-2,0.28999999999999998,0.17,0.05,0.25,0.45,0.1,0.02,0.11,0.22,0.2,0.4,0.60000000000000009,0.23,7.0000000000000007E-2,0.30000000000000004,0.30000000000000004,0.28000000000000003,0.13,0.15,0.09,0.28000000000000003,0.19,7.0000000000000007E-2,0.18,0.12,0.34,0.56000000000000005,0.03,0.35,0.53,4.3094E-2,0.65,0.3,0.35000000000000003,0.52,0.38,0.14000000000000001,0.16,0.28999999999999998,0.44999999999999996,0.42,7.0000000000000007E-2,0.05,0.12000000000000001,0.32999999999999996,0.27,0.09,0.62,0.18000000000000002,0.4,0.57999999999999996,0.17999999999999994,0.19,0.05,0.24,0.69,7.0000000000000007E-2,0.12,0.5,0.04,0.06,0.15,0.72,0.03,0.06,0.09,0.89999999999999991,0.2,0.7,0.80999999999999994,0.43,0.14000000000000001,0.12,7.0000000000000007E-2,0.12,0.86,0.11,0.02,0,0,0.16,0.81,0.23,0.76,0.63,0.22,0.85,0.08,0.05,0.03,0.02,401348.91,250000,0.12,0.31,0.27,0.08,0.08]
["2019-03-01",89.8,14.299999999999997,{"$f":"ROUND(63.5+100*(T108-W108+AK108-AN108+E108-F108+BS108-BT108+CN108-CM108)/5,1)","v":104.1},0.49,0.11,0.35,0.38,-7.6499999999999999E-2,6.7599999999999993E-2,2.4708999999999998E-2,0.51,0.06,0.35,-0.45,4.3499999999999997E-2,4.9000000000000002E-2,0.14000000000000001,0.42,0.56000000000000005,0.24,0.1,0.33999999999999997,0.22000000000000008,0.14000000000000001,0.23,0.21,0.04,0.24,0.51,0.05,0.06,7.0000000000000007E-2,0.17,0.21,0.45,0.66,0.17,0.06,0.23,0.43000000000000005,0.28000000000000003,0.12,0.17,0.05,0.27,0.21,0.11,0.16,0.17,0.23,0.59,0.04,0.31,0.54999999999999993,4.1479000000000002E-2,0.69,0.26,0.42999999999999994,0.51,0.39,0.12,0.2,0.3,0.5,0.4,7.0000000000000007E-2,0.03,0.1,0.4,0.27,7.0000000000000007E-2,0.63,0.2,0.4,0.57999999999999996,0.17999999999999994,0.18,0.04,0.22,0.74,0.08,0.17,0.49,0.03,0.05,0.1,0.78,0.03,7.0000000000000007E-2,0.1,0.9,0.14000000000000001,0.76,0.8,0.42,0.16,0.12,7.0000000000000007E-2,0.13,0.85,0.12,0.03,0,0,0.15,0.81,0.19,0.79,0.65,0.19,0.84000000000000008,0.08,0.05,0.04,0.01,377422.4,225000,0.09,0.35,0.23,0.08,7.0000000000000007E-2]
["2019-04-01",{"$f":"ROUND(63.5+100*(T109-W109+AK109-AN109+E109-F109+M109-L109+BS109-BT109+CN109-CM109)/6,1)","v":88.3},13,101.3,0.45,0.09,0.42,0.36,-7.17E-2,6.7000000000000004E-2,2.3696999999999999E-2,0.46,0.06,0.41,-0.4,4.0599999999999997E-2,4.82E-2,0.15,0.38,0.53,0.26,0.13,0.39,0.14000000000000001,0.09,0.28999999999999998,0.21,0.06,0.25,0.47,0.09,0.03,0.12,0.17,0.25,0.42,0.66999999999999993,0.17,7.0000000000000007E-2,0.24000000000000002,0.42999999999999994,0.25,0.15,0.16,0.09,0.26,0.19,0.1,0.18,0.15,0.28999999999999998,0.61,0.02,0.31,0.59,4.5555000000000005E-2,0.67,0.28999999999999998,0.38000000000000006,0.52,0.37,0.15000000000000002,0.24,0.27,0.51,0.39,0.06,0.02,0.08,0.43,0.32,0.1,0.56999999999999995,0.22,0.42,0.55000000000000004,0.13000000000000006,0.19,0.04,0.23,0.7,0.11,0.13,0.46,0.03,0.08,0.12,0.76,0.03,0.1,0.13,0.87,0.16,0.71,0.74,0.37,0.12,0.19,0.09,0.14000000000000001,0.86,0.11,0.02,0,0,0.18,0.79,0.22,0.76,0.63,0.19,0.82000000000000006,0.11,0.04,0.01,0.03,455215.96,250000,0.12,0.28999999999999998,0.3,7.0000000000000007E-2,7.0000000000000007E-2]
["2019-05-01",92,13.099999999999994,105.1,0.5,0.09,0.35,0.41000000000000003,-9.7699999999999995E-2,7.9600000000000004E-2,3.1006999999999996E-2,0.43,0.06,0.4,{"$f":"M110-L110","v":-0.37},4.2000000000000003E-2,4.82E-2,0.17,0.43,{"$f":"S110+R110","v":0.6},0.22,0.11,{"$f":"V110+U110","v":0.33},{"$f":"T110-W110","v":0.26999999999999996},0.09,0.28000000000000003,0.2,0.05,0.26,0.53,0.08,0.08,7.0000000000000007E-2,0.16,0.27,0.39,{"$f":"AJ110+AI110","v":0.66},0.18,0.05,{"$f":"AM110+AL110","v":0.22999999999999998},{"$f":"AK110-AN110","v":0.43000000000000005},0.31,0.16,0.16,0.06,0.22,0.16,0.11,0.24,0.13,0.28000000000000003,0.65,0.03,0.26,0.62,5.4193000000000005E-2,0.65,0.31,0.34,0.53,0.34,0.19,0.19,0.31,{"$f":"BL110+BK110","v":0.5},0.37,7.0000000000000007E-2,0.04,0.11000000000000001,0.39,0.31,0.1,0.59,{"$f":"BS110-BT110","v":0.21},0.38,0.59,0.20999999999999996,0.16,0.1,{"$f":"SUM(BZ110:CA110)","v":0.26},{"$f":"SUM(CD110:CF110)","v":0.69},0.1,0.11,0.48,0.05,0.05,0.12,0.77,0.05,7.0000000000000007E-2,{"$f":"CL110+CK110","v":0.12000000000000001},{"$f":"CO110+CP110","v":0.88},0.16,0.72,{"$f":"CN110-CM110","v":0.76},0.43,0.15,0.13,0.08,0.11,0.84,0.13,0.03,0,0,0.18,0.78,0.21,0.76,0.63,0.24,{"$f":"DG110+DF110","v":0.87},0.08,{"$f":"DK110+DL110","v":0.04},0.02,0.02,436067.67,250000,0.11,0.24,0.3,0.08,0.09]
["2019-06-01",91.5,11.400000000000006,102.9,0.48,0.1,0.37,0.38,-8.6499999999999994E-2,7.0400000000000004E-2,2.5141999999999998E-2,0.39,0.1,0.43,-0.29000000000000004,3.9899999999999998E-2,4.4499999999999998E-2,0.16,0.4,0.56000000000000005,0.23,0.1,0.33,0.23000000000000004,0.09,0.24,0.19,7.0000000000000007E-2,0.31,0.51,7.0000000000000007E-2,0.05,0.09,0.15,0.27,0.4,0.67,0.17,7.0000000000000007E-2,0.24000000000000002,0.43000000000000005,0.26,0.16,0.17,0.1,0.26,0.16,0.12,0.16,0.14000000000000001,0.35,0.56999999999999995,0.03,0.34,0.53999999999999992,4.1780999999999985E-2,0.63,0.31,0.32,0.52,0.4,0.12,0.24,0.3,0.54,0.37,0.06,0.02,0.08,0.46,0.28999999999999998,0.09,0.61,0.19999999999999998,0.4,0.59,0.18999999999999995,0.14000000000000001,0.08,0.22000000000000003,0.71,0.09,0.13,0.49,0.04,0.08,0.12,0.74,0.03,0.1,0.13,0.86,0.16,0.7,0.73,0.44,0.13,0.13,0.06,0.13,0.8,0.18,0.02,0,0.01,0.18,0.8,0.25,0.74,0.63,0.21,0.84,0.09,0.05,0.01,0.04,436389.27,241837.95,0.09,0.31,0.25,0.06,7.0000000000000007E-2]
["2019-07-01",93.7,11.599999999999994,105.3,0.45,0.08,0.41,0.37,-7.5899999999999995E-2,7.3400000000000007E-2,2.6958000000000003E-2,0.39,0.11,0.42,-0.28000000000000003,3.73E-2,4.0899999999999999E-2,0.15,0.42,0.56999999999999995,0.22,0.09,0.31,0.25999999999999995,7.0000000000000007E-2,0.27,0.25,0.05,0.25,0.55000000000000004,0.06,0.06,0.06,0.18,0.23,0.44,0.67,0.17,0.06,0.23,0.44000000000000006,0.28999999999999998,0.17,0.13,0.08,0.26,0.11,0.12,0.27,0.21,0.18,0.6,0.03,0.32,0.56999999999999995,4.6934999999999991E-2,0.66,0.28999999999999998,0.37000000000000005,0.55000000000000004,0.35,0.20000000000000007,0.22,0.26,0.48,0.39,0.08,0.03,0.11,0.37,0.3,0.09,0.59,0.21,0.4,0.56999999999999995,0.16999999999999993,0.14000000000000001,7.0000000000000007E-2,0.21000000000000002,0.71,7.0000000000000007E-2,0.17,0.47,0.03,0.05,0.13,0.77,0.03,0.06,0.09,0.9,0.17,0.73,0.81,0.39,0.12,0.14000000000000001,0.09,0.15,0.85,0.13,0.02,0,0,0.16,0.8,0.22,0.76,0.59,0.23,0.82,0.08,6.0000000000000005E-2,0.01,0.05,385724.43,240000,0.11,0.3,0.26,0.06,0.08]
["2019-08-01",93.8,9.5,103.3,0.47,0.11,0.36,0.36,-8.6099999999999996E-2,7.0199999999999999E-2,2.3522999999999995E-2,0.33,0.16,0.42,-0.17,3.7499999999999999E-2,4.0399999999999998E-2,0.15,0.43,0.57999999999999996,0.2,0.13,0.33,0.24999999999999994,0.11,0.37,0.16,0.04,0.21,0.54,0.05,0.04,7.0000000000000007E-2,0.19,0.24,0.41,0.64999999999999991,0.17,0.08,0.25,0.39999999999999991,0.32,0.16,0.11,0.06,0.25,0.13,0.04,0.16,0.13,0.3,0.59,0.03,0.32,{"$f":"AZ113-BA113","v":0.55999999999999994},4.6026999999999985E-2,0.66,0.28999999999999998,{"$f":"BE113-BF113","v":0.37000000000000005},0.5,0.41,{"$f":"BH113-BI113","v":9.0000000000000024E-2},0.19,0.3,0.49,0.4,0.06,0.04,{"$f":"BO113+BP113","v":0.1},{"$f":"BM113-BQ113","v":0.39},0.31,0.1,0.57999999999999996,0.21,0.36,0.62,{"$f":"BX113-BW113","v":0.26},0.14000000000000001,0.04,0.18000000000000002,0.76,0.1,0.11,0.55000000000000004,0.04,0.06,0.13,0.75,0.04,7.0000000000000007E-2,0.11000000000000001,0.88,0.17,0.71,0.77,0.41,0.14000000000000001,0.14000000000000001,0.08,0.13,0.85,0.11,0.02,0.01,0,0.19,0.77,0.22,0.76,0.59,0.21,0.79999999999999993,0.14000000000000001,0.03,0.01,0.02,442853.77,250000,0.11,0.28999999999999998,0.25,0.08,0.09]
["2019-09-01",{"$f":"ROUND(63.5+100*(T114-W114+AK114-AN114+E114-F114+M114-L114+BS114-BT114+CN114-CM114)/6,1)","v":91.5},10.200000000000003,{"$f":"ROUND(63.5+100*(T114-W114+AK114-AN114+E114-F114+BS114-BT114+CN114-CM114)/5,1)","v":101.7},0.43,0.14000000000000001,0.36,{"$f":"E114-F114","v":0.28999999999999998},-7.5200000000000003E-2,6.4600000000000005E-2,1.7250000000000001E-2,0.38,0.15,0.4,-0.23,3.5799999999999998E-2,4.0099999999999997E-2,0.2,0.39,0.59000000000000008,0.2,0.11,0.31,0.28000000000000008,0.09,0.37,0.16,0.05,0.2,0.47,0.04,0.04,0.06,0.26,0.28000000000000003,0.39,0.67,0.18,0.05,0.22999999999999998,0.44000000000000006,0.28000000000000003,0.2,0.08,0.1,0.24,0.11,0.1,0.22,0.12,0.33,0.56000000000000005,0.04,0.34,0.52,4.2311999999999995E-2,0.69,0.27,0.41999999999999993,0.51,0.4,0.10999999999999999,0.2,0.28000000000000003,0.48000000000000004,0.42,0.06,0.03,0.09,0.39,0.31,0.1,0.57999999999999996,0.21,0.37,0.59,0.21999999999999997,0.13,0.06,0.19,0.76,0.14000000000000001,0.12,0.5,0.05,7.0000000000000007E-2,0.13,0.73,0.06,0.09,0.15,0.84000000000000008,0.18,0.66,0.69000000000000006,0.43,0.12,0.14000000000000001,0.1,0.12,0.84,0.13,0.02,0,0.01,0.16,0.81,0.19,0.78,0.62,0.19,0.81,0.11,0.06,0.04,0.02,375401.42,270000,0.09,0.28000000000000003,0.28999999999999998,0.08,7.0000000000000007E-2]
["2019-10-01",88.8,10.100000000000009,98.9,0.41,0.14000000000000001,0.39,0.26999999999999996,-8.4699999999999998E-2,7.3499999999999996E-2,1.8276999999999995E-2,0.37,0.12,0.44,{"$f":"M115-L115","v":-0.25},3.6400000000000002E-2,4.0800000000000003E-2,0.16,0.41,{"$f":"S115+R115","v":0.56999999999999995},0.26,0.1,{"$f":"V115+U115","v":0.36},{"$f":"T115-W115","v":0.20999999999999996},0.1,0.35,0.19,0.05,0.22,0.55000000000000004,0.08,0.05,0.06,0.19,0.27,0.4,{"$f":"AJ115+AI115","v":0.67},0.2,0.06,{"$f":"AM115+AL115","v":0.26},{"$f":"AK115-AN115","v":0.41000000000000003},0.31,0.17,0.13,0.08,0.21,0.13,0.1,0.17,0.12,0.31,0.56999999999999995,0.04,0.32,0.52999999999999992,4.3454000000000007E-2,0.67,0.28999999999999998,0.38000000000000006,0.54,0.38,0.16000000000000003,0.25,0.28000000000000003,{"$f":"BL115+BK115","v":0.53},0.37,7.0000000000000007E-2,0.02,9.0000000000000011E-2,0.44,0.28000000000000003,0.12,0.59,{"$f":"BS115-BT115","v":0.16000000000000003},0.4,0.56999999999999995,0.16999999999999993,0.18,0.05,{"$f":"SUM(BZ115:CA115)","v":0.22999999999999998},{"$f":"SUM(CD115:CF115)","v":0.7},0.08,0.13,0.49,0.05,7.0000000000000007E-2,0.16,0.69,0.05,0.09,{"$f":"CL115+CK115","v":0.14000000000000001},{"$f":"CO115+CP115","v":0.86},0.22,0.64,{"$f":"CN115-CM115","v":0.72},0.4,0.13,0.17,7.0000000000000007E-2,0.14000000000000001,0.79,0.17,0.03,0,0,0.11,0.87,0.21,0.77,0.63,0.2,{"$f":"DG115+DF115","v":0.83000000000000007},0.09,{"$f":"DK115+DL115","v":0.05},0.03,0.02,343870.43,250000,0.08,0.33,0.26,0.1,7.0000000000000007E-2]
["2019-11-01",91.5,11.200000000000003,102.7,0.44,0.1,0.4,0.33999999999999997,-5.5E-2,7.7200000000000005E-2,2.8468E-2,0.39,0.11,0.42,-0.28000000000000003,3.78E-2,4.0500000000000001E-2,0.2,0.41,0.61,0.21,0.08,0.28999999999999998,0.32,0.13,0.35,0.15,0.04,0.21,0.5,7.0000000000000007E-2,0.03,0.06,0.24,0.23,0.43,0.66,0.19,7.0000000000000007E-2,0.26,0.4,0.26,0.23,0.11,0.09,0.21,0.11,0.05,0.19,0.17,0.25,0.6,0.02,0.31,0.57999999999999996,4.2555999999999997E-2,0.67,0.28000000000000003,0.39,0.56999999999999995,0.33,0.23999999999999994,0.2,0.31,0.51,0.39,7.0000000000000007E-2,0.02,9.0000000000000011E-2,0.42,0.28000000000000003,0.1,0.6,0.18000000000000002,0.39,0.59,0.19999999999999996,0.17,0.04,0.21000000000000002,0.69,0.11,0.09,0.49,0.04,7.0000000000000007E-2,0.12,0.74,0.05,0.09,0.14000000000000001,0.86,0.15,0.71,0.72,0.41,0.13,0.14000000000000001,0.05,0.15,0.8,0.16,0.03,0,0.01,0.12,0.84,0.21,0.77,0.65,0.19,{"$f":"DG116+DF116","v":0.84000000000000008},0.09,{"$f":"DK116+DL116","v":0.04},0.02,0.02,360876.14,250000,0.1,0.27,0.28999999999999998,0.08,0.06]
["2019-12-01",91.7,12,103.7,0.5,0.1,0.35,0.4,-8.6499999999999994E-2,7.5399999999999995E-2,2.9049999999999999E-2,0.39,7.0000000000000007E-2,0.46,-0.32,3.6799999999999999E-2,4.1500000000000002E-2,0.16,0.43,0.59,0.23,0.09,0.32,0.26999999999999996,0.08,0.35,0.12,0.05,0.27,0.49,0.05,0.03,0.12,0.2,0.27,0.38,0.65,0.16,0.06,0.22,0.43000000000000005,0.27,0.14000000000000001,0.13,0.09,0.26,0.19,0.14000000000000001,0.16,0.1,0.27,0.61,0.04,0.3,0.56999999999999995,4.8101999999999999E-2,0.66,0.28000000000000003,0.38,0.53,0.36,0.17000000000000004,0.24,0.26,0.5,0.4,7.0000000000000007E-2,0.02,9.0000000000000011E-2,0.41,0.28000000000000003,0.11,0.6,0.17000000000000004,0.4,0.57999999999999996,0.17999999999999994,0.22,0.04,0.26,0.66999999999999993,0.05,0.12,0.5,0.04,0.06,0.16,0.7,0.04,0.08,0.12,0.86,0.21,0.65,0.74,0.39,0.13,0.15,0.08,0.12,0.81,0.16,0.02,0.01,0.01,0.13,0.85,0.22,0.76,0.68,0.16,{"$f":"DG117+DF117","v":0.84000000000000008},0.08,{"$f":"DK117+DL117","v":0.05},0.02,0.03,382393.87,250000,0.1,0.28000000000000003,0.27,0.09,0.09]
["2020-01-01",93,{"$f":"D118-B118","v":11.099999999999994},104.1,0.48,7.0000000000000007E-2,0.38,0.41,-0.12039999999999999,7.0000000000000007E-2,2.5172E-2,0.33,7.0000000000000007E-2,0.48,-0.26,"N/A","N/A",0.19,0.4,0.59000000000000008,0.22,0.08,0.3,0.29000000000000009,0.08,0.33,0.13,0.04,0.26,0.48,7.0000000000000007E-2,0.04,0.1,0.24,0.26,0.4,0.66,0.17,0.04,0.21000000000000002,0.45,0.26,0.19,0.15,0.06,0.24,0.13,0.08,0.14000000000000001,0.18,0.32,0.6,0.03,0.32,{"$f":"AZ118-BA118","v":0.56999999999999995},4.6494000000000001E-2,0.64,0.32,{"$f":"BE118-BF118","v":0.32},0.57999999999999996,0.34,{"$f":"BH118-BI118","v":0.23999999999999994},0.27,0.27,0.54,0.36,0.05,0.04,{"$f":"BO118+BP118","v":0.09},{"$f":"BM118-BQ118","v":0.45000000000000007},0.27,0.11,0.61,0.16000000000000003,0.38,0.57999999999999996,{"$f":"BX118-BW118","v":0.19999999999999996},0.17,7.0000000000000007E-2,0.24000000000000002,0.72,0.08,0.2,0.44,0.06,7.0000000000000007E-2,0.15,0.7,0.05,0.09,0.14000000000000001,0.8600000000000001,0.19,0.67,0.72000000000000008,0.37,0.15,0.16,0.06,0.14000000000000001,0.8,0.17,0.02,0.01,0.01,"N/A","N/A","N/A","N/A","N/A","N/A","N/A","N/A","N/A","N/A","N/A","N/A","N/A","N/A","N/A","N/A","N/A","N/A"]
["2020-02-01",{"$f":"ROUND(63.5+100*(T119-W119+AK119-AN119+E119-F119+M119-L119+BS119-BT119+CN119-CM119)/6,1)","v":92.5},11.799999999999997,{"$f":"ROUND(63.5+100*(T119-W119+AK119-AN119+E119-F119+BS119-BT119+CN119-CM119)/5,1)","v":104.3},0.47,0.08,0.38,{"$f":"E119-F119","v":0.38999999999999996},-9.74E-2,7.6999999999999999E-2,2.8398E-2,0.38,0.08,0.46,-0.3,"N/A","N/A",0.18,0.41,0.59,0.21,0.11,0.32,0.26999999999999996,0.1,0.32,0.18,0.05,0.23,0.51,0.05,0.1,0.14000000000000001,0.13,0.27,0.4,0.67,0.15,7.0000000000000007E-2,0.22,0.45000000000000007,0.27,0.17,0.13,0.08,0.24,0.11,7.0000000000000007E-2,0.22,0.18,0.28999999999999998,0.6,0.03,0.32,0.56999999999999995,5.1221999999999997E-2,0.67,0.3,0.37000000000000005,0.61,0.33,0.27999999999999997,0.23,0.28000000000000003,0.51,0.37,7.0000000000000007E-2,0.04,0.11000000000000001,0.4,0.32,0.11,0.56000000000000005,0.21000000000000002,0.39,0.59,0.19999999999999996,0.14000000000000001,0.06,0.2,0.7,0.11,0.11,0.48,0.06,0.06,0.15,0.7,0.05,0.08,0.13,0.85000000000000009,0.19,0.66,0.72000000000000008,0.43,0.14000000000000001,0.13,7.0000000000000007E-2,0.15,0.77,0.19,0.02,0.01,0,"N/A","N/A","N/A","N/A","N/A","N/A","N/A","N/A","N/A","N/A","N/A","N/A","N/A","N/A","N/A","N/A","N/A","N/A"]
["2020-03-01",80.8,7.2999999999999972,88.1,0.39,0.22,0.32,0.17,-0.10589999999999999,7.7100000000000002E-2,6.7710000000000001E-3,0.39,0.2,0.33,{"$f":"M120-L120","v":-0.19},"N/A","N/A",0.19,0.37,{"$f":"S120+R120","v":0.56000000000000005},0.23,0.13,{"$f":"V120+U120","v":0.36},{"$f":"T120-W120","v":0.20000000000000007},0.12,0.44,0.09,0.05,0.2,0.33,0.03,0.09,0.08,0.32,0.21,0.31,{"$f":"AJ120+AI120","v":0.52},0.25,0.11,{"$f":"AM120+AL120","v":0.36},{"$f":"AK120-AN120","v":0.16000000000000003},0.27,0.21,0.14000000000000001,0.08,0.21,0.16,0.05,0.09,0.09,0.47,0.52,7.0000000000000007E-2,0.36,0.45,3.5136000000000001E-2,0.66,0.3,0.36000000000000004,0.44,0.46,-2.0000000000000018E-2,0.2,0.28999999999999998,{"$f":"BL120+BK120","v":0.49},0.36,0.08,0.04,0.12,0.37,0.27,0.11,0.61,{"$f":"BS120-BT120","v":0.16000000000000003},0.42,0.56000000000000005,0.14000000000000007,0.14000000000000001,0.06,{"$f":"SUM(BZ120:CA120)","v":0.2},{"$f":"SUM(CD120:CF120)","v":0.74},0.08,0.17,0.49,7.0000000000000007E-2,0.11,0.12,0.7,0.08,0.15,{"$f":"CL120+CK120","v":0.22999999999999998},{"$f":"CO120+CP120","v":0.77},0.15,0.62,{"$f":"CN120-CM120","v":0.54},0.38,0.15,0.13,0.09,0.16,0.81,0.16,0.01,0.01,0,"N/A","N/A","N/A","N/A","N/A","N/A","N/A","N/A","N/A","N/A","N/A","N/A","N/A","N/A","N/A","N/A","N/A","N/A"]
["2020-04-01",63,1.9000000000000057,64.900000000000006,0.23,0.34,0.36,-0.11000000000000001,-0.1331,0.10879999999999999,-2.0230000000000001E-2,0.33,0.23,0.35,-0.1,"N/A","N/A",0.16,0.32,0.48,0.25,0.21,0.45999999999999996,2.0000000000000018E-2,0.11,0.44,0.13,0.02,0.12,0.17,0.02,0.02,0.06,0.52,0.08,0.21,0.28999999999999998,0.38,0.27,0.65,-0.36000000000000004,0.14000000000000001,0.28999999999999998,0.11,0.16,0.15,0.05,0.04,0.04,7.0000000000000007E-2,0.52,0.28999999999999998,0.14000000000000001,0.49,0.14999999999999997,1.6518999999999999E-2,0.65,0.28999999999999998,0.36000000000000004,0.34,0.53,-0.19,0.15,0.25,0.4,0.45,0.08,0.05,0.13,0.27,0.2,0.21,0.57999999999999996,-9.9999999999999811E-3,0.4,0.55000000000000004,0.15000000000000002,0.14000000000000001,0.11,0.25,0.65,0.05,0.17,0.43,0.1,0.12,0.17,0.55000000000000004,0.08,0.15,0.22999999999999998,0.76,0.24,0.52,0.53,0.38,0.12,0.17,0.09,0.12,0.74,0.12,0.04,7.0000000000000007E-2,0.02,"N/A","N/A","N/A","N/A","N/A","N/A","N/A","N/A","N/A","N/A","N/A","N/A","N/A","N/A","N/A","N/A","N/A","N/A"]
["2020-05-01",67.5,0.79999999999999716,68.3,0.26,0.35,0.3,-8.9999999999999969E-2,-0.12330000000000001,0.12230000000000001,-1.1357000000000001E-2,0.25,0.25,0.43,0,"N/A","N/A",0.17,0.35,0.52,0.23,0.16,0.39,0.13,0.12,0.5,0.08,0.02,0.14000000000000001,0.12,0.04,0.06,0.11,0.43,7.0000000000000007E-2,0.25,0.32,0.34,0.28000000000000003,0.62000000000000011,-0.3000000000000001,0.18,0.28999999999999998,0.14000000000000001,0.08,0.14000000000000001,0.11,0.02,0.06,0.09,0.52,0.34,0.13,0.47,0.21000000000000002,2.0823999999999999E-2,0.66,0.28000000000000003,0.38,0.28999999999999998,0.6,-0.31,0.15,0.26,0.41000000000000003,0.42,0.1,0.04,0.14000000000000001,0.27,0.18,0.19,0.61,-1.0000000000000009E-2,0.37,0.56999999999999995,0.19999999999999996,0.12,0.05,0.16999999999999998,0.72,0.14000000000000001,0.17,0.41,0.08,0.12,0.19,0.56000000000000005,0.08,0.16,0.24,0.75,0.24,0.51,0.51,0.42,0.14000000000000001,0.14000000000000001,0.09,0.12,0.73,0.13,0.09,0.03,0.02,"N/A","N/A","N/A","N/A","N/A","N/A","N/A","N/A","N/A","N/A","N/A","N/A","N/A","N/A","N/A","N/A","N/A","N/A"]
["2020-06-01",76.5,{"$f":"D123-B123","v":5.5999999999999943},82.1,0.34,0.25,0.31,9.0000000000000024E-2,-0.13600000000000001,8.77E-2,-4.182E-3,0.32,0.17,0.42,-0.15,"N/A","N/A",0.2,0.41,0.61,0.16,0.11,0.27,0.33999999999999997,0.16,0.47,7.0000000000000007E-2,0.04,0.09,0.18,0.05,0.04,0.04,0.43,0.16,0.25,0.41000000000000003,0.3,0.18,0.48,-6.9999999999999951E-2,0.16,0.32,0.19,7.0000000000000007E-2,0.1,0.17,0.02,0.06,0.08,0.45,0.43,0.13,0.35,{"$f":"AZ123-BA123","v":0.3},2.2083999999999999E-2,0.69,0.26,{"$f":"BE123-BF123","v":0.42999999999999994},0.33,0.56999999999999995,{"$f":"BH123-BI123","v":-0.23999999999999994},0.15,0.26,0.41000000000000003,0.44,0.08,0.04,{"$f":"BO123+BP123","v":0.12},{"$f":"BM123-BQ123","v":0.29000000000000004},0.25,0.16,0.57999999999999996,0.09,0.38,0.55000000000000004,{"$f":"BX123-BW123","v":0.17000000000000004},0.16,0.1,0.26,0.65999999999999992,0.13,0.18,0.35,0.08,0.14000000000000001,0.16,0.57999999999999996,7.0000000000000007E-2,0.19,0.26,0.74,0.21,0.53,0.48,0.4,0.13,0.15,0.08,0.12,0.76,0.15,0.06,0.01,0.02,"N/A","N/A","N/A","N/A","N/A","N/A","N/A","N/A","N/A","N/A","N/A","N/A","N/A","N/A","N/A","N/A","N/A","N/A"]
["2020-07-01",{"$f":"ROUND(63.5+100*(T124-W124+AK124-AN124+E124-F124+M124-L124+BS124-BT124+CN124-CM124)/6,1)","v":74.2},5.8999999999999915,{"$f":"ROUND(63.5+100*(T124-W124+AK124-AN124+E124-F124+BS124-BT124+CN124-CM124)/5,1)","v":80.099999999999994},0.35,0.23,0.34,{"$f":"E124-F124","v":0.11999999999999997},-0.1055,8.0199999999999994E-2,3.8049999999999998E-3,0.35,0.16,0.42,-0.18999999999999997,"N/A","N/A",0.19,0.34,0.53,0.25,0.13,0.38,0.15000000000000002,0.13,0.47,0.15,0.03,0.12,0.21,0.04,0.04,0.09,0.47,0.16,0.28999999999999998,0.44999999999999996,0.32,0.16,0.48,-3.0000000000000027E-2,0.22,0.31,0.18,0.06,0.15,0.14000000000000001,0.02,0.08,7.0000000000000007E-2,0.56999999999999995,0.45,0.11,0.4,0.34,2.9669000000000001E-2,0.7,0.26,0.43999999999999995,0.34,0.56000000000000005,-0.22000000000000003,0.18,0.22,0.4,0.43,0.1,0.03,0.13,0.27,0.22,0.16,0.62,0.06,0.38,0.57999999999999996,0.19999999999999996,0.13,0.03,0.16,0.77,0.09,0.16,0.52,7.0000000000000007E-2,0.12,0.15,0.63,7.0000000000000007E-2,0.16,0.23,0.76,0.19,0.56999999999999995,0.53,0.42,0.12,0.14000000000000001,0.08,0.13,0.76,0.14000000000000001,0.08,0.01,0.01,"N/A","N/A","N/A","N/A","N/A","N/A","N/A","N/A","N/A","N/A","N/A","N/A","N/A","N/A","N/A","N/A","N/A","N/A"]
["2020-08-01",77.5,6,83.5,0.33,0.26,0.34,7.0000000000000007E-2,-0.13600000000000001,8.2299999999999998E-2,-8.201E-3,0.33,0.17,0.45,{"$f":"M125-L125","v":-0.16},"N/A","N/A",0.21,0.38,{"$f":"S125+R125","v":0.59},0.2,0.15,{"$f":"V125+U125","v":0.35},{"$f":"T125-W125","v":0.24},0.13,0.51,0.12,0.03,0.08,0.24,0.04,0.05,7.0000000000000007E-2,0.44,0.22,0.26,{"$f":"AJ125+AI125","v":0.48},0.24,0.2,{"$f":"AM125+AL125","v":0.44},{"$f":"AK125-AN125","v":3.999999999999998E-2},0.25,0.28000000000000003,0.2,0.06,0.09,0.13,0.05,0.09,0.11,0.47,0.49,0.12,0.33,0.37,4.1516999999999998E-2,0.69,0.26,0.42999999999999994,0.31,0.6,-0.28999999999999998,0.18,0.26,{"$f":"BL125+BK125","v":0.44},0.39,0.08,0.05,0.13,0.31,0.25,0.16,0.59,{"$f":"BS125-BT125","v":0.09},0.39,0.57999999999999996,0.18999999999999995,0.14000000000000001,0.06,{"$f":"SUM(BZ125:CA125)","v":0.2},{"$f":"SUM(CD125:CF125)","v":0.73},0.12,0.16,0.45,0.09,0.11,0.14000000000000001,0.62,0.08,0.14000000000000001,{"$f":"CL125+CK125","v":0.22000000000000003},{"$f":"CO125+CP125","v":0.78},0.2,0.57999999999999996,{"$f":"CN125-CM125","v":0.56000000000000005},0.43,0.15,0.13,7.0000000000000007E-2,0.1,0.77,0.16,0.05,0.02,0.01,"N/A","N/A","N/A","N/A","N/A","N/A","N/A","N/A","N/A","N/A","N/A","N/A","N/A","N/A","N/A","N/A","N/A","N/A"]
["2020-09-01",81,8.9000000000000057,89.9,0.41,0.17,0.34,0.23999999999999996,-0.1011,9.5100000000000004E-2,2.1804E-2,0.38,0.11,0.44,-0.27,"N/A","N/A",0.21,0.33,0.54,0.23,0.15,0.38,0.16000000000000003,0.13,0.5,0.12,0.03,0.09,0.32,0.04,0.06,0.03,0.38,0.27,0.28999999999999998,0.56000000000000005,0.26,0.12,0.38,0.18000000000000005,0.23,0.24,0.18,7.0000000000000007E-2,0.09,0.14000000000000001,0.02,0.08,0.11,0.46,0.45,0.09,0.4,0.36,3.3930000000000002E-2,0.71,0.24,0.47,0.4,0.53,-0.13,0.2,0.27,0.47000000000000003,0.39,7.0000000000000007E-2,0.03,0.1,0.37,0.24,0.17,0.59,6.9999999999999979E-2,0.4,0.56999999999999995,0.16999999999999993,0.16,0.1,0.26,0.68,7.0000000000000007E-2,0.09,0.52,7.0000000000000007E-2,0.08,0.18,0.63,0.05,0.11,0.16,0.83,0.26,0.56999999999999995,0.66999999999999993,0.41,0.12,0.18,7.0000000000000007E-2,0.12,0.73,0.21,0.05,0.01,0.01,"N/A","N/A","N/A","N/A","N/A","N/A","N/A","N/A","N/A","N/A","N/A","N/A","N/A","N/A","N/A","N/A","N/A","N/A"]
["2020-10-01",81.7,7.7999999999999972,89.5,0.4,0.2,0.31,0.2,-0.1152,7.0900000000000005E-2,5.3200000000000001E-3,0.32,0.11,0.49,-0.21000000000000002,"N/A","N/A",0.23,0.37,0.6,0.21,0.14000000000000001,0.35,0.25,0.13,0.51,0.12,0.03,0.11,0.3,0.04,7.0000000000000007E-2,0.05,0.38,0.28000000000000003,0.31,0.59000000000000008,0.23,0.12,0.35,0.2400000000000001,0.28999999999999998,0.24,0.16,7.0000000000000007E-2,0.11,0.13,0.04,0.13,0.09,0.46,0.46,0.08,0.39,0.38,3.1593999999999997E-2,0.69,0.27,0.41999999999999993,0.39,0.51,-0.12,0.19,0.22,0.41000000000000003,0.41,0.08,0.04,0.12,0.29000000000000004,0.23,0.2,0.55000000000000004,0.03,0.38,0.59,0.20999999999999996,0.17,0.06,0.23,0.7,0.09,0.1,0.51,0.09,0.1,0.13,0.64,7.0000000000000007E-2,0.14000000000000001,0.21000000000000002,0.79,0.17,0.62,0.58000000000000007,0.42,0.12,0.17,7.0000000000000007E-2,0.11,0.77,0.16,0.05,0.02,0,"N/A","N/A","N/A","N/A","N/A","N/A","N/A","N/A","N/A","N/A","N/A","N/A","N/A","N/A","N/A","N/A","N/A","N/A"]
["2020-11-01",80,{"$f":"D128-B128","v":10.299999999999997},90.3,0.41,0.13,0.35,0.27999999999999997,-0.105,9.1499999999999998E-2,2.3865000000000001E-2,0.43,0.08,0.4,-0.35,"N/A","N/A",0.21,0.36,0.56999999999999995,0.24,0.11,0.35,0.21999999999999997,0.12,0.53,0.11,0.03,0.1,0.28999999999999998,0.01,0.05,0.05,0.44,0.25,0.34,0.59000000000000008,0.22,0.11,0.33,0.26000000000000006,0.24,0.26,0.19,7.0000000000000007E-2,0.14000000000000001,0.15,0.06,0.14000000000000001,0.08,0.44,0.52,0.09,0.34,{"$f":"AZ128-BA128","v":0.43000000000000005},4.1952999999999997E-2,0.67,0.28999999999999998,{"$f":"BE128-BF128","v":0.38000000000000006},0.42,0.48,{"$f":"BH128-BI128","v":-0.06},0.18,0.22,0.4,0.41,0.06,7.0000000000000007E-2,{"$f":"BO128+BP128","v":0.13},{"$f":"BM128-BQ128","v":0.27},0.24,0.18,0.56999999999999995,0.06,0.35,0.62,{"$f":"BX128-BW128","v":0.27},0.13,7.0000000000000007E-2,0.2,0.76,0.13,0.12,0.51,0.1,0.1,0.17,0.6,0.1,0.14000000000000001,0.24000000000000002,0.76,0.24,0.52,0.52,0.41,0.12,0.16,0.08,0.11,0.74,0.17,0.06,0.01,0.01,"N/A","N/A","N/A","N/A","N/A","N/A","N/A","N/A","N/A","N/A","N/A","N/A","N/A","N/A","N/A","N/A","N/A","N/A"]
["2020-12-01",{"$f":"ROUND(63.5+100*(T129-W129+AK129-AN129+E129-F129+M129-L129+BS129-BT129+CN129-CM129)/6,1)","v":74},{"$f":"D129-B129","v":9.0999999999999943},{"$f":"ROUND(63.5+100*(T129-W129+AK129-AN129+E129-F129+BS129-BT129+CN129-CM129)/5,1)","v":83.1},0.41,0.16,0.34,{"$f":"E129-F129","v":0.24999999999999997},-0.1079,9.3200000000000005E-2,2.0948000000000001E-2,0.43,0.08,0.39,-0.35,"N/A","N/A",0.18,0.34,0.52,0.23,0.16,0.39,0.13,0.09,0.53,0.13,0.03,0.09,0.28000000000000003,0.02,7.0000000000000007E-2,7.0000000000000007E-2,0.4,0.25,0.25,0.5,0.28000000000000003,0.14000000000000001,0.42000000000000004,7.999999999999996E-2,0.28000000000000003,0.22,0.2,0.1,0.09,0.09,0.04,0.11,0.11,0.49,0.47,0.09,0.39,{"$f":"AZ129-BA129","v":0.38},3.9732000000000003E-2,0.62,0.3,{"$f":"BE129-BF129","v":0.32},0.36,0.55000000000000004,{"$f":"BH129-BI129","v":-0.19000000000000006},0.13,0.28000000000000003,0.41000000000000003,0.39,0.09,7.0000000000000007E-2,{"$f":"BO129+BP129","v":0.16},{"$f":"BM129-BQ129","v":0.25},0.2,0.18,0.61,2.0000000000000018E-2,0.38,0.56000000000000005,{"$f":"BX129-BW129","v":0.18000000000000005},0.18,7.0000000000000007E-2,0.25,0.68,0.12,0.16,0.4,0.09,0.12,0.17,0.6,0.09,0.16,0.25,0.75,0.21,0.54,0.5,0.38,0.11,0.14000000000000001,0.09,0.14000000000000001,0.79,0.14000000000000001,0.03,0.01,0.02,"N/A","N/A","N/A","N/A","N/A","N/A","N/A","N/A","N/A","N/A","N/A","N/A","N/A","N/A","N/A","N/A","N/A","N/A"]
["2021-01-01",{"$f":"ROUND(63.5+100*(T130-W130+AK130-AN130+E130-F130+M130-L130+BS130-BT130+CN130-CM130)/6,1)","v":77.7},{"$f":"D130-B130","v":10},{"$f":"ROUND(63.5+100*(T130-W130+AK130-AN130+E130-F130+BS130-BT130+CN130-CM130)/5,1)","v":87.7},0.41,0.17,0.34,{"$f":"E130-F130","v":0.23999999999999996},-0.12939999999999999,8.9899999999999994E-2,1.4860999999999999E-2,0.45,0.09,0.37,{"$f":"M130-L130","v":-0.36},"N/A","N/A",0.18,0.34,{"$f":"S130+R130","v":0.52},0.22,0.15,{"$f":"V130+U130","v":0.37},{"$f":"T130-W130","v":0.15000000000000002},0.11,0.53,0.13,0.03,0.08,0.38,0.01,0.06,7.0000000000000007E-2,0.38,0.28999999999999998,0.28000000000000003,{"$f":"AJ130+AI130","v":0.57000000000000006},0.21,0.12,{"$f":"AM130+AL130","v":0.32999999999999996},{"$f":"AK130-AN130","v":0.2400000000000001},0.28999999999999998,0.21,0.2,0.09,0.08,0.16,0.04,0.08,0.09,0.49,0.5,0.09,0.34,{"$f":"AZ130-BA130","v":0.41000000000000003},3.7071E-2,0.7,0.25,{"$f":"BE130-BF130","v":0.44999999999999996},0.28999999999999998,0.57999999999999996,{"$f":"BH130-BI130","v":-0.28999999999999998},0.15,0.26,{"$f":"BL130+BK130","v":0.41000000000000003},0.39,0.09,7.0000000000000007E-2,{"$f":"BO130+BP130","v":0.16},{"$f":"BM130-BQ130","v":0.25},0.21,0.14000000000000001,0.64,{"$f":"BS130-BT130","v":6.9999999999999979E-2},0.38,0.56999999999999995,{"$f":"BX130-BW130","v":0.18999999999999995},"N/A","N/A","N/A","N/A","N/A","N/A","N/A",7.0000000000000007E-2,0.13,0.16,0.6,0.06,0.18,{"$f":"CL130+CK130","v":0.24},{"$f":"CO130+CP130","v":0.75},0.23,0.52,{"$f":"CN130-CM130","v":0.51},0.38,0.15,0.18,0.06,0.11,0.79,0.14000000000000001,0.04,0.02,0.01,"N/A","N/A","N/A","N/A","N/A","N/A","N/A","N/A","N/A","N/A","N/A","N/A","N/A","N/A","N/A","N/A","N/A","N/A"]
["2021-02-01",{"$f":"ROUND(63.5+100*(T131-W131+AK131-AN131+E131-F131+M131-L131+BS131-BT131+CN131-CM131)/6,1)","v":76.5},{"$f":"D131-B131","v":10.400000000000006},{"$f":"ROUND(63.5+100*(T131-W131+AK131-AN131+E131-F131+BS131-BT131+CN131-CM131)/5,1)","v":86.9},0.47,0.18,0.28999999999999998,{"$f":"E131-F131","v":0.28999999999999998},-0.13900000000000001,9.35E-2,1.8925000000000001E-2,0.47,0.08,0.38,{"$f":"M131-L131","v":-0.38999999999999996},"N/A","N/A",0.16,0.32,{"$f":"S131+R131","v":0.48},0.25,0.18,{"$f":"V131+U131","v":0.43},{"$f":"T131-W131","v":4.9999999999999989E-2},0.13,0.51,0.11,0.04,0.11,0.27,0.01,0.09,0.05,0.41,0.26,0.28999999999999998,{"$f":"AJ131+AI131","v":0.55000000000000004},0.21,0.14000000000000001,{"$f":"AM131+AL131","v":0.35},{"$f":"AK131-AN131","v":0.20000000000000007},0.33,0.21,0.18,0.04,0.1,0.12,0.03,0.1,7.0000000000000007E-2,0.5,0.57999999999999996,7.0000000000000007E-2,0.3,{"$f":"AZ131-BA131","v":0.51},5.3276999999999998E-2,0.67,0.27,{"$f":"BE131-BF131","v":0.4},0.34,0.52,{"$f":"BH131-BI131","v":-0.18},0.18,0.21,{"$f":"BL131+BK131","v":0.39},0.41,0.09,0.08,{"$f":"BO131+BP131","v":0.16999999999999998},{"$f":"BM131-BQ131","v":0.22000000000000003},0.17,0.19,0.61,{"$f":"BS131-BT131","v":-1.999999999999999E-2},0.43,0.54,{"$f":"BX131-BW131","v":0.11000000000000004},"N/A","N/A","N/A","N/A","N/A","N/A","N/A","N/A","N/A","N/A","N/A",0.05,0.12,{"$f":"CL131+CK131","v":0.16999999999999998},{"$f":"CO131+CP131","v":0.82000000000000006},0.19,0.63,{"$f":"CN131-CM131","v":0.65000000000000013},0.4,0.14000000000000001,0.13,0.09,0.11,0.78,0.1,0.08,0.03,0.01,"N/A","N/A","N/A","N/A","N/A","N/A","N/A","N/A","N/A","N/A","N/A","N/A","N/A","N/A","N/A","N/A","N/A","N/A"]
["Min",{"$f":"MIN(B3:B131)","v":59.3},0.79999999999999716,64.3,0.18,0.05,0.28999999999999998,-0.11000000000000001,-0.13900000000000001,5.8900000000000001E-2,-2.0230000000000001E-2,0.25,0.03,0.25,-0.6,3.4200000000000001E-2,4.0099999999999997E-2,0.12,0.28999999999999998,0.48,0.12,0.06,0.19,2.0000000000000018E-2,7.0000000000000007E-2,0.23,7.0000000000000007E-2,0.01,0.06,0.12,0.01,0.01,0.03,{"$f":"MIN(AH3:AH131)","v":0.13},0.01,0.06,0.08,0.15,0.04,0.21000000000000002,-0.80000000000000016,0.1,0.11,0.08,0.04,0.08,0.05,0.02,0.04,7.0000000000000007E-2,0.18,0.28999999999999998,0.01,0.26,0.14999999999999997,1.6518999999999999E-2,0.6,0.24,0.25999999999999995,0.14000000000000001,0.33,-0.64,0.09,0.21,0.35,{"$f":"MIN(BN3:BN131)","v":0.34},0.04,0.02,7.0000000000000007E-2,0.13999999999999996,0.17,7.0000000000000007E-2,0.54,-0.03,0.35,0.4,-0.16999999999999993,0.1,0.03,0.15000000000000002,0.62,0.05,0.09,0.28000000000000003,0.03,0.05,0.1,0.55000000000000004,0.02,0.06,0.09,0.72,0.14000000000000001,0.49,0.43999999999999995,0.34,0.06,{"$f":"MIN(CT3:CT131)","v":0.11},0.05,0.06,0.72,0.1,0.01,0,0,0.1,0.77,0.17,0.73,0.34,0.16,0.56000000000000005,7.0000000000000007E-2,0.03,0.01,0.01,264368.84999999998,180000,0.08,0.24,0.2,0.05,0.04]
["Max",{"$f":"MAX(B3:B131)","v":93.8},16.200000000000003,107.9,0.57999999999999996,0.35,0.55000000000000004,0.52,-5.5E-2,0.12230000000000001,3.9467000000000009E-2,0.64,0.25,0.51,0,4.8300000000000003E-2,5.4199999999999998E-2,0.4,0.53,0.76,0.27,0.21,0.45999999999999996,0.57000000000000006,0.28999999999999998,0.53,0.25,0.09,0.31,0.55000000000000004,0.16,0.11,0.24,{"$f":"MAX(AH3:AH131)","v":0.53},0.31,0.45,0.69,0.44,0.56000000000000005,0.89,0.47,0.33,0.37,0.2,0.16,0.28000000000000003,0.33,0.14000000000000001,0.27,0.21,0.56999999999999995,0.65,0.14000000000000001,0.52,0.62,5.6487999999999997E-2,0.71,0.35,0.47,0.61,0.79,0.27999999999999997,0.27,0.35,0.54,{"$f":"MAX(BN3:BN131)","v":0.46},0.15,0.09,0.22,0.46,0.34,0.21,0.66,0.27,0.56999999999999995,0.62,0.27,0.22,0.16,0.33,0.78,0.24,0.24,0.55000000000000004,0.1,0.15,0.19,0.78,0.11,0.19,0.28000000000000003,0.9,0.26,0.76,0.81,0.5,0.17,{"$f":"MAX(CT3:CT131)","v":0.19},0.1,0.19,0.86,0.21,0.09,7.0000000000000007E-2,0.03,0.2,0.88,0.26,0.82,0.68,0.27,0.87,0.2,0.24,0.15,0.11,512066.29,275000,0.2,0.36,0.3,0.12,0.13]
["St. Dev.",{"$f":"STDEV(B3:B131)","v":8.8474483178311853},3.4648389924638039,11.689756942167254,9.3451138623762336E-2,6.1133115019095637E-2,6.2680263296963329E-2,0.14820857755622774,1.5765700000686129E-2,1.0273890726915947E-2,1.1893563295638936E-2,8.698832954336036E-2,3.8572047003983673E-2,6.4969245855072078E-2,0.11729592206608563,3.4318051352730519E-3,3.9747436882631056E-3,7.8999236454949592E-2,5.5569963409502821E-2,6.1510874597898939E-2,3.5933529018897688E-2,2.3847210276770541E-2,4.7543584655140303E-2,0.10721472649556808,5.6470272942950511E-2,7.3749015332495976E-2,3.8671767712085983E-2,1.5285001026629611E-2,6.5913475955709219E-2,0.12011400781057449,2.8568592081585086E-2,2.3531432046897043E-2,4.074761001783362E-2,{"$f":"STDEV(AH3:AH131)","v":0.10975271675701931},9.0848378136747857E-2,0.11727934708181989,0.19626234346211247,8.1074572094523553E-2,0.16384531813632577,0.22310395667602209,0.41906530995971009,5.8512589986475814E-2,6.9149214686258481E-2,2.595765389456248E-2,1.9303500399702484E-2,4.7168552221713414E-2,6.2812853345907957E-2,2.7854411372181417E-2,4.3359614617467186E-2,3.2209255802428179E-2,7.7547639316980235E-2,6.6904221863051561E-2,2.4779062492041575E-2,5.4841318838425024E-2,8.5927382244425851E-2,6.4920186367860818E-3,2.1352352683399529E-2,2.127563433317723E-2,4.1282140403316132E-2,9.581409901349254E-2,0.10446140472690943,0.19910111713639683,3.5142118714613119E-2,2.4239398705669303E-2,4.3921590415775716E-2,{"$f":"STDEV(BN3:BN131)","v":2.4907046184009914E-2},2.256074916975866E-2,1.3881942707464729E-2,3.2900226490114294E-2,7.2752250957477962E-2,3.7858269195931445E-2,3.4963817122161435E-2,2.4440938937038231E-2,6.8693246483210374E-2,6.071112419297918E-2,5.7995317740699409E-2,0.11824392366839036,2.5225145420884634E-2,2.8047311253334529E-2,3.3753260430309004E-2,3.1408624409373448E-2,4.2855372208559034E-2,2.9188713612879686E-2,6.3379100547434647E-2,1.9465511519779745E-2,2.4973422705307953E-2,2.0986223871047992E-2,5.8488291276916078E-2,2.0700444520863458E-2,3.4469163745291645E-2,5.0435012403988386E-2,5.0209365582098965E-2,3.0025199500452023E-2,6.9089922325525285E-2,0.10038968191648943,2.8546817113403188E-2,1.7928827877402576E-2,{"$f":"STDEV(CT3:CT131)","v":1.8429587843738167E-2},1.1725239202761287E-2,2.220610109342662E-2,3.0420988911919498E-2,2.2108743735174623E-2,1.6445371444648235E-2,9.5203724774950947E-3,6.8404312806428043E-3,2.1063631756210094E-2,2.5850299539270746E-2,1.9242846490934183E-2,1.8752944005246758E-2,7.5829810649020557E-2,2.4470907710585594E-2,8.0952095711922176E-2,3.3411883040305269E-2,5.6450027852483098E-2,3.3591751920694045E-2,2.5806000402049535E-2,55453.27352008922,21855.292805797973,2.6435270556810452E-2,2.2949219304078009E-2,2.5045840326231538E-2,1.4707607741920103E-2,1.7261540612405691E-2]

{"sheet":"Month-to-Month Change","index":3,"n_rows":133,"n_cols":122,"rows_kept":133,"cut":false,"hidden":false,"merged":[[0,1,0,2],[0,115,0,116],[0,106,0,107],[0,87,0,93],[0,69,0,72],[0,73,0,75],[0,94,0,98],[0,76,0,82],[0,83,0,86],[0,117,0,121],[0,3,0,6],[0,10,0,13],[0,16,0,22],[0,33,0,39],[0,50,0,53],[0,23,0,27],[0,28,0,32],[0,40,0,44],[0,45,0,49],[0,55,0,57],[0,58,0,60],[0,61,0,68],[0,108,0,114],[0,99,0,103],[0,104,0,105]]}
[" ","Home Purchase Sentiment Index",null,"Share of respondents who say home prices will go up/go down/stay the same in the next 12 months (15) ",null,null,null,"Average Home Price Decrease Expectation (Q16)","Average Home Price Increase Expectation (Q17)","Average Home Price Change Expectation","Share of respondents who say mortgage rates will go up/go down/stay the same in the next 12 months (20B)",null,null,null,null,"With current Freddie Mac rate provided (20F)","Share of respondents who say it is a good time to buy \n(12)",null,null,null,null,null,null,"Please tell me the primary reason why you think this is a good time to buy a house (12b)",null,null,null,null,"Please tell me the primary reason why you think this is a bad time to buy a house (12c)",null,null,null,null,"Share of respondents who say it is a good time to sell (13) ",null,null,null,null,null,null,"Please tell me the primary reason why you think this is a good time to sell a house (13c)",null,null,null,null,"Please tell me the primary reason why you think this is a bad time to sell a house (13d)",null,null,null,null,"Share of respondents who say home rental prices will go up/go down/stay the same in the next 12 months (18)",null,null,null,"Average Rental Price Level Expectation ","Share of respondents who say they would buy/rent if they were going to move (31) ",null,null,"Direction of economy (10) ",null,null,"Share of respondents who expect their financial situation to get better/get worse/stay the same over the next 12 months (11) ",null,null,null,null,null,null,null,"Share of respondents who say their household income is significantly higher/significantly lower/about the same than it was 12 months ago (116)",null,null,null,"Do you think it will be difficult or easy for you to get a home mortgage today? (22)",null,null,"Thinking about the total amount you owe on your home compared to the value of your home today, would you say the total amount you owe on your home is: (91)",null,null,null,null,null,null,"How concerned are you that you will lose your job in the next twelve months? (112B) ",null,null,null,"How concerned are you that you will lose your job in the next twelve months? \n(112B filtered) ",null,null,null,null,null,null,"When do you expect to move next? (13bb)",null,null,null,null,"Employment Type (QEmployment)",null,null,null,null,"Which is closer to your view? (47, financial reasons)",null,"Which is closer to your view? (47bb, lifestyle reasons)",null,"Thinking about the value of your home today compared to what you paid for the home, would you say your home is worth: (99)",null,null,null,null,null,null,"Current Home Selling Price\n(223 filtered)",null,"Current Home Selling Price\n(223a filtered)"]
[null,"HPSI","HPSI without rates","Go Up","Go Down","Stay the Same","Net",null,null,null,"Go Up","Go Down","Stay the Same","Net",null,"Mean","Very Good Time to Buy","Somewhat Good Time to Buy","Good Time to Buy","Somewhat Bad Time to Buy","Very Bad Time to Buy","Bad Time to Buy","Net","Home prices are low","Mortgage rates are favorable","There are many homes available on the market","It is easy to qualify for a mortgage","Economic conditions overall are favorable","Home prices are high","Mortgage rates are not favorable","There are not many homes available on the market","It is difficult to qualify for a mortgage","Economic conditions overall are not favorable","Very Good Time to Sell","Somewhat Good Time to Sell","Good Time to Sell","Somewhat Bad Time to Sell","Very Bad Time to Sell","Bad Time to Sell","Net","Home prices are high","Mortgage rates are favorable","There are not many homes available on the market","It is easy for buyers to qualify for a mortgage","Economic conditions overall are favorable","Home prices are low","Mortgage rates are not favorable","There are many homes available on the market","It is difficult for buyers to qualify for a mortgage","Economic conditions overall are not favorable","Go Up ","Go Down","Stay the Same","Net Rental Prices Will Go Up",null,"Buy","Rent","Net Buy on Next Move","Right Track","Wrong Track","Net Right Track","Much Better","Somewhat Better","Get Better","Stay the Same","Somewhat Worse","Much Worse","Get Worse","Net Get Better","Significantly Higher","Significantly Lower","About the Same","Net","Difficult","Easy","Net Easy","At least 20% more","About 5-20% more","Underwater","At/Above Water","About the Same","About 5-20% less","At least 20% less","Very Concerned","Somewhat Concerned","Not Very Concerned","Not at All Concerned","Very Concerned","Somewhat Concerned","Concerned","Not Concerned","Not Very Concerned","Not at All Concerned","Net","Never","Less than 1 year","1-3 years","3-5 years","More than 5 years","Employed Full-Time","Employed Part-Time","Unemployed","Discouraged Worker","Employed Part-Time For Econ Reasons","Renting makes more sense","Owning makes more sense","Renting makes more sense","Owning makes more sense","At least 20% more than you paid","About 5-20% more than you paid","Home Value Increase","About the Same","Home Value Decrease","About 5-20% less than you paid","At least 20% less than you paid","Mean","Median","Less than $100,000","$100,000-$249,999","$250,000-$499,999","$500,000-$749,999","$750,000 or more"]
["Jun-Jul 10",null,null,{"$f":"'All Respondents'!E4-'All Respondents'!E3","v":-2.0000000000000018E-2},{"$f":"'All Respondents'!F4-'All Respondents'!F3","v":0.03},{"$f":"'All Respondents'!G4-'All Respondents'!G3","v":0},{"$f":"'All Respondents'!H4-'All Respondents'!H3","v":-5.0000000000000017E-2},{"$f":"'All Respondents'!I4-'All Respondents'!I3","v":3.3299999999999996E-2},{"$f":"'All Respondents'!J4-'All Respondents'!J3","v":-3.0499999999999999E-2},{"$f":"'All Respondents'!K4-'All Respondents'!K3","v":-7.8270000000000006E-3},{"$f":"'All Respondents'!L4-'All Respondents'!L3","v":-3.0000000000000027E-2},{"$f":"'All Respondents'!M4-'All Respondents'!M3","v":0},{"$f":"'All Respondents'!N4-'All Respondents'!N3","v":2.9999999999999971E-2},{"$f":"'All Respondents'!O4-'All Respondents'!O3","v":3.0000000000000027E-2},null,null,{"$f":"'All Respondents'!R4-'All Respondents'!R3","v":-4.9999999999999989E-2},{"$f":"'All Respondents'!S4-'All Respondents'!S3","v":2.0000000000000018E-2},{"$f":"'All Respondents'!T4-'All Respondents'!T3","v":-3.0000000000000027E-2},{"$f":"'All Respondents'!U4-'All Respondents'!U3","v":0.03},{"$f":"'All Respondents'!V4-'All Respondents'!V3","v":9.999999999999995E-3},{"$f":"'All Respondents'!W4-'All Respondents'!W3","v":4.0000000000000036E-2},{"$f":"'All Respondents'!X4-'All Respondents'!X3","v":-7.0000000000000062E-2},null,null,null,null,null,null,null,null,null,null,{"$f":"'All Respondents'!AI4-'All Respondents'!AI3","v":0},{"$f":"'All Respondents'!AJ4-'All Respondents'!AJ3","v":-9.999999999999995E-3},{"$f":"'All Respondents'!AK4-'All Respondents'!AK3","v":-1.0000000000000009E-2},{"$f":"'All Respondents'!AL4-'All Respondents'!AL3","v":-3.999999999999998E-2},{"$f":"'All Respondents'!AM4-'All Respondents'!AM3","v":4.9999999999999989E-2},{"$f":"'All Respondents'!AN4-'All Respondents'!AN3","v":1.0000000000000009E-2},{"$f":"'All Respondents'!AO4-'All Respondents'!AO3","v":-2.0000000000000018E-2},null,null,null,null,null,null,null,null,null,null,{"$f":"'All Respondents'!AZ4-'All Respondents'!AZ3","v":-1.0000000000000009E-2},{"$f":"'All Respondents'!BA4-'All Respondents'!BA3","v":-9.999999999999995E-3},{"$f":"'All Respondents'!BB4-'All Respondents'!BB3","v":0},{"$f":"'All Respondents'!BC4-'All Respondents'!BC3","v":0},{"$f":"'All Respondents'!BD4-'All Respondents'!BD3","v":-1.4400000000000038E-3},{"$f":"'All Respondents'!BE4-'All Respondents'!BE3","v":1.0000000000000009E-2},{"$f":"'All Respondents'!BF4-'All Respondents'!BF3","v":-1.0000000000000009E-2},{"$f":"'All Respondents'!BG4-'All Respondents'!BG3","v":2.0000000000000018E-2},{"$f":"'All Respondents'!BH4-'All Respondents'!BH3","v":-2.0000000000000018E-2},{"$f":"'All Respondents'!BI4-'All Respondents'!BI3","v":2.0000000000000018E-2},{"$f":"'All Respondents'!BJ4-'All Respondents'!BJ3","v":-4.0000000000000036E-2},{"$f":"'All Respondents'!BK4-'All Respondents'!BK3","v":1.0000000000000009E-2},{"$f":"'All Respondents'!BL4-'All Respondents'!BL3","v":-0.06},{"$f":"'All Respondents'!BM4-'All Respondents'!BM3","v":-4.9999999999999933E-2},{"$f":"'All Respondents'!BN4-'All Respondents'!BN3","v":2.0000000000000018E-2},{"$f":"'All Respondents'!BO4-'All Respondents'!BO3","v":0.03},{"$f":"'All Respondents'!BP4-'All Respondents'!BP3","v":9.999999999999995E-3},{"$f":"'All Respondents'!BQ4-'All Respondents'!BQ3","v":3.999999999999998E-2},{"$f":"'All Respondents'!BR4-'All Respondents'!BR3","v":-8.9999999999999913E-2},{"$f":"'All Respondents'!BS4-'All Respondents'!BS3","v":0.03},{"$f":"'All Respondents'!BT4-'All Respondents'!BT3","v":-9.9999999999999811E-3},{"$f":"'All Respondents'!BU4-'All Respondents'!BU3","v":-2.9999999999999916E-2},{"$f":"'All Respondents'!BV4-'All Respondents'!BV3","v":3.999999999999998E-2},{"$f":"'All Respondents'!BW4-'All Respondents'!BW3","v":2.0000000000000018E-2},{"$f":"'All Respondents'!BX4-'All Respondents'!BX3","v":-2.0000000000000018E-2},{"$f":"'All Respondents'!BY4-'All Respondents'!BY3","v":-4.0000000000000036E-2},{"$f":"'All Respondents'!BZ4-'All Respondents'!BZ3","v":-1.0000000000000009E-2},{"$f":"'All Respondents'!CA4-'All Respondents'!CA3","v":0},{"$f":"'All Respondents'!CB4-'All Respondents'!CB3","v":-1.0000000000000009E-2},{"$f":"'All Respondents'!CC4-'All Respondents'!CC3","v":4.9999999999999933E-2},{"$f":"'All Respondents'!CD4-'All Respondents'!CD3","v":2.0000000000000018E-2},{"$f":"'All Respondents'!CE4-'All Respondents'!CE3","v":9.9999999999999811E-3},{"$f":"'All Respondents'!CF4-'All Respondents'!CF3","v":2.0000000000000018E-2},null,null,null,null,null,null,null,null,null,null,null,null,null,null,null,null,null,null,null,null,null,{"$f":"'All Respondents'!DB4-'All Respondents'!DB3","v":-1.0000000000000009E-2},{"$f":"'All Respondents'!DC4-'All Respondents'!DC3","v":1.0000000000000009E-2},null,null,{"$f":"'All Respondents'!DF4-'All Respondents'!DF3","v":0},{"$f":"'All Respondents'!DG4-'All Respondents'!DG3","v":1.999999999999999E-2},{"$f":"'All Respondents'!DH4-'All Respondents'!DH3","v":2.0000000000000018E-2},{"$f":"'All Respondents'!DI4-'All Respondents'!DI3","v":0},{"$f":"'All Respondents'!DJ4-'All Respondents'!DJ3","v":-1.0000000000000009E-2},{"$f":"'All Respondents'!DK4-'All Respondents'!DK3","v":0},{"$f":"'All Respondents'!DL4-'All Respondents'!DL3","v":-1.0000000000000009E-2}]
["Jul-Aug 10",null,null,{"$f":"'All Respondents'!E5-'All Respondents'!E4","v":-3.999999999999998E-2},{"$f":"'All Respondents'!F5-'All Respondents'!F4","v":-3.999999999999998E-2},{"$f":"'All Respondents'!G5-'All Respondents'!G4","v":7.0000000000000062E-2},{"$f":"'All Respondents'!H5-'All Respondents'!H4","v":0},{"$f":"'All Respondents'!I5-'All Respondents'!I4","v":-1.5600000000000003E-2},{"$f":"'All Respondents'!J5-'All Respondents'!J4","v":2.5000000000000022E-3},{"$f":"'All Respondents'!K5-'All Respondents'!K4","v":-1.6989999999999952E-3},{"$f":"'All Respondents'!L5-'All Respondents'!L4","v":0},{"$f":"'All Respondents'!M5-'All Respondents'!M4","v":1.0000000000000009E-2},{"$f":"'All Respondents'!N5-'All Respondents'!N4","v":-1.0000000000000009E-2},{"$f":"'All Respondents'!O5-'All Respondents'!O4","v":1.0000000000000009E-2},null,null,{"$f":"'All Respondents'!R5-'All Respondents'!R4","v":3.999999999999998E-2},{"$f":"'All Respondents'!S5-'All Respondents'!S4","v":-2.9999999999999971E-2},{"$f":"'All Respondents'!T5-'All Respondents'!T4","v":1.0000000000000009E-2},{"$f":"'All Respondents'!U5-'All Respondents'!U4","v":-0.03},{"$f":"'All Respondents'!V5-'All Respondents'!V4","v":-9.999999999999995E-3},{"$f":"'All Respondents'!W5-'All Respondents'!W4","v":-4.0000000000000036E-2},{"$f":"'All Respondents'!X5-'All Respondents'!X4","v":5.0000000000000044E-2},null,null,null,null,null,null,null,null,null,null,{"$f":"'All Respondents'!AI5-'All Respondents'!AI4","v":0},{"$f":"'All Respondents'!AJ5-'All Respondents'!AJ4","v":0},{"$f":"'All Respondents'!AK5-'All Respondents'!AK4","v":0},{"$f":"'All Respondents'!AL5-'All Respondents'!AL4","v":9.9999999999999534E-3},{"$f":"'All Respondents'!AM5-'All Respondents'!AM4","v":-1.0000000000000009E-2},{"$f":"'All Respondents'!AN5-'All Respondents'!AN4","v":0},{"$f":"'All Respondents'!AO5-'All Respondents'!AO4","v":0},null,null,null,null,null,null,null,null,null,null,{"$f":"'All Respondents'!AZ5-'All Respondents'!AZ4","v":0},{"$f":"'All Respondents'!BA5-'All Respondents'!BA4","v":-1.0000000000000009E-2},{"$f":"'All Respondents'!BB5-'All Respondents'!BB4","v":2.9999999999999971E-2},{"$f":"'All Respondents'!BC5-'All Respondents'!BC4","v":1.0000000000000009E-2},{"$f":"'All Respondents'!BD5-'All Respondents'!BD4","v":-2.0629999999999989E-3},{"$f":"'All Respondents'!BE5-'All Respondents'!BE4","v":-4.0000000000000036E-2},{"$f":"'All Respondents'!BF5-'All Respondents'!BF4","v":3.0000000000000027E-2},{"$f":"'All Respondents'!BG5-'All Respondents'!BG4","v":-7.0000000000000062E-2},{"$f":"'All Respondents'!BH5-'All Respondents'!BH4","v":0},{"$f":"'All Respondents'!BI5-'All Respondents'!BI4","v":0},{"$f":"'All Respondents'!BJ5-'All Respondents'!BJ4","v":0},{"$f":"'All Respondents'!BK5-'All Respondents'!BK4","v":-1.999999999999999E-2},{"$f":"'All Respondents'!BL5-'All Respondents'!BL4","v":1.0000000000000009E-2},{"$f":"'All Respondents'!BM5-'All Respondents'!BM4","v":-1.0000000000000009E-2},{"$f":"'All Respondents'!BN5-'All Respondents'!BN4","v":9.9999999999999534E-3},{"$f":"'All Respondents'!BO5-'All Respondents'!BO4","v":2.0000000000000004E-2},{"$f":"'All Respondents'!BP5-'All Respondents'!BP4","v":-1.9999999999999997E-2},{"$f":"'All Respondents'!BQ5-'All Respondents'!BQ4","v":0},{"$f":"'All Respondents'!BR5-'All Respondents'!BR4","v":-1.0000000000000037E-2},{"$f":"'All Respondents'!BS5-'All Respondents'!BS4","v":-4.0000000000000008E-2},{"$f":"'All Respondents'!BT5-'All Respondents'!BT4","v":9.9999999999999811E-3},{"$f":"'All Respondents'!BU5-'All Respondents'!BU4","v":2.9999999999999916E-2},{"$f":"'All Respondents'!BV5-'All Respondents'!BV4","v":-4.9999999999999989E-2},{"$f":"'All Respondents'!BW5-'All Respondents'!BW4","v":0},{"$f":"'All Respondents'!BX5-'All Respondents'!BX4","v":-1.0000000000000009E-2},{"$f":"'All Respondents'!BY5-'All Respondents'!BY4","v":-1.0000000000000009E-2},{"$f":"'All Respondents'!BZ5-'All Respondents'!BZ4","v":-3.9999999999999994E-2},{"$f":"'All Respondents'!CA5-'All Respondents'!CA4","v":1.0000000000000009E-2},{"$f":"'All Respondents'!CB5-'All Respondents'!CB4","v":-3.0000000000000027E-2},{"$f":"'All Respondents'!CC5-'All Respondents'!CC4","v":3.0000000000000027E-2},{"$f":"'All Respondents'!CD5-'All Respondents'!CD4","v":6.9999999999999979E-2},{"$f":"'All Respondents'!CE5-'All Respondents'!CE4","v":2.0000000000000018E-2},{"$f":"'All Respondents'!CF5-'All Respondents'!CF4","v":-0.06},null,null,null,null,null,null,null,null,null,null,null,null,null,null,null,null,null,null,null,null,null,{"$f":"'All Respondents'!DB5-'All Respondents'!DB4","v":0},{"$f":"'All Respondents'!DC5-'All Respondents'!DC4","v":0},null,null,{"$f":"'All Respondents'!DF5-'All Respondents'!DF4","v":-1.0000000000000009E-2},{"$f":"'All Respondents'!DG5-'All Respondents'!DG4","v":-1.999999999999999E-2},{"$f":"'All Respondents'!DH5-'All Respondents'!DH4","v":-3.0000000000000027E-2},{"$f":"'All Respondents'!DI5-'All Respondents'!DI4","v":1.0000000000000009E-2},{"$f":"'All Respondents'!DJ5-'All Respondents'!DJ4","v":1.999999999999999E-2},{"$f":"'All Respondents'!DK5-'All Respondents'!DK4","v":2.0000000000000004E-2},{"$f":"'All Respondents'!DL5-'All Respondents'!DL4","v":0}]
["Aug-Sep 10",null,null,{"$f":"'All Respondents'!E6-'All Respondents'!E5","v":2.0000000000000018E-2},{"$f":"'All Respondents'!F6-'All Respondents'!F5","v":0.03},{"$f":"'All Respondents'!G6-'All Respondents'!G5","v":-5.0000000000000044E-2},{"$f":"'All Respondents'!H6-'All Respondents'!H5","v":-9.9999999999999811E-3},{"$f":"'All Respondents'!I6-'All Respondents'!I5","v":9.3000000000000027E-3},{"$f":"'All Respondents'!J6-'All Respondents'!J5","v":9.1999999999999998E-3},{"$f":"'All Respondents'!K6-'All Respondents'!K5","v":2.8560000000000005E-3},{"$f":"'All Respondents'!L6-'All Respondents'!L5","v":-1.9999999999999962E-2},{"$f":"'All Respondents'!M6-'All Respondents'!M5","v":0},{"$f":"'All Respondents'!N6-'All Respondents'!N5","v":0},{"$f":"'All Respondents'!O6-'All Respondents'!O5","v":1.9999999999999962E-2},null,null,{"$f":"'All Respondents'!R6-'All Respondents'!R5","v":3.0000000000000027E-2},{"$f":"'All Respondents'!S6-'All Respondents'!S5","v":-1.0000000000000009E-2},{"$f":"'All Respondents'!T6-'All Respondents'!T5","v":2.0000000000000018E-2},{"$f":"'All Respondents'!U6-'All Respondents'!U5","v":0},{"$f":"'All Respondents'!V6-'All Respondents'!V5","v":0},{"$f":"'All Respondents'!W6-'All Respondents'!W5","v":0},{"$f":"'All Respondents'!X6-'All Respondents'!X5","v":2.0000000000000018E-2},null,null,null,null,null,null,null,null,null,null,{"$f":"'All Respondents'!AI6-'All Respondents'!AI5","v":-9.9999999999999985E-3},{"$f":"'All Respondents'!AJ6-'All Respondents'!AJ5","v":-0.03},{"$f":"'All Respondents'!AK6-'All Respondents'!AK5","v":-3.9999999999999994E-2},{"$f":"'All Respondents'!AL6-'All Respondents'!AL5","v":-1.9999999999999962E-2},{"$f":"'All Respondents'!AM6-'All Respondents'!AM5","v":6.0000000000000053E-2},{"$f":"'All Respondents'!AN6-'All Respondents'!AN5","v":4.0000000000000147E-2},{"$f":"'All Respondents'!AO6-'All Respondents'!AO5","v":-8.0000000000000182E-2},null,null,null,null,null,null,null,null,null,null,{"$f":"'All Respondents'!AZ6-'All Respondents'!AZ5","v":-1.0000000000000009E-2},{"$f":"'All Respondents'!BA6-'All Respondents'!BA5","v":-1.999999999999999E-2},{"$f":"'All Respondents'!BB6-'All Respondents'!BB5","v":3.0000000000000027E-2},{"$f":"'All Respondents'!BC6-'All Respondents'!BC5","v":9.9999999999999534E-3},{"$f":"'All Respondents'!BD6-'All Respondents'!BD5","v":6.4499999999999974E-4},{"$f":"'All Respondents'!BE6-'All Respondents'!BE5","v":-1.0000000000000009E-2},{"$f":"'All Respondents'!BF6-'All Respondents'!BF5","v":1.0000000000000009E-2},{"$f":"'All Respondents'!BG6-'All Respondents'!BG5","v":-2.0000000000000018E-2},{"$f":"'All Respondents'!BH6-'All Respondents'!BH5","v":-2.9999999999999971E-2},{"$f":"'All Respondents'!BI6-'All Respondents'!BI5","v":3.0000000000000027E-2},{"$f":"'All Respondents'!BJ6-'All Respondents'!BJ5","v":-0.06},{"$f":"'All Respondents'!BK6-'All Respondents'!BK5","v":9.9999999999999811E-3},{"$f":"'All Respondents'!BL6-'All Respondents'!BL5","v":-1.0000000000000009E-2},{"$f":"'All Respondents'!BM6-'All Respondents'!BM5","v":0},{"$f":"'All Respondents'!BN6-'All Respondents'!BN5","v":0},{"$f":"'All Respondents'!BO6-'All Respondents'!BO5","v":-2.0000000000000004E-2},{"$f":"'All Respondents'!BP6-'All Respondents'!BP5","v":1.0000000000000002E-2},{"$f":"'All Respondents'!BQ6-'All Respondents'!BQ5","v":-1.0000000000000009E-2},{"$f":"'All Respondents'!BR6-'All Respondents'!BR5","v":9.9999999999999811E-3},{"$f":"'All Respondents'!BS6-'All Respondents'!BS5","v":1.0000000000000009E-2},{"$f":"'All Respondents'!BT6-'All Respondents'!BT5","v":0},{"$f":"'All Respondents'!BU6-'All Respondents'!BU5","v":-1.0000000000000009E-2},{"$f":"'All Respondents'!BV6-'All Respondents'!BV5","v":1.0000000000000009E-2},{"$f":"'All Respondents'!BW6-'All Respondents'!BW5","v":1.9999999999999907E-2},{"$f":"'All Respondents'!BX6-'All Respondents'!BX5","v":-9.9999999999999534E-3},{"$f":"'All Respondents'!BY6-'All Respondents'!BY5","v":-2.999999999999986E-2},{"$f":"'All Respondents'!BZ6-'All Respondents'!BZ5","v":9.0000000000000011E-2},{"$f":"'All Respondents'!CA6-'All Respondents'!CA5","v":-4.0000000000000008E-2},{"$f":"'All Respondents'!CB6-'All Respondents'!CB5","v":5.0000000000000044E-2},{"$f":"'All Respondents'!CC6-'All Respondents'!CC5","v":-7.999999999999996E-2},{"$f":"'All Respondents'!CD6-'All Respondents'!CD5","v":-6.9999999999999979E-2},{"$f":"'All Respondents'!CE6-'All Respondents'!CE5","v":-0.03},{"$f":"'All Respondents'!CF6-'All Respondents'!CF5","v":1.9999999999999962E-2},null,null,null,null,null,null,null,null,null,null,null,null,null,null,null,null,null,null,null,null,null,{"$f":"'All Respondents'!DB6-'All Respondents'!DB5","v":2.0000000000000018E-2},{"$f":"'All Respondents'!DC6-'All Respondents'!DC5","v":-1.0000000000000009E-2},null,null,{"$f":"'All Respondents'!DF6-'All Respondents'!DF5","v":0},{"$f":"'All Respondents'!DG6-'All Respondents'!DG5","v":-2.0000000000000018E-2},{"$f":"'All Respondents'!DH6-'All Respondents'!DH5","v":-2.0000000000000018E-2},{"$f":"'All Respondents'!DI6-'All Respondents'!DI5","v":1.0000000000000009E-2},{"$f":"'All Respondents'!DJ6-'All Respondents'!DJ5","v":1.0000000000000009E-2},{"$f":"'All Respondents'!DK6-'All Respondents'!DK5","v":-9.999999999999995E-3},{"$f":"'All Respondents'!DL6-'All Respondents'!DL5","v":2.0000000000000004E-2}]
["Sep-Oct 10",null,null,{"$f":"'All Respondents'!E7-'All Respondents'!E6","v":-2.0000000000000018E-2},{"$f":"'All Respondents'!F7-'All Respondents'!F6","v":9.9999999999999811E-3},{"$f":"'All Respondents'!G7-'All Respondents'!G6","v":1.0000000000000009E-2},{"$f":"'All Respondents'!H7-'All Respondents'!H6","v":-0.03},{"$f":"'All Respondents'!I7-'All Respondents'!I6","v":-3.699999999999995E-3},{"$f":"'All Respondents'!J7-'All Respondents'!J6","v":1.0000000000000286E-4},{"$f":"'All Respondents'!K7-'All Respondents'!K6","v":-3.6030000000000025E-3},{"$f":"'All Respondents'!L7-'All Respondents'!L6","v":2.9999999999999971E-2},{"$f":"'All Respondents'!M7-'All Respondents'!M6","v":-2.0000000000000004E-2},{"$f":"'All Respondents'!N7-'All Respondents'!N6","v":-1.0000000000000009E-2},{"$f":"'All Respondents'!O7-'All Respondents'!O6","v":-4.9999999999999989E-2},null,null,{"$f":"'All Respondents'!R7-'All Respondents'!R6","v":0},{"$f":"'All Respondents'!S7-'All Respondents'!S6","v":-3.0000000000000027E-2},{"$f":"'All Respondents'!T7-'All Respondents'!T6","v":-3.0000000000000027E-2},{"$f":"'All Respondents'!U7-'All Respondents'!U6","v":0},{"$f":"'All Respondents'!V7-'All Respondents'!V6","v":2.0000000000000004E-2},{"$f":"'All Respondents'!W7-'All Respondents'!W6","v":2.0000000000000018E-2},{"$f":"'All Respondents'!X7-'All Respondents'!X6","v":-5.0000000000000044E-2},null,null,null,null,null,null,null,null,null,null,{"$f":"'All Respondents'!AI7-'All Respondents'!AI6","v":9.9999999999999985E-3},{"$f":"'All Respondents'!AJ7-'All Respondents'!AJ6","v":9.999999999999995E-3},{"$f":"'All Respondents'!AK7-'All Respondents'!AK6","v":1.999999999999999E-2},{"$f":"'All Respondents'!AL7-'All Respondents'!AL6","v":-2.0000000000000018E-2},{"$f":"'All Respondents'!AM7-'All Respondents'!AM6","v":-1.0000000000000009E-2},{"$f":"'All Respondents'!AN7-'All Respondents'!AN6","v":-3.0000000000000027E-2},{"$f":"'All Respondents'!AO7-'All Respondents'!AO6","v":5.0000000000000044E-2},null,null,null,null,null,null,null,null,null,null,{"$f":"'All Respondents'!AZ7-'All Respondents'!AZ6","v":0},{"$f":"'All Respondents'!BA7-'All Respondents'!BA6","v":9.999999999999995E-3},{"$f":"'All Respondents'!BB7-'All Respondents'!BB6","v":-2.0000000000000018E-2},{"$f":"'All Respondents'!BC7-'All Respondents'!BC6","v":-1.0000000000000009E-2},{"$f":"'All Respondents'!BD7-'All Respondents'!BD6","v":1.2180000000000003E-3},{"$f":"'All Respondents'!BE7-'All Respondents'!BE6","v":2.0000000000000018E-2},{"$f":"'All Respondents'!BF7-'All Respondents'!BF6","v":-1.0000000000000009E-2},{"$f":"'All Respondents'!BG7-'All Respondents'!BG6","v":3.0000000000000027E-2},{"$f":"'All Respondents'!BH7-'All Respondents'!BH6","v":1.9999999999999962E-2},{"$f":"'All Respondents'!BI7-'All Respondents'!BI6","v":-2.0000000000000018E-2},{"$f":"'All Respondents'!BJ7-'All Respondents'!BJ6","v":3.999999999999998E-2},{"$f":"'All Respondents'!BK7-'All Respondents'!BK6","v":1.0000000000000009E-2},{"$f":"'All Respondents'!BL7-'All Respondents'!BL6","v":0},{"$f":"'All Respondents'!BM7-'All Respondents'!BM6","v":1.0000000000000009E-2},{"$f":"'All Respondents'!BN7-'All Respondents'!BN6","v":-9.9999999999999534E-3},{"$f":"'All Respondents'!BO7-'All Respondents'!BO6","v":9.999999999999995E-3},{"$f":"'All Respondents'!BP7-'All Respondents'!BP6","v":0},{"$f":"'All Respondents'!BQ7-'All Respondents'!BQ6","v":9.9999999999999811E-3},{"$f":"'All Respondents'!BR7-'All Respondents'!BR6","v":0},{"$f":"'All Respondents'!BS7-'All Respondents'!BS6","v":1.0000000000000009E-2},{"$f":"'All Respondents'!BT7-'All Respondents'!BT6","v":0},{"$f":"'All Respondents'!BU7-'All Respondents'!BU6","v":-1.0000000000000009E-2},{"$f":"'All Respondents'!BV7-'All Respondents'!BV6","v":1.0000000000000009E-2},{"$f":"'All Respondents'!BW7-'All Respondents'!BW6","v":-1.9999999999999907E-2},{"$f":"'All Respondents'!BX7-'All Respondents'!BX6","v":9.9999999999999534E-3},{"$f":"'All Respondents'!BY7-'All Respondents'!BY6","v":2.999999999999986E-2},{"$f":"'All Respondents'!BZ7-'All Respondents'!BZ6","v":-0.03},{"$f":"'All Respondents'!CA7-'All Respondents'!CA6","v":2.0000000000000004E-2},{"$f":"'All Respondents'!CB7-'All Respondents'!CB6","v":-1.0000000000000009E-2},{"$f":"'All Respondents'!CC7-'All Respondents'!CC6","v":4.9999999999999933E-2},{"$f":"'All Respondents'!CD7-'All Respondents'!CD6","v":-1.0000000000000009E-2},{"$f":"'All Respondents'!CE7-'All Respondents'!CE6","v":0.03},{"$f":"'All Respondents'!CF7-'All Respondents'!CF6","v":3.0000000000000027E-2},null,null,null,null,null,null,null,null,null,null,null,null,null,null,null,null,null,null,null,null,null,{"$f":"'All Respondents'!DB7-'All Respondents'!DB6","v":-2.0000000000000018E-2},{"$f":"'All Respondents'!DC7-'All Respondents'!DC6","v":0},null,null,{"$f":"'All Respondents'!DF7-'All Respondents'!DF6","v":-1.0000000000000009E-2},{"$f":"'All Respondents'!DG7-'All Respondents'!DG6","v":1.0000000000000009E-2},{"$f":"'All Respondents'!DH7-'All Respondents'!DH6","v":0},{"$f":"'All Respondents'!DI7-'All Respondents'!DI6","v":9.9999999999999811E-3},{"$f":"'All Respondents'!DJ7-'All Respondents'!DJ6","v":-1.999999999999999E-2},{"$f":"'All Respondents'!DK7-'All Respondents'!DK6","v":0},{"$f":"'All Respondents'!DL7-'All Respondents'!DL6","v":-2.0000000000000004E-2}]
["Oct-Nov 10",null,null,{"$f":"'All Respondents'!E8-'All Respondents'!E7","v":3.0000000000000027E-2},{"$f":"'All Respondents'!F8-'All Respondents'!F7","v":-0.03},{"$f":"'All Respondents'!G8-'All Respondents'!G7","v":1.0000000000000009E-2},{"$f":"'All Respondents'!H8-'All Respondents'!H7","v":6.0000000000000026E-2},{"$f":"'All Respondents'!I8-'All Respondents'!I7","v":-8.0000000000000071E-3},{"$f":"'All Respondents'!J8-'All Respondents'!J7","v":-4.3000000000000121E-3},{"$f":"'All Respondents'!K8-'All Respondents'!K7","v":3.2000000000000054E-3},{"$f":"'All Respondents'!L8-'All Respondents'!L7","v":3.0000000000000027E-2},{"$f":"'All Respondents'!M8-'All Respondents'!M7","v":-2.0000000000000004E-2},{"$f":"'All Respondents'!N8-'All Respondents'!N7","v":1.0000000000000009E-2},{"$f":"'All Respondents'!O8-'All Respondents'!O7","v":-5.0000000000000044E-2},null,null,{"$f":"'All Respondents'!R8-'All Respondents'!R7","v":-2.0000000000000018E-2},{"$f":"'All Respondents'!S8-'All Respondents'!S7","v":-1.0000000000000009E-2},{"$f":"'All Respondents'!T8-'All Respondents'!T7","v":-3.0000000000000027E-2},{"$f":"'All Respondents'!U8-'All Respondents'!U7","v":3.999999999999998E-2},{"$f":"'All Respondents'!V8-'All Respondents'!V7","v":1.0000000000000009E-2},{"$f":"'All Respondents'!W8-'All Respondents'!W7","v":4.9999999999999989E-2},{"$f":"'All Respondents'!X8-'All Respondents'!X7","v":-8.0000000000000016E-2},null,null,null,null,null,null,null,null,null,null,{"$f":"'All Respondents'!AI8-'All Respondents'!AI7","v":0},{"$f":"'All Respondents'!AJ8-'All Respondents'!AJ7","v":0},{"$f":"'All Respondents'!AK8-'All Respondents'!AK7","v":0},{"$f":"'All Respondents'!AL8-'All Respondents'!AL7","v":4.9999999999999989E-2},{"$f":"'All Respondents'!AM8-'All Respondents'!AM7","v":-3.0000000000000027E-2},{"$f":"'All Respondents'!AN8-'All Respondents'!AN7","v":1.9999999999999907E-2},{"$f":"'All Respondents'!AO8-'All Respondents'!AO7","v":-1.9999999999999907E-2},null,null,null,null,null,null,null,null,null,null,{"$f":"'All Respondents'!AZ8-'All Respondents'!AZ7","v":3.0000000000000027E-2},{"$f":"'All Respondents'!BA8-'All Respondents'!BA7","v":-9.999999999999995E-3},{"$f":"'All Respondents'!BB8-'All Respondents'!BB7","v":-2.0000000000000018E-2},{"$f":"'All Respondents'!BC8-'All Respondents'!BC7","v":4.0000000000000036E-2},{"$f":"'All Respondents'!BD8-'All Respondents'!BD7","v":1.2959999999999985E-3},{"$f":"'All Respondents'!BE8-'All Respondents'!BE7","v":0},{"$f":"'All Respondents'!BF8-'All Respondents'!BF7","v":-1.0000000000000009E-2},{"$f":"'All Respondents'!BG8-'All Respondents'!BG7","v":1.0000000000000009E-2},{"$f":"'All Respondents'!BH8-'All Respondents'!BH7","v":3.0000000000000027E-2},{"$f":"'All Respondents'!BI8-'All Respondents'!BI7","v":-4.0000000000000036E-2},{"$f":"'All Respondents'!BJ8-'All Respondents'!BJ7","v":7.0000000000000062E-2},{"$f":"'All Respondents'!BK8-'All Respondents'!BK7","v":0},{"$f":"'All Respondents'!BL8-'All Respondents'!BL7","v":2.0000000000000018E-2},{"$f":"'All Respondents'!BM8-'All Respondents'!BM7","v":2.0000000000000018E-2},{"$f":"'All Respondents'!BN8-'All Respondents'!BN7","v":0},{"$f":"'All Respondents'!BO8-'All Respondents'!BO7","v":-1.999999999999999E-2},{"$f":"'All Respondents'!BP8-'All Respondents'!BP7","v":0},{"$f":"'All Respondents'!BQ8-'All Respondents'!BQ7","v":-1.9999999999999962E-2},{"$f":"'All Respondents'!BR8-'All Respondents'!BR7","v":3.999999999999998E-2},{"$f":"'All Respondents'!BS8-'All Respondents'!BS7","v":1.999999999999999E-2},{"$f":"'All Respondents'!BT8-'All Respondents'!BT7","v":-4.9999999999999989E-2},{"$f":"'All Respondents'!BU8-'All Respondents'!BU7","v":3.0000000000000027E-2},{"$f":"'All Respondents'!BV8-'All Respondents'!BV7","v":6.9999999999999979E-2},{"$f":"'All Respondents'!BW8-'All Respondents'!BW7","v":1.9999999999999907E-2},{"$f":"'All Respondents'!BX8-'All Respondents'!BX7","v":1.0000000000000009E-2},{"$f":"'All Respondents'!BY8-'All Respondents'!BY7","v":-9.9999999999998979E-3},{"$f":"'All Respondents'!BZ8-'All Respondents'!BZ7","v":-2.0000000000000018E-2},{"$f":"'All Respondents'!CA8-'All Respondents'!CA7","v":9.999999999999995E-3},{"$f":"'All Respondents'!CB8-'All Respondents'!CB7","v":-1.0000000000000009E-2},{"$f":"'All Respondents'!CC8-'All Respondents'!CC7","v":-1.0000000000000009E-2},{"$f":"'All Respondents'!CD8-'All Respondents'!CD7","v":1.999999999999999E-2},{"$f":"'All Respondents'!CE8-'All Respondents'!CE7","v":-2.0000000000000018E-2},{"$f":"'All Respondents'!CF8-'All Respondents'!CF7","v":-1.0000000000000009E-2},null,null,null,null,null,null,null,null,null,null,null,null,null,null,null,null,null,null,null,null,null,{"$f":"'All Respondents'!DB8-'All Respondents'!DB7","v":2.0000000000000018E-2},{"$f":"'All Respondents'!DC8-'All Respondents'!DC7","v":-1.0000000000000009E-2},null,null,{"$f":"'All Respondents'!DF8-'All Respondents'!DF7","v":1.0000000000000009E-2},{"$f":"'All Respondents'!DG8-'All Respondents'!DG7","v":0.03},{"$f":"'All Respondents'!DH8-'All Respondents'!DH7","v":4.0000000000000036E-2},{"$f":"'All Respondents'!DI8-'All Respondents'!DI7","v":-9.9999999999999811E-3},{"$f":"'All Respondents'!DJ8-'All Respondents'!DJ7","v":-1.999999999999999E-2},{"$f":"'All Respondents'!DK8-'All Respondents'!DK7","v":-1.0000000000000009E-2},{"$f":"'All Respondents'!DL8-'All Respondents'!DL7","v":-9.999999999999995E-3}]
["Nov-Dec 10",null,null,{"$f":"'All Respondents'!E9-'All Respondents'!E8","v":-3.0000000000000027E-2},{"$f":"'All Respondents'!F9-'All Respondents'!F8","v":0},{"$f":"'All Respondents'!G9-'All Respondents'!G8","v":4.0000000000000036E-2},{"$f":"'All Respondents'!H9-'All Respondents'!H8","v":-3.0000000000000027E-2},{"$f":"'All Respondents'!I9-'All Respondents'!I8","v":1.1599999999999999E-2},{"$f":"'All Respondents'!J9-'All Respondents'!J8","v":-5.8999999999999886E-3},{"$f":"'All Respondents'!K9-'All Respondents'!K8","v":-2.0840000000000016E-3},{"$f":"'All Respondents'!L9-'All Respondents'!L8","v":-4.0000000000000036E-2},{"$f":"'All Respondents'!M9-'All Respondents'!M8","v":0.03},{"$f":"'All Respondents'!N9-'All Respondents'!N8","v":-1.0000000000000009E-2},{"$f":"'All Respondents'!O9-'All Respondents'!O8","v":7.0000000000000062E-2},null,null,{"$f":"'All Respondents'!R9-'All Respondents'!R8","v":-2.0000000000000018E-2},{"$f":"'All Respondents'!S9-'All Respondents'!S8","v":2.0000000000000018E-2},{"$f":"'All Respondents'!T9-'All Respondents'!T8","v":0},{"$f":"'All Respondents'!U9-'All Respondents'!U8","v":-0.03},{"$f":"'All Respondents'!V9-'All Respondents'!V8","v":9.9999999999999811E-3},{"$f":"'All Respondents'!W9-'All Respondents'!W8","v":-2.0000000000000018E-2},{"$f":"'All Respondents'!X9-'All Respondents'!X8","v":2.0000000000000018E-2},null,null,null,null,null,null,null,null,null,null,{"$f":"'All Respondents'!AI9-'All Respondents'!AI8","v":-9.9999999999999985E-3},{"$f":"'All Respondents'!AJ9-'All Respondents'!AJ8","v":-9.999999999999995E-3},{"$f":"'All Respondents'!AK9-'All Respondents'!AK8","v":-1.999999999999999E-2},{"$f":"'All Respondents'!AL9-'All Respondents'!AL8","v":-1.0000000000000009E-2},{"$f":"'All Respondents'!AM9-'All Respondents'!AM8","v":3.0000000000000027E-2},{"$f":"'All Respondents'!AN9-'All Respondents'!AN8","v":2.0000000000000018E-2},{"$f":"'All Respondents'!AO9-'All Respondents'!AO8","v":-4.0000000000000036E-2},null,null,null,null,null,null,null,null,null,null,{"$f":"'All Respondents'!AZ9-'All Respondents'!AZ8","v":-3.0000000000000027E-2},{"$f":"'All Respondents'!BA9-'All Respondents'!BA8","v":0},{"$f":"'All Respondents'!BB9-'All Respondents'!BB8","v":4.0000000000000036E-2},{"$f":"'All Respondents'!BC9-'All Respondents'!BC8","v":-3.0000000000000027E-2},{"$f":"'All Respondents'!BD9-'All Respondents'!BD8","v":-8.2300000000000081E-4},{"$f":"'All Respondents'!BE9-'All Respondents'!BE8","v":4.0000000000000036E-2},{"$f":"'All Respondents'!BF9-'All Respondents'!BF8","v":-3.999999999999998E-2},{"$f":"'All Respondents'!BG9-'All Respondents'!BG8","v":8.0000000000000016E-2},{"$f":"'All Respondents'!BH9-'All Respondents'!BH8","v":-3.0000000000000027E-2},{"$f":"'All Respondents'!BI9-'All Respondents'!BI8","v":6.0000000000000053E-2},{"$f":"'All Respondents'!BJ9-'All Respondents'!BJ8","v":-9.000000000000008E-2},{"$f":"'All Respondents'!BK9-'All Respondents'!BK8","v":-4.0000000000000008E-2},{"$f":"'All Respondents'!BL9-'All Respondents'!BL8","v":-1.0000000000000009E-2},{"$f":"'All Respondents'!BM9-'All Respondents'!BM8","v":-5.0000000000000044E-2},{"$f":"'All Respondents'!BN9-'All Respondents'!BN8","v":1.9999999999999962E-2},{"$f":"'All Respondents'!BO9-'All Respondents'!BO8","v":9.999999999999995E-3},{"$f":"'All Respondents'!BP9-'All Respondents'!BP8","v":0},{"$f":"'All Respondents'!BQ9-'All Respondents'!BQ8","v":9.9999999999999811E-3},{"$f":"'All Respondents'!BR9-'All Respondents'!BR8","v":-6.0000000000000026E-2},{"$f":"'All Respondents'!BS9-'All Respondents'!BS8","v":-4.9999999999999989E-2},{"$f":"'All Respondents'!BT9-'All Respondents'!BT8","v":4.0000000000000008E-2},{"$f":"'All Respondents'!BU9-'All Respondents'!BU8","v":2.0000000000000018E-2},{"$f":"'All Respondents'!BV9-'All Respondents'!BV8","v":-0.09},{"$f":"'All Respondents'!BW9-'All Respondents'!BW8","v":-3.9999999999999925E-2},{"$f":"'All Respondents'!BX9-'All Respondents'!BX8","v":3.0000000000000027E-2},{"$f":"'All Respondents'!BY9-'All Respondents'!BY8","v":6.9999999999999951E-2},{"$f":"'All Respondents'!BZ9-'All Respondents'!BZ8","v":0},{"$f":"'All Respondents'!CA9-'All Respondents'!CA8","v":0},{"$f":"'All Respondents'!CB9-'All Respondents'!CB8","v":0},{"$f":"'All Respondents'!CC9-'All Respondents'!CC8","v":0},{"$f":"'All Respondents'!CD9-'All Respondents'!CD8","v":0},{"$f":"'All Respondents'!CE9-'All Respondents'!CE8","v":-9.9999999999999811E-3},{"$f":"'All Respondents'!CF9-'All Respondents'!CF8","v":1.0000000000000009E-2},null,null,null,null,null,null,null,null,null,null,null,null,null,null,null,null,null,null,null,null,null,{"$f":"'All Respondents'!DB9-'All Respondents'!DB8","v":-1.0000000000000009E-2},{"$f":"'All Respondents'!DC9-'All Respondents'!DC8","v":2.0000000000000018E-2},null,null,{"$f":"'All Respondents'!DF9-'All Respondents'!DF8","v":0},{"$f":"'All Respondents'!DG9-'All Respondents'!DG8","v":-1.999999999999999E-2},{"$f":"'All Respondents'!DH9-'All Respondents'!DH8","v":-2.0000000000000018E-2},{"$f":"'All Respondents'!DI9-'All Respondents'!DI8","v":0},{"$f":"'All Respondents'!DJ9-'All Respondents'!DJ8","v":1.999999999999999E-2},{"$f":"'All Respondents'!DK9-'All Respondents'!DK8","v":0},{"$f":"'All Respondents'!DL9-'All Respondents'!DL8","v":2.0000000000000004E-2}]
["Dec 10-Jan 11",null,null,{"$f":"'All Respondents'!E10-'All Respondents'!E9","v":3.999999999999998E-2},{"$f":"'All Respondents'!F10-'All Respondents'!F9","v":-9.9999999999999811E-3},{"$f":"'All Respondents'!G10-'All Respondents'!G9","v":-6.0000000000000053E-2},{"$f":"'All Respondents'!H10-'All Respondents'!H9","v":4.9999999999999961E-2},{"$f":"'All Respondents'!I10-'All Respondents'!I9","v":6.1000000000000082E-3},{"$f":"'All Respondents'!J10-'All Respondents'!J9","v":-4.2000000000000093E-3},{"$f":"'All Respondents'!K10-'All Respondents'!K9","v":4.1489999999999956E-3},{"$f":"'All Respondents'!L10-'All Respondents'!L9","v":-2.9999999999999971E-2},{"$f":"'All Respondents'!M10-'All Respondents'!M9","v":-4.9999999999999989E-2},{"$f":"'All Respondents'!N10-'All Respondents'!N9","v":8.0000000000000016E-2},{"$f":"'All Respondents'!O10-'All Respondents'!O9","v":-2.0000000000000018E-2},null,null,{"$f":"'All Respondents'!R10-'All Respondents'!R9","v":-9.9999999999999534E-3},{"$f":"'All Respondents'!S10-'All Respondents'!S9","v":3.999999999999998E-2},{"$f":"'All Respondents'!T10-'All Respondents'!T9","v":3.0000000000000027E-2},{"$f":"'All Respondents'!U10-'All Respondents'!U9","v":-9.9999999999999811E-3},{"$f":"'All Respondents'!V10-'All Respondents'!V9","v":-1.999999999999999E-2},{"$f":"'All Respondents'!W10-'All Respondents'!W9","v":-2.9999999999999971E-2},{"$f":"'All Respondents'!X10-'All Respondents'!X9","v":0.06},null,null,null,null,null,null,null,null,null,null,{"$f":"'All Respondents'!AI10-'All Respondents'!AI9","v":-0.01},{"$f":"'All Respondents'!AJ10-'All Respondents'!AJ9","v":0.03},{"$f":"'All Respondents'!AK10-'All Respondents'!AK9","v":1.999999999999999E-2},{"$f":"'All Respondents'!AL10-'All Respondents'!AL9","v":-9.9999999999999534E-3},{"$f":"'All Respondents'!AM10-'All Respondents'!AM9","v":-1.0000000000000009E-2},{"$f":"'All Respondents'!AN10-'All Respondents'!AN9","v":-1.9999999999999907E-2},{"$f":"'All Respondents'!AO10-'All Respondents'!AO9","v":3.9999999999999925E-2},null,null,null,null,null,null,null,null,null,null,{"$f":"'All Respondents'!AZ10-'All Respondents'!AZ9","v":3.0000000000000027E-2},{"$f":"'All Respondents'!BA10-'All Respondents'!BA9","v":-1.0000000000000009E-2},{"$f":"'All Respondents'!BB10-'All Respondents'!BB9","v":-3.0000000000000027E-2},{"$f":"'All Respondents'!BC10-'All Respondents'!BC9","v":4.0000000000000036E-2},{"$f":"'All Respondents'!BD10-'All Respondents'!BD9","v":2.6070000000000086E-3},{"$f":"'All Respondents'!BE10-'All Respondents'!BE9","v":0},{"$f":"'All Respondents'!BF10-'All Respondents'!BF9","v":1.0000000000000009E-2},{"$f":"'All Respondents'!BG10-'All Respondents'!BG9","v":-1.0000000000000009E-2},{"$f":"'All Respondents'!BH10-'All Respondents'!BH9","v":5.0000000000000044E-2},{"$f":"'All Respondents'!BI10-'All Respondents'!BI9","v":-5.0000000000000044E-2},{"$f":"'All Respondents'!BJ10-'All Respondents'!BJ9","v":0.10000000000000009},{"$f":"'All Respondents'!BK10-'All Respondents'!BK9","v":4.0000000000000008E-2},{"$f":"'All Respondents'!BL10-'All Respondents'!BL9","v":2.9999999999999971E-2},{"$f":"'All Respondents'!BM10-'All Respondents'!BM9","v":6.9999999999999951E-2},{"$f":"'All Respondents'!BN10-'All Respondents'!BN9","v":0},{"$f":"'All Respondents'!BO10-'All Respondents'!BO9","v":-0.03},{"$f":"'All Respondents'!BP10-'All Respondents'!BP9","v":-1.0000000000000002E-2},{"$f":"'All Respondents'!BQ10-'All Respondents'!BQ9","v":-4.0000000000000008E-2},{"$f":"'All Respondents'!BR10-'All Respondents'!BR9","v":0.10999999999999996},{"$f":"'All Respondents'!BS10-'All Respondents'!BS9","v":4.9999999999999989E-2},{"$f":"'All Respondents'!BT10-'All Respondents'!BT9","v":-1.0000000000000009E-2},{"$f":"'All Respondents'!BU10-'All Respondents'!BU9","v":-5.9999999999999942E-2},{"$f":"'All Respondents'!BV10-'All Respondents'!BV9","v":0.06},{"$f":"'All Respondents'!BW10-'All Respondents'!BW9","v":3.0000000000000027E-2},{"$f":"'All Respondents'!BX10-'All Respondents'!BX9","v":-4.0000000000000036E-2},{"$f":"'All Respondents'!BY10-'All Respondents'!BY9","v":-7.0000000000000062E-2},{"$f":"'All Respondents'!BZ10-'All Respondents'!BZ9","v":-1.999999999999999E-2},{"$f":"'All Respondents'!CA10-'All Respondents'!CA9","v":-3.9999999999999994E-2},{"$f":"'All Respondents'!CB10-'All Respondents'!CB9","v":-0.06},{"$f":"'All Respondents'!CC10-'All Respondents'!CC9","v":5.0000000000000044E-2},{"$f":"'All Respondents'!CD10-'All Respondents'!CD9","v":0.03},{"$f":"'All Respondents'!CE10-'All Respondents'!CE9","v":-2.0000000000000018E-2},{"$f":"'All Respondents'!CF10-'All Respondents'!CF9","v":3.999999999999998E-2},null,null,null,null,null,null,null,null,null,null,null,null,null,null,null,null,null,null,null,null,null,{"$f":"'All Respondents'!DB10-'All Respondents'!DB9","v":-1.0000000000000009E-2},{"$f":"'All Respondents'!DC10-'All Respondents'!DC9","v":1.0000000000000009E-2},null,null,{"$f":"'All Respondents'!DF10-'All Respondents'!DF9","v":-4.0000000000000036E-2},{"$f":"'All Respondents'!DG10-'All Respondents'!DG9","v":9.9999999999999811E-3},{"$f":"'All Respondents'!DH10-'All Respondents'!DH9","v":-3.0000000000000027E-2},{"$f":"'All Respondents'!DI10-'All Respondents'!DI9","v":9.9999999999999811E-3},{"$f":"'All Respondents'!DJ10-'All Respondents'!DJ9","v":1.0000000000000009E-2},{"$f":"'All Respondents'!DK10-'All Respondents'!DK9","v":1.0000000000000009E-2},{"$f":"'All Respondents'!DL10-'All Respondents'!DL9","v":0}]
["Jan-Feb 11",null,null,{"$f":"'All Respondents'!E11-'All Respondents'!E10","v":2.0000000000000018E-2},{"$f":"'All Respondents'!F11-'All Respondents'!F10","v":-0.03},{"$f":"'All Respondents'!G11-'All Respondents'!G10","v":2.0000000000000018E-2},{"$f":"'All Respondents'!H11-'All Respondents'!H10","v":5.0000000000000017E-2},{"$f":"'All Respondents'!I11-'All Respondents'!I10","v":6.4999999999999919E-3},{"$f":"'All Respondents'!J11-'All Respondents'!J10","v":-7.8999999999999904E-3},{"$f":"'All Respondents'!K11-'All Respondents'!K10","v":2.7840000000000044E-3},{"$f":"'All Respondents'!L11-'All Respondents'!L10","v":4.9999999999999989E-2},{"$f":"'All Respondents'!M11-'All Respondents'!M10","v":-1.0000000000000009E-2},{"$f":"'All Respondents'!N11-'All Respondents'!N10","v":-2.9999999999999971E-2},{"$f":"'All Respondents'!O11-'All Respondents'!O10","v":-0.06},null,null,{"$f":"'All Respondents'!R11-'All Respondents'!R10","v":-1.0000000000000009E-2},{"$f":"'All Respondents'!S11-'All Respondents'!S10","v":0},{"$f":"'All Respondents'!T11-'All Respondents'!T10","v":-1.0000000000000009E-2},{"$f":"'All Respondents'!U11-'All Respondents'!U10","v":1.999999999999999E-2},{"$f":"'All Respondents'!V11-'All Respondents'!V10","v":-2.0000000000000004E-2},{"$f":"'All Respondents'!W11-'All Respondents'!W10","v":0},{"$f":"'All Respondents'!X11-'All Respondents'!X10","v":-1.0000000000000009E-2},null,null,null,null,null,null,null,null,null,null,{"$f":"'All Respondents'!AI11-'All Respondents'!AI10","v":0.01},{"$f":"'All Respondents'!AJ11-'All Respondents'!AJ10","v":-2.0000000000000004E-2},{"$f":"'All Respondents'!AK11-'All Respondents'!AK10","v":-9.999999999999995E-3},{"$f":"'All Respondents'!AL11-'All Respondents'!AL10","v":2.9999999999999971E-2},{"$f":"'All Respondents'!AM11-'All Respondents'!AM10","v":-4.0000000000000036E-2},{"$f":"'All Respondents'!AN11-'All Respondents'!AN10","v":-1.000000000000012E-2},{"$f":"'All Respondents'!AO11-'All Respondents'!AO10","v":0},null,null,null,null,null,null,null,null,null,null,{"$f":"'All Respondents'!AZ11-'All Respondents'!AZ10","v":2.9999999999999971E-2},{"$f":"'All Respondents'!BA11-'All Respondents'!BA10","v":1.0000000000000009E-2},{"$f":"'All Respondents'!BB11-'All Respondents'!BB10","v":-2.9999999999999971E-2},{"$f":"'All Respondents'!BC11-'All Respondents'!BC10","v":1.9999999999999962E-2},{"$f":"'All Respondents'!BD11-'All Respondents'!BD10","v":-1.5070000000000083E-3},{"$f":"'All Respondents'!BE11-'All Respondents'!BE10","v":-2.0000000000000018E-2},{"$f":"'All Respondents'!BF11-'All Respondents'!BF10","v":1.9999999999999962E-2},{"$f":"'All Respondents'!BG11-'All Respondents'!BG10","v":-3.999999999999998E-2},{"$f":"'All Respondents'!BH11-'All Respondents'!BH10","v":9.9999999999999534E-3},{"$f":"'All Respondents'!BI11-'All Respondents'!BI10","v":-3.9999999999999925E-2},{"$f":"'All Respondents'!BJ11-'All Respondents'!BJ10","v":4.9999999999999878E-2},{"$f":"'All Respondents'!BK11-'All Respondents'!BK10","v":-1.0000000000000009E-2},{"$f":"'All Respondents'!BL11-'All Respondents'!BL10","v":-1.9999999999999962E-2},{"$f":"'All Respondents'!BM11-'All Respondents'!BM10","v":-2.9999999999999916E-2},{"$f":"'All Respondents'!BN11-'All Respondents'!BN10","v":1.0000000000000009E-2},{"$f":"'All Respondents'!BO11-'All Respondents'!BO10","v":2.0000000000000004E-2},{"$f":"'All Respondents'!BP11-'All Respondents'!BP10","v":-1.0000000000000002E-2},{"$f":"'All Respondents'!BQ11-'All Respondents'!BQ10","v":1.0000000000000009E-2},{"$f":"'All Respondents'!BR11-'All Respondents'!BR10","v":-3.9999999999999925E-2},{"$f":"'All Respondents'!BS11-'All Respondents'!BS10","v":0},{"$f":"'All Respondents'!BT11-'All Respondents'!BT10","v":0},{"$f":"'All Respondents'!BU11-'All Respondents'!BU10","v":9.9999999999998979E-3},{"$f":"'All Respondents'!BV11-'All Respondents'!BV10","v":0},{"$f":"'All Respondents'!BW11-'All Respondents'!BW10","v":-4.0000000000000036E-2},{"$f":"'All Respondents'!BX11-'All Respondents'!BX10","v":4.0000000000000036E-2},{"$f":"'All Respondents'!BY11-'All Respondents'!BY10","v":8.0000000000000071E-2},{"$f":"'All Respondents'!BZ11-'All Respondents'!BZ10","v":1.999999999999999E-2},{"$f":"'All Respondents'!CA11-'All Respondents'!CA10","v":0.03},{"$f":"'All Respondents'!CB11-'All Respondents'!CB10","v":4.9999999999999989E-2},{"$f":"'All Respondents'!CC11-'All Respondents'!CC10","v":-2.0000000000000018E-2},{"$f":"'All Respondents'!CD11-'All Respondents'!CD10","v":-1.999999999999999E-2},{"$f":"'All Respondents'!CE11-'All Respondents'!CE10","v":2.0000000000000018E-2},{"$f":"'All Respondents'!CF11-'All Respondents'!CF10","v":-2.0000000000000018E-2},null,null,null,null,null,null,null,null,null,null,null,null,null,null,null,null,null,null,null,null,null,{"$f":"'All Respondents'!DB11-'All Respondents'!DB10","v":0},{"$f":"'All Respondents'!DC11-'All Respondents'!DC10","v":1.0000000000000009E-2},null,null,{"$f":"'All Respondents'!DF11-'All Respondents'!DF10","v":0.06},{"$f":"'All Respondents'!DG11-'All Respondents'!DG10","v":-1.999999999999999E-2},{"$f":"'All Respondents'!DH11-'All Respondents'!DH10","v":3.9999999999999925E-2},{"$f":"'All Respondents'!DI11-'All Respondents'!DI10","v":-9.9999999999999811E-3},{"$f":"'All Respondents'!DJ11-'All Respondents'!DJ10","v":-1.0000000000000009E-2},{"$f":"'All Respondents'!DK11-'All Respondents'!DK10","v":-1.0000000000000009E-2},{"$f":"'All Respondents'!DL11-'All Respondents'!DL10","v":0}]
["Feb-Mar 11",null,null,{"$f":"'All Respondents'!E12-'All Respondents'!E11","v":2.0000000000000018E-2},{"$f":"'All Respondents'!F12-'All Respondents'!F11","v":4.9999999999999989E-2},{"$f":"'All Respondents'!G12-'All Respondents'!G11","v":-8.0000000000000016E-2},{"$f":"'All Respondents'!H12-'All Respondents'!H11","v":-2.9999999999999971E-2},{"$f":"'All Respondents'!I12-'All Respondents'!I11","v":-3.1999999999999945E-3},{"$f":"'All Respondents'!J12-'All Respondents'!J11","v":1.0700000000000001E-2},{"$f":"'All Respondents'!K12-'All Respondents'!K11","v":1.4099999999999877E-4},{"$f":"'All Respondents'!L12-'All Respondents'!L11","v":1.0000000000000009E-2},{"$f":"'All Respondents'!M12-'All Respondents'!M11","v":1.0000000000000009E-2},{"$f":"'All Respondents'!N12-'All Respondents'!N11","v":-2.0000000000000018E-2},{"$f":"'All Respondents'!O12-'All Respondents'!O11","v":0},null,null,{"$f":"'All Respondents'!R12-'All Respondents'!R11","v":-2.0000000000000018E-2},{"$f":"'All Respondents'!S12-'All Respondents'!S11","v":1.0000000000000009E-2},{"$f":"'All Respondents'!T12-'All Respondents'!T11","v":-1.0000000000000009E-2},{"$f":"'All Respondents'!U12-'All Respondents'!U11","v":0.03},{"$f":"'All Respondents'!V12-'All Respondents'!V11","v":-9.999999999999995E-3},{"$f":"'All Respondents'!W12-'All Respondents'!W11","v":2.0000000000000018E-2},{"$f":"'All Respondents'!X12-'All Respondents'!X11","v":-3.0000000000000027E-2},null,null,null,null,null,null,null,null,null,null,{"$f":"'All Respondents'!AI12-'All Respondents'!AI11","v":0},{"$f":"'All Respondents'!AJ12-'All Respondents'!AJ11","v":2.0000000000000004E-2},{"$f":"'All Respondents'!AK12-'All Respondents'!AK11","v":2.0000000000000004E-2},{"$f":"'All Respondents'!AL12-'All Respondents'!AL11","v":-1.0000000000000009E-2},{"$f":"'All Respondents'!AM12-'All Respondents'!AM11","v":-1.0000000000000009E-2},{"$f":"'All Respondents'!AN12-'All Respondents'!AN11","v":-2.0000000000000018E-2},{"$f":"'All Respondents'!AO12-'All Respondents'!AO11","v":4.0000000000000036E-2},null,null,null,null,null,null,null,null,null,null,{"$f":"'All Respondents'!AZ12-'All Respondents'!AZ11","v":3.0000000000000027E-2},{"$f":"'All Respondents'!BA12-'All Respondents'!BA11","v":-1.0000000000000009E-2},{"$f":"'All Respondents'!BB12-'All Respondents'!BB11","v":-2.0000000000000018E-2},{"$f":"'All Respondents'!BC12-'All Respondents'!BC11","v":4.0000000000000036E-2},{"$f":"'All Respondents'!BD12-'All Respondents'!BD11","v":1.0730000000000045E-3},{"$f":"'All Respondents'!BE12-'All Respondents'!BE11","v":-1.0000000000000009E-2},{"$f":"'All Respondents'!BF12-'All Respondents'!BF11","v":1.0000000000000009E-2},{"$f":"'All Respondents'!BG12-'All Respondents'!BG11","v":-2.0000000000000018E-2},{"$f":"'All Respondents'!BH12-'All Respondents'!BH11","v":-4.9999999999999989E-2},{"$f":"'All Respondents'!BI12-'All Respondents'!BI11","v":8.9999999999999969E-2},{"$f":"'All Respondents'!BJ12-'All Respondents'!BJ11","v":-0.13999999999999996},{"$f":"'All Respondents'!BK12-'All Respondents'!BK11","v":-1.999999999999999E-2},{"$f":"'All Respondents'!BL12-'All Respondents'!BL11","v":-2.0000000000000018E-2},{"$f":"'All Respondents'!BM12-'All Respondents'!BM11","v":-4.0000000000000036E-2},{"$f":"'All Respondents'!BN12-'All Respondents'!BN11","v":-3.999999999999998E-2},{"$f":"'All Respondents'!BO12-'All Respondents'!BO11","v":4.9999999999999989E-2},{"$f":"'All Respondents'!BP12-'All Respondents'!BP11","v":0.03},{"$f":"'All Respondents'!BQ12-'All Respondents'!BQ11","v":7.9999999999999988E-2},{"$f":"'All Respondents'!BR12-'All Respondents'!BR11","v":-0.12000000000000002},{"$f":"'All Respondents'!BS12-'All Respondents'!BS11","v":-0.03},{"$f":"'All Respondents'!BT12-'All Respondents'!BT11","v":1.0000000000000009E-2},{"$f":"'All Respondents'!BU12-'All Respondents'!BU11","v":2.0000000000000018E-2},{"$f":"'All Respondents'!BV12-'All Respondents'!BV11","v":-4.0000000000000008E-2},{"$f":"'All Respondents'!BW12-'All Respondents'!BW11","v":4.9999999999999933E-2},{"$f":"'All Respondents'!BX12-'All Respondents'!BX11","v":-4.0000000000000036E-2},{"$f":"'All Respondents'!BY12-'All Respondents'!BY11","v":-8.9999999999999969E-2},{"$f":"'All Respondents'!BZ12-'All Respondents'!BZ11","v":-3.9999999999999994E-2},{"$f":"'All Respondents'!CA12-'All Respondents'!CA11","v":-9.999999999999995E-3},{"$f":"'All Respondents'!CB12-'All Respondents'!CB11","v":-4.9999999999999989E-2},{"$f":"'All Respondents'!CC12-'All Respondents'!CC11","v":2.0000000000000018E-2},{"$f":"'All Respondents'!CD12-'All Respondents'!CD11","v":-1.999999999999999E-2},{"$f":"'All Respondents'!CE12-'All Respondents'!CE11","v":0},{"$f":"'All Respondents'!CF12-'All Respondents'!CF11","v":4.0000000000000036E-2},null,null,null,null,null,null,null,null,null,null,null,null,null,null,null,null,null,null,null,null,null,{"$f":"'All Respondents'!DB12-'All Respondents'!DB11","v":0},{"$f":"'All Respondents'!DC12-'All Respondents'!DC11","v":-1.0000000000000009E-2},null,null,{"$f":"'All Respondents'!DF12-'All Respondents'!DF11","v":-3.999999999999998E-2},{"$f":"'All Respondents'!DG12-'All Respondents'!DG11","v":1.999999999999999E-2},{"$f":"'All Respondents'!DH12-'All Respondents'!DH11","v":-1.9999999999999907E-2},{"$f":"'All Respondents'!DI12-'All Respondents'!DI11","v":-1.0000000000000009E-2},{"$f":"'All Respondents'!DJ12-'All Respondents'!DJ11","v":0.03},{"$f":"'All Respondents'!DK12-'All Respondents'!DK11","v":0.03},{"$f":"'All Respondents'!DL12-'All Respondents'!DL11","v":0}]
["Mar-Apr 11",{"$f":"'All Respondents'!B13-'All Respondents'!B12","v":2.5},{"$f":"'All Respondents'!D13-'All Respondents'!D12","v":3},{"$f":"'All Respondents'!E13-'All Respondents'!E12","v":-3.0000000000000027E-2},{"$f":"'All Respondents'!F13-'All Respondents'!F12","v":0},{"$f":"'All Respondents'!G13-'All Respondents'!G12","v":4.9999999999999989E-2},{"$f":"'All Respondents'!H13-'All Respondents'!H12","v":-3.0000000000000027E-2},{"$f":"'All Respondents'!I13-'All Respondents'!I12","v":-1.8999999999999989E-3},{"$f":"'All Respondents'!J13-'All Respondents'!J12","v":1.1599999999999999E-2},{"$f":"'All Respondents'!K13-'All Respondents'!K12","v":6.4099999999999921E-4},{"$f":"'All Respondents'!L13-'All Respondents'!L12","v":0},{"$f":"'All Respondents'!M13-'All Respondents'!M12","v":0},{"$f":"'All Respondents'!N13-'All Respondents'!N12","v":-3.999999999999998E-2},{"$f":"'All Respondents'!O13-'All Respondents'!O12","v":0},null,null,{"$f":"'All Respondents'!R13-'All Respondents'!R12","v":4.9999999999999989E-2},{"$f":"'All Respondents'!S13-'All Respondents'!S12","v":0},{"$f":"'All Respondents'!T13-'All Respondents'!T12","v":5.0000000000000044E-2},{"$f":"'All Respondents'!U13-'All Respondents'!U12","v":-4.9999999999999989E-2},{"$f":"'All Respondents'!V13-'All Respondents'!V12","v":9.999999999999995E-3},{"$f":"'All Respondents'!W13-'All Respondents'!W12","v":-4.0000000000000036E-2},{"$f":"'All Respondents'!X13-'All Respondents'!X12","v":9.000000000000008E-2},null,null,null,null,null,null,null,null,null,null,{"$f":"'All Respondents'!AI13-'All Respondents'!AI12","v":0},{"$f":"'All Respondents'!AJ13-'All Respondents'!AJ12","v":-1.0000000000000009E-2},{"$f":"'All Respondents'!AK13-'All Respondents'!AK12","v":-1.0000000000000009E-2},{"$f":"'All Respondents'!AL13-'All Respondents'!AL12","v":2.0000000000000018E-2},{"$f":"'All Respondents'!AM13-'All Respondents'!AM12","v":1.0000000000000009E-2},{"$f":"'All Respondents'!AN13-'All Respondents'!AN12","v":3.0000000000000027E-2},{"$f":"'All Respondents'!AO13-'All Respondents'!AO12","v":-4.0000000000000036E-2},null,null,null,null,null,null,null,null,null,null,{"$f":"'All Respondents'!AZ13-'All Respondents'!AZ12","v":-3.0000000000000027E-2},{"$f":"'All Respondents'!BA13-'All Respondents'!BA12","v":0},{"$f":"'All Respondents'!BB13-'All Respondents'!BB12","v":0},{"$f":"'All Respondents'!BC13-'All Respondents'!BC12","v":-3.0000000000000027E-2},{"$f":"'All Respondents'!BD13-'All Respondents'!BD12","v":-1.5600000000000336E-4},{"$f":"'All Respondents'!BE13-'All Respondents'!BE12","v":0},{"$f":"'All Respondents'!BF13-'All Respondents'!BF12","v":0},{"$f":"'All Respondents'!BG13-'All Respondents'!BG12","v":0},{"$f":"'All Respondents'!BH13-'All Respondents'!BH12","v":-1.0000000000000009E-2},{"$f":"'All Respondents'!BI13-'All Respondents'!BI12","v":0},{"$f":"'All Respondents'!BJ13-'All Respondents'!BJ12","v":-1.0000000000000009E-2},{"$f":"'All Respondents'!BK13-'All Respondents'!BK12","v":-1.0000000000000009E-2},{"$f":"'All Respondents'!BL13-'All Respondents'!BL12","v":2.0000000000000018E-2},{"$f":"'All Respondents'!BM13-'All Respondents'!BM12","v":1.0000000000000009E-2},{"$f":"'All Respondents'!BN13-'All Respondents'!BN12","v":2.9999999999999971E-2},{"$f":"'All Respondents'!BO13-'All Respondents'!BO12","v":-3.9999999999999994E-2},{"$f":"'All Respondents'!BP13-'All Respondents'!BP12","v":0},{"$f":"'All Respondents'!BQ13-'All Respondents'!BQ12","v":-4.0000000000000008E-2},{"$f":"'All Respondents'!BR13-'All Respondents'!BR12","v":5.0000000000000017E-2},{"$f":"'All Respondents'!BS13-'All Respondents'!BS12","v":4.0000000000000008E-2},{"$f":"'All Respondents'!BT13-'All Respondents'!BT12","v":-2.0000000000000018E-2},{"$f":"'All Respondents'!BU13-'All Respondents'!BU12","v":-2.0000000000000018E-2},{"$f":"'All Respondents'!BV13-'All Respondents'!BV12","v":6.0000000000000026E-2},{"$f":"'All Respondents'!BW13-'All Respondents'!BW12","v":-1.9999999999999907E-2},{"$f":"'All Respondents'!BX13-'All Respondents'!BX12","v":2.0000000000000018E-2},{"$f":"'All Respondents'!BY13-'All Respondents'!BY12","v":3.9999999999999925E-2},{"$f":"'All Respondents'!BZ13-'All Respondents'!BZ12","v":0.05},{"$f":"'All Respondents'!CA13-'All Respondents'!CA12","v":9.999999999999995E-3},{"$f":"'All Respondents'!CB13-'All Respondents'!CB12","v":0.06},{"$f":"'All Respondents'!CC13-'All Respondents'!CC12","v":-4.0000000000000036E-2},{"$f":"'All Respondents'!CD13-'All Respondents'!CD12","v":-1.0000000000000009E-2},{"$f":"'All Respondents'!CE13-'All Respondents'!CE12","v":1.999999999999999E-2},{"$f":"'All Respondents'!CF13-'All Respondents'!CF12","v":-4.9999999999999989E-2},{"$f":"'All Respondents'!CG13-'All Respondents'!CG12","v":-0.03},{"$f":"'All Respondents'!CH13-'All Respondents'!CH12","v":-3.0000000000000013E-2},{"$f":"'All Respondents'!CI13-'All Respondents'!CI12","v":9.9999999999999811E-3},{"$f":"'All Respondents'!CJ13-'All Respondents'!CJ12","v":1.9999999999999907E-2},{"$f":"'All Respondents'!CK13-'All Respondents'!CK12","v":-1.999999999999999E-2},{"$f":"'All Respondents'!CL13-'All Respondents'!CL12","v":-1.999999999999999E-2},{"$f":"'All Respondents'!CM13-'All Respondents'!CM12","v":-4.0000000000000008E-2},{"$f":"'All Respondents'!CN13-'All Respondents'!CN12","v":3.0000000000000027E-2},{"$f":"'All Respondents'!CO13-'All Respondents'!CO12","v":9.9999999999999811E-3},{"$f":"'All Respondents'!CP13-'All Respondents'!CP12","v":2.0000000000000018E-2},{"$f":"'All Respondents'!CQ13-'All Respondents'!CQ12","v":7.0000000000000062E-2},null,null,null,null,null,null,null,null,null,null,{"$f":"'All Respondents'!DB13-'All Respondents'!DB12","v":1.0000000000000009E-2},{"$f":"'All Respondents'!DC13-'All Respondents'!DC12","v":-1.0000000000000009E-2},null,null,{"$f":"'All Respondents'!DF13-'All Respondents'!DF12","v":1.0000000000000009E-2},{"$f":"'All Respondents'!DG13-'All Respondents'!DG12","v":0},{"$f":"'All Respondents'!DH13-'All Respondents'!DH12","v":1.0000000000000009E-2},{"$f":"'All Respondents'!DI13-'All Respondents'!DI12","v":-1.0000000000000009E-2},{"$f":"'All Respondents'!DJ13-'All Respondents'!DJ12","v":-1.0000000000000009E-2},{"$f":"'All Respondents'!DK13-'All Respondents'!DK12","v":-1.999999999999999E-2},{"$f":"'All Respondents'!DL13-'All Respondents'!DL12","v":9.999999999999995E-3}]
["Apr-May 11",{"$f":"'All Respondents'!B14-'All Respondents'!B13","v":-2.2000000000000028},{"$f":"'All Respondents'!D14-'All Respondents'!D13","v":-3.1999999999999886},{"$f":"'All Respondents'!E14-'All Respondents'!E13","v":-2.9999999999999971E-2},{"$f":"'All Respondents'!F14-'All Respondents'!F13","v":0},{"$f":"'All Respondents'!G14-'All Respondents'!G13","v":2.0000000000000018E-2},{"$f":"'All Respondents'!H14-'All Respondents'!H13","v":-2.9999999999999971E-2},{"$f":"'All Respondents'!I14-'All Respondents'!I13","v":-2.6000000000000051E-3},{"$f":"'All Respondents'!J14-'All Respondents'!J13","v":-6.2000000000000111E-3},{"$f":"'All Respondents'!K14-'All Respondents'!K13","v":-4.9940000000000002E-3},{"$f":"'All Respondents'!L14-'All Respondents'!L13","v":-4.0000000000000036E-2},{"$f":"'All Respondents'!M14-'All Respondents'!M13","v":-1.0000000000000009E-2},{"$f":"'All Respondents'!N14-'All Respondents'!N13","v":0.06},{"$f":"'All Respondents'!O14-'All Respondents'!O13","v":3.0000000000000027E-2},null,null,{"$f":"'All Respondents'!R14-'All Respondents'!R13","v":-1.0000000000000009E-2},{"$f":"'All Respondents'!S14-'All Respondents'!S13","v":-4.9999999999999989E-2},{"$f":"'All Respondents'!T14-'All Respondents'!T13","v":-6.0000000000000053E-2},{"$f":"'All Respondents'!U14-'All Respondents'!U13","v":3.999999999999998E-2},{"$f":"'All Respondents'!V14-'All Respondents'!V13","v":9.999999999999995E-3},{"$f":"'All Respondents'!W14-'All Respondents'!W13","v":4.9999999999999989E-2},{"$f":"'All Respondents'!X14-'All Respondents'!X13","v":-0.11000000000000004},null,null,null,null,null,null,null,null,null,null,{"$f":"'All Respondents'!AI14-'All Respondents'!AI13","v":9.9999999999999985E-3},{"$f":"'All Respondents'!AJ14-'All Respondents'!AJ13","v":-9.999999999999995E-3},{"$f":"'All Respondents'!AK14-'All Respondents'!AK13","v":0},{"$f":"'All Respondents'!AL14-'All Respondents'!AL13","v":-1.0000000000000009E-2},{"$f":"'All Respondents'!AM14-'All Respondents'!AM13","v":-1.0000000000000009E-2},{"$f":"'All Respondents'!AN14-'All Respondents'!AN13","v":-2.0000000000000018E-2},{"$f":"'All Respondents'!AO14-'All Respondents'!AO13","v":2.0000000000000018E-2},null,null,null,null,null,null,null,null,null,null,{"$f":"'All Respondents'!AZ14-'All Respondents'!AZ13","v":3.0000000000000027E-2},{"$f":"'All Respondents'!BA14-'All Respondents'!BA13","v":-1.9999999999999997E-2},{"$f":"'All Respondents'!BB14-'All Respondents'!BB13","v":0},{"$f":"'All Respondents'!BC14-'All Respondents'!BC13","v":5.0000000000000044E-2},{"$f":"'All Respondents'!BD14-'All Respondents'!BD13","v":7.0099999999999954E-3},{"$f":"'All Respondents'!BE14-'All Respondents'!BE13","v":1.0000000000000009E-2},{"$f":"'All Respondents'!BF14-'All Respondents'!BF13","v":-1.0000000000000009E-2},{"$f":"'All Respondents'!BG14-'All Respondents'!BG13","v":2.0000000000000018E-2},{"$f":"'All Respondents'!BH14-'All Respondents'!BH13","v":1.0000000000000009E-2},{"$f":"'All Respondents'!BI14-'All Respondents'!BI13","v":-2.0000000000000018E-2},{"$f":"'All Respondents'!BJ14-'All Respondents'!BJ13","v":3.0000000000000027E-2},{"$f":"'All Respondents'!BK14-'All Respondents'!BK13","v":2.0000000000000018E-2},{"$f":"'All Respondents'!BL14-'All Respondents'!BL13","v":-2.0000000000000018E-2},{"$f":"'All Respondents'!BM14-'All Respondents'!BM13","v":0},{"$f":"'All Respondents'!BN14-'All Respondents'!BN13","v":0},{"$f":"'All Respondents'!BO14-'All Respondents'!BO13","v":0},{"$f":"'All Respondents'!BP14-'All Respondents'!BP13","v":0},{"$f":"'All Respondents'!BQ14-'All Respondents'!BQ13","v":0},{"$f":"'All Respondents'!BR14-'All Respondents'!BR13","v":0},{"$f":"'All Respondents'!BS14-'All Respondents'!BS13","v":-2.0000000000000018E-2},{"$f":"'All Respondents'!BT14-'All Respondents'!BT13","v":-1.999999999999999E-2},{"$f":"'All Respondents'!BU14-'All Respondents'!BU13","v":4.0000000000000036E-2},{"$f":"'All Respondents'!BV14-'All Respondents'!BV13","v":0},{"$f":"'All Respondents'!BW14-'All Respondents'!BW13","v":0},{"$f":"'All Respondents'!BX14-'All Respondents'!BX13","v":0},{"$f":"'All Respondents'!BY14-'All Respondents'!BY13","v":0},{"$f":"'All Respondents'!BZ14-'All Respondents'!BZ13","v":-4.0000000000000008E-2},{"$f":"'All Respondents'!CA14-'All Respondents'!CA13","v":0},{"$f":"'All Respondents'!CB14-'All Respondents'!CB13","v":-4.0000000000000036E-2},{"$f":"'All Respondents'!CC14-'All Respondents'!CC13","v":1.0000000000000009E-2},{"$f":"'All Respondents'!CD14-'All Respondents'!CD13","v":4.0000000000000008E-2},{"$f":"'All Respondents'!CE14-'All Respondents'!CE13","v":-0.03},{"$f":"'All Respondents'!CF14-'All Respondents'!CF13","v":0},{"$f":"'All Respondents'!CG14-'All Respondents'!CG13","v":9.999999999999995E-3},{"$f":"'All Respondents'!CH14-'All Respondents'!CH13","v":3.9999999999999994E-2},{"$f":"'All Respondents'!CI14-'All Respondents'!CI13","v":-9.9999999999999811E-3},{"$f":"'All Respondents'!CJ14-'All Respondents'!CJ13","v":0},{"$f":"'All Respondents'!CK14-'All Respondents'!CK13","v":9.999999999999995E-3},{"$f":"'All Respondents'!CL14-'All Respondents'!CL13","v":1.999999999999999E-2},{"$f":"'All Respondents'!CM14-'All Respondents'!CM13","v":0.03},{"$f":"'All Respondents'!CN14-'All Respondents'!CN13","v":-1.0000000000000009E-2},{"$f":"'All Respondents'!CO14-'All Respondents'!CO13","v":-9.9999999999999811E-3},{"$f":"'All Respondents'!CP14-'All Respondents'!CP13","v":0},{"$f":"'All Respondents'!CQ14-'All Respondents'!CQ13","v":-4.0000000000000036E-2},null,null,null,null,null,null,null,null,null,null,{"$f":"'All Respondents'!DB14-'All Respondents'!DB13","v":-1.0000000000000009E-2},{"$f":"'All Respondents'!DC14-'All Respondents'!DC13","v":1.0000000000000009E-2},null,null,{"$f":"'All Respondents'!DF14-'All Respondents'!DF13","v":0},{"$f":"'All Respondents'!DG14-'All Respondents'!DG13","v":-0.03},{"$f":"'All Respondents'!DH14-'All Respondents'!DH13","v":-3.0000000000000027E-2},{"$f":"'All Respondents'!DI14-'All Respondents'!DI13","v":1.0000000000000009E-2},{"$f":"'All Respondents'!DJ14-'All Respondents'!DJ13","v":1.0000000000000009E-2},{"$f":"'All Respondents'!DK14-'All Respondents'!DK13","v":0},{"$f":"'All Respondents'!DL14-'All Respondents'!DL13","v":9.999999999999995E-3}]
["May-Jun 11",{"$f":"'All Respondents'!B15-'All Respondents'!B14","v":0.70000000000000284},{"$f":"'All Respondents'!D15-'All Respondents'!D14","v":-1.6000000000000085},{"$f":"'All Respondents'!E15-'All Respondents'!E14","v":-5.0000000000000017E-2},{"$f":"'All Respondents'!F15-'All Respondents'!F14","v":0.06},{"$f":"'All Respondents'!G15-'All Respondents'!G14","v":0},{"$f":"'All Respondents'!H15-'All Respondents'!H14","v":-0.11000000000000001},{"$f":"'All Respondents'!I15-'All Respondents'!I14","v":-1.0000000000000286E-4},{"$f":"'All Respondents'!J15-'All Respondents'!J14","v":-5.2999999999999992E-3},{"$f":"'All Respondents'!K15-'All Respondents'!K14","v":-1.1117000000000004E-2},{"$f":"'All Respondents'!L15-'All Respondents'!L14","v":-9.9999999999999978E-2},{"$f":"'All Respondents'!M15-'All Respondents'!M14","v":2.0000000000000004E-2},{"$f":"'All Respondents'!N15-'All Respondents'!N14","v":8.9999999999999969E-2},{"$f":"'All Respondents'!O15-'All Respondents'!O14","v":0.12},null,null,{"$f":"'All Respondents'!R15-'All Respondents'!R14","v":-9.9999999999999534E-3},{"$f":"'All Respondents'!S15-'All Respondents'!S14","v":2.0000000000000018E-2},{"$f":"'All Respondents'!T15-'All Respondents'!T14","v":1.000000000000012E-2},{"$f":"'All Respondents'!U15-'All Respondents'!U14","v":-0.03},{"$f":"'All Respondents'!V15-'All Respondents'!V14","v":2.0000000000000018E-2},{"$f":"'All Respondents'!W15-'All Respondents'!W14","v":-9.9999999999999534E-3},{"$f":"'All Respondents'!X15-'All Respondents'!X14","v":2.0000000000000073E-2},null,null,null,null,null,null,null,null,null,null,{"$f":"'All Respondents'!AI15-'All Respondents'!AI14","v":-9.9999999999999985E-3},{"$f":"'All Respondents'!AJ15-'All Respondents'!AJ14","v":9.999999999999995E-3},{"$f":"'All Respondents'!AK15-'All Respondents'!AK14","v":0},{"$f":"'All Respondents'!AL15-'All Respondents'!AL14","v":-0.06},{"$f":"'All Respondents'!AM15-'All Respondents'!AM14","v":8.0000000000000071E-2},{"$f":"'All Respondents'!AN15-'All Respondents'!AN14","v":2.0000000000000129E-2},{"$f":"'All Respondents'!AO15-'All Respondents'!AO14","v":-2.0000000000000129E-2},null,null,null,null,null,null,null,null,null,null,{"$f":"'All Respondents'!AZ15-'All Respondents'!AZ14","v":-2.0000000000000018E-2},{"$f":"'All Respondents'!BA15-'All Respondents'!BA14","v":1.9999999999999997E-2},{"$f":"'All Respondents'!BB15-'All Respondents'!BB14","v":2.0000000000000018E-2},{"$f":"'All Respondents'!BC15-'All Respondents'!BC14","v":-4.0000000000000036E-2},{"$f":"'All Respondents'!BD15-'All Respondents'!BD14","v":1.6200000000000034E-3},{"$f":"'All Respondents'!BE15-'All Respondents'!BE14","v":-1.0000000000000009E-2},{"$f":"'All Respondents'!BF15-'All Respondents'!BF14","v":2.0000000000000018E-2},{"$f":"'All Respondents'!BG15-'All Respondents'!BG14","v":-3.0000000000000027E-2},{"$f":"'All Respondents'!BH15-'All Respondents'!BH14","v":-3.999999999999998E-2},{"$f":"'All Respondents'!BI15-'All Respondents'!BI14","v":6.0000000000000053E-2},{"$f":"'All Respondents'!BJ15-'All Respondents'!BJ14","v":-0.10000000000000003},{"$f":"'All Respondents'!BK15-'All Respondents'!BK14","v":0},{"$f":"'All Respondents'!BL15-'All Respondents'!BL14","v":0},{"$f":"'All Respondents'!BM15-'All Respondents'!BM14","v":0},{"$f":"'All Respondents'!BN15-'All Respondents'!BN14","v":0},{"$f":"'All Respondents'!BO15-'All Respondents'!BO14","v":0},{"$f":"'All Respondents'!BP15-'All Respondents'!BP14","v":-9.999999999999995E-3},{"$f":"'All Respondents'!BQ15-'All Respondents'!BQ14","v":-9.9999999999999811E-3},{"$f":"'All Respondents'!BR15-'All Respondents'!BR14","v":9.9999999999999811E-3},{"$f":"'All Respondents'!BS15-'All Respondents'!BS14","v":0},{"$f":"'All Respondents'!BT15-'All Respondents'!BT14","v":1.0000000000000009E-2},{"$f":"'All Respondents'!BU15-'All Respondents'!BU14","v":1.0000000000000009E-2},{"$f":"'All Respondents'!BV15-'All Respondents'!BV14","v":-1.0000000000000009E-2},{"$f":"'All Respondents'!BW15-'All Respondents'!BW14","v":-4.0000000000000036E-2},{"$f":"'All Respondents'!BX15-'All Respondents'!BX14","v":2.0000000000000018E-2},{"$f":"'All Respondents'!BY15-'All Respondents'!BY14","v":6.0000000000000053E-2},{"$f":"'All Respondents'!BZ15-'All Respondents'!BZ14","v":0.06},{"$f":"'All Respondents'!CA15-'All Respondents'!CA14","v":-9.999999999999995E-3},{"$f":"'All Respondents'!CB15-'All Respondents'!CB14","v":5.0000000000000044E-2},{"$f":"'All Respondents'!CC15-'All Respondents'!CC14","v":-2.0000000000000018E-2},{"$f":"'All Respondents'!CD15-'All Respondents'!CD14","v":-0.03},{"$f":"'All Respondents'!CE15-'All Respondents'!CE14","v":-1.0000000000000009E-2},{"$f":"'All Respondents'!CF15-'All Respondents'!CF14","v":1.9999999999999962E-2},{"$f":"'All Respondents'!CG15-'All Respondents'!CG14","v":-9.999999999999995E-3},{"$f":"'All Respondents'!CH15-'All Respondents'!CH14","v":-0.03},{"$f":"'All Respondents'!CI15-'All Respondents'!CI14","v":0},{"$f":"'All Respondents'!CJ15-'All Respondents'!CJ14","v":0},{"$f":"'All Respondents'!CK15-'All Respondents'!CK14","v":-9.999999999999995E-3},{"$f":"'All Respondents'!CL15-'All Respondents'!CL14","v":-1.999999999999999E-2},{"$f":"'All Respondents'!CM15-'All Respondents'!CM14","v":-0.03},{"$f":"'All Respondents'!CN15-'All Respondents'!CN14","v":1.0000000000000009E-2},{"$f":"'All Respondents'!CO15-'All Respondents'!CO14","v":-2.0000000000000018E-2},{"$f":"'All Respondents'!CP15-'All Respondents'!CP14","v":3.0000000000000027E-2},{"$f":"'All Respondents'!CQ15-'All Respondents'!CQ14","v":4.0000000000000036E-2},null,null,null,null,null,null,null,null,null,null,{"$f":"'All Respondents'!DB15-'All Respondents'!DB14","v":2.0000000000000018E-2},{"$f":"'All Respondents'!DC15-'All Respondents'!DC14","v":-3.0000000000000027E-2},null,null,{"$f":"'All Respondents'!DF15-'All Respondents'!DF14","v":0},{"$f":"'All Respondents'!DG15-'All Respondents'!DG14","v":-9.9999999999999811E-3},{"$f":"'All Respondents'!DH15-'All Respondents'!DH14","v":-1.0000000000000009E-2},{"$f":"'All Respondents'!DI15-'All Respondents'!DI14","v":1.999999999999999E-2},{"$f":"'All Respondents'!DJ15-'All Respondents'!DJ14","v":-2.0000000000000018E-2},{"$f":"'All Respondents'!DK15-'All Respondents'!DK14","v":-2.0000000000000004E-2},{"$f":"'All Respondents'!DL15-'All Respondents'!DL14","v":0}]
["Jun-Jul 11",{"$f":"'All Respondents'!B16-'All Respondents'!B15","v":-1},{"$f":"'All Respondents'!D16-'All Respondents'!D15","v":0.20000000000000284},{"$f":"'All Respondents'!E16-'All Respondents'!E15","v":0},{"$f":"'All Respondents'!F16-'All Respondents'!F15","v":0},{"$f":"'All Respondents'!G16-'All Respondents'!G15","v":-1.0000000000000009E-2},{"$f":"'All Respondents'!H16-'All Respondents'!H15","v":0},{"$f":"'All Respondents'!I16-'All Respondents'!I15","v":-1.319999999999999E-2},{"$f":"'All Respondents'!J16-'All Respondents'!J15","v":2.2000000000000075E-3},{"$f":"'All Respondents'!K16-'All Respondents'!K15","v":-2.8159999999999939E-3},{"$f":"'All Respondents'!L16-'All Respondents'!L15","v":8.0000000000000016E-2},{"$f":"'All Respondents'!M16-'All Respondents'!M15","v":9.999999999999995E-3},{"$f":"'All Respondents'!N16-'All Respondents'!N15","v":-8.9999999999999969E-2},{"$f":"'All Respondents'!O16-'All Respondents'!O15","v":-7.0000000000000007E-2},null,null,{"$f":"'All Respondents'!R16-'All Respondents'!R15","v":-5.0000000000000044E-2},{"$f":"'All Respondents'!S16-'All Respondents'!S15","v":4.9999999999999989E-2},{"$f":"'All Respondents'!T16-'All Respondents'!T15","v":0},{"$f":"'All Respondents'!U16-'All Respondents'!U15","v":1.0000000000000009E-2},{"$f":"'All Respondents'!V16-'All Respondents'!V15","v":0},{"$f":"'All Respondents'!W16-'All Respondents'!W15","v":1.0000000000000009E-2},{"$f":"'All Respondents'!X16-'All Respondents'!X15","v":-1.000000000000012E-2},null,null,null,null,null,null,null,null,null,null,{"$f":"'All Respondents'!AI16-'All Respondents'!AI15","v":9.9999999999999985E-3},{"$f":"'All Respondents'!AJ16-'All Respondents'!AJ15","v":0},{"$f":"'All Respondents'!AK16-'All Respondents'!AK15","v":9.999999999999995E-3},{"$f":"'All Respondents'!AL16-'All Respondents'!AL15","v":0},{"$f":"'All Respondents'!AM16-'All Respondents'!AM15","v":-1.0000000000000009E-2},{"$f":"'All Respondents'!AN16-'All Respondents'!AN15","v":-1.0000000000000009E-2},{"$f":"'All Respondents'!AO16-'All Respondents'!AO15","v":2.0000000000000018E-2},null,null,null,null,null,null,null,null,null,null,{"$f":"'All Respondents'!AZ16-'All Respondents'!AZ15","v":2.9999999999999971E-2},{"$f":"'All Respondents'!BA16-'All Respondents'!BA15","v":0},{"$f":"'All Respondents'!BB16-'All Respondents'!BB15","v":-2.0000000000000018E-2},{"$f":"'All Respondents'!BC16-'All Respondents'!BC15","v":2.9999999999999971E-2},{"$f":"'All Respondents'!BD16-'All Respondents'!BD15","v":-2.1270000000000039E-3},{"$f":"'All Respondents'!BE16-'All Respondents'!BE15","v":-3.0000000000000027E-2},{"$f":"'All Respondents'!BF16-'All Respondents'!BF15","v":1.0000000000000009E-2},{"$f":"'All Respondents'!BG16-'All Respondents'!BG15","v":-4.0000000000000036E-2},{"$f":"'All Respondents'!BH16-'All Respondents'!BH15","v":-0.03},{"$f":"'All Respondents'!BI16-'All Respondents'!BI15","v":3.9999999999999925E-2},{"$f":"'All Respondents'!BJ16-'All Respondents'!BJ15","v":-6.9999999999999951E-2},{"$f":"'All Respondents'!BK16-'All Respondents'!BK15","v":-1.0000000000000009E-2},{"$f":"'All Respondents'!BL16-'All Respondents'!BL15","v":-1.0000000000000009E-2},{"$f":"'All Respondents'!BM16-'All Respondents'!BM15","v":-2.0000000000000018E-2},{"$f":"'All Respondents'!BN16-'All Respondents'!BN15","v":-1.0000000000000009E-2},{"$f":"'All Respondents'!BO16-'All Respondents'!BO15","v":3.0000000000000013E-2},{"$f":"'All Respondents'!BP16-'All Respondents'!BP15","v":2.0000000000000004E-2},{"$f":"'All Respondents'!BQ16-'All Respondents'!BQ15","v":5.0000000000000017E-2},{"$f":"'All Respondents'!BR16-'All Respondents'!BR15","v":-7.0000000000000034E-2},{"$f":"'All Respondents'!BS16-'All Respondents'!BS15","v":-9.9999999999999811E-3},{"$f":"'All Respondents'!BT16-'All Respondents'!BT15","v":9.9999999999999811E-3},{"$f":"'All Respondents'!BU16-'All Respondents'!BU15","v":-2.0000000000000018E-2},{"$f":"'All Respondents'!BV16-'All Respondents'!BV15","v":-1.9999999999999962E-2},{"$f":"'All Respondents'!BW16-'All Respondents'!BW15","v":4.0000000000000036E-2},{"$f":"'All Respondents'!BX16-'All Respondents'!BX15","v":-2.0000000000000018E-2},{"$f":"'All Respondents'!BY16-'All Respondents'!BY15","v":-6.0000000000000053E-2},{"$f":"'All Respondents'!BZ16-'All Respondents'!BZ15","v":-3.999999999999998E-2},{"$f":"'All Respondents'!CA16-'All Respondents'!CA15","v":4.0000000000000008E-2},{"$f":"'All Respondents'!CB16-'All Respondents'!CB15","v":0},{"$f":"'All Respondents'!CC16-'All Respondents'!CC15","v":1.0000000000000009E-2},{"$f":"'All Respondents'!CD16-'All Respondents'!CD15","v":-2.0000000000000018E-2},{"$f":"'All Respondents'!CE16-'All Respondents'!CE15","v":0},{"$f":"'All Respondents'!CF16-'All Respondents'!CF15","v":3.0000000000000027E-2},{"$f":"'All Respondents'!CG16-'All Respondents'!CG15","v":9.999999999999995E-3},{"$f":"'All Respondents'!CH16-'All Respondents'!CH15","v":0},{"$f":"'All Respondents'!CI16-'All Respondents'!CI15","v":1.999999999999999E-2},{"$f":"'All Respondents'!CJ16-'All Respondents'!CJ15","v":-1.9999999999999907E-2},{"$f":"'All Respondents'!CK16-'All Respondents'!CK15","v":9.999999999999995E-3},{"$f":"'All Respondents'!CL16-'All Respondents'!CL15","v":-2.0000000000000018E-2},{"$f":"'All Respondents'!CM16-'All Respondents'!CM15","v":-1.0000000000000037E-2},{"$f":"'All Respondents'!CN16-'All Respondents'!CN15","v":1.0000000000000009E-2},{"$f":"'All Respondents'!CO16-'All Respondents'!CO15","v":5.0000000000000017E-2},{"$f":"'All Respondents'!CP16-'All Respondents'!CP15","v":-4.0000000000000036E-2},{"$f":"'All Respondents'!CQ16-'All Respondents'!CQ15","v":2.0000000000000018E-2},null,null,null,null,null,null,null,null,null,null,{"$f":"'All Respondents'!DB16-'All Respondents'!DB15","v":-2.0000000000000018E-2},{"$f":"'All Respondents'!DC16-'All Respondents'!DC15","v":2.0000000000000018E-2},null,null,{"$f":"'All Respondents'!DF16-'All Respondents'!DF15","v":2.0000000000000018E-2},{"$f":"'All Respondents'!DG16-'All Respondents'!DG15","v":9.9999999999999811E-3},{"$f":"'All Respondents'!DH16-'All Respondents'!DH15","v":3.0000000000000027E-2},{"$f":"'All Respondents'!DI16-'All Respondents'!DI15","v":-1.999999999999999E-2},{"$f":"'All Respondents'!DJ16-'All Respondents'!DJ15","v":2.0000000000000018E-2},{"$f":"'All Respondents'!DK16-'All Respondents'!DK15","v":0},{"$f":"'All Respondents'!DL16-'All Respondents'!DL15","v":2.0000000000000004E-2}]
["Jul-Aug 11",{"$f":"'All Respondents'!B17-'All Respondents'!B16","v":-0.70000000000000284},{"$f":"'All Respondents'!D17-'All Respondents'!D16","v":-1},{"$f":"'All Respondents'!E17-'All Respondents'!E16","v":-1.0000000000000009E-2},{"$f":"'All Respondents'!F17-'All Respondents'!F16","v":2.0000000000000018E-2},{"$f":"'All Respondents'!G17-'All Respondents'!G16","v":1.0000000000000009E-2},{"$f":"'All Respondents'!H17-'All Respondents'!H16","v":-3.0000000000000027E-2},{"$f":"'All Respondents'!I17-'All Respondents'!I16","v":1.1999999999999997E-2},{"$f":"'All Respondents'!J17-'All Respondents'!J16","v":6.0000000000000331E-4},{"$f":"'All Respondents'!K17-'All Respondents'!K16","v":4.0899999999999444E-4},{"$f":"'All Respondents'!L17-'All Respondents'!L16","v":0},{"$f":"'All Respondents'!M17-'All Respondents'!M16","v":1.0000000000000009E-2},{"$f":"'All Respondents'!N17-'All Respondents'!N16","v":9.9999999999999534E-3},{"$f":"'All Respondents'!O17-'All Respondents'!O16","v":1.0000000000000009E-2},null,null,{"$f":"'All Respondents'!R17-'All Respondents'!R16","v":4.0000000000000036E-2},{"$f":"'All Respondents'!S17-'All Respondents'!S16","v":-3.0000000000000027E-2},{"$f":"'All Respondents'!T17-'All Respondents'!T16","v":1.0000000000000009E-2},{"$f":"'All Respondents'!U17-'All Respondents'!U16","v":1.0000000000000009E-2},{"$f":"'All Respondents'!V17-'All Respondents'!V16","v":-2.0000000000000018E-2},{"$f":"'All Respondents'!W17-'All Respondents'!W16","v":-1.0000000000000009E-2},{"$f":"'All Respondents'!X17-'All Respondents'!X16","v":2.0000000000000018E-2},null,null,null,null,null,null,null,null,null,null,{"$f":"'All Respondents'!AI17-'All Respondents'!AI16","v":-1.9999999999999997E-2},{"$f":"'All Respondents'!AJ17-'All Respondents'!AJ16","v":-9.999999999999995E-3},{"$f":"'All Respondents'!AK17-'All Respondents'!AK16","v":-0.03},{"$f":"'All Respondents'!AL17-'All Respondents'!AL16","v":3.999999999999998E-2},{"$f":"'All Respondents'!AM17-'All Respondents'!AM16","v":-3.0000000000000027E-2},{"$f":"'All Respondents'!AN17-'All Respondents'!AN16","v":9.9999999999998979E-3},{"$f":"'All Respondents'!AO17-'All Respondents'!AO16","v":-3.9999999999999925E-2},null,null,null,null,null,null,null,null,null,null,{"$f":"'All Respondents'!AZ17-'All Respondents'!AZ16","v":1.0000000000000009E-2},{"$f":"'All Respondents'!BA17-'All Respondents'!BA16","v":0},{"$f":"'All Respondents'!BB17-'All Respondents'!BB16","v":-3.999999999999998E-2},{"$f":"'All Respondents'!BC17-'All Respondents'!BC16","v":1.0000000000000009E-2},{"$f":"'All Respondents'!BD17-'All Respondents'!BD16","v":5.7700000000000112E-4},{"$f":"'All Respondents'!BE17-'All Respondents'!BE16","v":1.0000000000000009E-2},{"$f":"'All Respondents'!BF17-'All Respondents'!BF16","v":1.0000000000000009E-2},{"$f":"'All Respondents'!BG17-'All Respondents'!BG16","v":0},{"$f":"'All Respondents'!BH17-'All Respondents'!BH16","v":-8.0000000000000016E-2},{"$f":"'All Respondents'!BI17-'All Respondents'!BI16","v":8.0000000000000071E-2},{"$f":"'All Respondents'!BJ17-'All Respondents'!BJ16","v":-0.16000000000000003},{"$f":"'All Respondents'!BK17-'All Respondents'!BK16","v":-4.0000000000000008E-2},{"$f":"'All Respondents'!BL17-'All Respondents'!BL16","v":1.0000000000000009E-2},{"$f":"'All Respondents'!BM17-'All Respondents'!BM16","v":-3.0000000000000027E-2},{"$f":"'All Respondents'!BN17-'All Respondents'!BN16","v":1.0000000000000009E-2},{"$f":"'All Respondents'!BO17-'All Respondents'!BO16","v":0},{"$f":"'All Respondents'!BP17-'All Respondents'!BP16","v":0},{"$f":"'All Respondents'!BQ17-'All Respondents'!BQ16","v":0},{"$f":"'All Respondents'!BR17-'All Respondents'!BR16","v":-3.0000000000000027E-2},{"$f":"'All Respondents'!BS17-'All Respondents'!BS16","v":0.03},{"$f":"'All Respondents'!BT17-'All Respondents'!BT16","v":-9.9999999999999811E-3},{"$f":"'All Respondents'!BU17-'All Respondents'!BU16","v":-1.0000000000000009E-2},{"$f":"'All Respondents'!BV17-'All Respondents'!BV16","v":3.999999999999998E-2},{"$f":"'All Respondents'!BW17-'All Respondents'!BW16","v":-1.0000000000000009E-2},{"$f":"'All Respondents'!BX17-'All Respondents'!BX16","v":0},{"$f":"'All Respondents'!BY17-'All Respondents'!BY16","v":1.0000000000000009E-2},{"$f":"'All Respondents'!BZ17-'All Respondents'!BZ16","v":-2.0000000000000018E-2},{"$f":"'All Respondents'!CA17-'All Respondents'!CA16","v":-5.0000000000000017E-2},{"$f":"'All Respondents'!CB17-'All Respondents'!CB16","v":-7.0000000000000034E-2},{"$f":"'All Respondents'!CC17-'All Respondents'!CC16","v":6.0000000000000053E-2},{"$f":"'All Respondents'!CD17-'All Respondents'!CD16","v":4.0000000000000008E-2},{"$f":"'All Respondents'!CE17-'All Respondents'!CE16","v":8.0000000000000016E-2},{"$f":"'All Respondents'!CF17-'All Respondents'!CF16","v":-0.06},{"$f":"'All Respondents'!CG17-'All Respondents'!CG16","v":0},{"$f":"'All Respondents'!CH17-'All Respondents'!CH16","v":0.03},{"$f":"'All Respondents'!CI17-'All Respondents'!CI16","v":-1.0000000000000009E-2},{"$f":"'All Respondents'!CJ17-'All Respondents'!CJ16","v":1.9999999999999907E-2},{"$f":"'All Respondents'!CK17-'All Respondents'!CK16","v":0},{"$f":"'All Respondents'!CL17-'All Respondents'!CL16","v":2.0000000000000018E-2},{"$f":"'All Respondents'!CM17-'All Respondents'!CM16","v":2.0000000000000018E-2},{"$f":"'All Respondents'!CN17-'All Respondents'!CN16","v":-2.0000000000000018E-2},{"$f":"'All Respondents'!CO17-'All Respondents'!CO16","v":-2.0000000000000018E-2},{"$f":"'All Respondents'!CP17-'All Respondents'!CP16","v":0},{"$f":"'All Respondents'!CQ17-'All Respondents'!CQ16","v":-4.0000000000000036E-2},null,null,null,null,null,null,null,null,null,null,{"$f":"'All Respondents'!DB17-'All Respondents'!DB16","v":0.03},{"$f":"'All Respondents'!DC17-'All Respondents'!DC16","v":-2.0000000000000018E-2},null,null,{"$f":"'All Respondents'!DF17-'All Respondents'!DF16","v":-0.06},{"$f":"'All Respondents'!DG17-'All Respondents'!DG16","v":2.0000000000000018E-2},{"$f":"'All Respondents'!DH17-'All Respondents'!DH16","v":-3.9999999999999925E-2},{"$f":"'All Respondents'!DI17-'All Respondents'!DI16","v":0.03},{"$f":"'All Respondents'!DJ17-'All Respondents'!DJ16","v":-1.0000000000000009E-2},{"$f":"'All Respondents'!DK17-'All Respondents'!DK16","v":2.0000000000000004E-2},{"$f":"'All Respondents'!DL17-'All Respondents'!DL16","v":-0.03}]
["Aug-Sep 11",{"$f":"'All Respondents'!B18-'All Respondents'!B17","v":0.90000000000000568},{"$f":"'All Respondents'!D18-'All Respondents'!D17","v":-1.2000000000000028},{"$f":"'All Respondents'!E18-'All Respondents'!E17","v":-0.03},{"$f":"'All Respondents'!F18-'All Respondents'!F17","v":-1.0000000000000009E-2},{"$f":"'All Respondents'!G18-'All Respondents'!G17","v":4.0000000000000036E-2},{"$f":"'All Respondents'!H18-'All Respondents'!H17","v":-1.999999999999999E-2},{"$f":"'All Respondents'!I18-'All Respondents'!I17","v":-1.100000000000001E-2},{"$f":"'All Respondents'!J18-'All Respondents'!J17","v":-5.5000000000000049E-3},{"$f":"'All Respondents'!K18-'All Respondents'!K17","v":-5.480999999999998E-3},{"$f":"'All Respondents'!L18-'All Respondents'!L17","v":-0.10000000000000003},{"$f":"'All Respondents'!M18-'All Respondents'!M17","v":9.999999999999995E-3},{"$f":"'All Respondents'!N18-'All Respondents'!N17","v":0.10000000000000003},{"$f":"'All Respondents'!O18-'All Respondents'!O17","v":0.10999999999999999},null,null,{"$f":"'All Respondents'!R18-'All Respondents'!R17","v":0},{"$f":"'All Respondents'!S18-'All Respondents'!S17","v":0},{"$f":"'All Respondents'!T18-'All Respondents'!T17","v":0},{"$f":"'All Respondents'!U18-'All Respondents'!U17","v":-1.0000000000000009E-2},{"$f":"'All Respondents'!V18-'All Respondents'!V17","v":0},{"$f":"'All Respondents'!W18-'All Respondents'!W17","v":-1.0000000000000009E-2},{"$f":"'All Respondents'!X18-'All Respondents'!X17","v":1.0000000000000009E-2},null,null,null,null,null,null,null,null,null,null,{"$f":"'All Respondents'!AI18-'All Respondents'!AI17","v":0.01},{"$f":"'All Respondents'!AJ18-'All Respondents'!AJ17","v":-2.0000000000000004E-2},{"$f":"'All Respondents'!AK18-'All Respondents'!AK17","v":-9.999999999999995E-3},{"$f":"'All Respondents'!AL18-'All Respondents'!AL17","v":-9.9999999999999534E-3},{"$f":"'All Respondents'!AM18-'All Respondents'!AM17","v":2.0000000000000018E-2},{"$f":"'All Respondents'!AN18-'All Respondents'!AN17","v":1.000000000000012E-2},{"$f":"'All Respondents'!AO18-'All Respondents'!AO17","v":-2.0000000000000129E-2},null,null,null,null,null,null,null,null,null,null,{"$f":"'All Respondents'!AZ18-'All Respondents'!AZ17","v":-2.9999999999999971E-2},{"$f":"'All Respondents'!BA18-'All Respondents'!BA17","v":1.0000000000000009E-2},{"$f":"'All Respondents'!BB18-'All Respondents'!BB17","v":2.9999999999999971E-2},{"$f":"'All Respondents'!BC18-'All Respondents'!BC17","v":-3.999999999999998E-2},{"$f":"'All Respondents'!BD18-'All Respondents'!BD17","v":-2.7539999999999995E-3},{"$f":"'All Respondents'!BE18-'All Respondents'!BE17","v":-1.0000000000000009E-2},{"$f":"'All Respondents'!BF18-'All Respondents'!BF17","v":-1.0000000000000009E-2},{"$f":"'All Respondents'!BG18-'All Respondents'!BG17","v":0},{"$f":"'All Respondents'!BH18-'All Respondents'!BH17","v":0},{"$f":"'All Respondents'!BI18-'All Respondents'!BI17","v":-2.0000000000000018E-2},{"$f":"'All Respondents'!BJ18-'All Respondents'!BJ17","v":2.0000000000000018E-2},{"$f":"'All Respondents'!BK18-'All Respondents'!BK17","v":5.0000000000000017E-2},{"$f":"'All Respondents'!BL18-'All Respondents'!BL17","v":-0.03},{"$f":"'All Respondents'!BM18-'All Respondents'!BM17","v":2.0000000000000018E-2},{"$f":"'All Respondents'!BN18-'All Respondents'!BN17","v":-1.0000000000000009E-2},{"$f":"'All Respondents'!BO18-'All Respondents'!BO17","v":9.9999999999999811E-3},{"$f":"'All Respondents'!BP18-'All Respondents'!BP17","v":-2.0000000000000004E-2},{"$f":"'All Respondents'!BQ18-'All Respondents'!BQ17","v":-1.0000000000000009E-2},{"$f":"'All Respondents'!BR18-'All Respondents'!BR17","v":3.0000000000000027E-2},{"$f":"'All Respondents'!BS18-'All Respondents'!BS17","v":0},{"$f":"'All Respondents'!BT18-'All Respondents'!BT17","v":3.999999999999998E-2},{"$f":"'All Respondents'!BU18-'All Respondents'!BU17","v":-3.9999999999999925E-2},{"$f":"'All Respondents'!BV18-'All Respondents'!BV17","v":-3.999999999999998E-2},{"$f":"'All Respondents'!BW18-'All Respondents'!BW17","v":1.0000000000000009E-2},{"$f":"'All Respondents'!BX18-'All Respondents'!BX17","v":0},{"$f":"'All Respondents'!BY18-'All Respondents'!BY17","v":-1.0000000000000009E-2},{"$f":"'All Respondents'!BZ18-'All Respondents'!BZ17","v":0.03},{"$f":"'All Respondents'!CA18-'All Respondents'!CA17","v":2.0000000000000004E-2},{"$f":"'All Respondents'!CB18-'All Respondents'!CB17","v":5.0000000000000017E-2},{"$f":"'All Respondents'!CC18-'All Respondents'!CC17","v":-5.0000000000000044E-2},{"$f":"'All Respondents'!CD18-'All Respondents'!CD17","v":0},{"$f":"'All Respondents'!CE18-'All Respondents'!CE17","v":-0.06},{"$f":"'All Respondents'!CF18-'All Respondents'!CF17","v":1.0000000000000009E-2},{"$f":"'All Respondents'!CG18-'All Respondents'!CG17","v":2.0000000000000004E-2},{"$f":"'All Respondents'!CH18-'All Respondents'!CH17","v":-3.9999999999999994E-2},{"$f":"'All Respondents'!CI18-'All Respondents'!CI17","v":-9.9999999999999811E-3},{"$f":"'All Respondents'!CJ18-'All Respondents'!CJ17","v":1.0000000000000009E-2},{"$f":"'All Respondents'!CK18-'All Respondents'!CK17","v":0.03},{"$f":"'All Respondents'!CL18-'All Respondents'!CL17","v":-0.03},{"$f":"'All Respondents'!CM18-'All Respondents'!CM17","v":0},{"$f":"'All Respondents'!CN18-'All Respondents'!CN17","v":1.0000000000000009E-2},{"$f":"'All Respondents'!CO18-'All Respondents'!CO17","v":2.0000000000000018E-2},{"$f":"'All Respondents'!CP18-'All Respondents'!CP17","v":-1.0000000000000009E-2},{"$f":"'All Respondents'!CQ18-'All Respondents'!CQ17","v":1.0000000000000009E-2},null,null,null,null,null,null,null,null,null,null,{"$f":"'All Respondents'!DB18-'All Respondents'!DB17","v":-1.999999999999999E-2},{"$f":"'All Respondents'!DC18-'All Respondents'!DC17","v":2.0000000000000018E-2},null,null,{"$f":"'All Respondents'!DF18-'All Respondents'!DF17","v":2.9999999999999971E-2},{"$f":"'All Respondents'!DG18-'All Respondents'!DG17","v":-1.0000000000000009E-2},{"$f":"'All Respondents'!DH18-'All Respondents'!DH17","v":1.9999999999999907E-2},{"$f":"'All Respondents'!DI18-'All Respondents'!DI17","v":-1.999999999999999E-2},{"$f":"'All Respondents'!DJ18-'All Respondents'!DJ17","v":1.0000000000000009E-2},{"$f":"'All Respondents'!DK18-'All Respondents'!DK17","v":-1.0000000000000009E-2},{"$f":"'All Respondents'!DL18-'All Respondents'!DL17","v":2.0000000000000004E-2}]
["Sep-Oct 11",{"$f":"'All Respondents'!B19-'All Respondents'!B18","v":1},{"$f":"'All Respondents'!D19-'All Respondents'!D18","v":2},{"$f":"'All Respondents'!E19-'All Respondents'!E18","v":2.0000000000000018E-2},{"$f":"'All Respondents'!F19-'All Respondents'!F18","v":-0.03},{"$f":"'All Respondents'!G19-'All Respondents'!G18","v":0},{"$f":"'All Respondents'!H19-'All Respondents'!H18","v":5.0000000000000017E-2},{"$f":"'All Respondents'!I19-'All Respondents'!I18","v":7.2000000000000119E-3},{"$f":"'All Respondents'!J19-'All Respondents'!J18","v":1.2399999999999994E-2},{"$f":"'All Respondents'!K19-'All Respondents'!K18","v":8.8679999999999974E-3},{"$f":"'All Respondents'!L19-'All Respondents'!L18","v":2.0000000000000018E-2},{"$f":"'All Respondents'!M19-'All Respondents'!M18","v":-2.0000000000000004E-2},{"$f":"'All Respondents'!N19-'All Respondents'!N18","v":-2.0000000000000018E-2},{"$f":"'All Respondents'!O19-'All Respondents'!O18","v":-4.0000000000000036E-2},null,null,{"$f":"'All Respondents'!R19-'All Respondents'!R18","v":1.0000000000000009E-2},{"$f":"'All Respondents'!S19-'All Respondents'!S18","v":-9.9999999999999534E-3},{"$f":"'All Respondents'!T19-'All Respondents'!T18","v":0},{"$f":"'All Respondents'!U19-'All Respondents'!U18","v":0},{"$f":"'All Respondents'!V19-'All Respondents'!V18","v":-9.999999999999995E-3},{"$f":"'All Respondents'!W19-'All Respondents'!W18","v":-1.0000000000000009E-2},{"$f":"'All Respondents'!X19-'All Respondents'!X18","v":1.000000000000012E-2},null,null,null,null,null,null,null,null,null,null,{"$f":"'All Respondents'!AI19-'All Respondents'!AI18","v":0},{"$f":"'All Respondents'!AJ19-'All Respondents'!AJ18","v":2.0000000000000004E-2},{"$f":"'All Respondents'!AK19-'All Respondents'!AK18","v":2.0000000000000004E-2},{"$f":"'All Respondents'!AL19-'All Respondents'!AL18","v":9.9999999999999534E-3},{"$f":"'All Respondents'!AM19-'All Respondents'!AM18","v":-2.0000000000000018E-2},{"$f":"'All Respondents'!AN19-'All Respondents'!AN18","v":-1.000000000000012E-2},{"$f":"'All Respondents'!AO19-'All Respondents'!AO18","v":3.0000000000000138E-2},null,null,null,null,null,null,null,null,null,null,{"$f":"'All Respondents'!AZ19-'All Respondents'!AZ18","v":-1.0000000000000009E-2},{"$f":"'All Respondents'!BA19-'All Respondents'!BA18","v":-2.0000000000000004E-2},{"$f":"'All Respondents'!BB19-'All Respondents'!BB18","v":3.0000000000000027E-2},{"$f":"'All Respondents'!BC19-'All Respondents'!BC18","v":1.0000000000000009E-2},{"$f":"'All Respondents'!BD19-'All Respondents'!BD18","v":-5.0899999999999557E-4},{"$f":"'All Respondents'!BE19-'All Respondents'!BE18","v":4.0000000000000036E-2},{"$f":"'All Respondents'!BF19-'All Respondents'!BF18","v":-3.0000000000000027E-2},{"$f":"'All Respondents'!BG19-'All Respondents'!BG18","v":7.0000000000000062E-2},{"$f":"'All Respondents'!BH19-'All Respondents'!BH18","v":1.0000000000000009E-2},{"$f":"'All Respondents'!BI19-'All Respondents'!BI18","v":-1.0000000000000009E-2},{"$f":"'All Respondents'!BJ19-'All Respondents'!BJ18","v":2.0000000000000018E-2},{"$f":"'All Respondents'!BK19-'All Respondents'!BK18","v":-3.0000000000000013E-2},{"$f":"'All Respondents'!BL19-'All Respondents'!BL18","v":9.9999999999999811E-3},{"$f":"'All Respondents'!BM19-'All Respondents'!BM18","v":-2.0000000000000018E-2},{"$f":"'All Respondents'!BN19-'All Respondents'!BN18","v":4.0000000000000036E-2},{"$f":"'All Respondents'!BO19-'All Respondents'!BO18","v":-1.999999999999999E-2},{"$f":"'All Respondents'!BP19-'All Respondents'!BP18","v":0},{"$f":"'All Respondents'!BQ19-'All Respondents'!BQ18","v":-2.0000000000000018E-2},{"$f":"'All Respondents'!BR19-'All Respondents'!BR18","v":0},{"$f":"'All Respondents'!BS19-'All Respondents'!BS18","v":-4.0000000000000008E-2},{"$f":"'All Respondents'!BT19-'All Respondents'!BT18","v":-4.9999999999999989E-2},{"$f":"'All Respondents'!BU19-'All Respondents'!BU18","v":9.9999999999999978E-2},{"$f":"'All Respondents'!BV19-'All Respondents'!BV18","v":9.9999999999999811E-3},{"$f":"'All Respondents'!BW19-'All Respondents'!BW18","v":0},{"$f":"'All Respondents'!BX19-'All Respondents'!BX18","v":-1.0000000000000009E-2},{"$f":"'All Respondents'!BY19-'All Respondents'!BY18","v":-1.0000000000000009E-2},{"$f":"'All Respondents'!BZ19-'All Respondents'!BZ18","v":-1.999999999999999E-2},{"$f":"'All Respondents'!CA19-'All Respondents'!CA18","v":0},{"$f":"'All Respondents'!CB19-'All Respondents'!CB18","v":-2.0000000000000018E-2},{"$f":"'All Respondents'!CC19-'All Respondents'!CC18","v":2.0000000000000018E-2},{"$f":"'All Respondents'!CD19-'All Respondents'!CD18","v":-4.9999999999999989E-2},{"$f":"'All Respondents'!CE19-'All Respondents'!CE18","v":3.999999999999998E-2},{"$f":"'All Respondents'!CF19-'All Respondents'!CF18","v":2.9999999999999971E-2},{"$f":"'All Respondents'!CG19-'All Respondents'!CG18","v":-2.0000000000000004E-2},{"$f":"'All Respondents'!CH19-'All Respondents'!CH18","v":2.0000000000000004E-2},{"$f":"'All Respondents'!CI19-'All Respondents'!CI18","v":-2.0000000000000018E-2},{"$f":"'All Respondents'!CJ19-'All Respondents'!CJ18","v":4.0000000000000036E-2},{"$f":"'All Respondents'!CK19-'All Respondents'!CK18","v":-0.03},{"$f":"'All Respondents'!CL19-'All Respondents'!CL18","v":0.03},{"$f":"'All Respondents'!CM19-'All Respondents'!CM18","v":0},{"$f":"'All Respondents'!CN19-'All Respondents'!CN18","v":0},{"$f":"'All Respondents'!CO19-'All Respondents'!CO18","v":-0.06},{"$f":"'All Respondents'!CP19-'All Respondents'!CP18","v":6.0000000000000053E-2},{"$f":"'All Respondents'!CQ19-'All Respondents'!CQ18","v":0},null,null,null,null,null,null,null,null,null,null,{"$f":"'All Respondents'!DB19-'All Respondents'!DB18","v":-1.0000000000000009E-2},{"$f":"'All Respondents'!DC19-'All Respondents'!DC18","v":1.0000000000000009E-2},null,null,{"$f":"'All Respondents'!DF19-'All Respondents'!DF18","v":1.0000000000000009E-2},{"$f":"'All Respondents'!DG19-'All Respondents'!DG18","v":0},{"$f":"'All Respondents'!DH19-'All Respondents'!DH18","v":1.0000000000000009E-2},{"$f":"'All Respondents'!DI19-'All Respondents'!DI18","v":-2.0000000000000018E-2},{"$f":"'All Respondents'!DJ19-'All Respondents'!DJ18","v":1.0000000000000009E-2},{"$f":"'All Respondents'!DK19-'All Respondents'!DK18","v":2.0000000000000004E-2},{"$f":"'All Respondents'!DL19-'All Respondents'!DL18","v":-1.0000000000000009E-2}]
["Oct-Nov 11",{"$f":"'All Respondents'!B20-'All Respondents'!B19","v":0.5},{"$f":"'All Respondents'!D20-'All Respondents'!D19","v":-0.59999999999999432},{"$f":"'All Respondents'!E20-'All Respondents'!E19","v":0.03},{"$f":"'All Respondents'!F20-'All Respondents'!F19","v":-1.0000000000000009E-2},{"$f":"'All Respondents'!G20-'All Respondents'!G19","v":-2.0000000000000018E-2},{"$f":"'All Respondents'!H20-'All Respondents'!H19","v":4.0000000000000008E-2},{"$f":"'All Respondents'!I20-'All Respondents'!I19","v":8.8999999999999913E-3},{"$f":"'All Respondents'!J20-'All Respondents'!J19","v":-2.6999999999999941E-3},{"$f":"'All Respondents'!K20-'All Respondents'!K19","v":5.0810000000000048E-3},{"$f":"'All Respondents'!L20-'All Respondents'!L19","v":-2.0000000000000018E-2},{"$f":"'All Respondents'!M20-'All Respondents'!M19","v":4.0000000000000008E-2},{"$f":"'All Respondents'!N20-'All Respondents'!N19","v":-1.0000000000000009E-2},{"$f":"'All Respondents'!O20-'All Respondents'!O19","v":6.0000000000000053E-2},null,null,{"$f":"'All Respondents'!R20-'All Respondents'!R19","v":9.9999999999999534E-3},{"$f":"'All Respondents'!S20-'All Respondents'!S19","v":-1.0000000000000009E-2},{"$f":"'All Respondents'!T20-'All Respondents'!T19","v":0},{"$f":"'All Respondents'!U20-'All Respondents'!U19","v":0},{"$f":"'All Respondents'!V20-'All Respondents'!V19","v":2.0000000000000004E-2},{"$f":"'All Respondents'!W20-'All Respondents'!W19","v":2.0000000000000018E-2},{"$f":"'All Respondents'!X20-'All Respondents'!X19","v":-2.0000000000000129E-2},null,null,null,null,null,null,null,null,null,null,{"$f":"'All Respondents'!AI20-'All Respondents'!AI19","v":-0.01},{"$f":"'All Respondents'!AJ20-'All Respondents'!AJ19","v":2.0000000000000004E-2},{"$f":"'All Respondents'!AK20-'All Respondents'!AK19","v":9.999999999999995E-3},{"$f":"'All Respondents'!AL20-'All Respondents'!AL19","v":-4.9999999999999989E-2},{"$f":"'All Respondents'!AM20-'All Respondents'!AM19","v":4.0000000000000036E-2},{"$f":"'All Respondents'!AN20-'All Respondents'!AN19","v":-9.9999999999998979E-3},{"$f":"'All Respondents'!AO20-'All Respondents'!AO19","v":1.9999999999999907E-2},null,null,null,null,null,null,null,null,null,null,{"$f":"'All Respondents'!AZ20-'All Respondents'!AZ19","v":-3.0000000000000027E-2},{"$f":"'All Respondents'!BA20-'All Respondents'!BA19","v":9.999999999999995E-3},{"$f":"'All Respondents'!BB20-'All Respondents'!BB19","v":2.9999999999999971E-2},{"$f":"'All Respondents'!BC20-'All Respondents'!BC19","v":-4.0000000000000036E-2},{"$f":"'All Respondents'!BD20-'All Respondents'!BD19","v":-2.4460000000000107E-3},{"$f":"'All Respondents'!BE20-'All Respondents'!BE19","v":-5.0000000000000044E-2},{"$f":"'All Respondents'!BF20-'All Respondents'!BF19","v":4.9999999999999989E-2},{"$f":"'All Respondents'!BG20-'All Respondents'!BG19","v":-0.10000000000000003},{"$f":"'All Respondents'!BH20-'All Respondents'!BH19","v":-1.999999999999999E-2},{"$f":"'All Respondents'!BI20-'All Respondents'!BI19","v":0},{"$f":"'All Respondents'!BJ20-'All Respondents'!BJ19","v":-2.0000000000000018E-2},{"$f":"'All Respondents'!BK20-'All Respondents'!BK19","v":9.999999999999995E-3},{"$f":"'All Respondents'!BL20-'All Respondents'!BL19","v":1.0000000000000009E-2},{"$f":"'All Respondents'!BM20-'All Respondents'!BM19","v":2.0000000000000018E-2},{"$f":"'All Respondents'!BN20-'All Respondents'!BN19","v":-2.0000000000000018E-2},{"$f":"'All Respondents'!BO20-'All Respondents'!BO19","v":0},{"$f":"'All Respondents'!BP20-'All Respondents'!BP19","v":0},{"$f":"'All Respondents'!BQ20-'All Respondents'!BQ19","v":0},{"$f":"'All Respondents'!BR20-'All Respondents'!BR19","v":2.0000000000000018E-2},{"$f":"'All Respondents'!BS20-'All Respondents'!BS19","v":-1.999999999999999E-2},{"$f":"'All Respondents'!BT20-'All Respondents'!BT19","v":1.0000000000000009E-2},{"$f":"'All Respondents'!BU20-'All Respondents'!BU19","v":0},{"$f":"'All Respondents'!BV20-'All Respondents'!BV19","v":-0.03},{"$f":"'All Respondents'!BW20-'All Respondents'!BW19","v":0},{"$f":"'All Respondents'!BX20-'All Respondents'!BX19","v":0},{"$f":"'All Respondents'!BY20-'All Respondents'!BY19","v":0},{"$f":"'All Respondents'!BZ20-'All Respondents'!BZ19","v":1.999999999999999E-2},{"$f":"'All Respondents'!CA20-'All Respondents'!CA19","v":2.0000000000000004E-2},{"$f":"'All Respondents'!CB20-'All Respondents'!CB19","v":4.0000000000000036E-2},{"$f":"'All Respondents'!CC20-'All Respondents'!CC19","v":-3.0000000000000027E-2},{"$f":"'All Respondents'!CD20-'All Respondents'!CD19","v":4.9999999999999989E-2},{"$f":"'All Respondents'!CE20-'All Respondents'!CE19","v":-0.03},{"$f":"'All Respondents'!CF20-'All Respondents'!CF19","v":-4.9999999999999989E-2},{"$f":"'All Respondents'!CG20-'All Respondents'!CG19","v":9.999999999999995E-3},{"$f":"'All Respondents'!CH20-'All Respondents'!CH19","v":1.0000000000000009E-2},{"$f":"'All Respondents'!CI20-'All Respondents'!CI19","v":2.0000000000000018E-2},{"$f":"'All Respondents'!CJ20-'All Respondents'!CJ19","v":-5.9999999999999942E-2},{"$f":"'All Respondents'!CK20-'All Respondents'!CK19","v":9.999999999999995E-3},{"$f":"'All Respondents'!CL20-'All Respondents'!CL19","v":9.9999999999999811E-3},{"$f":"'All Respondents'!CM20-'All Respondents'!CM19","v":2.0000000000000018E-2},{"$f":"'All Respondents'!CN20-'All Respondents'!CN19","v":-2.0000000000000018E-2},{"$f":"'All Respondents'!CO20-'All Respondents'!CO19","v":0.03},{"$f":"'All Respondents'!CP20-'All Respondents'!CP19","v":-5.0000000000000044E-2},{"$f":"'All Respondents'!CQ20-'All Respondents'!CQ19","v":-4.0000000000000036E-2},null,null,null,null,null,null,null,null,null,null,{"$f":"'All Respondents'!DB20-'All Respondents'!DB19","v":2.0000000000000018E-2},{"$f":"'All Respondents'!DC20-'All Respondents'!DC19","v":-4.0000000000000036E-2},null,null,{"$f":"'All Respondents'!DF20-'All Respondents'!DF19","v":-0.06},{"$f":"'All Respondents'!DG20-'All Respondents'!DG19","v":1.0000000000000009E-2},{"$f":"'All Respondents'!DH20-'All Respondents'!DH19","v":-4.9999999999999933E-2},{"$f":"'All Respondents'!DI20-'All Respondents'!DI19","v":0},{"$f":"'All Respondents'!DJ20-'All Respondents'!DJ19","v":2.9999999999999971E-2},{"$f":"'All Respondents'!DK20-'All Respondents'!DK19","v":3.9999999999999994E-2},{"$f":"'All Respondents'!DL20-'All Respondents'!DL19","v":-9.999999999999995E-3}]
["Nov-Dec 11",{"$f":"'All Respondents'!B21-'All Respondents'!B20","v":1.7999999999999972},{"$f":"'All Respondents'!D21-'All Respondents'!D20","v":2.7999999999999972},{"$f":"'All Respondents'!E21-'All Respondents'!E20","v":0.03},{"$f":"'All Respondents'!F21-'All Respondents'!F20","v":-4.9999999999999989E-2},{"$f":"'All Respondents'!G21-'All Respondents'!G20","v":0},{"$f":"'All Respondents'!H21-'All Respondents'!H20","v":7.9999999999999988E-2},{"$f":"'All Respondents'!I21-'All Respondents'!I20","v":-2.1999999999999936E-3},{"$f":"'All Respondents'!J21-'All Respondents'!J20","v":-7.3000000000000009E-3},{"$f":"'All Respondents'!K21-'All Respondents'!K20","v":4.833999999999998E-3},{"$f":"'All Respondents'!L21-'All Respondents'!L20","v":1.0000000000000009E-2},{"$f":"'All Respondents'!M21-'All Respondents'!M20","v":-2.0000000000000004E-2},{"$f":"'All Respondents'!N21-'All Respondents'!N20","v":-1.0000000000000009E-2},{"$f":"'All Respondents'!O21-'All Respondents'!O20","v":-3.0000000000000027E-2},null,null,{"$f":"'All Respondents'!R21-'All Respondents'!R20","v":-9.9999999999999534E-3},{"$f":"'All Respondents'!S21-'All Respondents'!S20","v":1.9999999999999962E-2},{"$f":"'All Respondents'!T21-'All Respondents'!T20","v":1.0000000000000009E-2},{"$f":"'All Respondents'!U21-'All Respondents'!U20","v":0},{"$f":"'All Respondents'!V21-'All Respondents'!V20","v":-1.0000000000000009E-2},{"$f":"'All Respondents'!W21-'All Respondents'!W20","v":-1.0000000000000009E-2},{"$f":"'All Respondents'!X21-'All Respondents'!X20","v":2.0000000000000018E-2},null,null,null,null,null,null,null,null,null,null,{"$f":"'All Respondents'!AI21-'All Respondents'!AI20","v":1.9999999999999997E-2},{"$f":"'All Respondents'!AJ21-'All Respondents'!AJ20","v":-2.0000000000000004E-2},{"$f":"'All Respondents'!AK21-'All Respondents'!AK20","v":0},{"$f":"'All Respondents'!AL21-'All Respondents'!AL20","v":4.0000000000000036E-2},{"$f":"'All Respondents'!AM21-'All Respondents'!AM20","v":-3.0000000000000027E-2},{"$f":"'All Respondents'!AN21-'All Respondents'!AN20","v":1.0000000000000009E-2},{"$f":"'All Respondents'!AO21-'All Respondents'!AO20","v":-1.0000000000000009E-2},null,null,null,null,null,null,null,null,null,null,{"$f":"'All Respondents'!AZ21-'All Respondents'!AZ20","v":2.0000000000000018E-2},{"$f":"'All Respondents'!BA21-'All Respondents'!BA20","v":-9.999999999999995E-3},{"$f":"'All Respondents'!BB21-'All Respondents'!BB20","v":-3.999999999999998E-2},{"$f":"'All Respondents'!BC21-'All Respondents'!BC20","v":3.0000000000000027E-2},{"$f":"'All Respondents'!BD21-'All Respondents'!BD20","v":1.5750000000000069E-3},{"$f":"'All Respondents'!BE21-'All Respondents'!BE20","v":4.0000000000000036E-2},{"$f":"'All Respondents'!BF21-'All Respondents'!BF20","v":-3.999999999999998E-2},{"$f":"'All Respondents'!BG21-'All Respondents'!BG20","v":8.0000000000000016E-2},{"$f":"'All Respondents'!BH21-'All Respondents'!BH20","v":7.9999999999999988E-2},{"$f":"'All Respondents'!BI21-'All Respondents'!BI20","v":-7.0000000000000062E-2},{"$f":"'All Respondents'!BJ21-'All Respondents'!BJ20","v":0.15000000000000002},{"$f":"'All Respondents'!BK21-'All Respondents'!BK20","v":1.0000000000000009E-2},{"$f":"'All Respondents'!BL21-'All Respondents'!BL20","v":3.999999999999998E-2},{"$f":"'All Respondents'!BM21-'All Respondents'!BM20","v":4.9999999999999989E-2},{"$f":"'All Respondents'!BN21-'All Respondents'!BN20","v":-4.9999999999999989E-2},{"$f":"'All Respondents'!BO21-'All Respondents'!BO20","v":-1.0000000000000009E-2},{"$f":"'All Respondents'!BP21-'All Respondents'!BP20","v":9.999999999999995E-3},{"$f":"'All Respondents'!BQ21-'All Respondents'!BQ20","v":0},{"$f":"'All Respondents'!BR21-'All Respondents'!BR20","v":4.9999999999999989E-2},{"$f":"'All Respondents'!BS21-'All Respondents'!BS20","v":0.03},{"$f":"'All Respondents'!BT21-'All Respondents'!BT20","v":9.9999999999999811E-3},{"$f":"'All Respondents'!BU21-'All Respondents'!BU20","v":-5.0000000000000044E-2},{"$f":"'All Respondents'!BV21-'All Respondents'!BV20","v":2.0000000000000018E-2},{"$f":"'All Respondents'!BW21-'All Respondents'!BW20","v":0},{"$f":"'All Respondents'!BX21-'All Respondents'!BX20","v":1.0000000000000009E-2},{"$f":"'All Respondents'!BY21-'All Respondents'!BY20","v":1.0000000000000009E-2},{"$f":"'All Respondents'!BZ21-'All Respondents'!BZ20","v":0.03},{"$f":"'All Respondents'!CA21-'All Respondents'!CA20","v":-0.03},{"$f":"'All Respondents'!CB21-'All Respondents'!CB20","v":0},{"$f":"'All Respondents'!CC21-'All Respondents'!CC20","v":0},{"$f":"'All Respondents'!CD21-'All Respondents'!CD20","v":0.03},{"$f":"'All Respondents'!CE21-'All Respondents'!CE20","v":-1.999999999999999E-2},{"$f":"'All Respondents'!CF21-'All Respondents'!CF20","v":-1.0000000000000009E-2},{"$f":"'All Respondents'!CG21-'All Respondents'!CG20","v":0},{"$f":"'All Respondents'!CH21-'All Respondents'!CH20","v":-3.0000000000000013E-2},{"$f":"'All Respondents'!CI21-'All Respondents'!CI20","v":-2.0000000000000018E-2},{"$f":"'All Respondents'!CJ21-'All Respondents'!CJ20","v":4.9999999999999933E-2},{"$f":"'All Respondents'!CK21-'All Respondents'!CK20","v":0},{"$f":"'All Respondents'!CL21-'All Respondents'!CL20","v":-1.999999999999999E-2},{"$f":"'All Respondents'!CM21-'All Respondents'!CM20","v":-2.0000000000000018E-2},{"$f":"'All Respondents'!CN21-'All Respondents'!CN20","v":1.0000000000000009E-2},{"$f":"'All Respondents'!CO21-'All Respondents'!CO20","v":-2.0000000000000018E-2},{"$f":"'All Respondents'!CP21-'All Respondents'!CP20","v":3.0000000000000027E-2},{"$f":"'All Respondents'!CQ21-'All Respondents'!CQ20","v":3.0000000000000027E-2},null,null,null,null,null,null,null,null,null,null,{"$f":"'All Respondents'!DB21-'All Respondents'!DB20","v":-1.0000000000000009E-2},{"$f":"'All Respondents'!DC21-'All Respondents'!DC20","v":2.0000000000000018E-2},null,null,{"$f":"'All Respondents'!DF21-'All Respondents'!DF20","v":7.0000000000000007E-2},{"$f":"'All Respondents'!DG21-'All Respondents'!DG20","v":-2.0000000000000018E-2},{"$f":"'All Respondents'!DH21-'All Respondents'!DH20","v":4.9999999999999933E-2},{"$f":"'All Respondents'!DI21-'All Respondents'!DI20","v":-9.9999999999999811E-3},{"$f":"'All Respondents'!DJ21-'All Respondents'!DJ20","v":-2.9999999999999971E-2},{"$f":"'All Respondents'!DK21-'All Respondents'!DK20","v":-3.9999999999999994E-2},{"$f":"'All Respondents'!DL21-'All Respondents'!DL20","v":9.999999999999995E-3}]
["Dec 11-Jan 12",{"$f":"'All Respondents'!B22-'All Respondents'!B21","v":2.7000000000000028},{"$f":"'All Respondents'!D22-'All Respondents'!D21","v":3.5999999999999943},{"$f":"'All Respondents'!E22-'All Respondents'!E21","v":3.999999999999998E-2},{"$f":"'All Respondents'!F22-'All Respondents'!F21","v":-1.0000000000000009E-2},{"$f":"'All Respondents'!G22-'All Respondents'!G21","v":-4.0000000000000036E-2},{"$f":"'All Respondents'!H22-'All Respondents'!H21","v":4.9999999999999989E-2},{"$f":"'All Respondents'!I22-'All Respondents'!I21","v":1.3399999999999995E-2},{"$f":"'All Respondents'!J22-'All Respondents'!J21","v":0},{"$f":"'All Respondents'!K22-'All Respondents'!K21","v":6.3449999999999982E-3},{"$f":"'All Respondents'!L22-'All Respondents'!L21","v":-1.0000000000000009E-2},{"$f":"'All Respondents'!M22-'All Respondents'!M21","v":-0.03},{"$f":"'All Respondents'!N22-'All Respondents'!N21","v":4.0000000000000036E-2},{"$f":"'All Respondents'!O22-'All Respondents'!O21","v":-1.9999999999999962E-2},null,null,{"$f":"'All Respondents'!R22-'All Respondents'!R21","v":-2.0000000000000018E-2},{"$f":"'All Respondents'!S22-'All Respondents'!S21","v":2.0000000000000018E-2},{"$f":"'All Respondents'!T22-'All Respondents'!T21","v":0},{"$f":"'All Respondents'!U22-'All Respondents'!U21","v":-0.03},{"$f":"'All Respondents'!V22-'All Respondents'!V21","v":1.0000000000000009E-2},{"$f":"'All Respondents'!W22-'All Respondents'!W21","v":-2.0000000000000018E-2},{"$f":"'All Respondents'!X22-'All Respondents'!X21","v":2.0000000000000018E-2},null,null,null,null,null,null,null,null,null,null,{"$f":"'All Respondents'!AI22-'All Respondents'!AI21","v":-9.9999999999999985E-3},{"$f":"'All Respondents'!AJ22-'All Respondents'!AJ21","v":9.999999999999995E-3},{"$f":"'All Respondents'!AK22-'All Respondents'!AK21","v":0},{"$f":"'All Respondents'!AL22-'All Respondents'!AL21","v":0},{"$f":"'All Respondents'!AM22-'All Respondents'!AM21","v":-2.0000000000000018E-2},{"$f":"'All Respondents'!AN22-'All Respondents'!AN21","v":-2.0000000000000018E-2},{"$f":"'All Respondents'!AO22-'All Respondents'!AO21","v":2.0000000000000018E-2},null,null,null,null,null,null,null,null,null,null,{"$f":"'All Respondents'!AZ22-'All Respondents'!AZ21","v":2.0000000000000018E-2},{"$f":"'All Respondents'!BA22-'All Respondents'!BA21","v":-1.0000000000000002E-2},{"$f":"'All Respondents'!BB22-'All Respondents'!BB21","v":0},{"$f":"'All Respondents'!BC22-'All Respondents'!BC21","v":3.0000000000000027E-2},{"$f":"'All Respondents'!BD22-'All Respondents'!BD21","v":4.5200000000000101E-4},{"$f":"'All Respondents'!BE22-'All Respondents'!BE21","v":-1.0000000000000009E-2},{"$f":"'All Respondents'!BF22-'All Respondents'!BF21","v":0},{"$f":"'All Respondents'!BG22-'All Respondents'!BG21","v":-1.0000000000000009E-2},{"$f":"'All Respondents'!BH22-'All Respondents'!BH21","v":7.9999999999999988E-2},{"$f":"'All Respondents'!BI22-'All Respondents'!BI21","v":-7.999999999999996E-2},{"$f":"'All Respondents'!BJ22-'All Respondents'!BJ21","v":0.15999999999999998},{"$f":"'All Respondents'!BK22-'All Respondents'!BK21","v":4.0000000000000008E-2},{"$f":"'All Respondents'!BL22-'All Respondents'!BL21","v":-1.9999999999999962E-2},{"$f":"'All Respondents'!BM22-'All Respondents'!BM21","v":2.0000000000000073E-2},{"$f":"'All Respondents'!BN22-'All Respondents'!BN21","v":2.0000000000000018E-2},{"$f":"'All Respondents'!BO22-'All Respondents'!BO21","v":-0.03},{"$f":"'All Respondents'!BP22-'All Respondents'!BP21","v":-9.999999999999995E-3},{"$f":"'All Respondents'!BQ22-'All Respondents'!BQ21","v":-3.999999999999998E-2},{"$f":"'All Respondents'!BR22-'All Respondents'!BR21","v":6.0000000000000053E-2},{"$f":"'All Respondents'!BS22-'All Respondents'!BS21","v":9.9999999999999811E-3},{"$f":"'All Respondents'!BT22-'All Respondents'!BT21","v":-1.999999999999999E-2},{"$f":"'All Respondents'!BU22-'All Respondents'!BU21","v":1.0000000000000009E-2},{"$f":"'All Respondents'!BV22-'All Respondents'!BV21","v":2.9999999999999971E-2},{"$f":"'All Respondents'!BW22-'All Respondents'!BW21","v":0},{"$f":"'All Respondents'!BX22-'All Respondents'!BX21","v":-1.0000000000000009E-2},{"$f":"'All Respondents'!BY22-'All Respondents'!BY21","v":-1.0000000000000009E-2},{"$f":"'All Respondents'!BZ22-'All Respondents'!BZ21","v":-9.9999999999999811E-3},{"$f":"'All Respondents'!CA22-'All Respondents'!CA21","v":-1.0000000000000009E-2},{"$f":"'All Respondents'!CB22-'All Respondents'!CB21","v":-2.0000000000000018E-2},{"$f":"'All Respondents'!CC22-'All Respondents'!CC21","v":1.0000000000000009E-2},{"$f":"'All Respondents'!CD22-'All Respondents'!CD21","v":-0.09},{"$f":"'All Respondents'!CE22-'All Respondents'!CE21","v":0.06},{"$f":"'All Respondents'!CF22-'All Respondents'!CF21","v":3.999999999999998E-2},{"$f":"'All Respondents'!CG22-'All Respondents'!CG21","v":-9.999999999999995E-3},{"$f":"'All Respondents'!CH22-'All Respondents'!CH21","v":-9.999999999999995E-3},{"$f":"'All Respondents'!CI22-'All Respondents'!CI21","v":4.0000000000000008E-2},{"$f":"'All Respondents'!CJ22-'All Respondents'!CJ21","v":-2.0000000000000018E-2},{"$f":"'All Respondents'!CK22-'All Respondents'!CK21","v":-9.999999999999995E-3},{"$f":"'All Respondents'!CL22-'All Respondents'!CL21","v":-1.999999999999999E-2},{"$f":"'All Respondents'!CM22-'All Respondents'!CM21","v":-2.9999999999999971E-2},{"$f":"'All Respondents'!CN22-'All Respondents'!CN21","v":3.0000000000000027E-2},{"$f":"'All Respondents'!CO22-'All Respondents'!CO21","v":4.0000000000000008E-2},{"$f":"'All Respondents'!CP22-'All Respondents'!CP21","v":-1.0000000000000009E-2},{"$f":"'All Respondents'!CQ22-'All Respondents'!CQ21","v":6.0000000000000053E-2},null,null,null,null,null,null,null,null,null,null,{"$f":"'All Respondents'!DB22-'All Respondents'!DB21","v":4.0000000000000008E-2},{"$f":"'All Respondents'!DC22-'All Respondents'!DC21","v":-2.0000000000000018E-2},null,null,{"$f":"'All Respondents'!DF22-'All Respondents'!DF21","v":-3.0000000000000027E-2},{"$f":"'All Respondents'!DG22-'All Respondents'!DG21","v":0},{"$f":"'All Respondents'!DH22-'All Respondents'!DH21","v":-3.0000000000000027E-2},{"$f":"'All Respondents'!DI22-'All Respondents'!DI21","v":3.999999999999998E-2},{"$f":"'All Respondents'!DJ22-'All Respondents'!DJ21","v":1.0000000000000009E-2},{"$f":"'All Respondents'!DK22-'All Respondents'!DK21","v":0},{"$f":"'All Respondents'!DL22-'All Respondents'!DL21","v":1.0000000000000009E-2}]
["Jan-Feb 12",{"$f":"'All Respondents'!B23-'All Respondents'!B22","v":9.9999999999994316E-2},{"$f":"'All Respondents'!D23-'All Respondents'!D22","v":-0.39999999999999147},{"$f":"'All Respondents'!E23-'All Respondents'!E22","v":-2.9999999999999971E-2},{"$f":"'All Respondents'!F23-'All Respondents'!F22","v":-1.0000000000000009E-2},{"$f":"'All Respondents'!G23-'All Respondents'!G22","v":5.0000000000000044E-2},{"$f":"'All Respondents'!H23-'All Respondents'!H22","v":-1.9999999999999962E-2},{"$f":"'All Respondents'!I23-'All Respondents'!I22","v":-3.1999999999999945E-3},{"$f":"'All Respondents'!J23-'All Respondents'!J22","v":-6.3E-3},{"$f":"'All Respondents'!K23-'All Respondents'!K22","v":-3.8819999999999948E-3},{"$f":"'All Respondents'!L23-'All Respondents'!L22","v":0},{"$f":"'All Respondents'!M23-'All Respondents'!M22","v":0.03},{"$f":"'All Respondents'!N23-'All Respondents'!N22","v":-3.0000000000000027E-2},{"$f":"'All Respondents'!O23-'All Respondents'!O22","v":2.9999999999999971E-2},null,null,{"$f":"'All Respondents'!R23-'All Respondents'!R22","v":2.0000000000000018E-2},{"$f":"'All Respondents'!S23-'All Respondents'!S22","v":-2.0000000000000018E-2},{"$f":"'All Respondents'!T23-'All Respondents'!T22","v":0},{"$f":"'All Respondents'!U23-'All Respondents'!U22","v":1.999999999999999E-2},{"$f":"'All Respondents'!V23-'All Respondents'!V22","v":-0.03},{"$f":"'All Respondents'!W23-'All Respondents'!W22","v":-1.0000000000000009E-2},{"$f":"'All Respondents'!X23-'All Respondents'!X22","v":1.0000000000000009E-2},null,null,null,null,null,null,null,null,null,null,{"$f":"'All Respondents'!AI23-'All Respondents'!AI22","v":9.9999999999999985E-3},{"$f":"'All Respondents'!AJ23-'All Respondents'!AJ22","v":1.0000000000000009E-2},{"$f":"'All Respondents'!AK23-'All Respondents'!AK22","v":2.0000000000000004E-2},{"$f":"'All Respondents'!AL23-'All Respondents'!AL22","v":1.9999999999999962E-2},{"$f":"'All Respondents'!AM23-'All Respondents'!AM22","v":-3.0000000000000027E-2},{"$f":"'All Respondents'!AN23-'All Respondents'!AN22","v":-1.000000000000012E-2},{"$f":"'All Respondents'!AO23-'All Respondents'!AO22","v":3.0000000000000138E-2},null,null,null,null,null,null,null,null,null,null,{"$f":"'All Respondents'!AZ23-'All Respondents'!AZ22","v":0},{"$f":"'All Respondents'!BA23-'All Respondents'!BA22","v":0},{"$f":"'All Respondents'!BB23-'All Respondents'!BB22","v":0},{"$f":"'All Respondents'!BC23-'All Respondents'!BC22","v":0},{"$f":"'All Respondents'!BD23-'All Respondents'!BD22","v":-2.0499999999999963E-3},{"$f":"'All Respondents'!BE23-'All Respondents'!BE22","v":1.0000000000000009E-2},{"$f":"'All Respondents'!BF23-'All Respondents'!BF22","v":-1.0000000000000009E-2},{"$f":"'All Respondents'!BG23-'All Respondents'!BG22","v":2.0000000000000018E-2},{"$f":"'All Respondents'!BH23-'All Respondents'!BH22","v":4.9999999999999989E-2},{"$f":"'All Respondents'!BI23-'All Respondents'!BI22","v":-4.0000000000000036E-2},{"$f":"'All Respondents'!BJ23-'All Respondents'!BJ22","v":9.0000000000000024E-2},{"$f":"'All Respondents'!BK23-'All Respondents'!BK22","v":-2.0000000000000018E-2},{"$f":"'All Respondents'!BL23-'All Respondents'!BL22","v":2.9999999999999971E-2},{"$f":"'All Respondents'!BM23-'All Respondents'!BM22","v":9.9999999999998979E-3},{"$f":"'All Respondents'!BN23-'All Respondents'!BN22","v":1.9999999999999962E-2},{"$f":"'All Respondents'!BO23-'All Respondents'!BO22","v":0},{"$f":"'All Respondents'!BP23-'All Respondents'!BP22","v":-2.0000000000000004E-2},{"$f":"'All Respondents'!BQ23-'All Respondents'!BQ22","v":-2.0000000000000018E-2},{"$f":"'All Respondents'!BR23-'All Respondents'!BR22","v":2.9999999999999916E-2},{"$f":"'All Respondents'!BS23-'All Respondents'!BS22","v":-9.9999999999999811E-3},{"$f":"'All Respondents'!BT23-'All Respondents'!BT22","v":0},{"$f":"'All Respondents'!BU23-'All Respondents'!BU22","v":3.0000000000000027E-2},{"$f":"'All Respondents'!BV23-'All Respondents'!BV22","v":-9.9999999999999811E-3},{"$f":"'All Respondents'!BW23-'All Respondents'!BW22","v":-3.0000000000000027E-2},{"$f":"'All Respondents'!BX23-'All Respondents'!BX22","v":2.0000000000000018E-2},{"$f":"'All Respondents'!BY23-'All Respondents'!BY22","v":5.0000000000000044E-2},{"$f":"'All Respondents'!BZ23-'All Respondents'!BZ22","v":-6.0000000000000012E-2},{"$f":"'All Respondents'!CA23-'All Respondents'!CA22","v":0.03},{"$f":"'All Respondents'!CB23-'All Respondents'!CB22","v":-3.0000000000000027E-2},{"$f":"'All Respondents'!CC23-'All Respondents'!CC22","v":0},{"$f":"'All Respondents'!CD23-'All Respondents'!CD22","v":0.03},{"$f":"'All Respondents'!CE23-'All Respondents'!CE22","v":-0.03},{"$f":"'All Respondents'!CF23-'All Respondents'!CF22","v":0},{"$f":"'All Respondents'!CG23-'All Respondents'!CG22","v":-9.999999999999995E-3},{"$f":"'All Respondents'!CH23-'All Respondents'!CH22","v":1.999999999999999E-2},{"$f":"'All Respondents'!CI23-'All Respondents'!CI22","v":-1.999999999999999E-2},{"$f":"'All Respondents'!CJ23-'All Respondents'!CJ22","v":0},{"$f":"'All Respondents'!CK23-'All Respondents'!CK22","v":0},{"$f":"'All Respondents'!CL23-'All Respondents'!CL22","v":1.999999999999999E-2},{"$f":"'All Respondents'!CM23-'All Respondents'!CM22","v":1.9999999999999962E-2},{"$f":"'All Respondents'!CN23-'All Respondents'!CN22","v":-1.0000000000000009E-2},{"$f":"'All Respondents'!CO23-'All Respondents'!CO22","v":-1.0000000000000009E-2},{"$f":"'All Respondents'!CP23-'All Respondents'!CP22","v":0},{"$f":"'All Respondents'!CQ23-'All Respondents'!CQ22","v":-3.0000000000000027E-2},{"$f":"'All Respondents'!CR23-'All Respondents'!CR22","v":2.0000000000000018E-2},{"$f":"'All Respondents'!CS23-'All Respondents'!CS22","v":-0.03},{"$f":"'All Respondents'!CT23-'All Respondents'!CT22","v":-2.0000000000000018E-2},{"$f":"'All Respondents'!CU23-'All Respondents'!CU22","v":0},{"$f":"'All Respondents'!CV23-'All Respondents'!CV22","v":1.0000000000000009E-2},null,null,null,null,null,{"$f":"'All Respondents'!DB23-'All Respondents'!DB22","v":-2.0000000000000018E-2},{"$f":"'All Respondents'!DC23-'All Respondents'!DC22","v":1.0000000000000009E-2},null,null,{"$f":"'All Respondents'!DF23-'All Respondents'!DF22","v":-1.9999999999999962E-2},{"$f":"'All Respondents'!DG23-'All Respondents'!DG22","v":-9.9999999999999811E-3},{"$f":"'All Respondents'!DH23-'All Respondents'!DH22","v":-2.9999999999999916E-2},{"$f":"'All Respondents'!DI23-'All Respondents'!DI22","v":0},{"$f":"'All Respondents'!DJ23-'All Respondents'!DJ22","v":1.999999999999999E-2},{"$f":"'All Respondents'!DK23-'All Respondents'!DK22","v":2.0000000000000004E-2},{"$f":"'All Respondents'!DL23-'All Respondents'!DL22","v":0}]
["Feb-Mar 12",{"$f":"'All Respondents'!B24-'All Respondents'!B23","v":-9.9999999999994316E-2},{"$f":"'All Respondents'!D24-'All Respondents'!D23","v":1.5999999999999943},{"$f":"'All Respondents'!E24-'All Respondents'!E23","v":7.999999999999996E-2},{"$f":"'All Respondents'!F24-'All Respondents'!F23","v":-9.9999999999999811E-3},{"$f":"'All Respondents'!G24-'All Respondents'!G23","v":-4.0000000000000036E-2},{"$f":"'All Respondents'!H24-'All Respondents'!H23","v":8.9999999999999941E-2},{"$f":"'All Respondents'!I24-'All Respondents'!I23","v":-1.9500000000000003E-2},{"$f":"'All Respondents'!J24-'All Respondents'!J23","v":-2.7999999999999969E-3},{"$f":"'All Respondents'!K24-'All Respondents'!K23","v":3.1809999999999894E-3},{"$f":"'All Respondents'!L24-'All Respondents'!L23","v":0.06},{"$f":"'All Respondents'!M24-'All Respondents'!M23","v":-0.03},{"$f":"'All Respondents'!N24-'All Respondents'!N23","v":-1.9999999999999962E-2},{"$f":"'All Respondents'!O24-'All Respondents'!O23","v":-8.9999999999999969E-2},null,null,{"$f":"'All Respondents'!R24-'All Respondents'!R23","v":0},{"$f":"'All Respondents'!S24-'All Respondents'!S23","v":2.0000000000000018E-2},{"$f":"'All Respondents'!T24-'All Respondents'!T23","v":2.0000000000000018E-2},{"$f":"'All Respondents'!U24-'All Respondents'!U23","v":-9.9999999999999811E-3},{"$f":"'All Respondents'!V24-'All Respondents'!V23","v":0},{"$f":"'All Respondents'!W24-'All Respondents'!W23","v":-9.9999999999999811E-3},{"$f":"'All Respondents'!X24-'All Respondents'!X23","v":3.0000000000000027E-2},null,null,null,null,null,null,null,null,null,null,{"$f":"'All Respondents'!AI24-'All Respondents'!AI23","v":0},{"$f":"'All Respondents'!AJ24-'All Respondents'!AJ23","v":9.999999999999995E-3},{"$f":"'All Respondents'!AK24-'All Respondents'!AK23","v":1.0000000000000009E-2},{"$f":"'All Respondents'!AL24-'All Respondents'!AL23","v":1.0000000000000009E-2},{"$f":"'All Respondents'!AM24-'All Respondents'!AM23","v":-1.0000000000000009E-2},{"$f":"'All Respondents'!AN24-'All Respondents'!AN23","v":0},{"$f":"'All Respondents'!AO24-'All Respondents'!AO23","v":1.0000000000000009E-2},null,null,null,null,null,null,null,null,null,null,{"$f":"'All Respondents'!AZ24-'All Respondents'!AZ23","v":2.9999999999999971E-2},{"$f":"'All Respondents'!BA24-'All Respondents'!BA23","v":0},{"$f":"'All Respondents'!BB24-'All Respondents'!BB23","v":-1.0000000000000009E-2},{"$f":"'All Respondents'!BC24-'All Respondents'!BC23","v":2.9999999999999971E-2},{"$f":"'All Respondents'!BD24-'All Respondents'!BD23","v":6.6939999999999916E-3},{"$f":"'All Respondents'!BE24-'All Respondents'!BE23","v":1.0000000000000009E-2},{"$f":"'All Respondents'!BF24-'All Respondents'!BF23","v":0},{"$f":"'All Respondents'!BG24-'All Respondents'!BG23","v":1.0000000000000009E-2},{"$f":"'All Respondents'!BH24-'All Respondents'!BH23","v":-9.9999999999999534E-3},{"$f":"'All Respondents'!BI24-'All Respondents'!BI23","v":1.0000000000000009E-2},{"$f":"'All Respondents'!BJ24-'All Respondents'!BJ23","v":-1.9999999999999962E-2},{"$f":"'All Respondents'!BK24-'All Respondents'!BK23","v":-1.999999999999999E-2},{"$f":"'All Respondents'!BL24-'All Respondents'!BL23","v":1.0000000000000009E-2},{"$f":"'All Respondents'!BM24-'All Respondents'!BM23","v":-9.9999999999999534E-3},{"$f":"'All Respondents'!BN24-'All Respondents'!BN23","v":2.0000000000000018E-2},{"$f":"'All Respondents'!BO24-'All Respondents'!BO23","v":-1.999999999999999E-2},{"$f":"'All Respondents'!BP24-'All Respondents'!BP23","v":1.0000000000000002E-2},{"$f":"'All Respondents'!BQ24-'All Respondents'!BQ23","v":-9.9999999999999811E-3},{"$f":"'All Respondents'!BR24-'All Respondents'!BR23","v":0},{"$f":"'All Respondents'!BS24-'All Respondents'!BS23","v":1.999999999999999E-2},{"$f":"'All Respondents'!BT24-'All Respondents'!BT23","v":0},{"$f":"'All Respondents'!BU24-'All Respondents'!BU23","v":-3.0000000000000027E-2},{"$f":"'All Respondents'!BV24-'All Respondents'!BV23","v":1.999999999999999E-2},{"$f":"'All Respondents'!BW24-'All Respondents'!BW23","v":0},{"$f":"'All Respondents'!BX24-'All Respondents'!BX23","v":1.0000000000000009E-2},{"$f":"'All Respondents'!BY24-'All Respondents'!BY23","v":1.0000000000000009E-2},{"$f":"'All Respondents'!BZ24-'All Respondents'!BZ23","v":9.999999999999995E-3},{"$f":"'All Respondents'!CA24-'All Respondents'!CA23","v":0},{"$f":"'All Respondents'!CB24-'All Respondents'!CB23","v":1.0000000000000009E-2},{"$f":"'All Respondents'!CC24-'All Respondents'!CC23","v":1.0000000000000009E-2},{"$f":"'All Respondents'!CD24-'All Respondents'!CD23","v":-1.0000000000000009E-2},{"$f":"'All Respondents'!CE24-'All Respondents'!CE23","v":1.999999999999999E-2},{"$f":"'All Respondents'!CF24-'All Respondents'!CF23","v":0},{"$f":"'All Respondents'!CG24-'All Respondents'!CG23","v":0},{"$f":"'All Respondents'!CH24-'All Respondents'!CH23","v":2.0000000000000018E-2},{"$f":"'All Respondents'!CI24-'All Respondents'!CI23","v":0},{"$f":"'All Respondents'!CJ24-'All Respondents'!CJ23","v":0},{"$f":"'All Respondents'!CK24-'All Respondents'!CK23","v":0},{"$f":"'All Respondents'!CL24-'All Respondents'!CL23","v":0.03},{"$f":"'All Respondents'!CM24-'All Respondents'!CM23","v":3.0000000000000027E-2},{"$f":"'All Respondents'!CN24-'All Respondents'!CN23","v":-4.0000000000000036E-2},{"$f":"'All Respondents'!CO24-'All Respondents'!CO23","v":-1.999999999999999E-2},{"$f":"'All Respondents'!CP24-'All Respondents'!CP23","v":-2.0000000000000018E-2},{"$f":"'All Respondents'!CQ24-'All Respondents'!CQ23","v":-7.0000000000000062E-2},{"$f":"'All Respondents'!CR24-'All Respondents'!CR23","v":-3.0000000000000027E-2},{"$f":"'All Respondents'!CS24-'All Respondents'!CS23","v":2.0000000000000004E-2},{"$f":"'All Respondents'!CT24-'All Respondents'!CT23","v":4.0000000000000008E-2},{"$f":"'All Respondents'!CU24-'All Respondents'!CU23","v":0},{"$f":"'All Respondents'!CV24-'All Respondents'!CV23","v":9.999999999999995E-3},null,null,null,null,null,{"$f":"'All Respondents'!DB24-'All Respondents'!DB23","v":-1.999999999999999E-2},{"$f":"'All Respondents'!DC24-'All Respondents'!DC23","v":3.0000000000000027E-2},null,null,{"$f":"'All Respondents'!DF24-'All Respondents'!DF23","v":1.9999999999999962E-2},{"$f":"'All Respondents'!DG24-'All Respondents'!DG23","v":9.9999999999999811E-3},{"$f":"'All Respondents'!DH24-'All Respondents'!DH23","v":2.9999999999999916E-2},{"$f":"'All Respondents'!DI24-'All Respondents'!DI23","v":-9.9999999999999811E-3},{"$f":"'All Respondents'!DJ24-'All Respondents'!DJ23","v":-1.0000000000000009E-2},{"$f":"'All Respondents'!DK24-'All Respondents'!DK23","v":0},{"$f":"'All Respondents'!DL24-'All Respondents'!DL23","v":-1.0000000000000009E-2}]
["Mar-Apr 12",{"$f":"'All Respondents'!B25-'All Respondents'!B24","v":2},{"$f":"'All Respondents'!D25-'All Respondents'!D24","v":1.7999999999999972},{"$f":"'All Respondents'!E25-'All Respondents'!E24","v":-2.9999999999999971E-2},{"$f":"'All Respondents'!F25-'All Respondents'!F24","v":9.9999999999999811E-3},{"$f":"'All Respondents'!G25-'All Respondents'!G24","v":0},{"$f":"'All Respondents'!H25-'All Respondents'!H24","v":-3.9999999999999952E-2},{"$f":"'All Respondents'!I25-'All Respondents'!I24","v":1.1399999999999993E-2},{"$f":"'All Respondents'!J25-'All Respondents'!J24","v":8.0999999999999961E-3},{"$f":"'All Respondents'!K25-'All Respondents'!K24","v":1.1050000000000122E-3},{"$f":"'All Respondents'!L25-'All Respondents'!L24","v":-1.9999999999999962E-2},{"$f":"'All Respondents'!M25-'All Respondents'!M24","v":9.999999999999995E-3},{"$f":"'All Respondents'!N25-'All Respondents'!N24","v":0},{"$f":"'All Respondents'!O25-'All Respondents'!O24","v":2.9999999999999916E-2},null,null,{"$f":"'All Respondents'!R25-'All Respondents'!R24","v":-1.0000000000000009E-2},{"$f":"'All Respondents'!S25-'All Respondents'!S24","v":1.0000000000000009E-2},{"$f":"'All Respondents'!T25-'All Respondents'!T24","v":0},{"$f":"'All Respondents'!U25-'All Respondents'!U24","v":-1.0000000000000009E-2},{"$f":"'All Respondents'!V25-'All Respondents'!V24","v":9.999999999999995E-3},{"$f":"'All Respondents'!W25-'All Respondents'!W24","v":0},{"$f":"'All Respondents'!X25-'All Respondents'!X24","v":0},null,null,null,null,null,null,null,null,null,null,{"$f":"'All Respondents'!AI25-'All Respondents'!AI24","v":0},{"$f":"'All Respondents'!AJ25-'All Respondents'!AJ24","v":9.999999999999995E-3},{"$f":"'All Respondents'!AK25-'All Respondents'!AK24","v":9.9999999999999811E-3},{"$f":"'All Respondents'!AL25-'All Respondents'!AL24","v":-1.0000000000000009E-2},{"$f":"'All Respondents'!AM25-'All Respondents'!AM24","v":-9.9999999999999534E-3},{"$f":"'All Respondents'!AN25-'All Respondents'!AN24","v":-1.9999999999999907E-2},{"$f":"'All Respondents'!AO25-'All Respondents'!AO24","v":2.9999999999999916E-2},null,null,null,null,null,null,null,null,null,null,{"$f":"'All Respondents'!AZ25-'All Respondents'!AZ24","v":1.0000000000000009E-2},{"$f":"'All Respondents'!BA25-'All Respondents'!BA24","v":1.0000000000000002E-2},{"$f":"'All Respondents'!BB25-'All Respondents'!BB24","v":-1.0000000000000009E-2},{"$f":"'All Respondents'!BC25-'All Respondents'!BC24","v":0},{"$f":"'All Respondents'!BD25-'All Respondents'!BD24","v":-6.2239999999999934E-3},{"$f":"'All Respondents'!BE25-'All Respondents'!BE24","v":-3.0000000000000027E-2},{"$f":"'All Respondents'!BF25-'All Respondents'!BF24","v":2.0000000000000018E-2},{"$f":"'All Respondents'!BG25-'All Respondents'!BG24","v":-5.0000000000000044E-2},{"$f":"'All Respondents'!BH25-'All Respondents'!BH24","v":2.9999999999999971E-2},{"$f":"'All Respondents'!BI25-'All Respondents'!BI24","v":-2.9999999999999916E-2},{"$f":"'All Respondents'!BJ25-'All Respondents'!BJ24","v":5.9999999999999887E-2},{"$f":"'All Respondents'!BK25-'All Respondents'!BK24","v":1.999999999999999E-2},{"$f":"'All Respondents'!BL25-'All Respondents'!BL24","v":-2.0000000000000018E-2},{"$f":"'All Respondents'!BM25-'All Respondents'!BM24","v":0},{"$f":"'All Respondents'!BN25-'All Respondents'!BN24","v":-1.0000000000000009E-2},{"$f":"'All Respondents'!BO25-'All Respondents'!BO24","v":1.999999999999999E-2},{"$f":"'All Respondents'!BP25-'All Respondents'!BP24","v":-1.0000000000000002E-2},{"$f":"'All Respondents'!BQ25-'All Respondents'!BQ24","v":9.9999999999999811E-3},{"$f":"'All Respondents'!BR25-'All Respondents'!BR24","v":-1.0000000000000009E-2},{"$f":"'All Respondents'!BS25-'All Respondents'!BS24","v":0.03},{"$f":"'All Respondents'!BT25-'All Respondents'!BT24","v":-1.0000000000000009E-2},{"$f":"'All Respondents'!BU25-'All Respondents'!BU24","v":-2.0000000000000018E-2},{"$f":"'All Respondents'!BV25-'All Respondents'!BV24","v":4.0000000000000008E-2},{"$f":"'All Respondents'!BW25-'All Respondents'!BW24","v":0},{"$f":"'All Respondents'!BX25-'All Respondents'!BX24","v":0},{"$f":"'All Respondents'!BY25-'All Respondents'!BY24","v":0},{"$f":"'All Respondents'!BZ25-'All Respondents'!BZ24","v":5.0000000000000017E-2},{"$f":"'All Respondents'!CA25-'All Respondents'!CA24","v":4.0000000000000008E-2},{"$f":"'All Respondents'!CB25-'All Respondents'!CB24","v":9.0000000000000024E-2},{"$f":"'All Respondents'!CC25-'All Respondents'!CC24","v":-6.999999999999984E-2},{"$f":"'All Respondents'!CD25-'All Respondents'!CD24","v":2.0000000000000018E-2},{"$f":"'All Respondents'!CE25-'All Respondents'!CE24","v":-7.9999999999999988E-2},{"$f":"'All Respondents'!CF25-'All Respondents'!CF24","v":-9.9999999999999534E-3},{"$f":"'All Respondents'!CG25-'All Respondents'!CG24","v":1.999999999999999E-2},{"$f":"'All Respondents'!CH25-'All Respondents'!CH24","v":-4.0000000000000008E-2},{"$f":"'All Respondents'!CI25-'All Respondents'!CI24","v":0},{"$f":"'All Respondents'!CJ25-'All Respondents'!CJ24","v":2.0000000000000018E-2},{"$f":"'All Respondents'!CK25-'All Respondents'!CK24","v":0.03},{"$f":"'All Respondents'!CL25-'All Respondents'!CL24","v":-0.06},{"$f":"'All Respondents'!CM25-'All Respondents'!CM24","v":-3.0000000000000027E-2},{"$f":"'All Respondents'!CN25-'All Respondents'!CN24","v":3.0000000000000027E-2},{"$f":"'All Respondents'!CO25-'All Respondents'!CO24","v":0},{"$f":"'All Respondents'!CP25-'All Respondents'!CP24","v":3.0000000000000027E-2},{"$f":"'All Respondents'!CQ25-'All Respondents'!CQ24","v":6.0000000000000053E-2},{"$f":"'All Respondents'!CR25-'All Respondents'!CR24","v":-6.9999999999999951E-2},{"$f":"'All Respondents'!CS25-'All Respondents'!CS24","v":0.03},{"$f":"'All Respondents'!CT25-'All Respondents'!CT24","v":-7.0000000000000007E-2},{"$f":"'All Respondents'!CU25-'All Respondents'!CU24","v":1.999999999999999E-2},{"$f":"'All Respondents'!CV25-'All Respondents'!CV24","v":9.0000000000000011E-2},null,null,null,null,null,{"$f":"'All Respondents'!DB25-'All Respondents'!DB24","v":1.999999999999999E-2},{"$f":"'All Respondents'!DC25-'All Respondents'!DC24","v":-3.0000000000000027E-2},null,null,{"$f":"'All Respondents'!DF25-'All Respondents'!DF24","v":-1.9999999999999962E-2},{"$f":"'All Respondents'!DG25-'All Respondents'!DG24","v":-9.9999999999999811E-3},{"$f":"'All Respondents'!DH25-'All Respondents'!DH24","v":-2.9999999999999916E-2},{"$f":"'All Respondents'!DI25-'All Respondents'!DI24","v":1.999999999999999E-2},{"$f":"'All Respondents'!DJ25-'All Respondents'!DJ24","v":0},{"$f":"'All Respondents'!DK25-'All Respondents'!DK24","v":0},{"$f":"'All Respondents'!DL25-'All Respondents'!DL24","v":0}]
["Apr-May 12",{"$f":"'All Respondents'!B26-'All Respondents'!B25","v":1.0999999999999943},{"$f":"'All Respondents'!D26-'All Respondents'!D25","v":2},{"$f":"'All Respondents'!E26-'All Respondents'!E25","v":2.9999999999999971E-2},{"$f":"'All Respondents'!F26-'All Respondents'!F25","v":-0.03},{"$f":"'All Respondents'!G26-'All Respondents'!G25","v":1.0000000000000009E-2},{"$f":"'All Respondents'!H26-'All Respondents'!H25","v":5.999999999999997E-2},{"$f":"'All Respondents'!I26-'All Respondents'!I25","v":-1.7799999999999996E-2},{"$f":"'All Respondents'!J26-'All Respondents'!J25","v":-5.0000000000000044E-4},{"$f":"'All Respondents'!K26-'All Respondents'!K25","v":2.7829999999999938E-3},{"$f":"'All Respondents'!L26-'All Respondents'!L25","v":1.9999999999999962E-2},{"$f":"'All Respondents'!M26-'All Respondents'!M25","v":-9.999999999999995E-3},{"$f":"'All Respondents'!N26-'All Respondents'!N25","v":9.9999999999999534E-3},{"$f":"'All Respondents'!O26-'All Respondents'!O25","v":-2.9999999999999916E-2},null,null,{"$f":"'All Respondents'!R26-'All Respondents'!R25","v":1.0000000000000009E-2},{"$f":"'All Respondents'!S26-'All Respondents'!S25","v":0},{"$f":"'All Respondents'!T26-'All Respondents'!T25","v":1.0000000000000009E-2},{"$f":"'All Respondents'!U26-'All Respondents'!U25","v":0.03},{"$f":"'All Respondents'!V26-'All Respondents'!V25","v":-2.0000000000000004E-2},{"$f":"'All Respondents'!W26-'All Respondents'!W25","v":1.0000000000000009E-2},{"$f":"'All Respondents'!X26-'All Respondents'!X25","v":0},null,null,null,null,null,null,null,null,null,null,{"$f":"'All Respondents'!AI26-'All Respondents'!AI25","v":0},{"$f":"'All Respondents'!AJ26-'All Respondents'!AJ25","v":1.0000000000000009E-2},{"$f":"'All Respondents'!AK26-'All Respondents'!AK25","v":1.0000000000000009E-2},{"$f":"'All Respondents'!AL26-'All Respondents'!AL25","v":7.0000000000000007E-2},{"$f":"'All Respondents'!AM26-'All Respondents'!AM25","v":-7.0000000000000007E-2},{"$f":"'All Respondents'!AN26-'All Respondents'!AN25","v":0},{"$f":"'All Respondents'!AO26-'All Respondents'!AO25","v":1.0000000000000009E-2},null,null,null,null,null,null,null,null,null,null,{"$f":"'All Respondents'!AZ26-'All Respondents'!AZ25","v":-1.0000000000000009E-2},{"$f":"'All Respondents'!BA26-'All Respondents'!BA25","v":0},{"$f":"'All Respondents'!BB26-'All Respondents'!BB25","v":1.0000000000000009E-2},{"$f":"'All Respondents'!BC26-'All Respondents'!BC25","v":-1.0000000000000009E-2},{"$f":"'All Respondents'!BD26-'All Respondents'!BD25","v":5.721999999999991E-3},{"$f":"'All Respondents'!BE26-'All Respondents'!BE25","v":0},{"$f":"'All Respondents'!BF26-'All Respondents'!BF25","v":2.0000000000000018E-2},{"$f":"'All Respondents'!BG26-'All Respondents'!BG25","v":-2.0000000000000018E-2},{"$f":"'All Respondents'!BH26-'All Respondents'!BH25","v":1.0000000000000009E-2},{"$f":"'All Respondents'!BI26-'All Respondents'!BI25","v":1.0000000000000009E-2},{"$f":"'All Respondents'!BJ26-'All Respondents'!BJ25","v":0},{"$f":"'All Respondents'!BK26-'All Respondents'!BK25","v":-9.9999999999999811E-3},{"$f":"'All Respondents'!BL26-'All Respondents'!BL25","v":-9.9999999999999534E-3},{"$f":"'All Respondents'!BM26-'All Respondents'!BM25","v":-1.9999999999999907E-2},{"$f":"'All Respondents'!BN26-'All Respondents'!BN25","v":2.0000000000000018E-2},{"$f":"'All Respondents'!BO26-'All Respondents'!BO25","v":-9.999999999999995E-3},{"$f":"'All Respondents'!BP26-'All Respondents'!BP25","v":0},{"$f":"'All Respondents'!BQ26-'All Respondents'!BQ25","v":-9.999999999999995E-3},{"$f":"'All Respondents'!BR26-'All Respondents'!BR25","v":-9.9999999999998979E-3},{"$f":"'All Respondents'!BS26-'All Respondents'!BS25","v":-0.03},{"$f":"'All Respondents'!BT26-'All Respondents'!BT25","v":1.0000000000000009E-2},{"$f":"'All Respondents'!BU26-'All Respondents'!BU25","v":1.0000000000000009E-2},{"$f":"'All Respondents'!BV26-'All Respondents'!BV25","v":-4.0000000000000008E-2},{"$f":"'All Respondents'!BW26-'All Respondents'!BW25","v":-1.0000000000000009E-2},{"$f":"'All Respondents'!BX26-'All Respondents'!BX25","v":1.0000000000000009E-2},{"$f":"'All Respondents'!BY26-'All Respondents'!BY25","v":2.0000000000000018E-2},{"$f":"'All Respondents'!BZ26-'All Respondents'!BZ25","v":-2.0000000000000018E-2},{"$f":"'All Respondents'!CA26-'All Respondents'!CA25","v":-0.03},{"$f":"'All Respondents'!CB26-'All Respondents'!CB25","v":-4.9999999999999989E-2},{"$f":"'All Respondents'!CC26-'All Respondents'!CC25","v":5.9999999999999831E-2},{"$f":"'All Respondents'!CD26-'All Respondents'!CD25","v":0},{"$f":"'All Respondents'!CE26-'All Respondents'!CE25","v":0.06},{"$f":"'All Respondents'!CF26-'All Respondents'!CF25","v":0},{"$f":"'All Respondents'!CG26-'All Respondents'!CG25","v":0},{"$f":"'All Respondents'!CH26-'All Respondents'!CH25","v":-1.0000000000000009E-2},{"$f":"'All Respondents'!CI26-'All Respondents'!CI25","v":-1.0000000000000009E-2},{"$f":"'All Respondents'!CJ26-'All Respondents'!CJ25","v":2.0000000000000018E-2},{"$f":"'All Respondents'!CK26-'All Respondents'!CK25","v":-2.0000000000000004E-2},{"$f":"'All Respondents'!CL26-'All Respondents'!CL25","v":-1.0000000000000009E-2},{"$f":"'All Respondents'!CM26-'All Respondents'!CM25","v":-0.03},{"$f":"'All Respondents'!CN26-'All Respondents'!CN25","v":4.0000000000000036E-2},{"$f":"'All Respondents'!CO26-'All Respondents'!CO25","v":-1.999999999999999E-2},{"$f":"'All Respondents'!CP26-'All Respondents'!CP25","v":5.9999999999999942E-2},{"$f":"'All Respondents'!CQ26-'All Respondents'!CQ25","v":7.0000000000000062E-2},{"$f":"'All Respondents'!CR26-'All Respondents'!CR25","v":-3.0000000000000027E-2},{"$f":"'All Respondents'!CS26-'All Respondents'!CS25","v":9.999999999999995E-3},{"$f":"'All Respondents'!CT26-'All Respondents'!CT25","v":1.0000000000000009E-2},{"$f":"'All Respondents'!CU26-'All Respondents'!CU25","v":-9.999999999999995E-3},{"$f":"'All Respondents'!CV26-'All Respondents'!CV25","v":1.999999999999999E-2},null,null,null,null,null,{"$f":"'All Respondents'!DB26-'All Respondents'!DB25","v":-9.9999999999999811E-3},{"$f":"'All Respondents'!DC26-'All Respondents'!DC25","v":1.0000000000000009E-2},null,null,{"$f":"'All Respondents'!DF26-'All Respondents'!DF25","v":0},{"$f":"'All Respondents'!DG26-'All Respondents'!DG25","v":4.9999999999999989E-2},{"$f":"'All Respondents'!DH26-'All Respondents'!DH25","v":4.9999999999999933E-2},{"$f":"'All Respondents'!DI26-'All Respondents'!DI25","v":-0.03},{"$f":"'All Respondents'!DJ26-'All Respondents'!DJ25","v":-1.999999999999999E-2},{"$f":"'All Respondents'!DK26-'All Respondents'!DK25","v":-2.0000000000000004E-2},{"$f":"'All Respondents'!DL26-'All Respondents'!DL25","v":0}]
["May-Jun 12",{"$f":"'All Respondents'!B27-'All Respondents'!B26","v":-0.79999999999999716},{"$f":"'All Respondents'!D27-'All Respondents'!D26","v":-1.5999999999999943},{"$f":"'All Respondents'!E27-'All Respondents'!E26","v":0},{"$f":"'All Respondents'!F27-'All Respondents'!F26","v":1.0000000000000009E-2},{"$f":"'All Respondents'!G27-'All Respondents'!G26","v":-1.0000000000000009E-2},{"$f":"'All Respondents'!H27-'All Respondents'!H26","v":-1.0000000000000009E-2},{"$f":"'All Respondents'!I27-'All Respondents'!I26","v":1.9799999999999998E-2},{"$f":"'All Respondents'!J27-'All Respondents'!J26","v":5.7999999999999996E-3},{"$f":"'All Respondents'!K27-'All Respondents'!K26","v":3.5419999999999983E-3},{"$f":"'All Respondents'!L27-'All Respondents'!L26","v":-2.9999999999999971E-2},{"$f":"'All Respondents'!M27-'All Respondents'!M26","v":0},{"$f":"'All Respondents'!N27-'All Respondents'!N26","v":1.0000000000000009E-2},{"$f":"'All Respondents'!O27-'All Respondents'!O26","v":2.9999999999999971E-2},null,null,{"$f":"'All Respondents'!R27-'All Respondents'!R26","v":0.06},{"$f":"'All Respondents'!S27-'All Respondents'!S26","v":-0.06},{"$f":"'All Respondents'!T27-'All Respondents'!T26","v":0},{"$f":"'All Respondents'!U27-'All Respondents'!U26","v":-4.0000000000000008E-2},{"$f":"'All Respondents'!V27-'All Respondents'!V26","v":1.0000000000000009E-2},{"$f":"'All Respondents'!W27-'All Respondents'!W26","v":-0.03},{"$f":"'All Respondents'!X27-'All Respondents'!X26","v":3.0000000000000027E-2},null,null,null,null,null,null,null,null,null,null,{"$f":"'All Respondents'!AI27-'All Respondents'!AI26","v":0},{"$f":"'All Respondents'!AJ27-'All Respondents'!AJ26","v":0},{"$f":"'All Respondents'!AK27-'All Respondents'!AK26","v":0},{"$f":"'All Respondents'!AL27-'All Respondents'!AL26","v":-7.0000000000000007E-2},{"$f":"'All Respondents'!AM27-'All Respondents'!AM26","v":0.06},{"$f":"'All Respondents'!AN27-'All Respondents'!AN26","v":-1.0000000000000009E-2},{"$f":"'All Respondents'!AO27-'All Respondents'!AO26","v":1.0000000000000009E-2},null,null,null,null,null,null,null,null,null,null,{"$f":"'All Respondents'!AZ27-'All Respondents'!AZ26","v":0},{"$f":"'All Respondents'!BA27-'All Respondents'!BA26","v":0},{"$f":"'All Respondents'!BB27-'All Respondents'!BB26","v":-1.0000000000000009E-2},{"$f":"'All Respondents'!BC27-'All Respondents'!BC26","v":0},{"$f":"'All Respondents'!BD27-'All Respondents'!BD26","v":4.1400000000000464E-4},{"$f":"'All Respondents'!BE27-'All Respondents'!BE26","v":4.0000000000000036E-2},{"$f":"'All Respondents'!BF27-'All Respondents'!BF26","v":-0.06},{"$f":"'All Respondents'!BG27-'All Respondents'!BG26","v":0.10000000000000003},{"$f":"'All Respondents'!BH27-'All Respondents'!BH26","v":-2.0000000000000018E-2},{"$f":"'All Respondents'!BI27-'All Respondents'!BI26","v":9.9999999999998979E-3},{"$f":"'All Respondents'!BJ27-'All Respondents'!BJ26","v":-2.9999999999999916E-2},{"$f":"'All Respondents'!BK27-'All Respondents'!BK26","v":-2.0000000000000018E-2},{"$f":"'All Respondents'!BL27-'All Respondents'!BL26","v":2.9999999999999971E-2},{"$f":"'All Respondents'!BM27-'All Respondents'!BM26","v":9.9999999999999534E-3},{"$f":"'All Respondents'!BN27-'All Respondents'!BN26","v":-4.9999999999999989E-2},{"$f":"'All Respondents'!BO27-'All Respondents'!BO26","v":9.999999999999995E-3},{"$f":"'All Respondents'!BP27-'All Respondents'!BP26","v":2.0000000000000004E-2},{"$f":"'All Respondents'!BQ27-'All Respondents'!BQ26","v":3.0000000000000013E-2},{"$f":"'All Respondents'!BR27-'All Respondents'!BR26","v":-2.0000000000000073E-2},{"$f":"'All Respondents'!BS27-'All Respondents'!BS26","v":-4.0000000000000008E-2},{"$f":"'All Respondents'!BT27-'All Respondents'!BT26","v":-1.0000000000000009E-2},{"$f":"'All Respondents'!BU27-'All Respondents'!BU26","v":6.0000000000000053E-2},{"$f":"'All Respondents'!BV27-'All Respondents'!BV26","v":-0.03},{"$f":"'All Respondents'!BW27-'All Respondents'!BW26","v":1.0000000000000009E-2},{"$f":"'All Respondents'!BX27-'All Respondents'!BX26","v":9.9999999999999534E-3},{"$f":"'All Respondents'!BY27-'All Respondents'!BY26","v":-5.5511151231257827E-17},{"$f":"'All Respondents'!BZ27-'All Respondents'!BZ26","v":0},{"$f":"'All Respondents'!CA27-'All Respondents'!CA26","v":0},{"$f":"'All Respondents'!CB27-'All Respondents'!CB26","v":0},{"$f":"'All Respondents'!CC27-'All Respondents'!CC26","v":-2.0000000000000018E-2},{"$f":"'All Respondents'!CD27-'All Respondents'!CD26","v":-2.0000000000000018E-2},{"$f":"'All Respondents'!CE27-'All Respondents'!CE26","v":1.0000000000000009E-2},{"$f":"'All Respondents'!CF27-'All Respondents'!CF26","v":-1.0000000000000009E-2},{"$f":"'All Respondents'!CG27-'All Respondents'!CG26","v":-1.999999999999999E-2},{"$f":"'All Respondents'!CH27-'All Respondents'!CH26","v":2.0000000000000004E-2},{"$f":"'All Respondents'!CI27-'All Respondents'!CI26","v":-1.999999999999999E-2},{"$f":"'All Respondents'!CJ27-'All Respondents'!CJ26","v":2.0000000000000018E-2},{"$f":"'All Respondents'!CK27-'All Respondents'!CK26","v":0},{"$f":"'All Respondents'!CL27-'All Respondents'!CL26","v":0.03},{"$f":"'All Respondents'!CM27-'All Respondents'!CM26","v":0.03},{"$f":"'All Respondents'!CN27-'All Respondents'!CN26","v":-5.0000000000000044E-2},{"$f":"'All Respondents'!CO27-'All Respondents'!CO26","v":-2.0000000000000018E-2},{"$f":"'All Respondents'!CP27-'All Respondents'!CP26","v":-2.9999999999999916E-2},{"$f":"'All Respondents'!CQ27-'All Respondents'!CQ26","v":-8.0000000000000071E-2},{"$f":"'All Respondents'!CR27-'All Respondents'!CR26","v":-1.0000000000000009E-2},{"$f":"'All Respondents'!CS27-'All Respondents'!CS26","v":-9.999999999999995E-3},{"$f":"'All Respondents'!CT27-'All Respondents'!CT26","v":1.999999999999999E-2},{"$f":"'All Respondents'!CU27-'All Respondents'!CU26","v":9.999999999999995E-3},{"$f":"'All Respondents'!CV27-'All Respondents'!CV26","v":-1.999999999999999E-2},null,null,null,null,null,{"$f":"'All Respondents'!DB27-'All Respondents'!DB26","v":-1.0000000000000009E-2},{"$f":"'All Respondents'!DC27-'All Respondents'!DC26","v":1.0000000000000009E-2},null,null,{"$f":"'All Respondents'!DF27-'All Respondents'!DF26","v":-0.06},{"$f":"'All Respondents'!DG27-'All Respondents'!DG26","v":0},{"$f":"'All Respondents'!DH27-'All Respondents'!DH26","v":-5.9999999999999942E-2},{"$f":"'All Respondents'!DI27-'All Respondents'!DI26","v":0.03},{"$f":"'All Respondents'!DJ27-'All Respondents'!DJ26","v":3.999999999999998E-2},{"$f":"'All Respondents'!DK27-'All Respondents'!DK26","v":2.0000000000000004E-2},{"$f":"'All Respondents'!DL27-'All Respondents'!DL26","v":2.0000000000000004E-2}]
["Jun-Jul 12",{"$f":"'All Respondents'!B28-'All Respondents'!B27","v":1},{"$f":"'All Respondents'!D28-'All Respondents'!D27","v":1},{"$f":"'All Respondents'!E28-'All Respondents'!E27","v":1.0000000000000009E-2},{"$f":"'All Respondents'!F28-'All Respondents'!F27","v":-2.0000000000000004E-2},{"$f":"'All Respondents'!G28-'All Respondents'!G27","v":0},{"$f":"'All Respondents'!H28-'All Respondents'!H27","v":3.0000000000000027E-2},{"$f":"'All Respondents'!I28-'All Respondents'!I27","v":-1.4799999999999994E-2},{"$f":"'All Respondents'!J28-'All Respondents'!J27","v":-4.0000000000000036E-3},{"$f":"'All Respondents'!K28-'All Respondents'!K27","v":-4.7299999999999773E-4},{"$f":"'All Respondents'!L28-'All Respondents'!L27","v":-2.0000000000000018E-2},{"$f":"'All Respondents'!M28-'All Respondents'!M27","v":-9.999999999999995E-3},{"$f":"'All Respondents'!N28-'All Respondents'!N27","v":2.0000000000000018E-2},{"$f":"'All Respondents'!O28-'All Respondents'!O27","v":1.0000000000000009E-2},null,null,{"$f":"'All Respondents'!R28-'All Respondents'!R27","v":-3.0000000000000027E-2},{"$f":"'All Respondents'!S28-'All Respondents'!S27","v":2.0000000000000018E-2},{"$f":"'All Respondents'!T28-'All Respondents'!T27","v":-1.0000000000000009E-2},{"$f":"'All Respondents'!U28-'All Respondents'!U27","v":1.0000000000000009E-2},{"$f":"'All Respondents'!V28-'All Respondents'!V27","v":0},{"$f":"'All Respondents'!W28-'All Respondents'!W27","v":1.0000000000000009E-2},{"$f":"'All Respondents'!X28-'All Respondents'!X27","v":-2.0000000000000018E-2},null,null,null,null,null,null,null,null,null,null,{"$f":"'All Respondents'!AI28-'All Respondents'!AI27","v":-9.9999999999999985E-3},{"$f":"'All Respondents'!AJ28-'All Respondents'!AJ27","v":1.0000000000000009E-2},{"$f":"'All Respondents'!AK28-'All Respondents'!AK27","v":0},{"$f":"'All Respondents'!AL28-'All Respondents'!AL27","v":8.0000000000000016E-2},{"$f":"'All Respondents'!AM28-'All Respondents'!AM27","v":-0.10000000000000003},{"$f":"'All Respondents'!AN28-'All Respondents'!AN27","v":-2.0000000000000018E-2},{"$f":"'All Respondents'!AO28-'All Respondents'!AO27","v":2.0000000000000018E-2},null,null,null,null,null,null,null,null,null,null,{"$f":"'All Respondents'!AZ28-'All Respondents'!AZ27","v":1.0000000000000009E-2},{"$f":"'All Respondents'!BA28-'All Respondents'!BA27","v":-3.0000000000000002E-2},{"$f":"'All Respondents'!BB28-'All Respondents'!BB27","v":2.0000000000000018E-2},{"$f":"'All Respondents'!BC28-'All Respondents'!BC27","v":3.999999999999998E-2},{"$f":"'All Respondents'!BD28-'All Respondents'!BD27","v":1.3340000000000019E-3},{"$f":"'All Respondents'!BE28-'All Respondents'!BE27","v":-2.0000000000000018E-2},{"$f":"'All Respondents'!BF28-'All Respondents'!BF27","v":2.9999999999999971E-2},{"$f":"'All Respondents'!BG28-'All Respondents'!BG27","v":-4.9999999999999989E-2},{"$f":"'All Respondents'!BH28-'All Respondents'!BH27","v":-1.0000000000000009E-2},{"$f":"'All Respondents'!BI28-'All Respondents'!BI27","v":1.0000000000000009E-2},{"$f":"'All Respondents'!BJ28-'All Respondents'!BJ27","v":-2.0000000000000018E-2},{"$f":"'All Respondents'!BK28-'All Respondents'!BK27","v":0.03},{"$f":"'All Respondents'!BL28-'All Respondents'!BL27","v":-1.0000000000000009E-2},{"$f":"'All Respondents'!BM28-'All Respondents'!BM27","v":1.9999999999999962E-2},{"$f":"'All Respondents'!BN28-'All Respondents'!BN27","v":-3.0000000000000027E-2},{"$f":"'All Respondents'!BO28-'All Respondents'!BO27","v":1.0000000000000009E-2},{"$f":"'All Respondents'!BP28-'All Respondents'!BP27","v":0},{"$f":"'All Respondents'!BQ28-'All Respondents'!BQ27","v":1.0000000000000009E-2},{"$f":"'All Respondents'!BR28-'All Respondents'!BR27","v":9.9999999999999534E-3},{"$f":"'All Respondents'!BS28-'All Respondents'!BS27","v":0.03},{"$f":"'All Respondents'!BT28-'All Respondents'!BT27","v":1.0000000000000009E-2},{"$f":"'All Respondents'!BU28-'All Respondents'!BU27","v":-4.0000000000000036E-2},{"$f":"'All Respondents'!BV28-'All Respondents'!BV27","v":1.999999999999999E-2},{"$f":"'All Respondents'!BW28-'All Respondents'!BW27","v":4.0000000000000036E-2},{"$f":"'All Respondents'!BX28-'All Respondents'!BX27","v":-0.06},{"$f":"'All Respondents'!BY28-'All Respondents'!BY27","v":-0.10000000000000003},{"$f":"'All Respondents'!BZ28-'All Respondents'!BZ27","v":0.03},{"$f":"'All Respondents'!CA28-'All Respondents'!CA27","v":0},{"$f":"'All Respondents'!CB28-'All Respondents'!CB27","v":2.9999999999999971E-2},{"$f":"'All Respondents'!CC28-'All Respondents'!CC27","v":-2.0000000000000018E-2},{"$f":"'All Respondents'!CD28-'All Respondents'!CD27","v":1.0000000000000009E-2},{"$f":"'All Respondents'!CE28-'All Respondents'!CE27","v":-2.0000000000000018E-2},{"$f":"'All Respondents'!CF28-'All Respondents'!CF27","v":-1.0000000000000009E-2},{"$f":"'All Respondents'!CG28-'All Respondents'!CG27","v":9.999999999999995E-3},{"$f":"'All Respondents'!CH28-'All Respondents'!CH27","v":2.0000000000000004E-2},{"$f":"'All Respondents'!CI28-'All Respondents'!CI27","v":1.999999999999999E-2},{"$f":"'All Respondents'!CJ28-'All Respondents'!CJ27","v":-4.0000000000000036E-2},{"$f":"'All Respondents'!CK28-'All Respondents'!CK27","v":-9.999999999999995E-3},{"$f":"'All Respondents'!CL28-'All Respondents'!CL27","v":1.0000000000000009E-2},{"$f":"'All Respondents'!CM28-'All Respondents'!CM27","v":0},{"$f":"'All Respondents'!CN28-'All Respondents'!CN27","v":0},{"$f":"'All Respondents'!CO28-'All Respondents'!CO27","v":0.03},{"$f":"'All Respondents'!CP28-'All Respondents'!CP27","v":-3.0000000000000027E-2},{"$f":"'All Respondents'!CQ28-'All Respondents'!CQ27","v":0},{"$f":"'All Respondents'!CR28-'All Respondents'!CR27","v":2.0000000000000018E-2},{"$f":"'All Respondents'!CS28-'All Respondents'!CS27","v":2.0000000000000004E-2},{"$f":"'All Respondents'!CT28-'All Respondents'!CT27","v":0},{"$f":"'All Respondents'!CU28-'All Respondents'!CU27","v":-9.999999999999995E-3},{"$f":"'All Respondents'!CV28-'All Respondents'!CV27","v":0},null,null,null,null,null,{"$f":"'All Respondents'!DB28-'All Respondents'!DB27","v":1.999999999999999E-2},{"$f":"'All Respondents'!DC28-'All Respondents'!DC27","v":-2.0000000000000018E-2},null,null,{"$f":"'All Respondents'!DF28-'All Respondents'!DF27","v":7.999999999999996E-2},{"$f":"'All Respondents'!DG28-'All Respondents'!DG27","v":-0.03},{"$f":"'All Respondents'!DH28-'All Respondents'!DH27","v":4.9999999999999933E-2},{"$f":"'All Respondents'!DI28-'All Respondents'!DI27","v":-1.999999999999999E-2},{"$f":"'All Respondents'!DJ28-'All Respondents'!DJ27","v":-4.9999999999999989E-2},{"$f":"'All Respondents'!DK28-'All Respondents'!DK27","v":-2.0000000000000004E-2},{"$f":"'All Respondents'!DL28-'All Respondents'!DL27","v":-0.03}]
["Jul-Aug12",{"$f":"'All Respondents'!B29-'All Respondents'!B28","v":-1.5},{"$f":"'All Respondents'!D29-'All Respondents'!D28","v":-1},{"$f":"'All Respondents'!E29-'All Respondents'!E28","v":-2.9999999999999971E-2},{"$f":"'All Respondents'!F29-'All Respondents'!F28","v":9.999999999999995E-3},{"$f":"'All Respondents'!G29-'All Respondents'!G28","v":-1.0000000000000009E-2},{"$f":"'All Respondents'!H29-'All Respondents'!H28","v":-3.999999999999998E-2},{"$f":"'All Respondents'!I29-'All Respondents'!I28","v":3.0700000000000005E-2},{"$f":"'All Respondents'!J29-'All Respondents'!J28","v":-1.3100000000000001E-2},{"$f":"'All Respondents'!K29-'All Respondents'!K28","v":-4.1320000000000003E-3},{"$f":"'All Respondents'!L29-'All Respondents'!L28","v":4.9999999999999989E-2},{"$f":"'All Respondents'!M29-'All Respondents'!M28","v":9.999999999999995E-3},{"$f":"'All Respondents'!N29-'All Respondents'!N28","v":-3.999999999999998E-2},{"$f":"'All Respondents'!O29-'All Respondents'!O28","v":-3.999999999999998E-2},null,null,{"$f":"'All Respondents'!R29-'All Respondents'!R28","v":-2.0000000000000018E-2},{"$f":"'All Respondents'!S29-'All Respondents'!S28","v":1.9999999999999962E-2},{"$f":"'All Respondents'!T29-'All Respondents'!T28","v":0},{"$f":"'All Respondents'!U29-'All Respondents'!U28","v":1.999999999999999E-2},{"$f":"'All Respondents'!V29-'All Respondents'!V28","v":9.999999999999995E-3},{"$f":"'All Respondents'!W29-'All Respondents'!W28","v":0.03},{"$f":"'All Respondents'!X29-'All Respondents'!X28","v":-3.0000000000000027E-2},null,null,null,null,null,null,null,null,null,null,{"$f":"'All Respondents'!AI29-'All Respondents'!AI28","v":9.9999999999999985E-3},{"$f":"'All Respondents'!AJ29-'All Respondents'!AJ28","v":9.9999999999999811E-3},{"$f":"'All Respondents'!AK29-'All Respondents'!AK28","v":1.999999999999999E-2},{"$f":"'All Respondents'!AL29-'All Respondents'!AL28","v":-7.0000000000000007E-2},{"$f":"'All Respondents'!AM29-'All Respondents'!AM28","v":0.06},{"$f":"'All Respondents'!AN29-'All Respondents'!AN28","v":-1.0000000000000009E-2},{"$f":"'All Respondents'!AO29-'All Respondents'!AO28","v":2.9999999999999916E-2},null,null,null,null,null,null,null,null,null,null,{"$f":"'All Respondents'!AZ29-'All Respondents'!AZ28","v":-0.06},{"$f":"'All Respondents'!BA29-'All Respondents'!BA28","v":3.0000000000000002E-2},{"$f":"'All Respondents'!BB29-'All Respondents'!BB28","v":0},{"$f":"'All Respondents'!BC29-'All Respondents'!BC28","v":-8.9999999999999969E-2},{"$f":"'All Respondents'!BD29-'All Respondents'!BD28","v":-9.9290000000000003E-3},{"$f":"'All Respondents'!BE29-'All Respondents'!BE28","v":1.0000000000000009E-2},{"$f":"'All Respondents'!BF29-'All Respondents'!BF28","v":-2.0000000000000018E-2},{"$f":"'All Respondents'!BG29-'All Respondents'!BG28","v":3.0000000000000027E-2},{"$f":"'All Respondents'!BH29-'All Respondents'!BH28","v":-2.9999999999999971E-2},{"$f":"'All Respondents'!BI29-'All Respondents'!BI28","v":3.0000000000000027E-2},{"$f":"'All Respondents'!BJ29-'All Respondents'!BJ28","v":-0.06},{"$f":"'All Respondents'!BK29-'All Respondents'!BK28","v":-1.999999999999999E-2},{"$f":"'All Respondents'!BL29-'All Respondents'!BL28","v":0},{"$f":"'All Respondents'!BM29-'All Respondents'!BM28","v":-1.9999999999999962E-2},{"$f":"'All Respondents'!BN29-'All Respondents'!BN28","v":1.0000000000000009E-2},{"$f":"'All Respondents'!BO29-'All Respondents'!BO28","v":0},{"$f":"'All Respondents'!BP29-'All Respondents'!BP28","v":0},{"$f":"'All Respondents'!BQ29-'All Respondents'!BQ28","v":0},{"$f":"'All Respondents'!BR29-'All Respondents'!BR28","v":-1.9999999999999962E-2},{"$f":"'All Respondents'!BS29-'All Respondents'!BS28","v":1.0000000000000009E-2},{"$f":"'All Respondents'!BT29-'All Respondents'!BT28","v":0},{"$f":"'All Respondents'!BU29-'All Respondents'!BU28","v":-1.0000000000000009E-2},{"$f":"'All Respondents'!BV29-'All Respondents'!BV28","v":1.0000000000000009E-2},{"$f":"'All Respondents'!BW29-'All Respondents'!BW28","v":-5.0000000000000044E-2},{"$f":"'All Respondents'!BX29-'All Respondents'!BX28","v":0.06},{"$f":"'All Respondents'!BY29-'All Respondents'!BY28","v":0.11000000000000004},{"$f":"'All Respondents'!BZ29-'All Respondents'!BZ28","v":-0.03},{"$f":"'All Respondents'!CA29-'All Respondents'!CA28","v":-1.0000000000000009E-2},{"$f":"'All Respondents'!CB29-'All Respondents'!CB28","v":-3.999999999999998E-2},{"$f":"'All Respondents'!CC29-'All Respondents'!CC28","v":2.0000000000000018E-2},{"$f":"'All Respondents'!CD29-'All Respondents'!CD28","v":0},{"$f":"'All Respondents'!CE29-'All Respondents'!CE28","v":-1.999999999999999E-2},{"$f":"'All Respondents'!CF29-'All Respondents'!CF28","v":3.999999999999998E-2},{"$f":"'All Respondents'!CG29-'All Respondents'!CG28","v":-9.999999999999995E-3},{"$f":"'All Respondents'!CH29-'All Respondents'!CH28","v":1.0000000000000009E-2},{"$f":"'All Respondents'!CI29-'All Respondents'!CI28","v":1.999999999999999E-2},{"$f":"'All Respondents'!CJ29-'All Respondents'!CJ28","v":-2.0000000000000018E-2},{"$f":"'All Respondents'!CK29-'All Respondents'!CK28","v":-9.999999999999995E-3},{"$f":"'All Respondents'!CL29-'All Respondents'!CL28","v":0.03},{"$f":"'All Respondents'!CM29-'All Respondents'!CM28","v":2.0000000000000018E-2},{"$f":"'All Respondents'!CN29-'All Respondents'!CN28","v":0},{"$f":"'All Respondents'!CO29-'All Respondents'!CO28","v":4.0000000000000008E-2},{"$f":"'All Respondents'!CP29-'All Respondents'!CP28","v":-4.0000000000000036E-2},{"$f":"'All Respondents'!CQ29-'All Respondents'!CQ28","v":-2.0000000000000018E-2},{"$f":"'All Respondents'!CR29-'All Respondents'!CR28","v":-3.0000000000000027E-2},{"$f":"'All Respondents'!CS29-'All Respondents'!CS28","v":-0.03},{"$f":"'All Respondents'!CT29-'All Respondents'!CT28","v":4.0000000000000008E-2},{"$f":"'All Respondents'!CU29-'All Respondents'!CU28","v":0},{"$f":"'All Respondents'!CV29-'All Respondents'!CV28","v":9.9999999999999811E-3},null,null,null,null,null,{"$f":"'All Respondents'!DB29-'All Respondents'!DB28","v":-1.999999999999999E-2},{"$f":"'All Respondents'!DC29-'All Respondents'!DC28","v":1.0000000000000009E-2},{"$f":"'All Respondents'!DD29-'All Respondents'!DD28","v":-4.0000000000000008E-2},{"$f":"'All Respondents'!DE29-'All Respondents'!DE28","v":3.0000000000000027E-2},{"$f":"'All Respondents'!DF29-'All Respondents'!DF28","v":1.0000000000000009E-2},{"$f":"'All Respondents'!DG29-'All Respondents'!DG28","v":-1.0000000000000009E-2},{"$f":"'All Respondents'!DH29-'All Respondents'!DH28","v":0},{"$f":"'All Respondents'!DI29-'All Respondents'!DI28","v":0.03},{"$f":"'All Respondents'!DJ29-'All Respondents'!DJ28","v":-2.0000000000000018E-2},{"$f":"'All Respondents'!DK29-'All Respondents'!DK28","v":-2.0000000000000004E-2},{"$f":"'All Respondents'!DL29-'All Respondents'!DL28","v":0}]
["Aug-Sep 12",{"$f":"'All Respondents'!B30-'All Respondents'!B29","v":3.7999999999999972},{"$f":"'All Respondents'!D30-'All Respondents'!D29","v":2.5999999999999943},{"$f":"'All Respondents'!E30-'All Respondents'!E29","v":3.999999999999998E-2},{"$f":"'All Respondents'!F30-'All Respondents'!F29","v":-9.999999999999995E-3},{"$f":"'All Respondents'!G30-'All Respondents'!G29","v":-2.9999999999999971E-2},{"$f":"'All Respondents'!H30-'All Respondents'!H29","v":4.9999999999999989E-2},{"$f":"'All Respondents'!I30-'All Respondents'!I29","v":-2.23E-2},{"$f":"'All Respondents'!J30-'All Respondents'!J29","v":-9.9999999999988987E-5},{"$f":"'All Respondents'!K30-'All Respondents'!K29","v":9.9899999999999989E-4},{"$f":"'All Respondents'!L30-'All Respondents'!L29","v":-8.9999999999999969E-2},{"$f":"'All Respondents'!M30-'All Respondents'!M29","v":9.999999999999995E-3},{"$f":"'All Respondents'!N30-'All Respondents'!N29","v":3.999999999999998E-2},{"$f":"'All Respondents'!O30-'All Respondents'!O29","v":9.999999999999995E-2},null,null,{"$f":"'All Respondents'!R30-'All Respondents'!R29","v":-2.9999999999999971E-2},{"$f":"'All Respondents'!S30-'All Respondents'!S29","v":2.0000000000000018E-2},{"$f":"'All Respondents'!T30-'All Respondents'!T29","v":-1.0000000000000009E-2},{"$f":"'All Respondents'!U30-'All Respondents'!U29","v":1.0000000000000009E-2},{"$f":"'All Respondents'!V30-'All Respondents'!V29","v":-0.03},{"$f":"'All Respondents'!W30-'All Respondents'!W29","v":-2.0000000000000018E-2},{"$f":"'All Respondents'!X30-'All Respondents'!X29","v":1.0000000000000009E-2},null,null,null,null,null,null,null,null,null,null,{"$f":"'All Respondents'!AI30-'All Respondents'!AI29","v":0},{"$f":"'All Respondents'!AJ30-'All Respondents'!AJ29","v":1.0000000000000009E-2},{"$f":"'All Respondents'!AK30-'All Respondents'!AK29","v":1.0000000000000009E-2},{"$f":"'All Respondents'!AL30-'All Respondents'!AL29","v":3.0000000000000027E-2},{"$f":"'All Respondents'!AM30-'All Respondents'!AM29","v":-6.9999999999999951E-2},{"$f":"'All Respondents'!AN30-'All Respondents'!AN29","v":-4.0000000000000036E-2},{"$f":"'All Respondents'!AO30-'All Respondents'!AO29","v":5.0000000000000044E-2},null,null,null,null,null,null,null,null,null,null,{"$f":"'All Respondents'!AZ30-'All Respondents'!AZ29","v":3.999999999999998E-2},{"$f":"'All Respondents'!BA30-'All Respondents'!BA29","v":-1.0000000000000002E-2},{"$f":"'All Respondents'!BB30-'All Respondents'!BB29","v":-3.0000000000000027E-2},{"$f":"'All Respondents'!BC30-'All Respondents'!BC29","v":4.9999999999999989E-2},{"$f":"'All Respondents'!BD30-'All Respondents'!BD29","v":1.0499999999999399E-4},{"$f":"'All Respondents'!BE30-'All Respondents'!BE29","v":2.0000000000000018E-2},{"$f":"'All Respondents'!BF30-'All Respondents'!BF29","v":1.0000000000000009E-2},{"$f":"'All Respondents'!BG30-'All Respondents'!BG29","v":1.0000000000000009E-2},{"$f":"'All Respondents'!BH30-'All Respondents'!BH29","v":9.9999999999999978E-2},{"$f":"'All Respondents'!BI30-'All Respondents'!BI29","v":-7.999999999999996E-2},{"$f":"'All Respondents'!BJ30-'All Respondents'!BJ29","v":0.17999999999999994},{"$f":"'All Respondents'!BK30-'All Respondents'!BK29","v":4.0000000000000008E-2},{"$f":"'All Respondents'!BL30-'All Respondents'!BL29","v":-1.9999999999999962E-2},{"$f":"'All Respondents'!BM30-'All Respondents'!BM29","v":2.0000000000000073E-2},{"$f":"'All Respondents'!BN30-'All Respondents'!BN29","v":1.0000000000000009E-2},{"$f":"'All Respondents'!BO30-'All Respondents'!BO29","v":-1.0000000000000009E-2},{"$f":"'All Respondents'!BP30-'All Respondents'!BP29","v":-1.0000000000000002E-2},{"$f":"'All Respondents'!BQ30-'All Respondents'!BQ29","v":-2.0000000000000018E-2},{"$f":"'All Respondents'!BR30-'All Respondents'!BR29","v":4.0000000000000091E-2},{"$f":"'All Respondents'!BS30-'All Respondents'!BS29","v":-4.0000000000000008E-2},{"$f":"'All Respondents'!BT30-'All Respondents'!BT29","v":1.999999999999999E-2},{"$f":"'All Respondents'!BU30-'All Respondents'!BU29","v":2.0000000000000018E-2},{"$f":"'All Respondents'!BV30-'All Respondents'!BV29","v":-0.06},{"$f":"'All Respondents'!BW30-'All Respondents'!BW29","v":0},{"$f":"'All Respondents'!BX30-'All Respondents'!BX29","v":0},{"$f":"'All Respondents'!BY30-'All Respondents'!BY29","v":0},{"$f":"'All Respondents'!BZ30-'All Respondents'!BZ29","v":1.0000000000000009E-2},{"$f":"'All Respondents'!CA30-'All Respondents'!CA29","v":0},{"$f":"'All Respondents'!CB30-'All Respondents'!CB29","v":1.0000000000000009E-2},{"$f":"'All Respondents'!CC30-'All Respondents'!CC29","v":1.0000000000000009E-2},{"$f":"'All Respondents'!CD30-'All Respondents'!CD29","v":1.999999999999999E-2},{"$f":"'All Respondents'!CE30-'All Respondents'!CE29","v":-1.999999999999999E-2},{"$f":"'All Respondents'!CF30-'All Respondents'!CF29","v":1.0000000000000009E-2},{"$f":"'All Respondents'!CG30-'All Respondents'!CG29","v":9.999999999999995E-3},{"$f":"'All Respondents'!CH30-'All Respondents'!CH29","v":-3.0000000000000013E-2},{"$f":"'All Respondents'!CI30-'All Respondents'!CI29","v":-9.9999999999999811E-3},{"$f":"'All Respondents'!CJ30-'All Respondents'!CJ29","v":2.0000000000000018E-2},{"$f":"'All Respondents'!CK30-'All Respondents'!CK29","v":1.999999999999999E-2},{"$f":"'All Respondents'!CL30-'All Respondents'!CL29","v":-0.06},{"$f":"'All Respondents'!CM30-'All Respondents'!CM29","v":-4.0000000000000008E-2},{"$f":"'All Respondents'!CN30-'All Respondents'!CN29","v":4.0000000000000036E-2},{"$f":"'All Respondents'!CO30-'All Respondents'!CO29","v":-1.0000000000000009E-2},{"$f":"'All Respondents'!CP30-'All Respondents'!CP29","v":5.0000000000000044E-2},{"$f":"'All Respondents'!CQ30-'All Respondents'!CQ29","v":8.0000000000000071E-2},{"$f":"'All Respondents'!CR30-'All Respondents'!CR29","v":4.0000000000000036E-2},{"$f":"'All Respondents'!CS30-'All Respondents'!CS29","v":1.999999999999999E-2},{"$f":"'All Respondents'!CT30-'All Respondents'!CT29","v":-4.0000000000000008E-2},{"$f":"'All Respondents'!CU30-'All Respondents'!CU29","v":9.999999999999995E-3},{"$f":"'All Respondents'!CV30-'All Respondents'!CV29","v":-0.03},null,null,null,null,null,{"$f":"'All Respondents'!DB30-'All Respondents'!DB29","v":1.0000000000000009E-2},{"$f":"'All Respondents'!DC30-'All Respondents'!DC29","v":0},{"$f":"'All Respondents'!DD30-'All Respondents'!DD29","v":4.0000000000000008E-2},{"$f":"'All Respondents'!DE30-'All Respondents'!DE29","v":-2.0000000000000018E-2},{"$f":"'All Respondents'!DF30-'All Respondents'!DF29","v":1.0000000000000009E-2},{"$f":"'All Respondents'!DG30-'All Respondents'!DG29","v":1.0000000000000009E-2},{"$f":"'All Respondents'!DH30-'All Respondents'!DH29","v":2.0000000000000018E-2},{"$f":"'All Respondents'!DI30-'All Respondents'!DI29","v":-0.03},{"$f":"'All Respondents'!DJ30-'All Respondents'!DJ29","v":1.0000000000000009E-2},{"$f":"'All Respondents'!DK30-'All Respondents'!DK29","v":0},{"$f":"'All Respondents'!DL30-'All Respondents'!DL29","v":9.999999999999995E-3}]
["Sep-Oct 12",{"$f":"'All Respondents'!B31-'All Respondents'!B30","v":0.5},{"$f":"'All Respondents'!D31-'All Respondents'!D30","v":1.4000000000000057},{"$f":"'All Respondents'!E31-'All Respondents'!E30","v":0},{"$f":"'All Respondents'!F31-'All Respondents'!F30","v":-9.999999999999995E-3},{"$f":"'All Respondents'!G31-'All Respondents'!G30","v":1.9999999999999962E-2},{"$f":"'All Respondents'!H31-'All Respondents'!H30","v":1.0000000000000009E-2},{"$f":"'All Respondents'!I31-'All Respondents'!I30","v":5.6999999999999967E-3},{"$f":"'All Respondents'!J31-'All Respondents'!J30","v":1.8999999999999989E-3},{"$f":"'All Respondents'!K31-'All Respondents'!K30","v":2.2009999999999981E-3},{"$f":"'All Respondents'!L31-'All Respondents'!L30","v":2.9999999999999971E-2},{"$f":"'All Respondents'!M31-'All Respondents'!M30","v":-9.999999999999995E-3},{"$f":"'All Respondents'!N31-'All Respondents'!N30","v":-1.0000000000000009E-2},{"$f":"'All Respondents'!O31-'All Respondents'!O30","v":-3.9999999999999952E-2},null,null,{"$f":"'All Respondents'!R31-'All Respondents'!R30","v":-2.0000000000000018E-2},{"$f":"'All Respondents'!S31-'All Respondents'!S30","v":0.06},{"$f":"'All Respondents'!T31-'All Respondents'!T30","v":4.0000000000000036E-2},{"$f":"'All Respondents'!U31-'All Respondents'!U30","v":-0.03},{"$f":"'All Respondents'!V31-'All Respondents'!V30","v":0},{"$f":"'All Respondents'!W31-'All Respondents'!W30","v":-2.9999999999999971E-2},{"$f":"'All Respondents'!X31-'All Respondents'!X30","v":7.0000000000000062E-2},null,null,null,null,null,null,null,null,null,null,{"$f":"'All Respondents'!AI31-'All Respondents'!AI30","v":0},{"$f":"'All Respondents'!AJ31-'All Respondents'!AJ30","v":-1.0000000000000009E-2},{"$f":"'All Respondents'!AK31-'All Respondents'!AK30","v":-1.0000000000000009E-2},{"$f":"'All Respondents'!AL31-'All Respondents'!AL30","v":3.999999999999998E-2},{"$f":"'All Respondents'!AM31-'All Respondents'!AM30","v":0},{"$f":"'All Respondents'!AN31-'All Respondents'!AN30","v":4.0000000000000036E-2},{"$f":"'All Respondents'!AO31-'All Respondents'!AO30","v":-5.0000000000000044E-2},null,null,null,null,null,null,null,null,null,null,{"$f":"'All Respondents'!AZ31-'All Respondents'!AZ30","v":2.0000000000000018E-2},{"$f":"'All Respondents'!BA31-'All Respondents'!BA30","v":-1.0000000000000002E-2},{"$f":"'All Respondents'!BB31-'All Respondents'!BB30","v":2.0000000000000018E-2},{"$f":"'All Respondents'!BC31-'All Respondents'!BC30","v":2.9999999999999971E-2},{"$f":"'All Respondents'!BD31-'All Respondents'!BD30","v":7.2620000000000046E-3},{"$f":"'All Respondents'!BE31-'All Respondents'!BE30","v":-2.0000000000000018E-2},{"$f":"'All Respondents'!BF31-'All Respondents'!BF30","v":-1.0000000000000009E-2},{"$f":"'All Respondents'!BG31-'All Respondents'!BG30","v":-1.0000000000000009E-2},{"$f":"'All Respondents'!BH31-'All Respondents'!BH30","v":-2.9999999999999971E-2},{"$f":"'All Respondents'!BI31-'All Respondents'!BI30","v":3.0000000000000027E-2},{"$f":"'All Respondents'!BJ31-'All Respondents'!BJ30","v":-0.06},{"$f":"'All Respondents'!BK31-'All Respondents'!BK30","v":9.9999999999999811E-3},{"$f":"'All Respondents'!BL31-'All Respondents'!BL30","v":-1.0000000000000009E-2},{"$f":"'All Respondents'!BM31-'All Respondents'!BM30","v":0},{"$f":"'All Respondents'!BN31-'All Respondents'!BN30","v":0},{"$f":"'All Respondents'!BO31-'All Respondents'!BO30","v":-9.999999999999995E-3},{"$f":"'All Respondents'!BP31-'All Respondents'!BP30","v":1.0000000000000002E-2},{"$f":"'All Respondents'!BQ31-'All Respondents'!BQ30","v":0},{"$f":"'All Respondents'!BR31-'All Respondents'!BR30","v":0},{"$f":"'All Respondents'!BS31-'All Respondents'!BS30","v":1.0000000000000009E-2},{"$f":"'All Respondents'!BT31-'All Respondents'!BT30","v":-1.999999999999999E-2},{"$f":"'All Respondents'!BU31-'All Respondents'!BU30","v":0},{"$f":"'All Respondents'!BV31-'All Respondents'!BV30","v":0.03},{"$f":"'All Respondents'!BW31-'All Respondents'!BW30","v":3.0000000000000027E-2},{"$f":"'All Respondents'!BX31-'All Respondents'!BX30","v":-1.9999999999999962E-2},{"$f":"'All Respondents'!BY31-'All Respondents'!BY30","v":-4.9999999999999989E-2},{"$f":"'All Respondents'!BZ31-'All Respondents'!BZ30","v":-1.0000000000000009E-2},{"$f":"'All Respondents'!CA31-'All Respondents'!CA30","v":-1.999999999999999E-2},{"$f":"'All Respondents'!CB31-'All Respondents'!CB30","v":-3.0000000000000027E-2},{"$f":"'All Respondents'!CC31-'All Respondents'!CC30","v":3.0000000000000027E-2},{"$f":"'All Respondents'!CD31-'All Respondents'!CD30","v":5.0000000000000017E-2},{"$f":"'All Respondents'!CE31-'All Respondents'!CE30","v":9.9999999999999811E-3},{"$f":"'All Respondents'!CF31-'All Respondents'!CF30","v":-2.9999999999999971E-2},{"$f":"'All Respondents'!CG31-'All Respondents'!CG30","v":0},{"$f":"'All Respondents'!CH31-'All Respondents'!CH30","v":-2.0000000000000004E-2},{"$f":"'All Respondents'!CI31-'All Respondents'!CI30","v":-1.0000000000000009E-2},{"$f":"'All Respondents'!CJ31-'All Respondents'!CJ30","v":2.0000000000000018E-2},{"$f":"'All Respondents'!CK31-'All Respondents'!CK30","v":-9.999999999999995E-3},{"$f":"'All Respondents'!CL31-'All Respondents'!CL30","v":0},{"$f":"'All Respondents'!CM31-'All Respondents'!CM30","v":-9.9999999999999811E-3},{"$f":"'All Respondents'!CN31-'All Respondents'!CN30","v":0},{"$f":"'All Respondents'!CO31-'All Respondents'!CO30","v":-1.999999999999999E-2},{"$f":"'All Respondents'!CP31-'All Respondents'!CP30","v":2.0000000000000018E-2},{"$f":"'All Respondents'!CQ31-'All Respondents'!CQ30","v":1.0000000000000009E-2},{"$f":"'All Respondents'!CR31-'All Respondents'!CR30","v":0},{"$f":"'All Respondents'!CS31-'All Respondents'!CS30","v":-0.03},{"$f":"'All Respondents'!CT31-'All Respondents'!CT30","v":0.03},{"$f":"'All Respondents'!CU31-'All Respondents'!CU30","v":1.0000000000000009E-2},{"$f":"'All Respondents'!CV31-'All Respondents'!CV30","v":1.0000000000000009E-2},null,null,null,null,null,{"$f":"'All Respondents'!DB31-'All Respondents'!DB30","v":-2.0000000000000018E-2},{"$f":"'All Respondents'!DC31-'All Respondents'!DC30","v":2.0000000000000018E-2},{"$f":"'All Respondents'!DD31-'All Respondents'!DD30","v":-0.03},{"$f":"'All Respondents'!DE31-'All Respondents'!DE30","v":2.0000000000000018E-2},{"$f":"'All Respondents'!DF31-'All Respondents'!DF30","v":-2.0000000000000018E-2},{"$f":"'All Respondents'!DG31-'All Respondents'!DG30","v":1.999999999999999E-2},{"$f":"'All Respondents'!DH31-'All Respondents'!DH30","v":0},{"$f":"'All Respondents'!DI31-'All Respondents'!DI30","v":0.03},{"$f":"'All Respondents'!DJ31-'All Respondents'!DJ30","v":-3.999999999999998E-2},{"$f":"'All Respondents'!DK31-'All Respondents'!DK30","v":-9.999999999999995E-3},{"$f":"'All Respondents'!DL31-'All Respondents'!DL30","v":-0.03}]
["Oct-Nov 12",{"$f":"'All Respondents'!B32-'All Respondents'!B31","v":-0.59999999999999432},{"$f":"'All Respondents'!D32-'All Respondents'!D31","v":0.59999999999999432},{"$f":"'All Respondents'!E32-'All Respondents'!E31","v":0},{"$f":"'All Respondents'!F32-'All Respondents'!F31","v":4.0000000000000008E-2},{"$f":"'All Respondents'!G32-'All Respondents'!G31","v":-2.9999999999999971E-2},{"$f":"'All Respondents'!H32-'All Respondents'!H31","v":-4.0000000000000036E-2},{"$f":"'All Respondents'!I32-'All Respondents'!I31","v":-2.1500000000000005E-2},{"$f":"'All Respondents'!J32-'All Respondents'!J31","v":1.4100000000000001E-2},{"$f":"'All Respondents'!K32-'All Respondents'!K31","v":-1.2769999999999934E-3},{"$f":"'All Respondents'!L32-'All Respondents'!L31","v":7.0000000000000007E-2},{"$f":"'All Respondents'!M32-'All Respondents'!M31","v":0},{"$f":"'All Respondents'!N32-'All Respondents'!N31","v":-0.06},{"$f":"'All Respondents'!O32-'All Respondents'!O31","v":-7.0000000000000007E-2},null,null,{"$f":"'All Respondents'!R32-'All Respondents'!R31","v":1.0000000000000009E-2},{"$f":"'All Respondents'!S32-'All Respondents'!S31","v":-3.999999999999998E-2},{"$f":"'All Respondents'!T32-'All Respondents'!T31","v":-3.0000000000000027E-2},{"$f":"'All Respondents'!U32-'All Respondents'!U31","v":4.0000000000000008E-2},{"$f":"'All Respondents'!V32-'All Respondents'!V31","v":0},{"$f":"'All Respondents'!W32-'All Respondents'!W31","v":3.999999999999998E-2},{"$f":"'All Respondents'!X32-'All Respondents'!X31","v":-7.0000000000000062E-2},null,null,null,null,null,null,null,null,null,null,{"$f":"'All Respondents'!AI32-'All Respondents'!AI31","v":0},{"$f":"'All Respondents'!AJ32-'All Respondents'!AJ31","v":0.06},{"$f":"'All Respondents'!AK32-'All Respondents'!AK31","v":0.06},{"$f":"'All Respondents'!AL32-'All Respondents'!AL31","v":-3.999999999999998E-2},{"$f":"'All Respondents'!AM32-'All Respondents'!AM31","v":-2.0000000000000018E-2},{"$f":"'All Respondents'!AN32-'All Respondents'!AN31","v":-6.0000000000000053E-2},{"$f":"'All Respondents'!AO32-'All Respondents'!AO31","v":0.12000000000000011},null,null,null,null,null,null,null,null,null,null,{"$f":"'All Respondents'!AZ32-'All Respondents'!AZ31","v":-1.0000000000000009E-2},{"$f":"'All Respondents'!BA32-'All Respondents'!BA31","v":1.0000000000000002E-2},{"$f":"'All Respondents'!BB32-'All Respondents'!BB31","v":0},{"$f":"'All Respondents'!BC32-'All Respondents'!BC31","v":-1.9999999999999962E-2},{"$f":"'All Respondents'!BD32-'All Respondents'!BD31","v":2.7319999999999914E-3},{"$f":"'All Respondents'!BE32-'All Respondents'!BE31","v":1.0000000000000009E-2},{"$f":"'All Respondents'!BF32-'All Respondents'!BF31","v":-9.9999999999999534E-3},{"$f":"'All Respondents'!BG32-'All Respondents'!BG31","v":1.9999999999999962E-2},{"$f":"'All Respondents'!BH32-'All Respondents'!BH31","v":0.06},{"$f":"'All Respondents'!BI32-'All Respondents'!BI31","v":-8.0000000000000071E-2},{"$f":"'All Respondents'!BJ32-'All Respondents'!BJ31","v":0.14000000000000007},{"$f":"'All Respondents'!BK32-'All Respondents'!BK31","v":-4.9999999999999989E-2},{"$f":"'All Respondents'!BL32-'All Respondents'!BL31","v":1.0000000000000009E-2},{"$f":"'All Respondents'!BM32-'All Respondents'!BM31","v":-3.999999999999998E-2},{"$f":"'All Respondents'!BN32-'All Respondents'!BN31","v":1.0000000000000009E-2},{"$f":"'All Respondents'!BO32-'All Respondents'!BO31","v":0.03},{"$f":"'All Respondents'!BP32-'All Respondents'!BP31","v":9.999999999999995E-3},{"$f":"'All Respondents'!BQ32-'All Respondents'!BQ31","v":3.999999999999998E-2},{"$f":"'All Respondents'!BR32-'All Respondents'!BR31","v":-7.999999999999996E-2},{"$f":"'All Respondents'!BS32-'All Respondents'!BS31","v":1.999999999999999E-2},{"$f":"'All Respondents'!BT32-'All Respondents'!BT31","v":-1.999999999999999E-2},{"$f":"'All Respondents'!BU32-'All Respondents'!BU31","v":1.0000000000000009E-2},{"$f":"'All Respondents'!BV32-'All Respondents'!BV31","v":3.999999999999998E-2},{"$f":"'All Respondents'!BW32-'All Respondents'!BW31","v":-7.0000000000000062E-2},{"$f":"'All Respondents'!BX32-'All Respondents'!BX31","v":4.9999999999999989E-2},{"$f":"'All Respondents'!BY32-'All Respondents'!BY31","v":0.12000000000000005},{"$f":"'All Respondents'!BZ32-'All Respondents'!BZ31","v":2.0000000000000018E-2},{"$f":"'All Respondents'!CA32-'All Respondents'!CA31","v":0},{"$f":"'All Respondents'!CB32-'All Respondents'!CB31","v":2.0000000000000018E-2},{"$f":"'All Respondents'!CC32-'All Respondents'!CC31","v":-3.0000000000000027E-2},{"$f":"'All Respondents'!CD32-'All Respondents'!CD31","v":-0.06},{"$f":"'All Respondents'!CE32-'All Respondents'!CE31","v":0.03},{"$f":"'All Respondents'!CF32-'All Respondents'!CF31","v":0},{"$f":"'All Respondents'!CG32-'All Respondents'!CG31","v":-9.999999999999995E-3},{"$f":"'All Respondents'!CH32-'All Respondents'!CH31","v":2.0000000000000004E-2},{"$f":"'All Respondents'!CI32-'All Respondents'!CI31","v":1.999999999999999E-2},{"$f":"'All Respondents'!CJ32-'All Respondents'!CJ31","v":-2.0000000000000018E-2},{"$f":"'All Respondents'!CK32-'All Respondents'!CK31","v":-9.999999999999995E-3},{"$f":"'All Respondents'!CL32-'All Respondents'!CL31","v":1.999999999999999E-2},{"$f":"'All Respondents'!CM32-'All Respondents'!CM31","v":9.9999999999999811E-3},{"$f":"'All Respondents'!CN32-'All Respondents'!CN31","v":-1.0000000000000009E-2},{"$f":"'All Respondents'!CO32-'All Respondents'!CO31","v":1.999999999999999E-2},{"$f":"'All Respondents'!CP32-'All Respondents'!CP31","v":-3.0000000000000027E-2},{"$f":"'All Respondents'!CQ32-'All Respondents'!CQ31","v":-2.0000000000000018E-2},{"$f":"'All Respondents'!CR32-'All Respondents'!CR31","v":0},{"$f":"'All Respondents'!CS32-'All Respondents'!CS31","v":0.03},{"$f":"'All Respondents'!CT32-'All Respondents'!CT31","v":-1.999999999999999E-2},{"$f":"'All Respondents'!CU32-'All Respondents'!CU31","v":-2.0000000000000004E-2},{"$f":"'All Respondents'!CV32-'All Respondents'!CV31","v":1.0000000000000009E-2},null,null,null,null,null,{"$f":"'All Respondents'!DB32-'All Respondents'!DB31","v":1.0000000000000009E-2},{"$f":"'All Respondents'!DC32-'All Respondents'!DC31","v":-1.0000000000000009E-2},{"$f":"'All Respondents'!DD32-'All Respondents'!DD31","v":1.999999999999999E-2},{"$f":"'All Respondents'!DE32-'All Respondents'!DE31","v":-1.0000000000000009E-2},{"$f":"'All Respondents'!DF32-'All Respondents'!DF31","v":1.0000000000000009E-2},{"$f":"'All Respondents'!DG32-'All Respondents'!DG31","v":-1.999999999999999E-2},{"$f":"'All Respondents'!DH32-'All Respondents'!DH31","v":-1.0000000000000009E-2},{"$f":"'All Respondents'!DI32-'All Respondents'!DI31","v":-2.0000000000000018E-2},{"$f":"'All Respondents'!DJ32-'All Respondents'!DJ31","v":4.9999999999999989E-2},{"$f":"'All Respondents'!DK32-'All Respondents'!DK31","v":0.03},{"$f":"'All Respondents'!DL32-'All Respondents'!DL31","v":2.0000000000000004E-2}]
["Nov-Dec 12",{"$f":"'All Respondents'!B33-'All Respondents'!B32","v":1.0999999999999943},{"$f":"'All Respondents'!D33-'All Respondents'!D32","v":1.8000000000000114},{"$f":"'All Respondents'!E33-'All Respondents'!E32","v":0.06},{"$f":"'All Respondents'!F33-'All Respondents'!F32","v":-3.0000000000000013E-2},{"$f":"'All Respondents'!G33-'All Respondents'!G32","v":-3.999999999999998E-2},{"$f":"'All Respondents'!H33-'All Respondents'!H32","v":9.0000000000000024E-2},{"$f":"'All Respondents'!I33-'All Respondents'!I32","v":1.7000000000000071E-3},{"$f":"'All Respondents'!J33-'All Respondents'!J32","v":3.2999999999999974E-3},{"$f":"'All Respondents'!K33-'All Respondents'!K32","v":9.9939999999999994E-3},{"$f":"'All Respondents'!L33-'All Respondents'!L32","v":2.0000000000000018E-2},{"$f":"'All Respondents'!M33-'All Respondents'!M32","v":0},{"$f":"'All Respondents'!N33-'All Respondents'!N32","v":0},{"$f":"'All Respondents'!O33-'All Respondents'!O32","v":-2.0000000000000018E-2},null,null,{"$f":"'All Respondents'!R33-'All Respondents'!R32","v":0},{"$f":"'All Respondents'!S33-'All Respondents'!S32","v":-1.0000000000000009E-2},{"$f":"'All Respondents'!T33-'All Respondents'!T32","v":-1.0000000000000009E-2},{"$f":"'All Respondents'!U33-'All Respondents'!U32","v":-2.0000000000000018E-2},{"$f":"'All Respondents'!V33-'All Respondents'!V32","v":9.999999999999995E-3},{"$f":"'All Respondents'!W33-'All Respondents'!W32","v":-1.0000000000000009E-2},{"$f":"'All Respondents'!X33-'All Respondents'!X32","v":0},null,null,null,null,null,null,null,null,null,null,{"$f":"'All Respondents'!AI33-'All Respondents'!AI32","v":1.0000000000000002E-2},{"$f":"'All Respondents'!AJ33-'All Respondents'!AJ32","v":-3.999999999999998E-2},{"$f":"'All Respondents'!AK33-'All Respondents'!AK32","v":-2.9999999999999971E-2},{"$f":"'All Respondents'!AL33-'All Respondents'!AL32","v":1.9999999999999962E-2},{"$f":"'All Respondents'!AM33-'All Respondents'!AM32","v":0},{"$f":"'All Respondents'!AN33-'All Respondents'!AN32","v":2.0000000000000018E-2},{"$f":"'All Respondents'!AO33-'All Respondents'!AO32","v":-5.0000000000000044E-2},null,null,null,null,null,null,null,null,null,null,{"$f":"'All Respondents'!AZ33-'All Respondents'!AZ32","v":0},{"$f":"'All Respondents'!BA33-'All Respondents'!BA32","v":0},{"$f":"'All Respondents'!BB33-'All Respondents'!BB32","v":-2.0000000000000018E-2},{"$f":"'All Respondents'!BC33-'All Respondents'!BC32","v":0},{"$f":"'All Respondents'!BD33-'All Respondents'!BD32","v":4.5680000000000165E-3},{"$f":"'All Respondents'!BE33-'All Respondents'!BE32","v":-2.0000000000000018E-2},{"$f":"'All Respondents'!BF33-'All Respondents'!BF32","v":2.9999999999999971E-2},{"$f":"'All Respondents'!BG33-'All Respondents'!BG32","v":-4.9999999999999989E-2},{"$f":"'All Respondents'!BH33-'All Respondents'!BH32","v":-7.0000000000000007E-2},{"$f":"'All Respondents'!BI33-'All Respondents'!BI32","v":6.0000000000000053E-2},{"$f":"'All Respondents'!BJ33-'All Respondents'!BJ32","v":-0.13000000000000006},{"$f":"'All Respondents'!BK33-'All Respondents'!BK32","v":1.999999999999999E-2},{"$f":"'All Respondents'!BL33-'All Respondents'!BL32","v":-3.0000000000000027E-2},{"$f":"'All Respondents'!BM33-'All Respondents'!BM32","v":-1.0000000000000009E-2},{"$f":"'All Respondents'!BN33-'All Respondents'!BN32","v":-1.0000000000000009E-2},{"$f":"'All Respondents'!BO33-'All Respondents'!BO32","v":2.0000000000000004E-2},{"$f":"'All Respondents'!BP33-'All Respondents'!BP32","v":1.0000000000000009E-2},{"$f":"'All Respondents'!BQ33-'All Respondents'!BQ32","v":3.0000000000000027E-2},{"$f":"'All Respondents'!BR33-'All Respondents'!BR32","v":-4.0000000000000036E-2},{"$f":"'All Respondents'!BS33-'All Respondents'!BS32","v":2.0000000000000018E-2},{"$f":"'All Respondents'!BT33-'All Respondents'!BT32","v":1.999999999999999E-2},{"$f":"'All Respondents'!BU33-'All Respondents'!BU32","v":-4.0000000000000036E-2},{"$f":"'All Respondents'!BV33-'All Respondents'!BV32","v":0},{"$f":"'All Respondents'!BW33-'All Respondents'!BW32","v":7.0000000000000062E-2},{"$f":"'All Respondents'!BX33-'All Respondents'!BX32","v":-4.9999999999999989E-2},{"$f":"'All Respondents'!BY33-'All Respondents'!BY32","v":-0.12000000000000005},{"$f":"'All Respondents'!BZ33-'All Respondents'!BZ32","v":-1.0000000000000009E-2},{"$f":"'All Respondents'!CA33-'All Respondents'!CA32","v":0.06},{"$f":"'All Respondents'!CB33-'All Respondents'!CB32","v":4.9999999999999989E-2},{"$f":"'All Respondents'!CC33-'All Respondents'!CC32","v":-4.9999999999999933E-2},{"$f":"'All Respondents'!CD33-'All Respondents'!CD32","v":-1.0000000000000009E-2},{"$f":"'All Respondents'!CE33-'All Respondents'!CE32","v":-9.9999999999999811E-3},{"$f":"'All Respondents'!CF33-'All Respondents'!CF32","v":-3.0000000000000027E-2},{"$f":"'All Respondents'!CG33-'All Respondents'!CG32","v":9.999999999999995E-3},{"$f":"'All Respondents'!CH33-'All Respondents'!CH32","v":-9.999999999999995E-3},{"$f":"'All Respondents'!CI33-'All Respondents'!CI32","v":-1.999999999999999E-2},{"$f":"'All Respondents'!CJ33-'All Respondents'!CJ32","v":4.0000000000000036E-2},{"$f":"'All Respondents'!CK33-'All Respondents'!CK32","v":9.999999999999995E-3},{"$f":"'All Respondents'!CL33-'All Respondents'!CL32","v":-0.03},{"$f":"'All Respondents'!CM33-'All Respondents'!CM32","v":-1.999999999999999E-2},{"$f":"'All Respondents'!CN33-'All Respondents'!CN32","v":2.9999999999999916E-2},{"$f":"'All Respondents'!CO33-'All Respondents'!CO32","v":-9.9999999999999811E-3},{"$f":"'All Respondents'!CP33-'All Respondents'!CP32","v":3.9999999999999925E-2},{"$f":"'All Respondents'!CQ33-'All Respondents'!CQ32","v":4.9999999999999822E-2},{"$f":"'All Respondents'!CR33-'All Respondents'!CR32","v":1.0000000000000009E-2},{"$f":"'All Respondents'!CS33-'All Respondents'!CS32","v":-1.999999999999999E-2},{"$f":"'All Respondents'!CT33-'All Respondents'!CT32","v":-1.0000000000000009E-2},{"$f":"'All Respondents'!CU33-'All Respondents'!CU32","v":2.0000000000000004E-2},{"$f":"'All Respondents'!CV33-'All Respondents'!CV32","v":-2.0000000000000018E-2},null,null,null,null,null,{"$f":"'All Respondents'!DB33-'All Respondents'!DB32","v":0.03},{"$f":"'All Respondents'!DC33-'All Respondents'!DC32","v":-2.0000000000000018E-2},{"$f":"'All Respondents'!DD33-'All Respondents'!DD32","v":-1.0000000000000009E-2},{"$f":"'All Respondents'!DE33-'All Respondents'!DE32","v":0},{"$f":"'All Respondents'!DF33-'All Respondents'!DF32","v":0},{"$f":"'All Respondents'!DG33-'All Respondents'!DG32","v":1.0000000000000009E-2},{"$f":"'All Respondents'!DH33-'All Respondents'!DH32","v":1.0000000000000009E-2},{"$f":"'All Respondents'!DI33-'All Respondents'!DI32","v":-9.9999999999999811E-3},{"$f":"'All Respondents'!DJ33-'All Respondents'!DJ32","v":-1.0000000000000009E-2},{"$f":"'All Respondents'!DK33-'All Respondents'!DK32","v":-2.0000000000000004E-2},{"$f":"'All Respondents'!DL33-'All Respondents'!DL32","v":9.999999999999995E-3}]
["Dec 12-Jan 13",{"$f":"'All Respondents'!B34-'All Respondents'!B33","v":0.70000000000000284},{"$f":"'All Respondents'!D34-'All Respondents'!D33","v":0.39999999999999147},{"$f":"'All Respondents'!E34-'All Respondents'!E33","v":-2.0000000000000018E-2},{"$f":"'All Respondents'!F34-'All Respondents'!F33","v":-9.999999999999995E-3},{"$f":"'All Respondents'!G34-'All Respondents'!G33","v":4.9999999999999989E-2},{"$f":"'All Respondents'!H34-'All Respondents'!H33","v":-1.0000000000000064E-2},{"$f":"'All Respondents'!I34-'All Respondents'!I33","v":5.499999999999991E-3},{"$f":"'All Respondents'!J34-'All Respondents'!J33","v":-5.2999999999999992E-3},{"$f":"'All Respondents'!K34-'All Respondents'!K33","v":-2.3300000000000091E-3},{"$f":"'All Respondents'!L34-'All Respondents'!L33","v":-3.0000000000000027E-2},{"$f":"'All Respondents'!M34-'All Respondents'!M33","v":-9.999999999999995E-3},{"$f":"'All Respondents'!N34-'All Respondents'!N33","v":3.0000000000000027E-2},{"$f":"'All Respondents'!O34-'All Respondents'!O33","v":2.0000000000000018E-2},null,null,{"$f":"'All Respondents'!R34-'All Respondents'!R33","v":-2.9999999999999971E-2},{"$f":"'All Respondents'!S34-'All Respondents'!S33","v":1.9999999999999962E-2},{"$f":"'All Respondents'!T34-'All Respondents'!T33","v":-1.0000000000000009E-2},{"$f":"'All Respondents'!U34-'All Respondents'!U33","v":1.0000000000000009E-2},{"$f":"'All Respondents'!V34-'All Respondents'!V33","v":1.0000000000000009E-2},{"$f":"'All Respondents'!W34-'All Respondents'!W33","v":2.0000000000000018E-2},{"$f":"'All Respondents'!X34-'All Respondents'!X33","v":-3.0000000000000027E-2},null,null,null,null,null,null,null,null,null,null,{"$f":"'All Respondents'!AI34-'All Respondents'!AI33","v":1.0000000000000002E-2},{"$f":"'All Respondents'!AJ34-'All Respondents'!AJ33","v":9.9999999999999811E-3},{"$f":"'All Respondents'!AK34-'All Respondents'!AK33","v":1.9999999999999962E-2},{"$f":"'All Respondents'!AL34-'All Respondents'!AL33","v":-1.9999999999999962E-2},{"$f":"'All Respondents'!AM34-'All Respondents'!AM33","v":0},{"$f":"'All Respondents'!AN34-'All Respondents'!AN33","v":-2.0000000000000018E-2},{"$f":"'All Respondents'!AO34-'All Respondents'!AO33","v":4.0000000000000036E-2},null,null,null,null,null,null,null,null,null,null,{"$f":"'All Respondents'!AZ34-'All Respondents'!AZ33","v":2.0000000000000018E-2},{"$f":"'All Respondents'!BA34-'All Respondents'!BA33","v":1.9999999999999997E-2},{"$f":"'All Respondents'!BB34-'All Respondents'!BB33","v":-1.9999999999999962E-2},{"$f":"'All Respondents'!BC34-'All Respondents'!BC33","v":0},{"$f":"'All Respondents'!BD34-'All Respondents'!BD33","v":-9.0620000000000006E-3},{"$f":"'All Respondents'!BE34-'All Respondents'!BE33","v":0},{"$f":"'All Respondents'!BF34-'All Respondents'!BF33","v":-1.0000000000000009E-2},{"$f":"'All Respondents'!BG34-'All Respondents'!BG33","v":1.0000000000000009E-2},{"$f":"'All Respondents'!BH34-'All Respondents'!BH33","v":1.0000000000000009E-2},{"$f":"'All Respondents'!BI34-'All Respondents'!BI33","v":-1.0000000000000009E-2},{"$f":"'All Respondents'!BJ34-'All Respondents'!BJ33","v":2.0000000000000018E-2},{"$f":"'All Respondents'!BK34-'All Respondents'!BK33","v":1.0000000000000009E-2},{"$f":"'All Respondents'!BL34-'All Respondents'!BL33","v":2.0000000000000018E-2},{"$f":"'All Respondents'!BM34-'All Respondents'!BM33","v":3.0000000000000027E-2},{"$f":"'All Respondents'!BN34-'All Respondents'!BN33","v":-2.0000000000000018E-2},{"$f":"'All Respondents'!BO34-'All Respondents'!BO33","v":-1.0000000000000009E-2},{"$f":"'All Respondents'!BP34-'All Respondents'!BP33","v":0},{"$f":"'All Respondents'!BQ34-'All Respondents'!BQ33","v":-1.0000000000000009E-2},{"$f":"'All Respondents'!BR34-'All Respondents'!BR33","v":4.0000000000000036E-2},{"$f":"'All Respondents'!BS34-'All Respondents'!BS33","v":0},{"$f":"'All Respondents'!BT34-'All Respondents'!BT33","v":-1.0000000000000009E-2},{"$f":"'All Respondents'!BU34-'All Respondents'!BU33","v":1.0000000000000009E-2},{"$f":"'All Respondents'!BV34-'All Respondents'!BV33","v":1.0000000000000009E-2},{"$f":"'All Respondents'!BW34-'All Respondents'!BW33","v":1.0000000000000009E-2},{"$f":"'All Respondents'!BX34-'All Respondents'!BX33","v":-3.0000000000000027E-2},{"$f":"'All Respondents'!BY34-'All Respondents'!BY33","v":-4.0000000000000036E-2},{"$f":"'All Respondents'!BZ34-'All Respondents'!BZ33","v":1.0000000000000009E-2},{"$f":"'All Respondents'!CA34-'All Respondents'!CA33","v":-7.0000000000000007E-2},{"$f":"'All Respondents'!CB34-'All Respondents'!CB33","v":-0.06},{"$f":"'All Respondents'!CC34-'All Respondents'!CC33","v":6.9999999999999951E-2},{"$f":"'All Respondents'!CD34-'All Respondents'!CD33","v":4.9999999999999989E-2},{"$f":"'All Respondents'!CE34-'All Respondents'!CE33","v":0},{"$f":"'All Respondents'!CF34-'All Respondents'!CF33","v":2.0000000000000018E-2},{"$f":"'All Respondents'!CG34-'All Respondents'!CG33","v":-9.999999999999995E-3},{"$f":"'All Respondents'!CH34-'All Respondents'!CH33","v":-1.0000000000000009E-2},{"$f":"'All Respondents'!CI34-'All Respondents'!CI33","v":0.03},{"$f":"'All Respondents'!CJ34-'All Respondents'!CJ33","v":-5.0000000000000044E-2},{"$f":"'All Respondents'!CK34-'All Respondents'!CK33","v":-9.999999999999995E-3},{"$f":"'All Respondents'!CL34-'All Respondents'!CL33","v":0},{"$f":"'All Respondents'!CM34-'All Respondents'!CM33","v":-1.0000000000000009E-2},{"$f":"'All Respondents'!CN34-'All Respondents'!CN33","v":0},{"$f":"'All Respondents'!CO34-'All Respondents'!CO33","v":0.03},{"$f":"'All Respondents'!CP34-'All Respondents'!CP33","v":-2.9999999999999916E-2},{"$f":"'All Respondents'!CQ34-'All Respondents'!CQ33","v":1.0000000000000231E-2},{"$f":"'All Respondents'!CR34-'All Respondents'!CR33","v":-2.0000000000000018E-2},{"$f":"'All Respondents'!CS34-'All Respondents'!CS33","v":1.999999999999999E-2},{"$f":"'All Respondents'!CT34-'All Respondents'!CT33","v":1.0000000000000009E-2},{"$f":"'All Respondents'!CU34-'All Respondents'!CU33","v":-1.0000000000000009E-2},{"$f":"'All Respondents'!CV34-'All Respondents'!CV33","v":1.0000000000000009E-2},null,null,null,null,null,{"$f":"'All Respondents'!DB34-'All Respondents'!DB33","v":-0.03},{"$f":"'All Respondents'!DC34-'All Respondents'!DC33","v":1.0000000000000009E-2},{"$f":"'All Respondents'!DD34-'All Respondents'!DD33","v":-9.9999999999999811E-3},{"$f":"'All Respondents'!DE34-'All Respondents'!DE33","v":-1.0000000000000009E-2},{"$f":"'All Respondents'!DF34-'All Respondents'!DF33","v":3.0000000000000027E-2},{"$f":"'All Respondents'!DG34-'All Respondents'!DG33","v":-2.0000000000000018E-2},{"$f":"'All Respondents'!DH34-'All Respondents'!DH33","v":1.0000000000000009E-2},{"$f":"'All Respondents'!DI34-'All Respondents'!DI33","v":1.999999999999999E-2},{"$f":"'All Respondents'!DJ34-'All Respondents'!DJ33","v":-3.999999999999998E-2},{"$f":"'All Respondents'!DK34-'All Respondents'!DK33","v":-9.999999999999995E-3},{"$f":"'All Respondents'!DL34-'All Respondents'!DL33","v":-0.03}]
["Jan-Feb 13",{"$f":"'All Respondents'!B35-'All Respondents'!B34","v":0.20000000000000284},{"$f":"'All Respondents'!D35-'All Respondents'!D34","v":1},{"$f":"'All Respondents'!E35-'All Respondents'!E34","v":7.0000000000000007E-2},{"$f":"'All Respondents'!F35-'All Respondents'!F34","v":0},{"$f":"'All Respondents'!G35-'All Respondents'!G34","v":-0.06},{"$f":"'All Respondents'!H35-'All Respondents'!H34","v":7.0000000000000062E-2},{"$f":"'All Respondents'!I35-'All Respondents'!I34","v":8.0000000000000904E-4},{"$f":"'All Respondents'!J35-'All Respondents'!J34","v":-2.3000000000000104E-3},{"$f":"'All Respondents'!K35-'All Respondents'!K34","v":4.8209999999999989E-3},{"$f":"'All Respondents'!L35-'All Respondents'!L34","v":4.0000000000000036E-2},{"$f":"'All Respondents'!M35-'All Respondents'!M34","v":0},{"$f":"'All Respondents'!N35-'All Respondents'!N34","v":-2.0000000000000018E-2},{"$f":"'All Respondents'!O35-'All Respondents'!O34","v":-4.0000000000000036E-2},null,null,{"$f":"'All Respondents'!R35-'All Respondents'!R34","v":2.9999999999999971E-2},{"$f":"'All Respondents'!S35-'All Respondents'!S34","v":1.0000000000000009E-2},{"$f":"'All Respondents'!T35-'All Respondents'!T34","v":4.0000000000000036E-2},{"$f":"'All Respondents'!U35-'All Respondents'!U34","v":-1.0000000000000009E-2},{"$f":"'All Respondents'!V35-'All Respondents'!V34","v":-1.0000000000000009E-2},{"$f":"'All Respondents'!W35-'All Respondents'!W34","v":-2.0000000000000018E-2},{"$f":"'All Respondents'!X35-'All Respondents'!X34","v":6.0000000000000053E-2},null,null,null,null,null,null,null,null,null,null,{"$f":"'All Respondents'!AI35-'All Respondents'!AI34","v":0},{"$f":"'All Respondents'!AJ35-'All Respondents'!AJ34","v":2.0000000000000018E-2},{"$f":"'All Respondents'!AK35-'All Respondents'!AK34","v":2.0000000000000018E-2},{"$f":"'All Respondents'!AL35-'All Respondents'!AL34","v":2.9999999999999971E-2},{"$f":"'All Respondents'!AM35-'All Respondents'!AM34","v":-3.0000000000000027E-2},{"$f":"'All Respondents'!AN35-'All Respondents'!AN34","v":0},{"$f":"'All Respondents'!AO35-'All Respondents'!AO34","v":2.0000000000000018E-2},null,null,null,null,null,null,null,null,null,null,{"$f":"'All Respondents'!AZ35-'All Respondents'!AZ34","v":0},{"$f":"'All Respondents'!BA35-'All Respondents'!BA34","v":-1.9999999999999997E-2},{"$f":"'All Respondents'!BB35-'All Respondents'!BB34","v":1.9999999999999962E-2},{"$f":"'All Respondents'!BC35-'All Respondents'!BC34","v":2.0000000000000018E-2},{"$f":"'All Respondents'!BD35-'All Respondents'!BD34","v":2.1939999999999946E-3},{"$f":"'All Respondents'!BE35-'All Respondents'!BE34","v":2.0000000000000018E-2},{"$f":"'All Respondents'!BF35-'All Respondents'!BF34","v":0},{"$f":"'All Respondents'!BG35-'All Respondents'!BG34","v":2.0000000000000018E-2},{"$f":"'All Respondents'!BH35-'All Respondents'!BH34","v":-1.0000000000000009E-2},{"$f":"'All Respondents'!BI35-'All Respondents'!BI34","v":0},{"$f":"'All Respondents'!BJ35-'All Respondents'!BJ34","v":-1.0000000000000009E-2},{"$f":"'All Respondents'!BK35-'All Respondents'!BK34","v":-1.999999999999999E-2},{"$f":"'All Respondents'!BL35-'All Respondents'!BL34","v":0},{"$f":"'All Respondents'!BM35-'All Respondents'!BM34","v":-2.0000000000000018E-2},{"$f":"'All Respondents'!BN35-'All Respondents'!BN34","v":3.999999999999998E-2},{"$f":"'All Respondents'!BO35-'All Respondents'!BO34","v":-9.999999999999995E-3},{"$f":"'All Respondents'!BP35-'All Respondents'!BP34","v":-1.0000000000000009E-2},{"$f":"'All Respondents'!BQ35-'All Respondents'!BQ34","v":-2.0000000000000018E-2},{"$f":"'All Respondents'!BR35-'All Respondents'!BR34","v":0},{"$f":"'All Respondents'!BS35-'All Respondents'!BS34","v":-2.0000000000000018E-2},{"$f":"'All Respondents'!BT35-'All Respondents'!BT34","v":2.0000000000000018E-2},{"$f":"'All Respondents'!BU35-'All Respondents'!BU34","v":0},{"$f":"'All Respondents'!BV35-'All Respondents'!BV34","v":-4.0000000000000036E-2},{"$f":"'All Respondents'!BW35-'All Respondents'!BW34","v":-6.0000000000000053E-2},{"$f":"'All Respondents'!BX35-'All Respondents'!BX34","v":4.9999999999999989E-2},{"$f":"'All Respondents'!BY35-'All Respondents'!BY34","v":0.11000000000000004},{"$f":"'All Respondents'!BZ35-'All Respondents'!BZ34","v":-7.0000000000000007E-2},{"$f":"'All Respondents'!CA35-'All Respondents'!CA34","v":1.0000000000000009E-2},{"$f":"'All Respondents'!CB35-'All Respondents'!CB34","v":-0.06},{"$f":"'All Respondents'!CC35-'All Respondents'!CC34","v":2.0000000000000018E-2},{"$f":"'All Respondents'!CD35-'All Respondents'!CD34","v":-1.999999999999999E-2},{"$f":"'All Respondents'!CE35-'All Respondents'!CE34","v":1.999999999999999E-2},{"$f":"'All Respondents'!CF35-'All Respondents'!CF34","v":1.9999999999999962E-2},{"$f":"'All Respondents'!CG35-'All Respondents'!CG34","v":0},{"$f":"'All Respondents'!CH35-'All Respondents'!CH34","v":0},{"$f":"'All Respondents'!CI35-'All Respondents'!CI34","v":-4.0000000000000008E-2},{"$f":"'All Respondents'!CJ35-'All Respondents'!CJ34","v":2.0000000000000018E-2},{"$f":"'All Respondents'!CK35-'All Respondents'!CK34","v":9.999999999999995E-3},{"$f":"'All Respondents'!CL35-'All Respondents'!CL34","v":1.0000000000000009E-2},{"$f":"'All Respondents'!CM35-'All Respondents'!CM34","v":2.0000000000000018E-2},{"$f":"'All Respondents'!CN35-'All Respondents'!CN34","v":-4.0000000000000036E-2},{"$f":"'All Respondents'!CO35-'All Respondents'!CO34","v":-0.06},{"$f":"'All Respondents'!CP35-'All Respondents'!CP34","v":2.0000000000000018E-2},{"$f":"'All Respondents'!CQ35-'All Respondents'!CQ34","v":-6.0000000000000053E-2},{"$f":"'All Respondents'!CR35-'All Respondents'!CR34","v":1.0000000000000009E-2},{"$f":"'All Respondents'!CS35-'All Respondents'!CS34","v":-9.999999999999995E-3},{"$f":"'All Respondents'!CT35-'All Respondents'!CT34","v":-1.0000000000000009E-2},{"$f":"'All Respondents'!CU35-'All Respondents'!CU34","v":0},{"$f":"'All Respondents'!CV35-'All Respondents'!CV34","v":1.0000000000000009E-2},{"$f":"'All Respondents'!CW35-'All Respondents'!CW34","v":4.0000000000000036E-2},{"$f":"'All Respondents'!CX35-'All Respondents'!CX34","v":-0.03},{"$f":"'All Respondents'!CY35-'All Respondents'!CY34","v":-2.0000000000000004E-2},{"$f":"'All Respondents'!CZ35-'All Respondents'!CZ34","v":0.01},{"$f":"'All Respondents'!DA35-'All Respondents'!DA34","v":-0.01},{"$f":"'All Respondents'!DB35-'All Respondents'!DB34","v":0.03},{"$f":"'All Respondents'!DC35-'All Respondents'!DC34","v":-1.0000000000000009E-2},{"$f":"'All Respondents'!DD35-'All Respondents'!DD34","v":9.9999999999999811E-3},{"$f":"'All Respondents'!DE35-'All Respondents'!DE34","v":1.0000000000000009E-2},{"$f":"'All Respondents'!DF35-'All Respondents'!DF34","v":-5.0000000000000044E-2},{"$f":"'All Respondents'!DG35-'All Respondents'!DG34","v":5.0000000000000017E-2},{"$f":"'All Respondents'!DH35-'All Respondents'!DH34","v":0},{"$f":"'All Respondents'!DI35-'All Respondents'!DI34","v":-1.999999999999999E-2},{"$f":"'All Respondents'!DJ35-'All Respondents'!DJ34","v":0.03},{"$f":"'All Respondents'!DK35-'All Respondents'!DK34","v":2.0000000000000004E-2},{"$f":"'All Respondents'!DL35-'All Respondents'!DL34","v":1.0000000000000009E-2}]
["Feb-Mar 13",{"$f":"'All Respondents'!B36-'All Respondents'!B35","v":0.5},{"$f":"'All Respondents'!D36-'All Respondents'!D35","v":1},{"$f":"'All Respondents'!E36-'All Respondents'!E35","v":0},{"$f":"'All Respondents'!F36-'All Respondents'!F35","v":0},{"$f":"'All Respondents'!G36-'All Respondents'!G35","v":-2.0000000000000018E-2},{"$f":"'All Respondents'!H36-'All Respondents'!H35","v":0},{"$f":"'All Respondents'!I36-'All Respondents'!I35","v":-5.1000000000000073E-3},{"$f":"'All Respondents'!J36-'All Respondents'!J35","v":-3.9000000000000007E-3},{"$f":"'All Respondents'!K36-'All Respondents'!K35","v":-2.3819999999999987E-3},{"$f":"'All Respondents'!L36-'All Respondents'!L35","v":1.0000000000000009E-2},{"$f":"'All Respondents'!M36-'All Respondents'!M35","v":-1.0000000000000009E-2},{"$f":"'All Respondents'!N36-'All Respondents'!N35","v":-1.0000000000000009E-2},{"$f":"'All Respondents'!O36-'All Respondents'!O35","v":-2.0000000000000018E-2},null,null,{"$f":"'All Respondents'!R36-'All Respondents'!R35","v":-2.9999999999999971E-2},{"$f":"'All Respondents'!S36-'All Respondents'!S35","v":1.0000000000000009E-2},{"$f":"'All Respondents'!T36-'All Respondents'!T35","v":-2.0000000000000018E-2},{"$f":"'All Respondents'!U36-'All Respondents'!U35","v":0},{"$f":"'All Respondents'!V36-'All Respondents'!V35","v":0},{"$f":"'All Respondents'!W36-'All Respondents'!W35","v":0},{"$f":"'All Respondents'!X36-'All Respondents'!X35","v":-2.0000000000000018E-2},null,null,null,null,null,null,null,null,null,null,{"$f":"'All Respondents'!AI36-'All Respondents'!AI35","v":-1.0000000000000002E-2},{"$f":"'All Respondents'!AJ36-'All Respondents'!AJ35","v":1.999999999999999E-2},{"$f":"'All Respondents'!AK36-'All Respondents'!AK35","v":1.0000000000000009E-2},{"$f":"'All Respondents'!AL36-'All Respondents'!AL35","v":-1.0000000000000009E-2},{"$f":"'All Respondents'!AM36-'All Respondents'!AM35","v":-1.9999999999999962E-2},{"$f":"'All Respondents'!AN36-'All Respondents'!AN35","v":-3.0000000000000027E-2},{"$f":"'All Respondents'!AO36-'All Respondents'!AO35","v":4.0000000000000036E-2},null,null,null,null,null,null,null,null,null,null,{"$f":"'All Respondents'!AZ36-'All Respondents'!AZ35","v":0},{"$f":"'All Respondents'!BA36-'All Respondents'!BA35","v":-1.0000000000000002E-2},{"$f":"'All Respondents'!BB36-'All Respondents'!BB35","v":-1.0000000000000009E-2},{"$f":"'All Respondents'!BC36-'All Respondents'!BC35","v":9.9999999999999534E-3},{"$f":"'All Respondents'!BD36-'All Respondents'!BD35","v":1.9269999999999982E-3},{"$f":"'All Respondents'!BE36-'All Respondents'!BE35","v":-3.0000000000000027E-2},{"$f":"'All Respondents'!BF36-'All Respondents'!BF35","v":2.0000000000000018E-2},{"$f":"'All Respondents'!BG36-'All Respondents'!BG35","v":-5.0000000000000044E-2},{"$f":"'All Respondents'!BH36-'All Respondents'!BH35","v":-3.0000000000000027E-2},{"$f":"'All Respondents'!BI36-'All Respondents'!BI35","v":4.9999999999999933E-2},{"$f":"'All Respondents'!BJ36-'All Respondents'!BJ35","v":-7.999999999999996E-2},{"$f":"'All Respondents'!BK36-'All Respondents'!BK35","v":-2.0000000000000018E-2},{"$f":"'All Respondents'!BL36-'All Respondents'!BL35","v":-1.0000000000000009E-2},{"$f":"'All Respondents'!BM36-'All Respondents'!BM35","v":-3.0000000000000027E-2},{"$f":"'All Respondents'!BN36-'All Respondents'!BN35","v":-1.9999999999999962E-2},{"$f":"'All Respondents'!BO36-'All Respondents'!BO35","v":2.0000000000000004E-2},{"$f":"'All Respondents'!BP36-'All Respondents'!BP35","v":2.0000000000000004E-2},{"$f":"'All Respondents'!BQ36-'All Respondents'!BQ35","v":4.0000000000000036E-2},{"$f":"'All Respondents'!BR36-'All Respondents'!BR35","v":-7.0000000000000062E-2},{"$f":"'All Respondents'!BS36-'All Respondents'!BS35","v":-9.9999999999999811E-3},{"$f":"'All Respondents'!BT36-'All Respondents'!BT35","v":0},{"$f":"'All Respondents'!BU36-'All Respondents'!BU35","v":1.0000000000000009E-2},{"$f":"'All Respondents'!BV36-'All Respondents'!BV35","v":-9.9999999999999811E-3},{"$f":"'All Respondents'!BW36-'All Respondents'!BW35","v":2.0000000000000018E-2},{"$f":"'All Respondents'!BX36-'All Respondents'!BX35","v":0},{"$f":"'All Respondents'!BY36-'All Respondents'!BY35","v":-2.0000000000000018E-2},{"$f":"'All Respondents'!BZ36-'All Respondents'!BZ35","v":0.03},{"$f":"'All Respondents'!CA36-'All Respondents'!CA35","v":0.03},{"$f":"'All Respondents'!CB36-'All Respondents'!CB35","v":0.06},{"$f":"'All Respondents'!CC36-'All Respondents'!CC35","v":-4.0000000000000036E-2},{"$f":"'All Respondents'!CD36-'All Respondents'!CD35","v":-1.0000000000000009E-2},{"$f":"'All Respondents'!CE36-'All Respondents'!CE35","v":-0.03},{"$f":"'All Respondents'!CF36-'All Respondents'!CF35","v":0},{"$f":"'All Respondents'!CG36-'All Respondents'!CG35","v":-1.0000000000000009E-2},{"$f":"'All Respondents'!CH36-'All Respondents'!CH35","v":2.0000000000000004E-2},{"$f":"'All Respondents'!CI36-'All Respondents'!CI35","v":1.0000000000000009E-2},{"$f":"'All Respondents'!CJ36-'All Respondents'!CJ35","v":3.0000000000000027E-2},{"$f":"'All Respondents'!CK36-'All Respondents'!CK35","v":-2.0000000000000004E-2},{"$f":"'All Respondents'!CL36-'All Respondents'!CL35","v":1.0000000000000009E-2},{"$f":"'All Respondents'!CM36-'All Respondents'!CM35","v":-1.0000000000000009E-2},{"$f":"'All Respondents'!CN36-'All Respondents'!CN35","v":3.0000000000000027E-2},{"$f":"'All Respondents'!CO36-'All Respondents'!CO35","v":0},{"$f":"'All Respondents'!CP36-'All Respondents'!CP35","v":2.9999999999999916E-2},{"$f":"'All Respondents'!CQ36-'All Respondents'!CQ35","v":4.0000000000000036E-2},{"$f":"'All Respondents'!CR36-'All Respondents'!CR35","v":0},{"$f":"'All Respondents'!CS36-'All Respondents'!CS35","v":3.0000000000000013E-2},{"$f":"'All Respondents'!CT36-'All Respondents'!CT35","v":1.0000000000000009E-2},{"$f":"'All Respondents'!CU36-'All Respondents'!CU35","v":-1.999999999999999E-2},{"$f":"'All Respondents'!CV36-'All Respondents'!CV35","v":-1.0000000000000009E-2},{"$f":"'All Respondents'!CW36-'All Respondents'!CW35","v":2.0000000000000018E-2},{"$f":"'All Respondents'!CX36-'All Respondents'!CX35","v":0},{"$f":"'All Respondents'!CY36-'All Respondents'!CY35","v":0},{"$f":"'All Respondents'!CZ36-'All Respondents'!CZ35","v":-0.01},{"$f":"'All Respondents'!DA36-'All Respondents'!DA35","v":0},{"$f":"'All Respondents'!DB36-'All Respondents'!DB35","v":0},{"$f":"'All Respondents'!DC36-'All Respondents'!DC35","v":-1.0000000000000009E-2},{"$f":"'All Respondents'!DD36-'All Respondents'!DD35","v":1.0000000000000009E-2},{"$f":"'All Respondents'!DE36-'All Respondents'!DE35","v":-1.0000000000000009E-2},{"$f":"'All Respondents'!DF36-'All Respondents'!DF35","v":4.0000000000000036E-2},{"$f":"'All Respondents'!DG36-'All Respondents'!DG35","v":-5.0000000000000017E-2},{"$f":"'All Respondents'!DH36-'All Respondents'!DH35","v":-1.0000000000000009E-2},{"$f":"'All Respondents'!DI36-'All Respondents'!DI35","v":1.999999999999999E-2},{"$f":"'All Respondents'!DJ36-'All Respondents'!DJ35","v":-1.0000000000000009E-2},{"$f":"'All Respondents'!DK36-'All Respondents'!DK35","v":-1.0000000000000009E-2},{"$f":"'All Respondents'!DL36-'All Respondents'!DL35","v":0}]
["Mar-Apr 13",{"$f":"'All Respondents'!B37-'All Respondents'!B36","v":3.0999999999999943},{"$f":"'All Respondents'!D37-'All Respondents'!D36","v":3},{"$f":"'All Respondents'!E37-'All Respondents'!E36","v":3.0000000000000027E-2},{"$f":"'All Respondents'!F37-'All Respondents'!F36","v":0},{"$f":"'All Respondents'!G37-'All Respondents'!G36","v":-2.0000000000000018E-2},{"$f":"'All Respondents'!H37-'All Respondents'!H36","v":3.0000000000000027E-2},{"$f":"'All Respondents'!I37-'All Respondents'!I36","v":1.4899999999999997E-2},{"$f":"'All Respondents'!J37-'All Respondents'!J36","v":-5.7999999999999996E-3},{"$f":"'All Respondents'!K37-'All Respondents'!K36","v":8.51000000000008E-4},{"$f":"'All Respondents'!L37-'All Respondents'!L36","v":-3.0000000000000027E-2},{"$f":"'All Respondents'!M37-'All Respondents'!M36","v":1.0000000000000009E-2},{"$f":"'All Respondents'!N37-'All Respondents'!N36","v":3.0000000000000027E-2},{"$f":"'All Respondents'!O37-'All Respondents'!O36","v":4.0000000000000036E-2},null,null,{"$f":"'All Respondents'!R37-'All Respondents'!R36","v":9.9999999999999534E-3},{"$f":"'All Respondents'!S37-'All Respondents'!S36","v":-1.0000000000000009E-2},{"$f":"'All Respondents'!T37-'All Respondents'!T36","v":0},{"$f":"'All Respondents'!U37-'All Respondents'!U36","v":-9.9999999999999811E-3},{"$f":"'All Respondents'!V37-'All Respondents'!V36","v":0},{"$f":"'All Respondents'!W37-'All Respondents'!W36","v":-9.9999999999999811E-3},{"$f":"'All Respondents'!X37-'All Respondents'!X36","v":1.0000000000000009E-2},null,null,null,null,null,null,null,null,null,null,{"$f":"'All Respondents'!AI37-'All Respondents'!AI36","v":0.04},{"$f":"'All Respondents'!AJ37-'All Respondents'!AJ36","v":0},{"$f":"'All Respondents'!AK37-'All Respondents'!AK36","v":3.999999999999998E-2},{"$f":"'All Respondents'!AL37-'All Respondents'!AL36","v":-2.9999999999999971E-2},{"$f":"'All Respondents'!AM37-'All Respondents'!AM36","v":-2.0000000000000018E-2},{"$f":"'All Respondents'!AN37-'All Respondents'!AN36","v":-4.9999999999999933E-2},{"$f":"'All Respondents'!AO37-'All Respondents'!AO36","v":8.9999999999999913E-2},null,null,null,null,null,null,null,null,null,null,{"$f":"'All Respondents'!AZ37-'All Respondents'!AZ36","v":-2.0000000000000018E-2},{"$f":"'All Respondents'!BA37-'All Respondents'!BA36","v":0},{"$f":"'All Respondents'!BB37-'All Respondents'!BB36","v":2.0000000000000018E-2},{"$f":"'All Respondents'!BC37-'All Respondents'!BC36","v":-2.0000000000000018E-2},{"$f":"'All Respondents'!BD37-'All Respondents'!BD36","v":-3.6399999999999627E-4},{"$f":"'All Respondents'!BE37-'All Respondents'!BE36","v":1.0000000000000009E-2},{"$f":"'All Respondents'!BF37-'All Respondents'!BF36","v":-2.0000000000000018E-2},{"$f":"'All Respondents'!BG37-'All Respondents'!BG36","v":3.0000000000000027E-2},{"$f":"'All Respondents'!BH37-'All Respondents'!BH36","v":4.0000000000000036E-2},{"$f":"'All Respondents'!BI37-'All Respondents'!BI36","v":-1.9999999999999907E-2},{"$f":"'All Respondents'!BJ37-'All Respondents'!BJ36","v":5.9999999999999942E-2},{"$f":"'All Respondents'!BK37-'All Respondents'!BK36","v":5.0000000000000017E-2},{"$f":"'All Respondents'!BL37-'All Respondents'!BL36","v":-2.0000000000000018E-2},{"$f":"'All Respondents'!BM37-'All Respondents'!BM36","v":3.0000000000000027E-2},{"$f":"'All Respondents'!BN37-'All Respondents'!BN36","v":3.999999999999998E-2},{"$f":"'All Respondents'!BO37-'All Respondents'!BO36","v":-2.0000000000000004E-2},{"$f":"'All Respondents'!BP37-'All Respondents'!BP36","v":-0.03},{"$f":"'All Respondents'!BQ37-'All Respondents'!BQ36","v":-5.0000000000000017E-2},{"$f":"'All Respondents'!BR37-'All Respondents'!BR36","v":8.0000000000000016E-2},{"$f":"'All Respondents'!BS37-'All Respondents'!BS36","v":0},{"$f":"'All Respondents'!BT37-'All Respondents'!BT36","v":-1.0000000000000009E-2},{"$f":"'All Respondents'!BU37-'All Respondents'!BU36","v":-1.0000000000000009E-2},{"$f":"'All Respondents'!BV37-'All Respondents'!BV36","v":1.0000000000000009E-2},{"$f":"'All Respondents'!BW37-'All Respondents'!BW36","v":0},{"$f":"'All Respondents'!BX37-'All Respondents'!BX36","v":0},{"$f":"'All Respondents'!BY37-'All Respondents'!BY36","v":0},{"$f":"'All Respondents'!BZ37-'All Respondents'!BZ36","v":0.06},{"$f":"'All Respondents'!CA37-'All Respondents'!CA36","v":-0.05},{"$f":"'All Respondents'!CB37-'All Respondents'!CB36","v":1.0000000000000009E-2},{"$f":"'All Respondents'!CC37-'All Respondents'!CC36","v":-1.0000000000000009E-2},{"$f":"'All Respondents'!CD37-'All Respondents'!CD36","v":0},{"$f":"'All Respondents'!CE37-'All Respondents'!CE36","v":4.0000000000000008E-2},{"$f":"'All Respondents'!CF37-'All Respondents'!CF36","v":-4.9999999999999989E-2},{"$f":"'All Respondents'!CG37-'All Respondents'!CG36","v":0},{"$f":"'All Respondents'!CH37-'All Respondents'!CH36","v":0},{"$f":"'All Respondents'!CI37-'All Respondents'!CI36","v":-1.0000000000000009E-2},{"$f":"'All Respondents'!CJ37-'All Respondents'!CJ36","v":0},{"$f":"'All Respondents'!CK37-'All Respondents'!CK36","v":-9.999999999999995E-3},{"$f":"'All Respondents'!CL37-'All Respondents'!CL36","v":9.9999999999999811E-3},{"$f":"'All Respondents'!CM37-'All Respondents'!CM36","v":0},{"$f":"'All Respondents'!CN37-'All Respondents'!CN36","v":1.0000000000000009E-2},{"$f":"'All Respondents'!CO37-'All Respondents'!CO36","v":-1.0000000000000009E-2},{"$f":"'All Respondents'!CP37-'All Respondents'!CP36","v":2.0000000000000018E-2},{"$f":"'All Respondents'!CQ37-'All Respondents'!CQ36","v":1.0000000000000009E-2},{"$f":"'All Respondents'!CR37-'All Respondents'!CR36","v":-3.0000000000000027E-2},{"$f":"'All Respondents'!CS37-'All Respondents'!CS36","v":-1.0000000000000009E-2},{"$f":"'All Respondents'!CT37-'All Respondents'!CT36","v":-0.03},{"$f":"'All Respondents'!CU37-'All Respondents'!CU36","v":0.03},{"$f":"'All Respondents'!CV37-'All Respondents'!CV36","v":1.0000000000000009E-2},{"$f":"'All Respondents'!CW37-'All Respondents'!CW36","v":-1.0000000000000009E-2},{"$f":"'All Respondents'!CX37-'All Respondents'!CX36","v":1.0000000000000009E-2},{"$f":"'All Respondents'!CY37-'All Respondents'!CY36","v":-1.0000000000000002E-2},{"$f":"'All Respondents'!CZ37-'All Respondents'!CZ36","v":0.01},{"$f":"'All Respondents'!DA37-'All Respondents'!DA36","v":0},{"$f":"'All Respondents'!DB37-'All Respondents'!DB36","v":0.03},{"$f":"'All Respondents'!DC37-'All Respondents'!DC36","v":-2.9999999999999916E-2},{"$f":"'All Respondents'!DD37-'All Respondents'!DD36","v":1.999999999999999E-2},{"$f":"'All Respondents'!DE37-'All Respondents'!DE36","v":-3.0000000000000027E-2},{"$f":"'All Respondents'!DF37-'All Respondents'!DF36","v":-3.0000000000000027E-2},{"$f":"'All Respondents'!DG37-'All Respondents'!DG36","v":1.0000000000000009E-2},{"$f":"'All Respondents'!DH37-'All Respondents'!DH36","v":-2.0000000000000018E-2},{"$f":"'All Respondents'!DI37-'All Respondents'!DI36","v":0},{"$f":"'All Respondents'!DJ37-'All Respondents'!DJ36","v":0.03},{"$f":"'All Respondents'!DK37-'All Respondents'!DK36","v":2.0000000000000004E-2},{"$f":"'All Respondents'!DL37-'All Respondents'!DL36","v":9.999999999999995E-3}]
["Apr-May 13",{"$f":"'All Respondents'!B38-'All Respondents'!B37","v":4.9000000000000057},{"$f":"'All Respondents'!D38-'All Respondents'!D37","v":6.7999999999999972},{"$f":"'All Respondents'!E38-'All Respondents'!E37","v":4.0000000000000036E-2},{"$f":"'All Respondents'!F38-'All Respondents'!F37","v":-0.03},{"$f":"'All Respondents'!G38-'All Respondents'!G37","v":-9.9999999999999534E-3},{"$f":"'All Respondents'!H38-'All Respondents'!H37","v":7.0000000000000007E-2},{"$f":"'All Respondents'!I38-'All Respondents'!I37","v":1.7000000000000071E-3},{"$f":"'All Respondents'!J38-'All Respondents'!J37","v":1.1100000000000013E-2},{"$f":"'All Respondents'!K38-'All Respondents'!K37","v":1.1808000000000003E-2},{"$f":"'All Respondents'!L38-'All Respondents'!L37","v":3.0000000000000027E-2},{"$f":"'All Respondents'!M38-'All Respondents'!M37","v":-2.0000000000000004E-2},{"$f":"'All Respondents'!N38-'All Respondents'!N37","v":-2.0000000000000018E-2},{"$f":"'All Respondents'!O38-'All Respondents'!O37","v":-5.0000000000000044E-2},null,null,{"$f":"'All Respondents'!R38-'All Respondents'!R37","v":1.0000000000000009E-2},{"$f":"'All Respondents'!S38-'All Respondents'!S37","v":4.0000000000000036E-2},{"$f":"'All Respondents'!T38-'All Respondents'!T37","v":5.0000000000000044E-2},{"$f":"'All Respondents'!U38-'All Respondents'!U37","v":-1.0000000000000009E-2},{"$f":"'All Respondents'!V38-'All Respondents'!V37","v":-0.03},{"$f":"'All Respondents'!W38-'All Respondents'!W37","v":-4.0000000000000008E-2},{"$f":"'All Respondents'!X38-'All Respondents'!X37","v":9.000000000000008E-2},null,null,null,null,null,null,null,null,null,null,{"$f":"'All Respondents'!AI38-'All Respondents'!AI37","v":2.0000000000000004E-2},{"$f":"'All Respondents'!AJ38-'All Respondents'!AJ37","v":7.9999999999999988E-2},{"$f":"'All Respondents'!AK38-'All Respondents'!AK37","v":0.10000000000000003},{"$f":"'All Respondents'!AL38-'All Respondents'!AL37","v":-8.0000000000000016E-2},{"$f":"'All Respondents'!AM38-'All Respondents'!AM37","v":1.0000000000000009E-2},{"$f":"'All Respondents'!AN38-'All Respondents'!AN37","v":-6.9999999999999951E-2},{"$f":"'All Respondents'!AO38-'All Respondents'!AO37","v":0.16999999999999998},null,null,null,null,null,null,null,null,null,null,{"$f":"'All Respondents'!AZ38-'All Respondents'!AZ37","v":0},{"$f":"'All Respondents'!BA38-'All Respondents'!BA37","v":1.0000000000000002E-2},{"$f":"'All Respondents'!BB38-'All Respondents'!BB37","v":2.0000000000000018E-2},{"$f":"'All Respondents'!BC38-'All Respondents'!BC37","v":-9.9999999999999534E-3},{"$f":"'All Respondents'!BD38-'All Respondents'!BD37","v":-6.7870000000000014E-3},{"$f":"'All Respondents'!BE38-'All Respondents'!BE37","v":1.0000000000000009E-2},{"$f":"'All Respondents'!BF38-'All Respondents'!BF37","v":-1.0000000000000009E-2},{"$f":"'All Respondents'!BG38-'All Respondents'!BG37","v":2.0000000000000018E-2},{"$f":"'All Respondents'!BH38-'All Respondents'!BH37","v":1.0000000000000009E-2},{"$f":"'All Respondents'!BI38-'All Respondents'!BI37","v":-3.0000000000000027E-2},{"$f":"'All Respondents'!BJ38-'All Respondents'!BJ37","v":4.0000000000000036E-2},{"$f":"'All Respondents'!BK38-'All Respondents'!BK37","v":-2.0000000000000018E-2},{"$f":"'All Respondents'!BL38-'All Respondents'!BL37","v":2.0000000000000018E-2},{"$f":"'All Respondents'!BM38-'All Respondents'!BM37","v":0},{"$f":"'All Respondents'!BN38-'All Respondents'!BN37","v":-1.0000000000000009E-2},{"$f":"'All Respondents'!BO38-'All Respondents'!BO37","v":0},{"$f":"'All Respondents'!BP38-'All Respondents'!BP37","v":0},{"$f":"'All Respondents'!BQ38-'All Respondents'!BQ37","v":0},{"$f":"'All Respondents'!BR38-'All Respondents'!BR37","v":0},{"$f":"'All Respondents'!BS38-'All Respondents'!BS37","v":0},{"$f":"'All Respondents'!BT38-'All Respondents'!BT37","v":-0.03},{"$f":"'All Respondents'!BU38-'All Respondents'!BU37","v":4.0000000000000036E-2},{"$f":"'All Respondents'!BV38-'All Respondents'!BV37","v":0.03},{"$f":"'All Respondents'!BW38-'All Respondents'!BW37","v":-1.0000000000000009E-2},{"$f":"'All Respondents'!BX38-'All Respondents'!BX37","v":-9.9999999999999534E-3},{"$f":"'All Respondents'!BY38-'All Respondents'!BY37","v":5.5511151231257827E-17},{"$f":"'All Respondents'!BZ38-'All Respondents'!BZ37","v":-1.0000000000000009E-2},{"$f":"'All Respondents'!CA38-'All Respondents'!CA37","v":2.0000000000000004E-2},{"$f":"'All Respondents'!CB38-'All Respondents'!CB37","v":1.0000000000000009E-2},{"$f":"'All Respondents'!CC38-'All Respondents'!CC37","v":0},{"$f":"'All Respondents'!CD38-'All Respondents'!CD37","v":-1.999999999999999E-2},{"$f":"'All Respondents'!CE38-'All Respondents'!CE37","v":-0.03},{"$f":"'All Respondents'!CF38-'All Respondents'!CF37","v":4.9999999999999989E-2},{"$f":"'All Respondents'!CG38-'All Respondents'!CG37","v":0},{"$f":"'All Respondents'!CH38-'All Respondents'!CH37","v":-9.999999999999995E-3},{"$f":"'All Respondents'!CI38-'All Respondents'!CI37","v":1.0000000000000009E-2},{"$f":"'All Respondents'!CJ38-'All Respondents'!CJ37","v":-1.0000000000000009E-2},{"$f":"'All Respondents'!CK38-'All Respondents'!CK37","v":2.0000000000000004E-2},{"$f":"'All Respondents'!CL38-'All Respondents'!CL37","v":-1.999999999999999E-2},{"$f":"'All Respondents'!CM38-'All Respondents'!CM37","v":0},{"$f":"'All Respondents'!CN38-'All Respondents'!CN37","v":-2.0000000000000018E-2},{"$f":"'All Respondents'!CO38-'All Respondents'!CO37","v":4.9999999999999989E-2},{"$f":"'All Respondents'!CP38-'All Respondents'!CP37","v":-6.9999999999999951E-2},{"$f":"'All Respondents'!CQ38-'All Respondents'!CQ37","v":-2.0000000000000018E-2},{"$f":"'All Respondents'!CR38-'All Respondents'!CR37","v":4.9999999999999989E-2},{"$f":"'All Respondents'!CS38-'All Respondents'!CS37","v":1.0000000000000009E-2},{"$f":"'All Respondents'!CT38-'All Respondents'!CT37","v":1.999999999999999E-2},{"$f":"'All Respondents'!CU38-'All Respondents'!CU37","v":-0.03},{"$f":"'All Respondents'!CV38-'All Respondents'!CV37","v":-5.0000000000000017E-2},{"$f":"'All Respondents'!CW38-'All Respondents'!CW37","v":-1.0000000000000009E-2},{"$f":"'All Respondents'!CX38-'All Respondents'!CX37","v":-1.999999999999999E-2},{"$f":"'All Respondents'!CY38-'All Respondents'!CY37","v":0.04},{"$f":"'All Respondents'!CZ38-'All Respondents'!CZ37","v":-0.01},{"$f":"'All Respondents'!DA38-'All Respondents'!DA37","v":0},{"$f":"'All Respondents'!DB38-'All Respondents'!DB37","v":-4.9999999999999989E-2},{"$f":"'All Respondents'!DC38-'All Respondents'!DC37","v":5.9999999999999942E-2},{"$f":"'All Respondents'!DD38-'All Respondents'!DD37","v":-9.9999999999999811E-3},{"$f":"'All Respondents'!DE38-'All Respondents'!DE37","v":3.0000000000000027E-2},{"$f":"'All Respondents'!DF38-'All Respondents'!DF37","v":3.0000000000000027E-2},{"$f":"'All Respondents'!DG38-'All Respondents'!DG37","v":-1.0000000000000009E-2},{"$f":"'All Respondents'!DH38-'All Respondents'!DH37","v":2.0000000000000018E-2},{"$f":"'All Respondents'!DI38-'All Respondents'!DI37","v":-1.0000000000000009E-2},{"$f":"'All Respondents'!DJ38-'All Respondents'!DJ37","v":-2.0000000000000018E-2},{"$f":"'All Respondents'!DK38-'All Respondents'!DK37","v":-0.03},{"$f":"'All Respondents'!DL38-'All Respondents'!DL37","v":9.999999999999995E-3}]
["May-Jun 13",{"$f":"'All Respondents'!B39-'All Respondents'!B38","v":-2.9000000000000057},{"$f":"'All Respondents'!D39-'All Respondents'!D38","v":-1},{"$f":"'All Respondents'!E39-'All Respondents'!E38","v":1.9999999999999907E-2},{"$f":"'All Respondents'!F39-'All Respondents'!F38","v":0},{"$f":"'All Respondents'!G39-'All Respondents'!G38","v":0},{"$f":"'All Respondents'!H39-'All Respondents'!H38","v":1.9999999999999907E-2},{"$f":"'All Respondents'!I39-'All Respondents'!I38","v":-9.4999999999999946E-3},{"$f":"'All Respondents'!J39-'All Respondents'!J38","v":-3.4000000000000002E-3},{"$f":"'All Respondents'!K39-'All Respondents'!K38","v":-9.5100000000001433E-4},{"$f":"'All Respondents'!L39-'All Respondents'!L38","v":0.10999999999999993},{"$f":"'All Respondents'!M39-'All Respondents'!M38","v":-1.0000000000000002E-2},{"$f":"'All Respondents'!N39-'All Respondents'!N38","v":-9.0000000000000024E-2},{"$f":"'All Respondents'!O39-'All Respondents'!O38","v":-0.11999999999999988},null,null,{"$f":"'All Respondents'!R39-'All Respondents'!R38","v":-4.9999999999999989E-2},{"$f":"'All Respondents'!S39-'All Respondents'!S38","v":9.9999999999999534E-3},{"$f":"'All Respondents'!T39-'All Respondents'!T38","v":-4.0000000000000036E-2},{"$f":"'All Respondents'!U39-'All Respondents'!U38","v":4.0000000000000008E-2},{"$f":"'All Respondents'!V39-'All Respondents'!V38","v":1.0000000000000009E-2},{"$f":"'All Respondents'!W39-'All Respondents'!W38","v":5.0000000000000017E-2},{"$f":"'All Respondents'!X39-'All Respondents'!X38","v":-9.000000000000008E-2},null,null,null,null,null,null,null,null,null,null,{"$f":"'All Respondents'!AI39-'All Respondents'!AI38","v":-2.0000000000000004E-2},{"$f":"'All Respondents'!AJ39-'All Respondents'!AJ38","v":-1.9999999999999962E-2},{"$f":"'All Respondents'!AK39-'All Respondents'!AK38","v":-3.999999999999998E-2},{"$f":"'All Respondents'!AL39-'All Respondents'!AL38","v":9.0000000000000024E-2},{"$f":"'All Respondents'!AM39-'All Respondents'!AM38","v":-5.0000000000000017E-2},{"$f":"'All Respondents'!AN39-'All Respondents'!AN38","v":3.9999999999999925E-2},{"$f":"'All Respondents'!AO39-'All Respondents'!AO38","v":-7.9999999999999905E-2},null,null,null,null,null,null,null,null,null,null,{"$f":"'All Respondents'!AZ39-'All Respondents'!AZ38","v":8.0000000000000071E-2},{"$f":"'All Respondents'!BA39-'All Respondents'!BA38","v":-1.0000000000000002E-2},{"$f":"'All Respondents'!BB39-'All Respondents'!BB38","v":-8.0000000000000016E-2},{"$f":"'All Respondents'!BC39-'All Respondents'!BC38","v":9.0000000000000024E-2},{"$f":"'All Respondents'!BD39-'All Respondents'!BD38","v":1.2369000000000005E-2},{"$f":"'All Respondents'!BE39-'All Respondents'!BE38","v":-1.0000000000000009E-2},{"$f":"'All Respondents'!BF39-'All Respondents'!BF38","v":1.0000000000000009E-2},{"$f":"'All Respondents'!BG39-'All Respondents'!BG38","v":-2.0000000000000018E-2},{"$f":"'All Respondents'!BH39-'All Respondents'!BH38","v":-2.0000000000000018E-2},{"$f":"'All Respondents'!BI39-'All Respondents'!BI38","v":2.0000000000000018E-2},{"$f":"'All Respondents'!BJ39-'All Respondents'!BJ38","v":-4.0000000000000036E-2},{"$f":"'All Respondents'!BK39-'All Respondents'!BK38","v":2.0000000000000018E-2},{"$f":"'All Respondents'!BL39-'All Respondents'!BL38","v":2.9999999999999971E-2},{"$f":"'All Respondents'!BM39-'All Respondents'!BM38","v":4.9999999999999933E-2},{"$f":"'All Respondents'!BN39-'All Respondents'!BN38","v":-0.06},{"$f":"'All Respondents'!BO39-'All Respondents'!BO38","v":0},{"$f":"'All Respondents'!BP39-'All Respondents'!BP38","v":0},{"$f":"'All Respondents'!BQ39-'All Respondents'!BQ38","v":0},{"$f":"'All Respondents'!BR39-'All Respondents'!BR38","v":4.9999999999999933E-2},{"$f":"'All Respondents'!BS39-'All Respondents'!BS38","v":0.06},{"$f":"'All Respondents'!BT39-'All Respondents'!BT38","v":1.999999999999999E-2},{"$f":"'All Respondents'!BU39-'All Respondents'!BU38","v":-8.0000000000000071E-2},{"$f":"'All Respondents'!BV39-'All Respondents'!BV38","v":4.0000000000000008E-2},{"$f":"'All Respondents'!BW39-'All Respondents'!BW38","v":1.0000000000000009E-2},{"$f":"'All Respondents'!BX39-'All Respondents'!BX38","v":9.9999999999999534E-3},{"$f":"'All Respondents'!BY39-'All Respondents'!BY38","v":-5.5511151231257827E-17},{"$f":"'All Respondents'!BZ39-'All Respondents'!BZ38","v":-0.03},{"$f":"'All Respondents'!CA39-'All Respondents'!CA38","v":0},{"$f":"'All Respondents'!CB39-'All Respondents'!CB38","v":-3.0000000000000027E-2},{"$f":"'All Respondents'!CC39-'All Respondents'!CC38","v":4.0000000000000036E-2},{"$f":"'All Respondents'!CD39-'All Respondents'!CD38","v":1.0000000000000009E-2},{"$f":"'All Respondents'!CE39-'All Respondents'!CE38","v":-2.0000000000000018E-2},{"$f":"'All Respondents'!CF39-'All Respondents'!CF38","v":5.0000000000000044E-2},{"$f":"'All Respondents'!CG39-'All Respondents'!CG38","v":-1.9999999999999997E-2},{"$f":"'All Respondents'!CH39-'All Respondents'!CH38","v":9.999999999999995E-3},{"$f":"'All Respondents'!CI39-'All Respondents'!CI38","v":-1.999999999999999E-2},{"$f":"'All Respondents'!CJ39-'All Respondents'!CJ38","v":1.0000000000000009E-2},{"$f":"'All Respondents'!CK39-'All Respondents'!CK38","v":-3.0000000000000006E-2},{"$f":"'All Respondents'!CL39-'All Respondents'!CL38","v":1.0000000000000009E-2},{"$f":"'All Respondents'!CM39-'All Respondents'!CM38","v":-1.999999999999999E-2},{"$f":"'All Respondents'!CN39-'All Respondents'!CN38","v":4.0000000000000036E-2},{"$f":"'All Respondents'!CO39-'All Respondents'!CO38","v":-3.999999999999998E-2},{"$f":"'All Respondents'!CP39-'All Respondents'!CP38","v":7.999999999999996E-2},{"$f":"'All Respondents'!CQ39-'All Respondents'!CQ38","v":5.9999999999999942E-2},{"$f":"'All Respondents'!CR39-'All Respondents'!CR38","v":3.0000000000000027E-2},{"$f":"'All Respondents'!CS39-'All Respondents'!CS38","v":-2.0000000000000018E-2},{"$f":"'All Respondents'!CT39-'All Respondents'!CT38","v":-1.999999999999999E-2},{"$f":"'All Respondents'!CU39-'All Respondents'!CU38","v":9.999999999999995E-3},{"$f":"'All Respondents'!CV39-'All Respondents'!CV38","v":1.0000000000000009E-2},{"$f":"'All Respondents'!CW39-'All Respondents'!CW38","v":5.0000000000000044E-2},{"$f":"'All Respondents'!CX39-'All Respondents'!CX38","v":-1.0000000000000009E-2},{"$f":"'All Respondents'!CY39-'All Respondents'!CY38","v":-0.03},{"$f":"'All Respondents'!CZ39-'All Respondents'!CZ38","v":-0.01},{"$f":"'All Respondents'!DA39-'All Respondents'!DA38","v":0},{"$f":"'All Respondents'!DB39-'All Respondents'!DB38","v":-1.0000000000000009E-2},{"$f":"'All Respondents'!DC39-'All Respondents'!DC38","v":0},{"$f":"'All Respondents'!DD39-'All Respondents'!DD38","v":0},{"$f":"'All Respondents'!DE39-'All Respondents'!DE38","v":-2.0000000000000018E-2},{"$f":"'All Respondents'!DF39-'All Respondents'!DF38","v":-4.0000000000000036E-2},{"$f":"'All Respondents'!DG39-'All Respondents'!DG38","v":4.0000000000000008E-2},{"$f":"'All Respondents'!DH39-'All Respondents'!DH38","v":0},{"$f":"'All Respondents'!DI39-'All Respondents'!DI38","v":1.0000000000000009E-2},{"$f":"'All Respondents'!DJ39-'All Respondents'!DJ38","v":2.0000000000000018E-2},{"$f":"'All Respondents'!DK39-'All Respondents'!DK38","v":9.999999999999995E-3},{"$f":"'All Respondents'!DL39-'All Respondents'!DL38","v":1.0000000000000009E-2}]
["Jun-Jul 13",{"$f":"'All Respondents'!B40-'All Respondents'!B39","v":-1.5999999999999943},{"$f":"'All Respondents'!D40-'All Respondents'!D39","v":-1.1999999999999886},{"$f":"'All Respondents'!E40-'All Respondents'!E39","v":-3.9999999999999925E-2},{"$f":"'All Respondents'!F40-'All Respondents'!F39","v":-1.0000000000000009E-2},{"$f":"'All Respondents'!G40-'All Respondents'!G39","v":2.9999999999999971E-2},{"$f":"'All Respondents'!H40-'All Respondents'!H39","v":-2.9999999999999916E-2},{"$f":"'All Respondents'!I40-'All Respondents'!I39","v":-1.3000000000000012E-2},{"$f":"'All Respondents'!J40-'All Respondents'!J39","v":7.8999999999999904E-3},{"$f":"'All Respondents'!K40-'All Respondents'!K39","v":1.2250000000000177E-3},{"$f":"'All Respondents'!L40-'All Respondents'!L39","v":5.0000000000000044E-2},{"$f":"'All Respondents'!M40-'All Respondents'!M39","v":1.0000000000000002E-2},{"$f":"'All Respondents'!N40-'All Respondents'!N39","v":-6.9999999999999951E-2},{"$f":"'All Respondents'!O40-'All Respondents'!O39","v":-4.0000000000000036E-2},null,null,{"$f":"'All Respondents'!R40-'All Respondents'!R39","v":3.999999999999998E-2},{"$f":"'All Respondents'!S40-'All Respondents'!S39","v":-1.9999999999999962E-2},{"$f":"'All Respondents'!T40-'All Respondents'!T39","v":2.0000000000000018E-2},{"$f":"'All Respondents'!U40-'All Respondents'!U39","v":-0.03},{"$f":"'All Respondents'!V40-'All Respondents'!V39","v":0},{"$f":"'All Respondents'!W40-'All Respondents'!W39","v":-0.03},{"$f":"'All Respondents'!X40-'All Respondents'!X39","v":5.0000000000000044E-2},null,null,null,null,null,null,null,null,null,null,{"$f":"'All Respondents'!AI40-'All Respondents'!AI39","v":9.999999999999995E-3},{"$f":"'All Respondents'!AJ40-'All Respondents'!AJ39","v":2.9999999999999971E-2},{"$f":"'All Respondents'!AK40-'All Respondents'!AK39","v":3.999999999999998E-2},{"$f":"'All Respondents'!AL40-'All Respondents'!AL39","v":-2.0000000000000018E-2},{"$f":"'All Respondents'!AM40-'All Respondents'!AM39","v":-3.999999999999998E-2},{"$f":"'All Respondents'!AN40-'All Respondents'!AN39","v":-5.9999999999999942E-2},{"$f":"'All Respondents'!AO40-'All Respondents'!AO39","v":9.9999999999999922E-2},null,null,null,null,null,null,null,null,null,null,{"$f":"'All Respondents'!AZ40-'All Respondents'!AZ39","v":-2.0000000000000018E-2},{"$f":"'All Respondents'!BA40-'All Respondents'!BA39","v":0},{"$f":"'All Respondents'!BB40-'All Respondents'!BB39","v":2.0000000000000018E-2},{"$f":"'All Respondents'!BC40-'All Respondents'!BC39","v":-2.0000000000000018E-2},{"$f":"'All Respondents'!BD40-'All Respondents'!BD39","v":-3.9439999999999961E-3},{"$f":"'All Respondents'!BE40-'All Respondents'!BE39","v":-1.0000000000000009E-2},{"$f":"'All Respondents'!BF40-'All Respondents'!BF39","v":2.0000000000000018E-2},{"$f":"'All Respondents'!BG40-'All Respondents'!BG39","v":-3.0000000000000027E-2},{"$f":"'All Respondents'!BH40-'All Respondents'!BH39","v":2.0000000000000018E-2},{"$f":"'All Respondents'!BI40-'All Respondents'!BI39","v":-1.0000000000000009E-2},{"$f":"'All Respondents'!BJ40-'All Respondents'!BJ39","v":3.0000000000000027E-2},{"$f":"'All Respondents'!BK40-'All Respondents'!BK39","v":1.999999999999999E-2},{"$f":"'All Respondents'!BL40-'All Respondents'!BL39","v":-4.9999999999999989E-2},{"$f":"'All Respondents'!BM40-'All Respondents'!BM39","v":-2.9999999999999971E-2},{"$f":"'All Respondents'!BN40-'All Respondents'!BN39","v":4.9999999999999989E-2},{"$f":"'All Respondents'!BO40-'All Respondents'!BO39","v":-2.0000000000000004E-2},{"$f":"'All Respondents'!BP40-'All Respondents'!BP39","v":9.999999999999995E-3},{"$f":"'All Respondents'!BQ40-'All Respondents'!BQ39","v":-1.0000000000000009E-2},{"$f":"'All Respondents'!BR40-'All Respondents'!BR39","v":-1.9999999999999907E-2},{"$f":"'All Respondents'!BS40-'All Respondents'!BS39","v":0},{"$f":"'All Respondents'!BT40-'All Respondents'!BT39","v":1.0000000000000009E-2},{"$f":"'All Respondents'!BU40-'All Respondents'!BU39","v":0},{"$f":"'All Respondents'!BV40-'All Respondents'!BV39","v":-1.0000000000000009E-2},{"$f":"'All Respondents'!BW40-'All Respondents'!BW39","v":1.0000000000000009E-2},{"$f":"'All Respondents'!BX40-'All Respondents'!BX39","v":-1.9999999999999962E-2},{"$f":"'All Respondents'!BY40-'All Respondents'!BY39","v":-2.9999999999999971E-2},{"$f":"'All Respondents'!BZ40-'All Respondents'!BZ39","v":4.0000000000000008E-2},{"$f":"'All Respondents'!CA40-'All Respondents'!CA39","v":9.999999999999995E-3},{"$f":"'All Respondents'!CB40-'All Respondents'!CB39","v":4.9999999999999989E-2},{"$f":"'All Respondents'!CC40-'All Respondents'!CC39","v":-6.9999999999999951E-2},{"$f":"'All Respondents'!CD40-'All Respondents'!CD39","v":-0.03},{"$f":"'All Respondents'!CE40-'All Respondents'!CE39","v":-9.9999999999999811E-3},{"$f":"'All Respondents'!CF40-'All Respondents'!CF39","v":-3.0000000000000027E-2},{"$f":"'All Respondents'!CG40-'All Respondents'!CG39","v":3.0000000000000006E-2},{"$f":"'All Respondents'!CH40-'All Respondents'!CH39","v":3.0000000000000013E-2},{"$f":"'All Respondents'!CI40-'All Respondents'!CI39","v":-1.0000000000000009E-2},{"$f":"'All Respondents'!CJ40-'All Respondents'!CJ39","v":-2.0000000000000018E-2},{"$f":"'All Respondents'!CK40-'All Respondents'!CK39","v":3.0000000000000006E-2},{"$f":"'All Respondents'!CL40-'All Respondents'!CL39","v":4.9999999999999989E-2},{"$f":"'All Respondents'!CM40-'All Respondents'!CM39","v":7.9999999999999988E-2},{"$f":"'All Respondents'!CN40-'All Respondents'!CN39","v":-8.9999999999999969E-2},{"$f":"'All Respondents'!CO40-'All Respondents'!CO39","v":-0.03},{"$f":"'All Respondents'!CP40-'All Respondents'!CP39","v":-5.9999999999999942E-2},{"$f":"'All Respondents'!CQ40-'All Respondents'!CQ39","v":-0.16999999999999993},{"$f":"'All Respondents'!CR40-'All Respondents'!CR39","v":-3.0000000000000027E-2},{"$f":"'All Respondents'!CS40-'All Respondents'!CS39","v":-9.999999999999995E-3},{"$f":"'All Respondents'!CT40-'All Respondents'!CT39","v":0.03},{"$f":"'All Respondents'!CU40-'All Respondents'!CU39","v":0},{"$f":"'All Respondents'!CV40-'All Respondents'!CV39","v":0},{"$f":"'All Respondents'!CW40-'All Respondents'!CW39","v":-5.0000000000000044E-2},{"$f":"'All Respondents'!CX40-'All Respondents'!CX39","v":1.0000000000000009E-2},{"$f":"'All Respondents'!CY40-'All Respondents'!CY39","v":9.999999999999995E-3},{"$f":"'All Respondents'!CZ40-'All Respondents'!CZ39","v":0.01},{"$f":"'All Respondents'!DA40-'All Respondents'!DA39","v":1.9999999999999997E-2},{"$f":"'All Respondents'!DB40-'All Respondents'!DB39","v":1.0000000000000009E-2},{"$f":"'All Respondents'!DC40-'All Respondents'!DC39","v":0},{"$f":"'All Respondents'!DD40-'All Respondents'!DD39","v":-4.0000000000000008E-2},{"$f":"'All Respondents'!DE40-'All Respondents'!DE39","v":5.0000000000000044E-2},{"$f":"'All Respondents'!DF40-'All Respondents'!DF39","v":7.0000000000000007E-2},{"$f":"'All Respondents'!DG40-'All Respondents'!DG39","v":-4.0000000000000008E-2},{"$f":"'All Respondents'!DH40-'All Respondents'!DH39","v":2.9999999999999916E-2},{"$f":"'All Respondents'!DI40-'All Respondents'!DI39","v":-0.03},{"$f":"'All Respondents'!DJ40-'All Respondents'!DJ39","v":-0.03},{"$f":"'All Respondents'!DK40-'All Respondents'!DK39","v":0},{"$f":"'All Respondents'!DL40-'All Respondents'!DL39","v":-0.03}]
["Jul-Aug 13",{"$f":"'All Respondents'!B41-'All Respondents'!B40","v":0.59999999999999432},{"$f":"'All Respondents'!D41-'All Respondents'!D40","v":0.39999999999999147},{"$f":"'All Respondents'!E41-'All Respondents'!E40","v":2.0000000000000018E-2},{"$f":"'All Respondents'!F41-'All Respondents'!F40","v":1.0000000000000009E-2},{"$f":"'All Respondents'!G41-'All Respondents'!G40","v":-2.0000000000000018E-2},{"$f":"'All Respondents'!H41-'All Respondents'!H40","v":1.0000000000000009E-2},{"$f":"'All Respondents'!I41-'All Respondents'!I40","v":3.3100000000000004E-2},{"$f":"'All Respondents'!J41-'All Respondents'!J40","v":-1.6199999999999992E-2},{"$f":"'All Respondents'!K41-'All Respondents'!K40","v":-5.967000000000007E-3},{"$f":"'All Respondents'!L41-'All Respondents'!L40","v":-2.0000000000000018E-2},{"$f":"'All Respondents'!M41-'All Respondents'!M40","v":0},{"$f":"'All Respondents'!N41-'All Respondents'!N40","v":2.9999999999999971E-2},{"$f":"'All Respondents'!O41-'All Respondents'!O40","v":2.0000000000000018E-2},null,null,{"$f":"'All Respondents'!R41-'All Respondents'!R40","v":-4.9999999999999989E-2},{"$f":"'All Respondents'!S41-'All Respondents'!S40","v":1.9999999999999962E-2},{"$f":"'All Respondents'!T41-'All Respondents'!T40","v":-3.0000000000000027E-2},{"$f":"'All Respondents'!U41-'All Respondents'!U40","v":9.9999999999999811E-3},{"$f":"'All Respondents'!V41-'All Respondents'!V40","v":9.999999999999995E-3},{"$f":"'All Respondents'!W41-'All Respondents'!W40","v":1.9999999999999962E-2},{"$f":"'All Respondents'!X41-'All Respondents'!X40","v":-5.0000000000000044E-2},null,null,null,null,null,null,null,null,null,null,{"$f":"'All Respondents'!AI41-'All Respondents'!AI40","v":0},{"$f":"'All Respondents'!AJ41-'All Respondents'!AJ40","v":-3.999999999999998E-2},{"$f":"'All Respondents'!AK41-'All Respondents'!AK40","v":-4.0000000000000036E-2},{"$f":"'All Respondents'!AL41-'All Respondents'!AL40","v":0},{"$f":"'All Respondents'!AM41-'All Respondents'!AM40","v":3.999999999999998E-2},{"$f":"'All Respondents'!AN41-'All Respondents'!AN40","v":3.9999999999999925E-2},{"$f":"'All Respondents'!AO41-'All Respondents'!AO40","v":-7.999999999999996E-2},null,null,null,null,null,null,null,null,null,null,{"$f":"'All Respondents'!AZ41-'All Respondents'!AZ40","v":-1.0000000000000009E-2},{"$f":"'All Respondents'!BA41-'All Respondents'!BA40","v":0},{"$f":"'All Respondents'!BB41-'All Respondents'!BB40","v":0},{"$f":"'All Respondents'!BC41-'All Respondents'!BC40","v":-1.0000000000000009E-2},{"$f":"'All Respondents'!BD41-'All Respondents'!BD40","v":-1.5350000000000016E-3},{"$f":"'All Respondents'!BE41-'All Respondents'!BE40","v":1.0000000000000009E-2},{"$f":"'All Respondents'!BF41-'All Respondents'!BF40","v":0},{"$f":"'All Respondents'!BG41-'All Respondents'!BG40","v":1.0000000000000009E-2},{"$f":"'All Respondents'!BH41-'All Respondents'!BH40","v":-3.0000000000000027E-2},{"$f":"'All Respondents'!BI41-'All Respondents'!BI40","v":2.9999999999999916E-2},{"$f":"'All Respondents'!BJ41-'All Respondents'!BJ40","v":-5.9999999999999942E-2},{"$f":"'All Respondents'!BK41-'All Respondents'!BK40","v":-4.9999999999999989E-2},{"$f":"'All Respondents'!BL41-'All Respondents'!BL40","v":0.06},{"$f":"'All Respondents'!BM41-'All Respondents'!BM40","v":1.0000000000000009E-2},{"$f":"'All Respondents'!BN41-'All Respondents'!BN40","v":2.0000000000000018E-2},{"$f":"'All Respondents'!BO41-'All Respondents'!BO40","v":-9.999999999999995E-3},{"$f":"'All Respondents'!BP41-'All Respondents'!BP40","v":-1.9999999999999997E-2},{"$f":"'All Respondents'!BQ41-'All Respondents'!BQ40","v":-0.03},{"$f":"'All Respondents'!BR41-'All Respondents'!BR40","v":3.999999999999998E-2},{"$f":"'All Respondents'!BS41-'All Respondents'!BS40","v":-0.03},{"$f":"'All Respondents'!BT41-'All Respondents'!BT40","v":1.0000000000000009E-2},{"$f":"'All Respondents'!BU41-'All Respondents'!BU40","v":1.0000000000000009E-2},{"$f":"'All Respondents'!BV41-'All Respondents'!BV40","v":-4.0000000000000008E-2},{"$f":"'All Respondents'!BW41-'All Respondents'!BW40","v":1.0000000000000009E-2},{"$f":"'All Respondents'!BX41-'All Respondents'!BX40","v":1.0000000000000009E-2},{"$f":"'All Respondents'!BY41-'All Respondents'!BY40","v":0},{"$f":"'All Respondents'!BZ41-'All Respondents'!BZ40","v":-4.9999999999999989E-2},{"$f":"'All Respondents'!CA41-'All Respondents'!CA40","v":-2.0000000000000004E-2},{"$f":"'All Respondents'!CB41-'All Respondents'!CB40","v":-6.9999999999999979E-2},{"$f":"'All Respondents'!CC41-'All Respondents'!CC40","v":7.999999999999996E-2},{"$f":"'All Respondents'!CD41-'All Respondents'!CD40","v":0.06},{"$f":"'All Respondents'!CE41-'All Respondents'!CE40","v":0},{"$f":"'All Respondents'!CF41-'All Respondents'!CF40","v":2.0000000000000018E-2},{"$f":"'All Respondents'!CG41-'All Respondents'!CG40","v":-2.0000000000000004E-2},{"$f":"'All Respondents'!CH41-'All Respondents'!CH40","v":-4.0000000000000008E-2},{"$f":"'All Respondents'!CI41-'All Respondents'!CI40","v":0.03},{"$f":"'All Respondents'!CJ41-'All Respondents'!CJ40","v":4.0000000000000036E-2},{"$f":"'All Respondents'!CK41-'All Respondents'!CK40","v":-3.0000000000000006E-2},{"$f":"'All Respondents'!CL41-'All Respondents'!CL40","v":-0.06},{"$f":"'All Respondents'!CM41-'All Respondents'!CM40","v":-0.09},{"$f":"'All Respondents'!CN41-'All Respondents'!CN40","v":8.9999999999999858E-2},{"$f":"'All Respondents'!CO41-'All Respondents'!CO40","v":3.999999999999998E-2},{"$f":"'All Respondents'!CP41-'All Respondents'!CP40","v":4.9999999999999933E-2},{"$f":"'All Respondents'!CQ41-'All Respondents'!CQ40","v":0.17999999999999983},{"$f":"'All Respondents'!CR41-'All Respondents'!CR40","v":2.0000000000000018E-2},{"$f":"'All Respondents'!CS41-'All Respondents'!CS40","v":9.999999999999995E-3},{"$f":"'All Respondents'!CT41-'All Respondents'!CT40","v":-1.999999999999999E-2},{"$f":"'All Respondents'!CU41-'All Respondents'!CU40","v":-9.999999999999995E-3},{"$f":"'All Respondents'!CV41-'All Respondents'!CV40","v":1.0000000000000009E-2},{"$f":"'All Respondents'!CW41-'All Respondents'!CW40","v":5.0000000000000044E-2},{"$f":"'All Respondents'!CX41-'All Respondents'!CX40","v":9.9999999999999811E-3},{"$f":"'All Respondents'!CY41-'All Respondents'!CY40","v":-1.9999999999999997E-2},{"$f":"'All Respondents'!CZ41-'All Respondents'!CZ40","v":-0.01},{"$f":"'All Respondents'!DA41-'All Respondents'!DA40","v":-1.9999999999999997E-2},{"$f":"'All Respondents'!DB41-'All Respondents'!DB40","v":1.999999999999999E-2},{"$f":"'All Respondents'!DC41-'All Respondents'!DC40","v":-3.0000000000000027E-2},{"$f":"'All Respondents'!DD41-'All Respondents'!DD40","v":0.03},{"$f":"'All Respondents'!DE41-'All Respondents'!DE40","v":-3.0000000000000027E-2},{"$f":"'All Respondents'!DF41-'All Respondents'!DF40","v":-4.9999999999999989E-2},{"$f":"'All Respondents'!DG41-'All Respondents'!DG40","v":4.0000000000000008E-2},{"$f":"'All Respondents'!DH41-'All Respondents'!DH40","v":-9.9999999999998979E-3},{"$f":"'All Respondents'!DI41-'All Respondents'!DI40","v":4.0000000000000008E-2},{"$f":"'All Respondents'!DJ41-'All Respondents'!DJ40","v":-0.03},{"$f":"'All Respondents'!DK41-'All Respondents'!DK40","v":-9.999999999999995E-3},{"$f":"'All Respondents'!DL41-'All Respondents'!DL40","v":-2.0000000000000004E-2}]
["Aug-Sep 13",{"$f":"'All Respondents'!B42-'All Respondents'!B41","v":0},{"$f":"'All Respondents'!D42-'All Respondents'!D41","v":0.79999999999999716},{"$f":"'All Respondents'!E42-'All Respondents'!E41","v":-3.0000000000000027E-2},{"$f":"'All Respondents'!F42-'All Respondents'!F41","v":-1.0000000000000009E-2},{"$f":"'All Respondents'!G42-'All Respondents'!G41","v":3.0000000000000027E-2},{"$f":"'All Respondents'!H42-'All Respondents'!H41","v":-2.0000000000000018E-2},{"$f":"'All Respondents'!I42-'All Respondents'!I41","v":-6.1999999999999972E-3},{"$f":"'All Respondents'!J42-'All Respondents'!J41","v":-1.0000000000000009E-3},{"$f":"'All Respondents'!K42-'All Respondents'!K41","v":-2.2339999999999999E-3},{"$f":"'All Respondents'!L42-'All Respondents'!L41","v":3.0000000000000027E-2},{"$f":"'All Respondents'!M42-'All Respondents'!M41","v":-1.0000000000000002E-2},{"$f":"'All Respondents'!N42-'All Respondents'!N41","v":-1.0000000000000009E-2},{"$f":"'All Respondents'!O42-'All Respondents'!O41","v":-4.0000000000000036E-2},null,null,{"$f":"'All Respondents'!R42-'All Respondents'!R41","v":0},{"$f":"'All Respondents'!S42-'All Respondents'!S41","v":1.0000000000000009E-2},{"$f":"'All Respondents'!T42-'All Respondents'!T41","v":1.0000000000000009E-2},{"$f":"'All Respondents'!U42-'All Respondents'!U41","v":0},{"$f":"'All Respondents'!V42-'All Respondents'!V41","v":9.999999999999995E-3},{"$f":"'All Respondents'!W42-'All Respondents'!W41","v":1.0000000000000009E-2},{"$f":"'All Respondents'!X42-'All Respondents'!X41","v":0},null,null,null,null,null,null,null,null,null,null,{"$f":"'All Respondents'!AI42-'All Respondents'!AI41","v":-9.999999999999995E-3},{"$f":"'All Respondents'!AJ42-'All Respondents'!AJ41","v":2.9999999999999971E-2},{"$f":"'All Respondents'!AK42-'All Respondents'!AK41","v":2.0000000000000018E-2},{"$f":"'All Respondents'!AL42-'All Respondents'!AL41","v":-3.999999999999998E-2},{"$f":"'All Respondents'!AM42-'All Respondents'!AM41","v":2.0000000000000018E-2},{"$f":"'All Respondents'!AN42-'All Respondents'!AN41","v":-1.9999999999999907E-2},{"$f":"'All Respondents'!AO42-'All Respondents'!AO41","v":3.9999999999999925E-2},null,null,null,null,null,null,null,null,null,null,{"$f":"'All Respondents'!AZ42-'All Respondents'!AZ41","v":-1.0000000000000009E-2},{"$f":"'All Respondents'!BA42-'All Respondents'!BA41","v":0},{"$f":"'All Respondents'!BB42-'All Respondents'!BB41","v":1.9999999999999962E-2},{"$f":"'All Respondents'!BC42-'All Respondents'!BC41","v":-1.0000000000000009E-2},{"$f":"'All Respondents'!BD42-'All Respondents'!BD41","v":-7.1570000000000036E-3},{"$f":"'All Respondents'!BE42-'All Respondents'!BE41","v":3.9999999999999925E-2},{"$f":"'All Respondents'!BF42-'All Respondents'!BF41","v":-4.9999999999999989E-2},{"$f":"'All Respondents'!BG42-'All Respondents'!BG41","v":8.9999999999999913E-2},{"$f":"'All Respondents'!BH42-'All Respondents'!BH41","v":2.0000000000000018E-2},{"$f":"'All Respondents'!BI42-'All Respondents'!BI41","v":-1.9999999999999907E-2},{"$f":"'All Respondents'!BJ42-'All Respondents'!BJ41","v":3.9999999999999925E-2},{"$f":"'All Respondents'!BK42-'All Respondents'!BK41","v":0.03},{"$f":"'All Respondents'!BL42-'All Respondents'!BL41","v":-4.9999999999999989E-2},{"$f":"'All Respondents'!BM42-'All Respondents'!BM41","v":-1.9999999999999962E-2},{"$f":"'All Respondents'!BN42-'All Respondents'!BN41","v":-2.0000000000000018E-2},{"$f":"'All Respondents'!BO42-'All Respondents'!BO41","v":9.999999999999995E-3},{"$f":"'All Respondents'!BP42-'All Respondents'!BP41","v":3.0000000000000006E-2},{"$f":"'All Respondents'!BQ42-'All Respondents'!BQ41","v":4.0000000000000008E-2},{"$f":"'All Respondents'!BR42-'All Respondents'!BR41","v":-0.06},{"$f":"'All Respondents'!BS42-'All Respondents'!BS41","v":-1.0000000000000009E-2},{"$f":"'All Respondents'!BT42-'All Respondents'!BT41","v":-5.0000000000000017E-2},{"$f":"'All Respondents'!BU42-'All Respondents'!BU41","v":7.0000000000000062E-2},{"$f":"'All Respondents'!BV42-'All Respondents'!BV41","v":4.0000000000000008E-2},{"$f":"'All Respondents'!BW42-'All Respondents'!BW41","v":-2.0000000000000018E-2},{"$f":"'All Respondents'!BX42-'All Respondents'!BX41","v":9.9999999999999534E-3},{"$f":"'All Respondents'!BY42-'All Respondents'!BY41","v":2.9999999999999971E-2},{"$f":"'All Respondents'!BZ42-'All Respondents'!BZ41","v":1.999999999999999E-2},{"$f":"'All Respondents'!CA42-'All Respondents'!CA41","v":0.03},{"$f":"'All Respondents'!CB42-'All Respondents'!CB41","v":5.0000000000000017E-2},{"$f":"'All Respondents'!CC42-'All Respondents'!CC41","v":-6.0000000000000053E-2},{"$f":"'All Respondents'!CD42-'All Respondents'!CD41","v":-4.0000000000000008E-2},{"$f":"'All Respondents'!CE42-'All Respondents'!CE41","v":3.999999999999998E-2},{"$f":"'All Respondents'!CF42-'All Respondents'!CF41","v":-0.06},{"$f":"'All Respondents'!CG42-'All Respondents'!CG41","v":2.0000000000000004E-2},{"$f":"'All Respondents'!CH42-'All Respondents'!CH41","v":-2.0000000000000004E-2},{"$f":"'All Respondents'!CI42-'All Respondents'!CI41","v":-1.0000000000000009E-2},{"$f":"'All Respondents'!CJ42-'All Respondents'!CJ41","v":-2.0000000000000018E-2},{"$f":"'All Respondents'!CK42-'All Respondents'!CK41","v":0.04},{"$f":"'All Respondents'!CL42-'All Respondents'!CL41","v":-0.03},{"$f":"'All Respondents'!CM42-'All Respondents'!CM41","v":9.9999999999999811E-3},{"$f":"'All Respondents'!CN42-'All Respondents'!CN41","v":-9.9999999999998979E-3},{"$f":"'All Respondents'!CO42-'All Respondents'!CO41","v":-9.9999999999999811E-3},{"$f":"'All Respondents'!CP42-'All Respondents'!CP41","v":0},{"$f":"'All Respondents'!CQ42-'All Respondents'!CQ41","v":-1.9999999999999796E-2},{"$f":"'All Respondents'!CR42-'All Respondents'!CR41","v":-2.9999999999999971E-2},{"$f":"'All Respondents'!CS42-'All Respondents'!CS41","v":-1.999999999999999E-2},{"$f":"'All Respondents'!CT42-'All Respondents'!CT41","v":1.999999999999999E-2},{"$f":"'All Respondents'!CU42-'All Respondents'!CU41","v":1.999999999999999E-2},{"$f":"'All Respondents'!CV42-'All Respondents'!CV41","v":0},{"$f":"'All Respondents'!CW42-'All Respondents'!CW41","v":-2.0000000000000018E-2},{"$f":"'All Respondents'!CX42-'All Respondents'!CX41","v":-1.999999999999999E-2},{"$f":"'All Respondents'!CY42-'All Respondents'!CY41","v":1.0000000000000002E-2},{"$f":"'All Respondents'!CZ42-'All Respondents'!CZ41","v":0.02},{"$f":"'All Respondents'!DA42-'All Respondents'!DA41","v":0},{"$f":"'All Respondents'!DB42-'All Respondents'!DB41","v":-4.0000000000000008E-2},{"$f":"'All Respondents'!DC42-'All Respondents'!DC41","v":5.0000000000000044E-2},{"$f":"'All Respondents'!DD42-'All Respondents'!DD41","v":1.999999999999999E-2},{"$f":"'All Respondents'!DE42-'All Respondents'!DE41","v":-2.0000000000000018E-2},{"$f":"'All Respondents'!DF42-'All Respondents'!DF41","v":1.0000000000000009E-2},{"$f":"'All Respondents'!DG42-'All Respondents'!DG41","v":0.03},{"$f":"'All Respondents'!DH42-'All Respondents'!DH41","v":3.9999999999999925E-2},{"$f":"'All Respondents'!DI42-'All Respondents'!DI41","v":-0.03},{"$f":"'All Respondents'!DJ42-'All Respondents'!DJ41","v":-9.999999999999995E-3},{"$f":"'All Respondents'!DK42-'All Respondents'!DK41","v":-9.999999999999995E-3},{"$f":"'All Respondents'!DL42-'All Respondents'!DL41","v":0}]
["Sep-Oct 13",{"$f":"'All Respondents'!B43-'All Respondents'!B42","v":-5.7999999999999972},{"$f":"'All Respondents'!D43-'All Respondents'!D42","v":-8.5999999999999943},{"$f":"'All Respondents'!E43-'All Respondents'!E42","v":-0.06},{"$f":"'All Respondents'!F43-'All Respondents'!F42","v":4.0000000000000008E-2},{"$f":"'All Respondents'!G43-'All Respondents'!G42","v":1.0000000000000009E-2},{"$f":"'All Respondents'!H43-'All Respondents'!H42","v":-0.10000000000000003},{"$f":"'All Respondents'!I43-'All Respondents'!I42","v":-5.400000000000002E-3},{"$f":"'All Respondents'!J43-'All Respondents'!J42","v":1.26E-2},{"$f":"'All Respondents'!K43-'All Respondents'!K42","v":-2.3260000000000017E-3},{"$f":"'All Respondents'!L43-'All Respondents'!L42","v":-6.0000000000000053E-2},{"$f":"'All Respondents'!M43-'All Respondents'!M42","v":1.9999999999999997E-2},{"$f":"'All Respondents'!N43-'All Respondents'!N42","v":2.0000000000000018E-2},{"$f":"'All Respondents'!O43-'All Respondents'!O42","v":7.999999999999996E-2},null,"N/A",{"$f":"'All Respondents'!R43-'All Respondents'!R42","v":-3.999999999999998E-2},{"$f":"'All Respondents'!S43-'All Respondents'!S42","v":-2.9999999999999971E-2},{"$f":"'All Respondents'!T43-'All Respondents'!T42","v":-6.9999999999999951E-2},{"$f":"'All Respondents'!U43-'All Respondents'!U42","v":4.0000000000000008E-2},{"$f":"'All Respondents'!V43-'All Respondents'!V42","v":0.03},{"$f":"'All Respondents'!W43-'All Respondents'!W42","v":7.0000000000000007E-2},{"$f":"'All Respondents'!X43-'All Respondents'!X42","v":-0.13999999999999996},null,null,null,null,null,null,null,null,null,null,{"$f":"'All Respondents'!AI43-'All Respondents'!AI42","v":-0.03},{"$f":"'All Respondents'!AJ43-'All Respondents'!AJ42","v":2.0000000000000018E-2},{"$f":"'All Respondents'!AK43-'All Respondents'!AK42","v":-1.0000000000000009E-2},{"$f":"'All Respondents'!AL43-'All Respondents'!AL42","v":2.9999999999999971E-2},{"$f":"'All Respondents'!AM43-'All Respondents'!AM42","v":-1.0000000000000009E-2},{"$f":"'All Respondents'!AN43-'All Respondents'!AN42","v":1.9999999999999907E-2},{"$f":"'All Respondents'!AO43-'All Respondents'!AO42","v":-2.9999999999999916E-2},null,null,null,null,null,null,null,null,null,null,{"$f":"'All Respondents'!AZ43-'All Respondents'!AZ42","v":0},{"$f":"'All Respondents'!BA43-'All Respondents'!BA42","v":2.0000000000000004E-2},{"$f":"'All Respondents'!BB43-'All Respondents'!BB42","v":-2.9999999999999971E-2},{"$f":"'All Respondents'!BC43-'All Respondents'!BC42","v":-1.9999999999999962E-2},{"$f":"'All Respondents'!BD43-'All Respondents'!BD42","v":1.0718999999999992E-2},{"$f":"'All Respondents'!BE43-'All Respondents'!BE42","v":1.0000000000000009E-2},{"$f":"'All Respondents'!BF43-'All Respondents'!BF42","v":0},{"$f":"'All Respondents'!BG43-'All Respondents'!BG42","v":1.0000000000000009E-2},{"$f":"'All Respondents'!BH43-'All Respondents'!BH42","v":-0.12},{"$f":"'All Respondents'!BI43-'All Respondents'!BI42","v":0.12},{"$f":"'All Respondents'!BJ43-'All Respondents'!BJ42","v":-0.24},{"$f":"'All Respondents'!BK43-'All Respondents'!BK42","v":0},{"$f":"'All Respondents'!BL43-'All Respondents'!BL42","v":-4.0000000000000008E-2},{"$f":"'All Respondents'!BM43-'All Respondents'!BM42","v":-4.0000000000000036E-2},{"$f":"'All Respondents'!BN43-'All Respondents'!BN42","v":-1.9999999999999962E-2},{"$f":"'All Respondents'!BO43-'All Respondents'!BO42","v":0.06},{"$f":"'All Respondents'!BP43-'All Respondents'!BP42","v":0},{"$f":"'All Respondents'!BQ43-'All Respondents'!BQ42","v":0.06},{"$f":"'All Respondents'!BR43-'All Respondents'!BR42","v":-0.1},{"$f":"'All Respondents'!BS43-'All Respondents'!BS42","v":-1.999999999999999E-2},{"$f":"'All Respondents'!BT43-'All Respondents'!BT42","v":0.03},{"$f":"'All Respondents'!BU43-'All Respondents'!BU42","v":-2.0000000000000018E-2},{"$f":"'All Respondents'!BV43-'All Respondents'!BV42","v":-4.9999999999999989E-2},{"$f":"'All Respondents'!BW43-'All Respondents'!BW42","v":2.0000000000000018E-2},{"$f":"'All Respondents'!BX43-'All Respondents'!BX42","v":-9.9999999999999534E-3},{"$f":"'All Respondents'!BY43-'All Respondents'!BY42","v":-2.9999999999999971E-2},{"$f":"'All Respondents'!BZ43-'All Respondents'!BZ42","v":1.0000000000000009E-2},{"$f":"'All Respondents'!CA43-'All Respondents'!CA42","v":-4.9999999999999989E-2},{"$f":"'All Respondents'!CB43-'All Respondents'!CB42","v":-4.0000000000000008E-2},{"$f":"'All Respondents'!CC43-'All Respondents'!CC42","v":3.0000000000000027E-2},{"$f":"'All Respondents'!CD43-'All Respondents'!CD42","v":4.9999999999999989E-2},{"$f":"'All Respondents'!CE43-'All Respondents'!CE42","v":-1.999999999999999E-2},{"$f":"'All Respondents'!CF43-'All Respondents'!CF42","v":0},{"$f":"'All Respondents'!CG43-'All Respondents'!CG42","v":-1.0000000000000009E-2},{"$f":"'All Respondents'!CH43-'All Respondents'!CH42","v":0.05},{"$f":"'All Respondents'!CI43-'All Respondents'!CI42","v":0},{"$f":"'All Respondents'!CJ43-'All Respondents'!CJ42","v":-2.0000000000000018E-2},{"$f":"'All Respondents'!CK43-'All Respondents'!CK42","v":-9.999999999999995E-3},{"$f":"'All Respondents'!CL43-'All Respondents'!CL42","v":7.0000000000000007E-2},{"$f":"'All Respondents'!CM43-'All Respondents'!CM42","v":6.0000000000000026E-2},{"$f":"'All Respondents'!CN43-'All Respondents'!CN42","v":-5.0000000000000044E-2},{"$f":"'All Respondents'!CO43-'All Respondents'!CO42","v":9.9999999999999811E-3},{"$f":"'All Respondents'!CP43-'All Respondents'!CP42","v":-5.9999999999999942E-2},{"$f":"'All Respondents'!CQ43-'All Respondents'!CQ42","v":-0.1100000000000001},{"$f":"'All Respondents'!CR43-'All Respondents'!CR42","v":4.9999999999999989E-2},{"$f":"'All Respondents'!CS43-'All Respondents'!CS42","v":9.999999999999995E-3},{"$f":"'All Respondents'!CT43-'All Respondents'!CT42","v":-0.03},{"$f":"'All Respondents'!CU43-'All Respondents'!CU42","v":-9.999999999999995E-3},{"$f":"'All Respondents'!CV43-'All Respondents'!CV42","v":-2.0000000000000018E-2},{"$f":"'All Respondents'!CW43-'All Respondents'!CW42","v":-4.0000000000000036E-2},{"$f":"'All Respondents'!CX43-'All Respondents'!CX42","v":4.0000000000000008E-2},{"$f":"'All Respondents'!CY43-'All Respondents'!CY42","v":2.0000000000000004E-2},{"$f":"'All Respondents'!CZ43-'All Respondents'!CZ42","v":-0.01},{"$f":"'All Respondents'!DA43-'All Respondents'!DA42","v":-0.01},{"$f":"'All Respondents'!DB43-'All Respondents'!DB42","v":0.03},{"$f":"'All Respondents'!DC43-'All Respondents'!DC42","v":-3.0000000000000027E-2},{"$f":"'All Respondents'!DD43-'All Respondents'!DD42","v":-3.999999999999998E-2},{"$f":"'All Respondents'!DE43-'All Respondents'!DE42","v":3.0000000000000027E-2},{"$f":"'All Respondents'!DF43-'All Respondents'!DF42","v":2.9999999999999971E-2},{"$f":"'All Respondents'!DG43-'All Respondents'!DG42","v":-4.9999999999999989E-2},{"$f":"'All Respondents'!DH43-'All Respondents'!DH42","v":-2.0000000000000018E-2},{"$f":"'All Respondents'!DI43-'All Respondents'!DI42","v":9.9999999999999811E-3},{"$f":"'All Respondents'!DJ43-'All Respondents'!DJ42","v":9.999999999999995E-3},{"$f":"'All Respondents'!DK43-'All Respondents'!DK42","v":9.999999999999995E-3},{"$f":"'All Respondents'!DL43-'All Respondents'!DL42","v":0}]
["Oct-Nov 13",{"$f":"'All Respondents'!B44-'All Respondents'!B43","v":0.29999999999999716},{"$f":"'All Respondents'!D44-'All Respondents'!D43","v":1.4000000000000057},{"$f":"'All Respondents'!E44-'All Respondents'!E43","v":-1.0000000000000009E-2},{"$f":"'All Respondents'!F44-'All Respondents'!F43","v":-1.0000000000000009E-2},{"$f":"'All Respondents'!G44-'All Respondents'!G43","v":2.9999999999999971E-2},{"$f":"'All Respondents'!H44-'All Respondents'!H43","v":0},{"$f":"'All Respondents'!I44-'All Respondents'!I43","v":-4.500000000000004E-3},{"$f":"'All Respondents'!J44-'All Respondents'!J43","v":-8.0000000000000071E-3},{"$f":"'All Respondents'!K44-'All Respondents'!K43","v":-3.9289999999999985E-3},{"$f":"'All Respondents'!L44-'All Respondents'!L43","v":2.0000000000000018E-2},{"$f":"'All Respondents'!M44-'All Respondents'!M43","v":-0.03},{"$f":"'All Respondents'!N44-'All Respondents'!N43","v":1.0000000000000009E-2},{"$f":"'All Respondents'!O44-'All Respondents'!O43","v":-4.9999999999999933E-2},null,{"$f":"'All Respondents'!Q44-'All Respondents'!Q43","v":7.0000000000000617E-4},{"$f":"'All Respondents'!R44-'All Respondents'!R43","v":-0.03},{"$f":"'All Respondents'!S44-'All Respondents'!S43","v":1.9999999999999962E-2},{"$f":"'All Respondents'!T44-'All Respondents'!T43","v":-1.0000000000000009E-2},{"$f":"'All Respondents'!U44-'All Respondents'!U43","v":-1.0000000000000009E-2},{"$f":"'All Respondents'!V44-'All Respondents'!V43","v":0},{"$f":"'All Respondents'!W44-'All Respondents'!W43","v":-1.0000000000000009E-2},{"$f":"'All Respondents'!X44-'All Respondents'!X43","v":0},{"$f":"'All Respondents'!Y44-'All Respondents'!Y43","v":-1.9999999999999962E-2},{"$f":"'All Respondents'!Z44-'All Respondents'!Z43","v":-2.0000000000000018E-2},{"$f":"'All Respondents'!AA44-'All Respondents'!AA43","v":4.0000000000000008E-2},{"$f":"'All Respondents'!AB44-'All Respondents'!AB43","v":9.9999999999999985E-3},{"$f":"'All Respondents'!AC44-'All Respondents'!AC43","v":2.0000000000000004E-2},{"$f":"'All Respondents'!AD44-'All Respondents'!AD43","v":0.03},{"$f":"'All Respondents'!AE44-'All Respondents'!AE43","v":-9.999999999999995E-3},{"$f":"'All Respondents'!AF44-'All Respondents'!AF43","v":0.01},{"$f":"'All Respondents'!AG44-'All Respondents'!AG43","v":-6.0000000000000012E-2},{"$f":"'All Respondents'!AH44-'All Respondents'!AH43","v":4.0000000000000036E-2},{"$f":"'All Respondents'!AI44-'All Respondents'!AI43","v":2.0000000000000004E-2},{"$f":"'All Respondents'!AJ44-'All Respondents'!AJ43","v":-2.0000000000000018E-2},{"$f":"'All Respondents'!AK44-'All Respondents'!AK43","v":0},{"$f":"'All Respondents'!AL44-'All Respondents'!AL43","v":-1.0000000000000009E-2},{"$f":"'All Respondents'!AM44-'All Respondents'!AM43","v":0},{"$f":"'All Respondents'!AN44-'All Respondents'!AN43","v":-1.0000000000000009E-2},{"$f":"'All Respondents'!AO44-'All Respondents'!AO43","v":1.0000000000000009E-2},{"$f":"'All Respondents'!AP44-'All Respondents'!AP43","v":3.0000000000000013E-2},{"$f":"'All Respondents'!AQ44-'All Respondents'!AQ43","v":-7.0000000000000007E-2},{"$f":"'All Respondents'!AR44-'All Respondents'!AR43","v":2.0000000000000018E-2},{"$f":"'All Respondents'!AS44-'All Respondents'!AS43","v":0},{"$f":"'All Respondents'!AT44-'All Respondents'!AT43","v":0},{"$f":"'All Respondents'!AU44-'All Respondents'!AU43","v":0},{"$f":"'All Respondents'!AV44-'All Respondents'!AV43","v":2.0000000000000004E-2},{"$f":"'All Respondents'!AW44-'All Respondents'!AW43","v":4.0000000000000008E-2},{"$f":"'All Respondents'!AX44-'All Respondents'!AX43","v":-9.999999999999995E-3},{"$f":"'All Respondents'!AY44-'All Respondents'!AY43","v":-2.0000000000000018E-2},{"$f":"'All Respondents'!AZ44-'All Respondents'!AZ43","v":-2.0000000000000018E-2},{"$f":"'All Respondents'!BA44-'All Respondents'!BA43","v":-1.0000000000000002E-2},{"$f":"'All Respondents'!BB44-'All Respondents'!BB43","v":2.9999999999999971E-2},{"$f":"'All Respondents'!BC44-'All Respondents'!BC43","v":-1.0000000000000009E-2},{"$f":"'All Respondents'!BD44-'All Respondents'!BD43","v":-1.6597999999999995E-2},{"$f":"'All Respondents'!BE44-'All Respondents'!BE43","v":-1.9999999999999907E-2},{"$f":"'All Respondents'!BF44-'All Respondents'!BF43","v":1.0000000000000009E-2},{"$f":"'All Respondents'!BG44-'All Respondents'!BG43","v":-2.9999999999999916E-2},{"$f":"'All Respondents'!BH44-'All Respondents'!BH43","v":4.9999999999999989E-2},{"$f":"'All Respondents'!BI44-'All Respondents'!BI43","v":-6.0000000000000053E-2},{"$f":"'All Respondents'!BJ44-'All Respondents'!BJ43","v":0.11000000000000004},{"$f":"'All Respondents'!BK44-'All Respondents'!BK43","v":-4.0000000000000008E-2},{"$f":"'All Respondents'!BL44-'All Respondents'!BL43","v":4.0000000000000008E-2},{"$f":"'All Respondents'!BM44-'All Respondents'!BM43","v":0},{"$f":"'All Respondents'!BN44-'All Respondents'!BN43","v":0},{"$f":"'All Respondents'!BO44-'All Respondents'!BO43","v":-1.999999999999999E-2},{"$f":"'All Respondents'!BP44-'All Respondents'!BP43","v":1.999999999999999E-2},{"$f":"'All Respondents'!BQ44-'All Respondents'!BQ43","v":0},{"$f":"'All Respondents'!BR44-'All Respondents'!BR43","v":0},{"$f":"'All Respondents'!BS44-'All Respondents'!BS43","v":1.999999999999999E-2},{"$f":"'All Respondents'!BT44-'All Respondents'!BT43","v":2.0000000000000018E-2},{"$f":"'All Respondents'!BU44-'All Respondents'!BU43","v":-4.0000000000000036E-2},{"$f":"'All Respondents'!BV44-'All Respondents'!BV43","v":0},{"$f":"'All Respondents'!BW44-'All Respondents'!BW43","v":-4.0000000000000036E-2},{"$f":"'All Respondents'!BX44-'All Respondents'!BX43","v":3.999999999999998E-2},{"$f":"'All Respondents'!BY44-'All Respondents'!BY43","v":8.0000000000000016E-2},{"$f":"'All Respondents'!BZ44-'All Respondents'!BZ43","v":-2.0000000000000018E-2},{"$f":"'All Respondents'!CA44-'All Respondents'!CA43","v":7.0000000000000007E-2},{"$f":"'All Respondents'!CB44-'All Respondents'!CB43","v":5.0000000000000017E-2},{"$f":"'All Respondents'!CC44-'All Respondents'!CC43","v":-3.0000000000000027E-2},{"$f":"'All Respondents'!CD44-'All Respondents'!CD43","v":-9.9999999999999811E-3},{"$f":"'All Respondents'!CE44-'All Respondents'!CE43","v":0},{"$f":"'All Respondents'!CF44-'All Respondents'!CF43","v":-2.0000000000000018E-2},{"$f":"'All Respondents'!CG44-'All Respondents'!CG43","v":1.0000000000000009E-2},{"$f":"'All Respondents'!CH44-'All Respondents'!CH43","v":-2.0000000000000004E-2},{"$f":"'All Respondents'!CI44-'All Respondents'!CI43","v":-0.03},{"$f":"'All Respondents'!CJ44-'All Respondents'!CJ43","v":3.0000000000000027E-2},{"$f":"'All Respondents'!CK44-'All Respondents'!CK43","v":9.999999999999995E-3},{"$f":"'All Respondents'!CL44-'All Respondents'!CL43","v":-4.0000000000000008E-2},{"$f":"'All Respondents'!CM44-'All Respondents'!CM43","v":-0.03},{"$f":"'All Respondents'!CN44-'All Respondents'!CN43","v":3.0000000000000027E-2},{"$f":"'All Respondents'!CO44-'All Respondents'!CO43","v":-3.999999999999998E-2},{"$f":"'All Respondents'!CP44-'All Respondents'!CP43","v":6.9999999999999951E-2},{"$f":"'All Respondents'!CQ44-'All Respondents'!CQ43","v":6.0000000000000053E-2},{"$f":"'All Respondents'!CR44-'All Respondents'!CR43","v":-4.9999999999999989E-2},{"$f":"'All Respondents'!CS44-'All Respondents'!CS43","v":9.999999999999995E-3},{"$f":"'All Respondents'!CT44-'All Respondents'!CT43","v":-1.0000000000000009E-2},{"$f":"'All Respondents'!CU44-'All Respondents'!CU43","v":-9.999999999999995E-3},{"$f":"'All Respondents'!CV44-'All Respondents'!CV43","v":7.0000000000000007E-2},{"$f":"'All Respondents'!CW44-'All Respondents'!CW43","v":4.0000000000000036E-2},{"$f":"'All Respondents'!CX44-'All Respondents'!CX43","v":-4.0000000000000008E-2},{"$f":"'All Respondents'!CY44-'All Respondents'!CY43","v":-2.0000000000000004E-2},{"$f":"'All Respondents'!CZ44-'All Respondents'!CZ43","v":0.01},{"$f":"'All Respondents'!DA44-'All Respondents'!DA43","v":0.01},{"$f":"'All Respondents'!DB44-'All Respondents'!DB43","v":-3.9999999999999994E-2},{"$f":"'All Respondents'!DC44-'All Respondents'!DC43","v":4.0000000000000036E-2},{"$f":"'All Respondents'!DD44-'All Respondents'!DD43","v":-2.0000000000000018E-2},{"$f":"'All Respondents'!DE44-'All Respondents'!DE43","v":2.0000000000000018E-2},{"$f":"'All Respondents'!DF44-'All Respondents'!DF43","v":-1.9999999999999962E-2},{"$f":"'All Respondents'!DG44-'All Respondents'!DG43","v":0.03},{"$f":"'All Respondents'!DH44-'All Respondents'!DH43","v":1.000000000000012E-2},{"$f":"'All Respondents'!DI44-'All Respondents'!DI43","v":1.0000000000000009E-2},{"$f":"'All Respondents'!DJ44-'All Respondents'!DJ43","v":-9.999999999999995E-3},{"$f":"'All Respondents'!DK44-'All Respondents'!DK43","v":-9.999999999999995E-3},{"$f":"'All Respondents'!DL44-'All Respondents'!DL43","v":0}]
["Nov-Dec 13",{"$f":"'All Respondents'!B45-'All Respondents'!B44","v":-9.9999999999994316E-2},{"$f":"'All Respondents'!D45-'All Respondents'!D44","v":-0.80000000000001137},{"$f":"'All Respondents'!E45-'All Respondents'!E44","v":3.999999999999998E-2},{"$f":"'All Respondents'!F45-'All Respondents'!F44","v":0},{"$f":"'All Respondents'!G45-'All Respondents'!G44","v":-3.999999999999998E-2},{"$f":"'All Respondents'!H45-'All Respondents'!H44","v":4.0000000000000036E-2},{"$f":"'All Respondents'!I45-'All Respondents'!I44","v":2.1699999999999997E-2},{"$f":"'All Respondents'!J45-'All Respondents'!J44","v":5.1000000000000073E-3},{"$f":"'All Respondents'!K45-'All Respondents'!K44","v":7.4319999999999976E-3},{"$f":"'All Respondents'!L45-'All Respondents'!L44","v":-2.0000000000000018E-2},{"$f":"'All Respondents'!M45-'All Respondents'!M44","v":1.0000000000000002E-2},{"$f":"'All Respondents'!N45-'All Respondents'!N44","v":0},{"$f":"'All Respondents'!O45-'All Respondents'!O44","v":3.0000000000000027E-2},null,{"$f":"'All Respondents'!Q45-'All Respondents'!Q44","v":9.9999999999999395E-4},{"$f":"'All Respondents'!R45-'All Respondents'!R44","v":0.06},{"$f":"'All Respondents'!S45-'All Respondents'!S44","v":-2.9999999999999971E-2},{"$f":"'All Respondents'!T45-'All Respondents'!T44","v":3.0000000000000027E-2},{"$f":"'All Respondents'!U45-'All Respondents'!U44","v":0},{"$f":"'All Respondents'!V45-'All Respondents'!V44","v":-0.03},{"$f":"'All Respondents'!W45-'All Respondents'!W44","v":-2.9999999999999971E-2},{"$f":"'All Respondents'!X45-'All Respondents'!X44","v":0.06},{"$f":"'All Respondents'!Y45-'All Respondents'!Y44","v":1.9999999999999962E-2},{"$f":"'All Respondents'!Z45-'All Respondents'!Z44","v":0},{"$f":"'All Respondents'!AA45-'All Respondents'!AA44","v":-2.0000000000000018E-2},{"$f":"'All Respondents'!AB45-'All Respondents'!AB44","v":2.0000000000000004E-2},{"$f":"'All Respondents'!AC45-'All Respondents'!AC44","v":9.999999999999995E-3},{"$f":"'All Respondents'!AD45-'All Respondents'!AD44","v":-0.06},{"$f":"'All Respondents'!AE45-'All Respondents'!AE44","v":-1.0000000000000002E-2},{"$f":"'All Respondents'!AF45-'All Respondents'!AF44","v":9.9999999999999985E-3},{"$f":"'All Respondents'!AG45-'All Respondents'!AG44","v":6.0000000000000012E-2},{"$f":"'All Respondents'!AH45-'All Respondents'!AH44","v":0},{"$f":"'All Respondents'!AI45-'All Respondents'!AI44","v":-2.0000000000000004E-2},{"$f":"'All Respondents'!AJ45-'All Respondents'!AJ44","v":-1.9999999999999962E-2},{"$f":"'All Respondents'!AK45-'All Respondents'!AK44","v":-3.999999999999998E-2},{"$f":"'All Respondents'!AL45-'All Respondents'!AL44","v":4.0000000000000036E-2},{"$f":"'All Respondents'!AM45-'All Respondents'!AM44","v":-1.999999999999999E-2},{"$f":"'All Respondents'!AN45-'All Respondents'!AN44","v":2.0000000000000129E-2},{"$f":"'All Respondents'!AO45-'All Respondents'!AO44","v":-6.0000000000000109E-2},{"$f":"'All Respondents'!AP45-'All Respondents'!AP44","v":-4.0000000000000008E-2},{"$f":"'All Respondents'!AQ45-'All Respondents'!AQ44","v":4.9999999999999989E-2},{"$f":"'All Respondents'!AR45-'All Respondents'!AR44","v":-0.03},{"$f":"'All Respondents'!AS45-'All Respondents'!AS44","v":1.0000000000000009E-2},{"$f":"'All Respondents'!AT45-'All Respondents'!AT44","v":0.03},{"$f":"'All Respondents'!AU45-'All Respondents'!AU44","v":4.0000000000000036E-2},{"$f":"'All Respondents'!AV45-'All Respondents'!AV44","v":-2.0000000000000004E-2},{"$f":"'All Respondents'!AW45-'All Respondents'!AW44","v":-1.999999999999999E-2},{"$f":"'All Respondents'!AX45-'All Respondents'!AX44","v":9.999999999999995E-3},{"$f":"'All Respondents'!AY45-'All Respondents'!AY44","v":1.0000000000000009E-2},{"$f":"'All Respondents'!AZ45-'All Respondents'!AZ44","v":3.0000000000000027E-2},{"$f":"'All Respondents'!BA45-'All Respondents'!BA44","v":-1.0000000000000002E-2},{"$f":"'All Respondents'!BB45-'All Respondents'!BB44","v":-1.9999999999999962E-2},{"$f":"'All Respondents'!BC45-'All Respondents'!BC44","v":3.999999999999998E-2},{"$f":"'All Respondents'!BD45-'All Respondents'!BD44","v":1.0213000000000007E-2},{"$f":"'All Respondents'!BE45-'All Respondents'!BE44","v":-2.0000000000000018E-2},{"$f":"'All Respondents'!BF45-'All Respondents'!BF44","v":2.9999999999999971E-2},{"$f":"'All Respondents'!BG45-'All Respondents'!BG44","v":-4.9999999999999989E-2},{"$f":"'All Respondents'!BH45-'All Respondents'!BH44","v":-1.0000000000000009E-2},{"$f":"'All Respondents'!BI45-'All Respondents'!BI44","v":-2.0000000000000018E-2},{"$f":"'All Respondents'!BJ45-'All Respondents'!BJ44","v":1.0000000000000009E-2},{"$f":"'All Respondents'!BK45-'All Respondents'!BK44","v":1.999999999999999E-2},{"$f":"'All Respondents'!BL45-'All Respondents'!BL44","v":2.0000000000000018E-2},{"$f":"'All Respondents'!BM45-'All Respondents'!BM44","v":4.0000000000000036E-2},{"$f":"'All Respondents'!BN45-'All Respondents'!BN44","v":1.9999999999999962E-2},{"$f":"'All Respondents'!BO45-'All Respondents'!BO44","v":-2.0000000000000004E-2},{"$f":"'All Respondents'!BP45-'All Respondents'!BP44","v":-0.03},{"$f":"'All Respondents'!BQ45-'All Respondents'!BQ44","v":-5.0000000000000017E-2},{"$f":"'All Respondents'!BR45-'All Respondents'!BR44","v":9.0000000000000052E-2},{"$f":"'All Respondents'!BS45-'All Respondents'!BS44","v":1.0000000000000009E-2},{"$f":"'All Respondents'!BT45-'All Respondents'!BT44","v":-0.03},{"$f":"'All Respondents'!BU45-'All Respondents'!BU44","v":2.0000000000000018E-2},{"$f":"'All Respondents'!BV45-'All Respondents'!BV44","v":4.0000000000000008E-2},{"$f":"'All Respondents'!BW45-'All Respondents'!BW44","v":-1.0000000000000009E-2},{"$f":"'All Respondents'!BX45-'All Respondents'!BX44","v":0},{"$f":"'All Respondents'!BY45-'All Respondents'!BY44","v":1.0000000000000009E-2},{"$f":"'All Respondents'!BZ45-'All Respondents'!BZ44","v":0},{"$f":"'All Respondents'!CA45-'All Respondents'!CA44","v":-6.0000000000000012E-2},{"$f":"'All Respondents'!CB45-'All Respondents'!CB44","v":-6.0000000000000053E-2},{"$f":"'All Respondents'!CC45-'All Respondents'!CC44","v":5.0000000000000044E-2},{"$f":"'All Respondents'!CD45-'All Respondents'!CD44","v":0},{"$f":"'All Respondents'!CE45-'All Respondents'!CE44","v":1.0000000000000009E-2},{"$f":"'All Respondents'!CF45-'All Respondents'!CF44","v":3.999999999999998E-2},{"$f":"'All Respondents'!CG45-'All Respondents'!CG44","v":1.999999999999999E-2},{"$f":"'All Respondents'!CH45-'All Respondents'!CH44","v":3.0000000000000013E-2},{"$f":"'All Respondents'!CI45-'All Respondents'!CI44","v":0.03},{"$f":"'All Respondents'!CJ45-'All Respondents'!CJ44","v":-6.0000000000000053E-2},{"$f":"'All Respondents'!CK45-'All Respondents'!CK44","v":9.999999999999995E-3},{"$f":"'All Respondents'!CL45-'All Respondents'!CL44","v":4.9999999999999989E-2},{"$f":"'All Respondents'!CM45-'All Respondents'!CM44","v":0.06},{"$f":"'All Respondents'!CN45-'All Respondents'!CN44","v":-6.0000000000000053E-2},{"$f":"'All Respondents'!CO45-'All Respondents'!CO44","v":0.03},{"$f":"'All Respondents'!CP45-'All Respondents'!CP44","v":-8.9999999999999969E-2},{"$f":"'All Respondents'!CQ45-'All Respondents'!CQ44","v":-0.12000000000000011},{"$f":"'All Respondents'!CR45-'All Respondents'!CR44","v":1.9999999999999962E-2},{"$f":"'All Respondents'!CS45-'All Respondents'!CS44","v":0},{"$f":"'All Respondents'!CT45-'All Respondents'!CT44","v":0.03},{"$f":"'All Respondents'!CU45-'All Respondents'!CU44","v":9.999999999999995E-3},{"$f":"'All Respondents'!CV45-'All Respondents'!CV44","v":-0.06},{"$f":"'All Respondents'!CW45-'All Respondents'!CW44","v":-1.0000000000000009E-2},{"$f":"'All Respondents'!CX45-'All Respondents'!CX44","v":0.03},{"$f":"'All Respondents'!CY45-'All Respondents'!CY44","v":-1.0000000000000002E-2},{"$f":"'All Respondents'!CZ45-'All Respondents'!CZ44","v":-0.01},{"$f":"'All Respondents'!DA45-'All Respondents'!DA44","v":0},{"$f":"'All Respondents'!DB45-'All Respondents'!DB44","v":9.999999999999995E-3},{"$f":"'All Respondents'!DC45-'All Respondents'!DC44","v":-1.0000000000000009E-2},{"$f":"'All Respondents'!DD45-'All Respondents'!DD44","v":1.0000000000000009E-2},{"$f":"'All Respondents'!DE45-'All Respondents'!DE44","v":-1.0000000000000009E-2},{"$f":"'All Respondents'!DF45-'All Respondents'!DF44","v":2.9999999999999971E-2},{"$f":"'All Respondents'!DG45-'All Respondents'!DG44","v":-0.03},{"$f":"'All Respondents'!DH45-'All Respondents'!DH44","v":0},{"$f":"'All Respondents'!DI45-'All Respondents'!DI44","v":-4.0000000000000008E-2},{"$f":"'All Respondents'!DJ45-'All Respondents'!DJ44","v":2.9999999999999985E-2},{"$f":"'All Respondents'!DK45-'All Respondents'!DK44","v":1.999999999999999E-2},{"$f":"'All Respondents'!DL45-'All Respondents'!DL44","v":9.999999999999995E-3}]
["Dec 13-Jan 14",{"$f":"'All Respondents'!B46-'All Respondents'!B45","v":3.7999999999999972},{"$f":"'All Respondents'!D46-'All Respondents'!D45","v":4},{"$f":"'All Respondents'!E46-'All Respondents'!E45","v":-0.06},{"$f":"'All Respondents'!F46-'All Respondents'!F45","v":-0.03},{"$f":"'All Respondents'!G46-'All Respondents'!G45","v":7.0000000000000007E-2},{"$f":"'All Respondents'!H46-'All Respondents'!H45","v":-3.0000000000000027E-2},{"$f":"'All Respondents'!I46-'All Respondents'!I45","v":-1.2799999999999992E-2},{"$f":"'All Respondents'!J46-'All Respondents'!J45","v":-2.0300000000000006E-2},{"$f":"'All Respondents'!K46-'All Respondents'!K45","v":-1.2085999999999996E-2},{"$f":"'All Respondents'!L46-'All Respondents'!L45","v":-1.9999999999999907E-2},{"$f":"'All Respondents'!M46-'All Respondents'!M45","v":1.0000000000000002E-2},{"$f":"'All Respondents'!N46-'All Respondents'!N45","v":1.0000000000000009E-2},{"$f":"'All Respondents'!O46-'All Respondents'!O45","v":2.9999999999999916E-2},null,{"$f":"'All Respondents'!Q46-'All Respondents'!Q45","v":-9.9999999999999395E-4},{"$f":"'All Respondents'!R46-'All Respondents'!R45","v":-4.0000000000000008E-2},{"$f":"'All Respondents'!S46-'All Respondents'!S45","v":2.0000000000000018E-2},{"$f":"'All Respondents'!T46-'All Respondents'!T45","v":-2.0000000000000018E-2},{"$f":"'All Respondents'!U46-'All Respondents'!U45","v":0.03},{"$f":"'All Respondents'!V46-'All Respondents'!V45","v":-1.999999999999999E-2},{"$f":"'All Respondents'!W46-'All Respondents'!W45","v":1.0000000000000009E-2},{"$f":"'All Respondents'!X46-'All Respondents'!X45","v":-3.0000000000000027E-2},{"$f":"'All Respondents'!Y46-'All Respondents'!Y45","v":-3.999999999999998E-2},{"$f":"'All Respondents'!Z46-'All Respondents'!Z45","v":2.0000000000000018E-2},{"$f":"'All Respondents'!AA46-'All Respondents'!AA45","v":-1.999999999999999E-2},{"$f":"'All Respondents'!AB46-'All Respondents'!AB45","v":-1.0000000000000002E-2},{"$f":"'All Respondents'!AC46-'All Respondents'!AC45","v":1.0000000000000009E-2},{"$f":"'All Respondents'!AD46-'All Respondents'!AD45","v":0.09},{"$f":"'All Respondents'!AE46-'All Respondents'!AE45","v":1.0000000000000002E-2},{"$f":"'All Respondents'!AF46-'All Respondents'!AF45","v":0},{"$f":"'All Respondents'!AG46-'All Respondents'!AG45","v":-5.0000000000000017E-2},{"$f":"'All Respondents'!AH46-'All Respondents'!AH45","v":-5.0000000000000044E-2},{"$f":"'All Respondents'!AI46-'All Respondents'!AI45","v":9.999999999999995E-3},{"$f":"'All Respondents'!AJ46-'All Respondents'!AJ45","v":3.999999999999998E-2},{"$f":"'All Respondents'!AK46-'All Respondents'!AK45","v":4.9999999999999989E-2},{"$f":"'All Respondents'!AL46-'All Respondents'!AL45","v":-1.0000000000000009E-2},{"$f":"'All Respondents'!AM46-'All Respondents'!AM45","v":-4.0000000000000008E-2},{"$f":"'All Respondents'!AN46-'All Respondents'!AN45","v":-5.0000000000000044E-2},{"$f":"'All Respondents'!AO46-'All Respondents'!AO45","v":0.10000000000000003},{"$f":"'All Respondents'!AP46-'All Respondents'!AP45","v":4.0000000000000008E-2},{"$f":"'All Respondents'!AQ46-'All Respondents'!AQ45","v":-9.9999999999999534E-3},{"$f":"'All Respondents'!AR46-'All Respondents'!AR45","v":-1.0000000000000009E-2},{"$f":"'All Respondents'!AS46-'All Respondents'!AS45","v":9.999999999999995E-3},{"$f":"'All Respondents'!AT46-'All Respondents'!AT45","v":-0.03},{"$f":"'All Respondents'!AU46-'All Respondents'!AU45","v":-2.0000000000000018E-2},{"$f":"'All Respondents'!AV46-'All Respondents'!AV45","v":1.0000000000000002E-2},{"$f":"'All Respondents'!AW46-'All Respondents'!AW45","v":9.9999999999999811E-3},{"$f":"'All Respondents'!AX46-'All Respondents'!AX45","v":0},{"$f":"'All Respondents'!AY46-'All Respondents'!AY45","v":-3.0000000000000027E-2},{"$f":"'All Respondents'!AZ46-'All Respondents'!AZ45","v":-5.0000000000000044E-2},{"$f":"'All Respondents'!BA46-'All Respondents'!BA45","v":0},{"$f":"'All Respondents'!BB46-'All Respondents'!BB45","v":3.999999999999998E-2},{"$f":"'All Respondents'!BC46-'All Respondents'!BC45","v":-5.0000000000000044E-2},{"$f":"'All Respondents'!BD46-'All Respondents'!BD45","v":-9.961000000000008E-3},{"$f":"'All Respondents'!BE46-'All Respondents'!BE45","v":3.9999999999999925E-2},{"$f":"'All Respondents'!BF46-'All Respondents'!BF45","v":-4.9999999999999989E-2},{"$f":"'All Respondents'!BG46-'All Respondents'!BG45","v":8.9999999999999913E-2},{"$f":"'All Respondents'!BH46-'All Respondents'!BH45","v":8.0000000000000016E-2},{"$f":"'All Respondents'!BI46-'All Respondents'!BI45","v":-4.9999999999999933E-2},{"$f":"'All Respondents'!BJ46-'All Respondents'!BJ45","v":0.12999999999999995},{"$f":"'All Respondents'!BK46-'All Respondents'!BK45","v":1.0000000000000009E-2},{"$f":"'All Respondents'!BL46-'All Respondents'!BL45","v":1.0000000000000009E-2},{"$f":"'All Respondents'!BM46-'All Respondents'!BM45","v":2.0000000000000018E-2},{"$f":"'All Respondents'!BN46-'All Respondents'!BN45","v":0},{"$f":"'All Respondents'!BO46-'All Respondents'!BO45","v":-9.999999999999995E-3},{"$f":"'All Respondents'!BP46-'All Respondents'!BP45","v":-1.9999999999999997E-2},{"$f":"'All Respondents'!BQ46-'All Respondents'!BQ45","v":-2.9999999999999971E-2},{"$f":"'All Respondents'!BR46-'All Respondents'!BR45","v":4.9999999999999989E-2},{"$f":"'All Respondents'!BS46-'All Respondents'!BS45","v":-1.0000000000000009E-2},{"$f":"'All Respondents'!BT46-'All Respondents'!BT45","v":-1.0000000000000009E-2},{"$f":"'All Respondents'!BU46-'All Respondents'!BU45","v":2.0000000000000018E-2},{"$f":"'All Respondents'!BV46-'All Respondents'!BV45","v":0},{"$f":"'All Respondents'!BW46-'All Respondents'!BW45","v":-2.9999999999999971E-2},{"$f":"'All Respondents'!BX46-'All Respondents'!BX45","v":2.0000000000000018E-2},{"$f":"'All Respondents'!BY46-'All Respondents'!BY45","v":4.9999999999999989E-2},{"$f":"'All Respondents'!BZ46-'All Respondents'!BZ45","v":0},{"$f":"'All Respondents'!CA46-'All Respondents'!CA45","v":9.999999999999995E-3},{"$f":"'All Respondents'!CB46-'All Respondents'!CB45","v":1.0000000000000009E-2},{"$f":"'All Respondents'!CC46-'All Respondents'!CC45","v":-1.0000000000000009E-2},{"$f":"'All Respondents'!CD46-'All Respondents'!CD45","v":-0.1},{"$f":"'All Respondents'!CE46-'All Respondents'!CE45","v":9.9999999999999811E-3},{"$f":"'All Respondents'!CF46-'All Respondents'!CF45","v":8.0000000000000016E-2},{"$f":"'All Respondents'!CG46-'All Respondents'!CG45","v":-0.03},{"$f":"'All Respondents'!CH46-'All Respondents'!CH45","v":-4.0000000000000008E-2},{"$f":"'All Respondents'!CI46-'All Respondents'!CI45","v":-9.9999999999999811E-3},{"$f":"'All Respondents'!CJ46-'All Respondents'!CJ45","v":6.0000000000000053E-2},{"$f":"'All Respondents'!CK46-'All Respondents'!CK45","v":-0.03},{"$f":"'All Respondents'!CL46-'All Respondents'!CL45","v":-4.9999999999999989E-2},{"$f":"'All Respondents'!CM46-'All Respondents'!CM45","v":-8.0000000000000016E-2},{"$f":"'All Respondents'!CN46-'All Respondents'!CN45","v":8.0000000000000071E-2},{"$f":"'All Respondents'!CO46-'All Respondents'!CO45","v":-1.0000000000000009E-2},{"$f":"'All Respondents'!CP46-'All Respondents'!CP45","v":8.9999999999999969E-2},{"$f":"'All Respondents'!CQ46-'All Respondents'!CQ45","v":0.16000000000000014},{"$f":"'All Respondents'!CR46-'All Respondents'!CR45","v":1.0000000000000009E-2},{"$f":"'All Respondents'!CS46-'All Respondents'!CS45","v":0},{"$f":"'All Respondents'!CT46-'All Respondents'!CT45","v":0},{"$f":"'All Respondents'!CU46-'All Respondents'!CU45","v":0},{"$f":"'All Respondents'!CV46-'All Respondents'!CV45","v":0},{"$f":"'All Respondents'!CW46-'All Respondents'!CW45","v":-2.0000000000000018E-2},{"$f":"'All Respondents'!CX46-'All Respondents'!CX45","v":4.0000000000000008E-2},{"$f":"'All Respondents'!CY46-'All Respondents'!CY45","v":-1.0000000000000002E-2},{"$f":"'All Respondents'!CZ46-'All Respondents'!CZ45","v":0},{"$f":"'All Respondents'!DA46-'All Respondents'!DA45","v":0},{"$f":"'All Respondents'!DB46-'All Respondents'!DB45","v":2.0000000000000018E-2},{"$f":"'All Respondents'!DC46-'All Respondents'!DC45","v":-2.0000000000000018E-2},{"$f":"'All Respondents'!DD46-'All Respondents'!DD45","v":0},{"$f":"'All Respondents'!DE46-'All Respondents'!DE45","v":1.0000000000000009E-2},{"$f":"'All Respondents'!DF46-'All Respondents'!DF45","v":2.0000000000000018E-2},{"$f":"'All Respondents'!DG46-'All Respondents'!DG45","v":9.9999999999999811E-3},{"$f":"'All Respondents'!DH46-'All Respondents'!DH45","v":3.0000000000000027E-2},{"$f":"'All Respondents'!DI46-'All Respondents'!DI45","v":-9.9999999999999811E-3},{"$f":"'All Respondents'!DJ46-'All Respondents'!DJ45","v":-1.999999999999999E-2},{"$f":"'All Respondents'!DK46-'All Respondents'!DK45","v":-9.999999999999995E-3},{"$f":"'All Respondents'!DL46-'All Respondents'!DL45","v":-9.999999999999995E-3}]
["Jan 14-Feb 14",{"$f":"'All Respondents'!B47-'All Respondents'!B46","v":-1.5},{"$f":"'All Respondents'!D47-'All Respondents'!D46","v":-1.3999999999999915},{"$f":"'All Respondents'!E47-'All Respondents'!E46","v":7.0000000000000007E-2},{"$f":"'All Respondents'!F47-'All Respondents'!F46","v":1.0000000000000009E-2},{"$f":"'All Respondents'!G47-'All Respondents'!G46","v":-7.0000000000000007E-2},{"$f":"'All Respondents'!H47-'All Respondents'!H46","v":0.06},{"$f":"'All Respondents'!I47-'All Respondents'!I46","v":1.1099999999999999E-2},{"$f":"'All Respondents'!J47-'All Respondents'!J46","v":1.5000000000000006E-2},{"$f":"'All Respondents'!K47-'All Respondents'!K46","v":1.1570999999999994E-2},{"$f":"'All Respondents'!L47-'All Respondents'!L46","v":1.0000000000000009E-2},{"$f":"'All Respondents'!M47-'All Respondents'!M46","v":-1.0000000000000002E-2},{"$f":"'All Respondents'!N47-'All Respondents'!N46","v":-1.0000000000000009E-2},{"$f":"'All Respondents'!O47-'All Respondents'!O46","v":-2.0000000000000018E-2},null,{"$f":"'All Respondents'!Q47-'All Respondents'!Q46","v":9.9999999999995925E-5},{"$f":"'All Respondents'!R47-'All Respondents'!R46","v":-1.999999999999999E-2},{"$f":"'All Respondents'!S47-'All Respondents'!S46","v":4.9999999999999989E-2},{"$f":"'All Respondents'!T47-'All Respondents'!T46","v":3.0000000000000027E-2},{"$f":"'All Respondents'!U47-'All Respondents'!U46","v":-3.999999999999998E-2},{"$f":"'All Respondents'!V47-'All Respondents'!V46","v":0.03},{"$f":"'All Respondents'!W47-'All Respondents'!W46","v":-1.0000000000000009E-2},{"$f":"'All Respondents'!X47-'All Respondents'!X46","v":4.0000000000000036E-2},{"$f":"'All Respondents'!Y47-'All Respondents'!Y46","v":3.999999999999998E-2},{"$f":"'All Respondents'!Z47-'All Respondents'!Z46","v":-3.999999999999998E-2},{"$f":"'All Respondents'!AA47-'All Respondents'!AA46","v":4.0000000000000008E-2},{"$f":"'All Respondents'!AB47-'All Respondents'!AB46","v":0},{"$f":"'All Respondents'!AC47-'All Respondents'!AC46","v":-0.03},{"$f":"'All Respondents'!AD47-'All Respondents'!AD46","v":-1.999999999999999E-2},{"$f":"'All Respondents'!AE47-'All Respondents'!AE46","v":-2.0000000000000004E-2},{"$f":"'All Respondents'!AF47-'All Respondents'!AF46","v":0},{"$f":"'All Respondents'!AG47-'All Respondents'!AG46","v":-9.999999999999995E-3},{"$f":"'All Respondents'!AH47-'All Respondents'!AH46","v":5.0000000000000044E-2},{"$f":"'All Respondents'!AI47-'All Respondents'!AI46","v":1.0000000000000009E-2},{"$f":"'All Respondents'!AJ47-'All Respondents'!AJ46","v":-4.9999999999999989E-2},{"$f":"'All Respondents'!AK47-'All Respondents'!AK46","v":-3.999999999999998E-2},{"$f":"'All Respondents'!AL47-'All Respondents'!AL46","v":1.0000000000000009E-2},{"$f":"'All Respondents'!AM47-'All Respondents'!AM46","v":0.03},{"$f":"'All Respondents'!AN47-'All Respondents'!AN46","v":4.0000000000000036E-2},{"$f":"'All Respondents'!AO47-'All Respondents'!AO46","v":-8.0000000000000016E-2},{"$f":"'All Respondents'!AP47-'All Respondents'!AP46","v":3.999999999999998E-2},{"$f":"'All Respondents'!AQ47-'All Respondents'!AQ46","v":-5.0000000000000044E-2},{"$f":"'All Respondents'!AR47-'All Respondents'!AR46","v":4.0000000000000008E-2},{"$f":"'All Respondents'!AS47-'All Respondents'!AS46","v":-0.03},{"$f":"'All Respondents'!AT47-'All Respondents'!AT46","v":2.0000000000000018E-2},{"$f":"'All Respondents'!AU47-'All Respondents'!AU46","v":-2.9999999999999971E-2},{"$f":"'All Respondents'!AV47-'All Respondents'!AV46","v":1.0000000000000002E-2},{"$f":"'All Respondents'!AW47-'All Respondents'!AW46","v":2.0000000000000018E-2},{"$f":"'All Respondents'!AX47-'All Respondents'!AX46","v":1.0000000000000009E-2},{"$f":"'All Respondents'!AY47-'All Respondents'!AY46","v":2.0000000000000018E-2},{"$f":"'All Respondents'!AZ47-'All Respondents'!AZ46","v":3.0000000000000027E-2},{"$f":"'All Respondents'!BA47-'All Respondents'!BA46","v":-9.9999999999999985E-3},{"$f":"'All Respondents'!BB47-'All Respondents'!BB46","v":-1.0000000000000009E-2},{"$f":"'All Respondents'!BC47-'All Respondents'!BC46","v":4.0000000000000036E-2},{"$f":"'All Respondents'!BD47-'All Respondents'!BD46","v":1.5284000000000002E-2},{"$f":"'All Respondents'!BE47-'All Respondents'!BE46","v":-3.9999999999999925E-2},{"$f":"'All Respondents'!BF47-'All Respondents'!BF46","v":3.999999999999998E-2},{"$f":"'All Respondents'!BG47-'All Respondents'!BG46","v":-7.9999999999999905E-2},{"$f":"'All Respondents'!BH47-'All Respondents'!BH46","v":-4.0000000000000036E-2},{"$f":"'All Respondents'!BI47-'All Respondents'!BI46","v":2.9999999999999916E-2},{"$f":"'All Respondents'!BJ47-'All Respondents'!BJ46","v":-6.9999999999999951E-2},{"$f":"'All Respondents'!BK47-'All Respondents'!BK46","v":-1.0000000000000009E-2},{"$f":"'All Respondents'!BL47-'All Respondents'!BL46","v":0},{"$f":"'All Respondents'!BM47-'All Respondents'!BM46","v":-1.0000000000000009E-2},{"$f":"'All Respondents'!BN47-'All Respondents'!BN46","v":0},{"$f":"'All Respondents'!BO47-'All Respondents'!BO46","v":0},{"$f":"'All Respondents'!BP47-'All Respondents'!BP46","v":1.0000000000000002E-2},{"$f":"'All Respondents'!BQ47-'All Respondents'!BQ46","v":1.0000000000000009E-2},{"$f":"'All Respondents'!BR47-'All Respondents'!BR46","v":-2.0000000000000018E-2},{"$f":"'All Respondents'!BS47-'All Respondents'!BS46","v":1.999999999999999E-2},{"$f":"'All Respondents'!BT47-'All Respondents'!BT46","v":0.03},{"$f":"'All Respondents'!BU47-'All Respondents'!BU46","v":-4.0000000000000036E-2},{"$f":"'All Respondents'!BV47-'All Respondents'!BV46","v":-1.0000000000000009E-2},{"$f":"'All Respondents'!BW47-'All Respondents'!BW46","v":7.0000000000000007E-2},{"$f":"'All Respondents'!BX47-'All Respondents'!BX46","v":-7.0000000000000007E-2},{"$f":"'All Respondents'!BY47-'All Respondents'!BY46","v":-0.14000000000000001},{"$f":"'All Respondents'!BZ47-'All Respondents'!BZ46","v":4.0000000000000008E-2},{"$f":"'All Respondents'!CA47-'All Respondents'!CA46","v":-9.999999999999995E-3},{"$f":"'All Respondents'!CB47-'All Respondents'!CB46","v":3.0000000000000027E-2},{"$f":"'All Respondents'!CC47-'All Respondents'!CC46","v":-9.9999999999998979E-3},{"$f":"'All Respondents'!CD47-'All Respondents'!CD46","v":7.0000000000000007E-2},{"$f":"'All Respondents'!CE47-'All Respondents'!CE46","v":-3.999999999999998E-2},{"$f":"'All Respondents'!CF47-'All Respondents'!CF46","v":-3.999999999999998E-2},{"$f":"'All Respondents'!CG47-'All Respondents'!CG46","v":2.0000000000000004E-2},{"$f":"'All Respondents'!CH47-'All Respondents'!CH46","v":9.999999999999995E-3},{"$f":"'All Respondents'!CI47-'All Respondents'!CI46","v":3.999999999999998E-2},{"$f":"'All Respondents'!CJ47-'All Respondents'!CJ46","v":-6.0000000000000053E-2},{"$f":"'All Respondents'!CK47-'All Respondents'!CK46","v":4.0000000000000008E-2},{"$f":"'All Respondents'!CL47-'All Respondents'!CL46","v":0},{"$f":"'All Respondents'!CM47-'All Respondents'!CM46","v":4.0000000000000008E-2},{"$f":"'All Respondents'!CN47-'All Respondents'!CN46","v":-4.0000000000000036E-2},{"$f":"'All Respondents'!CO47-'All Respondents'!CO46","v":4.0000000000000008E-2},{"$f":"'All Respondents'!CP47-'All Respondents'!CP46","v":-7.999999999999996E-2},{"$f":"'All Respondents'!CQ47-'All Respondents'!CQ46","v":-8.0000000000000071E-2},{"$f":"'All Respondents'!CR47-'All Respondents'!CR46","v":1.0000000000000009E-2},{"$f":"'All Respondents'!CS47-'All Respondents'!CS46","v":-9.999999999999995E-3},{"$f":"'All Respondents'!CT47-'All Respondents'!CT46","v":-9.9999999999999811E-3},{"$f":"'All Respondents'!CU47-'All Respondents'!CU46","v":-9.999999999999995E-3},{"$f":"'All Respondents'!CV47-'All Respondents'!CV46","v":0},{"$f":"'All Respondents'!CW47-'All Respondents'!CW46","v":0},{"$f":"'All Respondents'!CX47-'All Respondents'!CX46","v":-2.0000000000000018E-2},{"$f":"'All Respondents'!CY47-'All Respondents'!CY46","v":2.0000000000000004E-2},{"$f":"'All Respondents'!CZ47-'All Respondents'!CZ46","v":0},{"$f":"'All Respondents'!DA47-'All Respondents'!DA46","v":0.01},{"$f":"'All Respondents'!DB47-'All Respondents'!DB46","v":0},{"$f":"'All Respondents'!DC47-'All Respondents'!DC46","v":-1.0000000000000009E-2},{"$f":"'All Respondents'!DD47-'All Respondents'!DD46","v":0.06},{"$f":"'All Respondents'!DE47-'All Respondents'!DE46","v":-6.0000000000000053E-2},{"$f":"'All Respondents'!DF47-'All Respondents'!DF46","v":-3.0000000000000027E-2},{"$f":"'All Respondents'!DG47-'All Respondents'!DG46","v":-1.999999999999999E-2},{"$f":"'All Respondents'!DH47-'All Respondents'!DH46","v":-5.0000000000000044E-2},{"$f":"'All Respondents'!DI47-'All Respondents'!DI46","v":3.999999999999998E-2},{"$f":"'All Respondents'!DJ47-'All Respondents'!DJ46","v":1.0000000000000009E-2},{"$f":"'All Respondents'!DK47-'All Respondents'!DK46","v":2.0000000000000004E-2},{"$f":"'All Respondents'!DL47-'All Respondents'!DL46","v":-1.0000000000000002E-2}]
["Feb 14-Mar 14",{"$f":"'All Respondents'!B48-'All Respondents'!B47","v":2.7000000000000028},{"$f":"'All Respondents'!D48-'All Respondents'!D47","v":3},{"$f":"'All Respondents'!E48-'All Respondents'!E47","v":-2.0000000000000018E-2},{"$f":"'All Respondents'!F48-'All Respondents'!F47","v":-2.0000000000000004E-2},{"$f":"'All Respondents'!G48-'All Respondents'!G47","v":3.999999999999998E-2},{"$f":"'All Respondents'!H48-'All Respondents'!H47","v":0},{"$f":"'All Respondents'!I48-'All Respondents'!I47","v":-3.9099999999999996E-2},{"$f":"'All Respondents'!J48-'All Respondents'!J47","v":-5.6000000000000077E-3},{"$f":"'All Respondents'!K48-'All Respondents'!K47","v":-4.6369999999999988E-3},{"$f":"'All Respondents'!L48-'All Respondents'!L47","v":-2.0000000000000018E-2},{"$f":"'All Respondents'!M48-'All Respondents'!M47","v":-1.0000000000000002E-2},{"$f":"'All Respondents'!N48-'All Respondents'!N47","v":4.9999999999999989E-2},{"$f":"'All Respondents'!O48-'All Respondents'!O47","v":1.0000000000000009E-2},null,{"$f":"'All Respondents'!Q48-'All Respondents'!Q47","v":-9.9999999999995925E-5},{"$f":"'All Respondents'!R48-'All Respondents'!R47","v":1.999999999999999E-2},{"$f":"'All Respondents'!S48-'All Respondents'!S47","v":-1.0000000000000009E-2},{"$f":"'All Respondents'!T48-'All Respondents'!T47","v":9.9999999999998979E-3},{"$f":"'All Respondents'!U48-'All Respondents'!U47","v":1.999999999999999E-2},{"$f":"'All Respondents'!V48-'All Respondents'!V47","v":-0.03},{"$f":"'All Respondents'!W48-'All Respondents'!W47","v":-1.0000000000000009E-2},{"$f":"'All Respondents'!X48-'All Respondents'!X47","v":1.9999999999999907E-2},{"$f":"'All Respondents'!Y48-'All Respondents'!Y47","v":-2.9999999999999971E-2},{"$f":"'All Respondents'!Z48-'All Respondents'!Z47","v":2.9999999999999971E-2},{"$f":"'All Respondents'!AA48-'All Respondents'!AA47","v":-2.0000000000000018E-2},{"$f":"'All Respondents'!AB48-'All Respondents'!AB47","v":-0.03},{"$f":"'All Respondents'!AC48-'All Respondents'!AC47","v":0.03},{"$f":"'All Respondents'!AD48-'All Respondents'!AD47","v":-4.9999999999999989E-2},{"$f":"'All Respondents'!AE48-'All Respondents'!AE47","v":7.0000000000000007E-2},{"$f":"'All Respondents'!AF48-'All Respondents'!AF47","v":0},{"$f":"'All Respondents'!AG48-'All Respondents'!AG47","v":9.999999999999995E-3},{"$f":"'All Respondents'!AH48-'All Respondents'!AH47","v":0},{"$f":"'All Respondents'!AI48-'All Respondents'!AI47","v":9.999999999999995E-3},{"$f":"'All Respondents'!AJ48-'All Respondents'!AJ47","v":2.9999999999999971E-2},{"$f":"'All Respondents'!AK48-'All Respondents'!AK47","v":3.999999999999998E-2},{"$f":"'All Respondents'!AL48-'All Respondents'!AL47","v":1.9999999999999962E-2},{"$f":"'All Respondents'!AM48-'All Respondents'!AM47","v":-4.0000000000000008E-2},{"$f":"'All Respondents'!AN48-'All Respondents'!AN47","v":-2.0000000000000129E-2},{"$f":"'All Respondents'!AO48-'All Respondents'!AO47","v":6.0000000000000109E-2},{"$f":"'All Respondents'!AP48-'All Respondents'!AP47","v":-0.03},{"$f":"'All Respondents'!AQ48-'All Respondents'!AQ47","v":5.0000000000000044E-2},{"$f":"'All Respondents'!AR48-'All Respondents'!AR47","v":-0.03},{"$f":"'All Respondents'!AS48-'All Respondents'!AS47","v":0},{"$f":"'All Respondents'!AT48-'All Respondents'!AT47","v":1.999999999999999E-2},{"$f":"'All Respondents'!AU48-'All Respondents'!AU47","v":3.999999999999998E-2},{"$f":"'All Respondents'!AV48-'All Respondents'!AV47","v":9.999999999999995E-3},{"$f":"'All Respondents'!AW48-'All Respondents'!AW47","v":-0.03},{"$f":"'All Respondents'!AX48-'All Respondents'!AX47","v":1.0000000000000009E-2},{"$f":"'All Respondents'!AY48-'All Respondents'!AY47","v":-2.0000000000000018E-2},{"$f":"'All Respondents'!AZ48-'All Respondents'!AZ47","v":1.0000000000000009E-2},{"$f":"'All Respondents'!BA48-'All Respondents'!BA47","v":0.02},{"$f":"'All Respondents'!BB48-'All Respondents'!BB47","v":-1.0000000000000009E-2},{"$f":"'All Respondents'!BC48-'All Respondents'!BC47","v":-9.9999999999999534E-3},{"$f":"'All Respondents'!BD48-'All Respondents'!BD47","v":-1.6980000000000051E-3},{"$f":"'All Respondents'!BE48-'All Respondents'!BE47","v":2.0000000000000018E-2},{"$f":"'All Respondents'!BF48-'All Respondents'!BF47","v":-1.9999999999999962E-2},{"$f":"'All Respondents'!BG48-'All Respondents'!BG47","v":3.999999999999998E-2},{"$f":"'All Respondents'!BH48-'All Respondents'!BH47","v":-1.9999999999999962E-2},{"$f":"'All Respondents'!BI48-'All Respondents'!BI47","v":1.0000000000000009E-2},{"$f":"'All Respondents'!BJ48-'All Respondents'!BJ47","v":-2.9999999999999971E-2},{"$f":"'All Respondents'!BK48-'All Respondents'!BK47","v":-9.9999999999999811E-3},{"$f":"'All Respondents'!BL48-'All Respondents'!BL47","v":0},{"$f":"'All Respondents'!BM48-'All Respondents'!BM47","v":-1.0000000000000009E-2},{"$f":"'All Respondents'!BN48-'All Respondents'!BN47","v":4.0000000000000036E-2},{"$f":"'All Respondents'!BO48-'All Respondents'!BO47","v":-2.0000000000000004E-2},{"$f":"'All Respondents'!BP48-'All Respondents'!BP47","v":-1.0000000000000002E-2},{"$f":"'All Respondents'!BQ48-'All Respondents'!BQ47","v":-3.0000000000000027E-2},{"$f":"'All Respondents'!BR48-'All Respondents'!BR47","v":2.0000000000000018E-2},{"$f":"'All Respondents'!BS48-'All Respondents'!BS47","v":-0.03},{"$f":"'All Respondents'!BT48-'All Respondents'!BT47","v":-1.999999999999999E-2},{"$f":"'All Respondents'!BU48-'All Respondents'!BU47","v":4.0000000000000036E-2},{"$f":"'All Respondents'!BV48-'All Respondents'!BV47","v":-1.0000000000000009E-2},{"$f":"'All Respondents'!BW48-'All Respondents'!BW47","v":-5.0000000000000044E-2},{"$f":"'All Respondents'!BX48-'All Respondents'!BX47","v":7.0000000000000007E-2},{"$f":"'All Respondents'!BY48-'All Respondents'!BY47","v":0.12000000000000005},{"$f":"'All Respondents'!BZ48-'All Respondents'!BZ47","v":-4.9999999999999989E-2},{"$f":"'All Respondents'!CA48-'All Respondents'!CA47","v":3.9999999999999994E-2},{"$f":"'All Respondents'!CB48-'All Respondents'!CB47","v":-1.0000000000000009E-2},{"$f":"'All Respondents'!CC48-'All Respondents'!CC47","v":1.9999999999999907E-2},{"$f":"'All Respondents'!CD48-'All Respondents'!CD47","v":-0.03},{"$f":"'All Respondents'!CE48-'All Respondents'!CE47","v":1.999999999999999E-2},{"$f":"'All Respondents'!CF48-'All Respondents'!CF47","v":2.9999999999999971E-2},{"$f":"'All Respondents'!CG48-'All Respondents'!CG47","v":-0.03},{"$f":"'All Respondents'!CH48-'All Respondents'!CH47","v":-9.999999999999995E-3},{"$f":"'All Respondents'!CI48-'All Respondents'!CI47","v":-4.9999999999999989E-2},{"$f":"'All Respondents'!CJ48-'All Respondents'!CJ47","v":0.10999999999999999},{"$f":"'All Respondents'!CK48-'All Respondents'!CK47","v":-0.05},{"$f":"'All Respondents'!CL48-'All Respondents'!CL47","v":1.0000000000000009E-2},{"$f":"'All Respondents'!CM48-'All Respondents'!CM47","v":-4.0000000000000008E-2},{"$f":"'All Respondents'!CN48-'All Respondents'!CN47","v":4.0000000000000036E-2},{"$f":"'All Respondents'!CO48-'All Respondents'!CO47","v":-5.0000000000000017E-2},{"$f":"'All Respondents'!CP48-'All Respondents'!CP47","v":8.9999999999999969E-2},{"$f":"'All Respondents'!CQ48-'All Respondents'!CQ47","v":8.0000000000000071E-2},{"$f":"'All Respondents'!CR48-'All Respondents'!CR47","v":-2.0000000000000018E-2},{"$f":"'All Respondents'!CS48-'All Respondents'!CS47","v":3.0000000000000013E-2},{"$f":"'All Respondents'!CT48-'All Respondents'!CT47","v":0},{"$f":"'All Respondents'!CU48-'All Respondents'!CU47","v":-1.0000000000000009E-2},{"$f":"'All Respondents'!CV48-'All Respondents'!CV47","v":1.999999999999999E-2},{"$f":"'All Respondents'!CW48-'All Respondents'!CW47","v":2.0000000000000018E-2},{"$f":"'All Respondents'!CX48-'All Respondents'!CX47","v":-1.999999999999999E-2},{"$f":"'All Respondents'!CY48-'All Respondents'!CY47","v":0},{"$f":"'All Respondents'!CZ48-'All Respondents'!CZ47","v":0},{"$f":"'All Respondents'!DA48-'All Respondents'!DA47","v":-0.01},{"$f":"'All Respondents'!DB48-'All Respondents'!DB47","v":9.9999999999999811E-3},{"$f":"'All Respondents'!DC48-'All Respondents'!DC47","v":0},{"$f":"'All Respondents'!DD48-'All Respondents'!DD47","v":-0.03},{"$f":"'All Respondents'!DE48-'All Respondents'!DE47","v":2.0000000000000018E-2},{"$f":"'All Respondents'!DF48-'All Respondents'!DF47","v":0},{"$f":"'All Respondents'!DG48-'All Respondents'!DG47","v":4.9999999999999989E-2},{"$f":"'All Respondents'!DH48-'All Respondents'!DH47","v":5.0000000000000044E-2},{"$f":"'All Respondents'!DI48-'All Respondents'!DI47","v":1.0000000000000009E-2},{"$f":"'All Respondents'!DJ48-'All Respondents'!DJ47","v":-5.0000000000000017E-2},{"$f":"'All Respondents'!DK48-'All Respondents'!DK47","v":-4.0000000000000008E-2},{"$f":"'All Respondents'!DL48-'All Respondents'!DL47","v":-1.0000000000000002E-2}]
["Mar 14-Apr 14",{"$f":"'All Respondents'!B49-'All Respondents'!B48","v":5},{"$f":"'All Respondents'!D49-'All Respondents'!D48","v":4.7999999999999972},{"$f":"'All Respondents'!E49-'All Respondents'!E48","v":2.0000000000000018E-2},{"$f":"'All Respondents'!F49-'All Respondents'!F48","v":0},{"$f":"'All Respondents'!G49-'All Respondents'!G48","v":-2.9999999999999971E-2},{"$f":"'All Respondents'!H49-'All Respondents'!H48","v":2.0000000000000018E-2},{"$f":"'All Respondents'!I49-'All Respondents'!I48","v":1.2199999999999989E-2},{"$f":"'All Respondents'!J49-'All Respondents'!J48","v":1.0000000000000286E-4},{"$f":"'All Respondents'!K49-'All Respondents'!K48","v":2.0340000000000011E-3},{"$f":"'All Respondents'!L49-'All Respondents'!L48","v":-2.0000000000000018E-2},{"$f":"'All Respondents'!M49-'All Respondents'!M48","v":4.0000000000000008E-2},{"$f":"'All Respondents'!N49-'All Respondents'!N48","v":0},{"$f":"'All Respondents'!O49-'All Respondents'!O48","v":0.06},null,{"$f":"'All Respondents'!Q49-'All Respondents'!Q48","v":-4.0000000000000452E-4},{"$f":"'All Respondents'!R49-'All Respondents'!R48","v":-1.0000000000000009E-2},{"$f":"'All Respondents'!S49-'All Respondents'!S48","v":1.0000000000000009E-2},{"$f":"'All Respondents'!T49-'All Respondents'!T48","v":0},{"$f":"'All Respondents'!U49-'All Respondents'!U48","v":0},{"$f":"'All Respondents'!V49-'All Respondents'!V48","v":0},{"$f":"'All Respondents'!W49-'All Respondents'!W48","v":0},{"$f":"'All Respondents'!X49-'All Respondents'!X48","v":0},{"$f":"'All Respondents'!Y49-'All Respondents'!Y48","v":-0.03},{"$f":"'All Respondents'!Z49-'All Respondents'!Z48","v":-1.9999999999999962E-2},{"$f":"'All Respondents'!AA49-'All Respondents'!AA48","v":5.0000000000000017E-2},{"$f":"'All Respondents'!AB49-'All Respondents'!AB48","v":0.01},{"$f":"'All Respondents'!AC49-'All Respondents'!AC48","v":-1.0000000000000009E-2},{"$f":"'All Respondents'!AD49-'All Respondents'!AD48","v":1.999999999999999E-2},{"$f":"'All Respondents'!AE49-'All Respondents'!AE48","v":-1.0000000000000009E-2},{"$f":"'All Respondents'!AF49-'All Respondents'!AF48","v":-9.9999999999999985E-3},{"$f":"'All Respondents'!AG49-'All Respondents'!AG48","v":8.0000000000000016E-2},{"$f":"'All Respondents'!AH49-'All Respondents'!AH48","v":-9.0000000000000024E-2},{"$f":"'All Respondents'!AI49-'All Respondents'!AI48","v":-2.0000000000000004E-2},{"$f":"'All Respondents'!AJ49-'All Respondents'!AJ48","v":0.06},{"$f":"'All Respondents'!AK49-'All Respondents'!AK48","v":3.999999999999998E-2},{"$f":"'All Respondents'!AL49-'All Respondents'!AL48","v":-4.9999999999999989E-2},{"$f":"'All Respondents'!AM49-'All Respondents'!AM48","v":-9.9999999999999811E-3},{"$f":"'All Respondents'!AN49-'All Respondents'!AN48","v":-5.9999999999999942E-2},{"$f":"'All Respondents'!AO49-'All Respondents'!AO48","v":9.9999999999999922E-2},{"$f":"'All Respondents'!AP49-'All Respondents'!AP48","v":1.0000000000000009E-2},{"$f":"'All Respondents'!AQ49-'All Respondents'!AQ48","v":0},{"$f":"'All Respondents'!AR49-'All Respondents'!AR48","v":0},{"$f":"'All Respondents'!AS49-'All Respondents'!AS48","v":9.999999999999995E-3},{"$f":"'All Respondents'!AT49-'All Respondents'!AT48","v":-1.999999999999999E-2},{"$f":"'All Respondents'!AU49-'All Respondents'!AU48","v":-8.0000000000000016E-2},{"$f":"'All Respondents'!AV49-'All Respondents'!AV48","v":-9.999999999999995E-3},{"$f":"'All Respondents'!AW49-'All Respondents'!AW48","v":0.06},{"$f":"'All Respondents'!AX49-'All Respondents'!AX48","v":-4.0000000000000008E-2},{"$f":"'All Respondents'!AY49-'All Respondents'!AY48","v":3.0000000000000027E-2},{"$f":"'All Respondents'!AZ49-'All Respondents'!AZ48","v":0},{"$f":"'All Respondents'!BA49-'All Respondents'!BA48","v":-0.02},{"$f":"'All Respondents'!BB49-'All Respondents'!BB48","v":2.0000000000000018E-2},{"$f":"'All Respondents'!BC49-'All Respondents'!BC48","v":1.9999999999999962E-2},{"$f":"'All Respondents'!BD49-'All Respondents'!BD48","v":-1.5960000000000002E-3},{"$f":"'All Respondents'!BE49-'All Respondents'!BE48","v":-3.0000000000000027E-2},{"$f":"'All Respondents'!BF49-'All Respondents'!BF48","v":3.999999999999998E-2},{"$f":"'All Respondents'!BG49-'All Respondents'!BG48","v":-7.0000000000000007E-2},{"$f":"'All Respondents'!BH49-'All Respondents'!BH48","v":1.9999999999999962E-2},{"$f":"'All Respondents'!BI49-'All Respondents'!BI48","v":-1.0000000000000009E-2},{"$f":"'All Respondents'!BJ49-'All Respondents'!BJ48","v":2.9999999999999971E-2},{"$f":"'All Respondents'!BK49-'All Respondents'!BK48","v":0},{"$f":"'All Respondents'!BL49-'All Respondents'!BL48","v":1.9999999999999962E-2},{"$f":"'All Respondents'!BM49-'All Respondents'!BM48","v":1.9999999999999962E-2},{"$f":"'All Respondents'!BN49-'All Respondents'!BN48","v":-4.0000000000000036E-2},{"$f":"'All Respondents'!BO49-'All Respondents'!BO48","v":2.0000000000000004E-2},{"$f":"'All Respondents'!BP49-'All Respondents'!BP48","v":0},{"$f":"'All Respondents'!BQ49-'All Respondents'!BQ48","v":2.0000000000000018E-2},{"$f":"'All Respondents'!BR49-'All Respondents'!BR48","v":0},{"$f":"'All Respondents'!BS49-'All Respondents'!BS48","v":4.0000000000000008E-2},{"$f":"'All Respondents'!BT49-'All Respondents'!BT48","v":-2.0000000000000018E-2},{"$f":"'All Respondents'!BU49-'All Respondents'!BU48","v":-1.0000000000000009E-2},{"$f":"'All Respondents'!BV49-'All Respondents'!BV48","v":6.0000000000000026E-2},{"$f":"'All Respondents'!BW49-'All Respondents'!BW48","v":5.0000000000000044E-2},{"$f":"'All Respondents'!BX49-'All Respondents'!BX48","v":-7.0000000000000007E-2},{"$f":"'All Respondents'!BY49-'All Respondents'!BY48","v":-0.12000000000000005},{"$f":"'All Respondents'!BZ49-'All Respondents'!BZ48","v":-4.0000000000000008E-2},{"$f":"'All Respondents'!CA49-'All Respondents'!CA48","v":2.0000000000000018E-2},{"$f":"'All Respondents'!CB49-'All Respondents'!CB48","v":-1.999999999999999E-2},{"$f":"'All Respondents'!CC49-'All Respondents'!CC48","v":1.0000000000000009E-2},{"$f":"'All Respondents'!CD49-'All Respondents'!CD48","v":0.03},{"$f":"'All Respondents'!CE49-'All Respondents'!CE48","v":-1.0000000000000009E-2},{"$f":"'All Respondents'!CF49-'All Respondents'!CF48","v":-1.0000000000000009E-2},{"$f":"'All Respondents'!CG49-'All Respondents'!CG48","v":9.999999999999995E-3},{"$f":"'All Respondents'!CH49-'All Respondents'!CH48","v":-2.0000000000000004E-2},{"$f":"'All Respondents'!CI49-'All Respondents'!CI48","v":4.0000000000000008E-2},{"$f":"'All Respondents'!CJ49-'All Respondents'!CJ48","v":-3.9999999999999925E-2},{"$f":"'All Respondents'!CK49-'All Respondents'!CK48","v":9.999999999999995E-3},{"$f":"'All Respondents'!CL49-'All Respondents'!CL48","v":-4.0000000000000008E-2},{"$f":"'All Respondents'!CM49-'All Respondents'!CM48","v":-0.03},{"$f":"'All Respondents'!CN49-'All Respondents'!CN48","v":2.9999999999999916E-2},{"$f":"'All Respondents'!CO49-'All Respondents'!CO48","v":5.0000000000000017E-2},{"$f":"'All Respondents'!CP49-'All Respondents'!CP48","v":-2.0000000000000018E-2},{"$f":"'All Respondents'!CQ49-'All Respondents'!CQ48","v":5.9999999999999831E-2},{"$f":"'All Respondents'!CR49-'All Respondents'!CR48","v":-3.999999999999998E-2},{"$f":"'All Respondents'!CS49-'All Respondents'!CS48","v":-1.0000000000000009E-2},{"$f":"'All Respondents'!CT49-'All Respondents'!CT48","v":-1.0000000000000009E-2},{"$f":"'All Respondents'!CU49-'All Respondents'!CU48","v":0.03},{"$f":"'All Respondents'!CV49-'All Respondents'!CV48","v":2.0000000000000018E-2},{"$f":"'All Respondents'!CW49-'All Respondents'!CW48","v":-2.0000000000000018E-2},{"$f":"'All Respondents'!CX49-'All Respondents'!CX48","v":1.0000000000000009E-2},{"$f":"'All Respondents'!CY49-'All Respondents'!CY48","v":0},{"$f":"'All Respondents'!CZ49-'All Respondents'!CZ48","v":0},{"$f":"'All Respondents'!DA49-'All Respondents'!DA48","v":0},{"$f":"'All Respondents'!DB49-'All Respondents'!DB48","v":-3.9999999999999994E-2},{"$f":"'All Respondents'!DC49-'All Respondents'!DC48","v":2.0000000000000018E-2},{"$f":"'All Respondents'!DD49-'All Respondents'!DD48","v":1.0000000000000009E-2},{"$f":"'All Respondents'!DE49-'All Respondents'!DE48","v":-1.0000000000000009E-2},{"$f":"'All Respondents'!DF49-'All Respondents'!DF48","v":-2.9999999999999971E-2},{"$f":"'All Respondents'!DG49-'All Respondents'!DG48","v":0},{"$f":"'All Respondents'!DH49-'All Respondents'!DH48","v":-3.0000000000000027E-2},{"$f":"'All Respondents'!DI49-'All Respondents'!DI48","v":-1.0000000000000009E-2},{"$f":"'All Respondents'!DJ49-'All Respondents'!DJ48","v":0.03},{"$f":"'All Respondents'!DK49-'All Respondents'!DK48","v":0},{"$f":"'All Respondents'!DL49-'All Respondents'!DL48","v":0.03}]
["Apr 14-May 14",{"$f":"'All Respondents'!B50-'All Respondents'!B49","v":-1.2000000000000028},{"$f":"'All Respondents'!D50-'All Respondents'!D49","v":-1.5999999999999943},{"$f":"'All Respondents'!E50-'All Respondents'!E49","v":-2.0000000000000018E-2},{"$f":"'All Respondents'!F50-'All Respondents'!F49","v":2.0000000000000004E-2},{"$f":"'All Respondents'!G50-'All Respondents'!G49","v":0},{"$f":"'All Respondents'!H50-'All Respondents'!H49","v":-4.0000000000000036E-2},{"$f":"'All Respondents'!I50-'All Respondents'!I49","v":1.8600000000000005E-2},{"$f":"'All Respondents'!J50-'All Respondents'!J49","v":3.0000000000000027E-3},{"$f":"'All Respondents'!K50-'All Respondents'!K49","v":-6.6400000000000486E-4},{"$f":"'All Respondents'!L50-'All Respondents'!L49","v":-3.0000000000000027E-2},{"$f":"'All Respondents'!M50-'All Respondents'!M49","v":-2.0000000000000004E-2},{"$f":"'All Respondents'!N50-'All Respondents'!N49","v":0},{"$f":"'All Respondents'!O50-'All Respondents'!O49","v":1.0000000000000009E-2},null,{"$f":"'All Respondents'!Q50-'All Respondents'!Q49","v":1.3000000000000025E-3},{"$f":"'All Respondents'!R50-'All Respondents'!R49","v":0},{"$f":"'All Respondents'!S50-'All Respondents'!S49","v":-1.0000000000000009E-2},{"$f":"'All Respondents'!T50-'All Respondents'!T49","v":-1.0000000000000009E-2},{"$f":"'All Respondents'!U50-'All Respondents'!U49","v":-1.999999999999999E-2},{"$f":"'All Respondents'!V50-'All Respondents'!V49","v":1.999999999999999E-2},{"$f":"'All Respondents'!W50-'All Respondents'!W49","v":0},{"$f":"'All Respondents'!X50-'All Respondents'!X49","v":-1.0000000000000009E-2},{"$f":"'All Respondents'!Y50-'All Respondents'!Y49","v":-2.0000000000000018E-2},{"$f":"'All Respondents'!Z50-'All Respondents'!Z49","v":1.9999999999999962E-2},{"$f":"'All Respondents'!AA50-'All Respondents'!AA49","v":0},{"$f":"'All Respondents'!AB50-'All Respondents'!AB49","v":0.02},{"$f":"'All Respondents'!AC50-'All Respondents'!AC49","v":-0.03},{"$f":"'All Respondents'!AD50-'All Respondents'!AD49","v":4.9999999999999989E-2},{"$f":"'All Respondents'!AE50-'All Respondents'!AE49","v":-4.9999999999999996E-2},{"$f":"'All Respondents'!AF50-'All Respondents'!AF49","v":9.9999999999999985E-3},{"$f":"'All Respondents'!AG50-'All Respondents'!AG49","v":-7.0000000000000007E-2},{"$f":"'All Respondents'!AH50-'All Respondents'!AH49","v":3.999999999999998E-2},{"$f":"'All Respondents'!AI50-'All Respondents'!AI49","v":2.0000000000000004E-2},{"$f":"'All Respondents'!AJ50-'All Respondents'!AJ49","v":-1.0000000000000009E-2},{"$f":"'All Respondents'!AK50-'All Respondents'!AK49","v":1.0000000000000009E-2},{"$f":"'All Respondents'!AL50-'All Respondents'!AL49","v":-3.999999999999998E-2},{"$f":"'All Respondents'!AM50-'All Respondents'!AM49","v":1.999999999999999E-2},{"$f":"'All Respondents'!AN50-'All Respondents'!AN49","v":-2.0000000000000018E-2},{"$f":"'All Respondents'!AO50-'All Respondents'!AO49","v":3.0000000000000027E-2},{"$f":"'All Respondents'!AP50-'All Respondents'!AP49","v":-1.999999999999999E-2},{"$f":"'All Respondents'!AQ50-'All Respondents'!AQ49","v":-4.0000000000000036E-2},{"$f":"'All Respondents'!AR50-'All Respondents'!AR49","v":-1.0000000000000009E-2},{"$f":"'All Respondents'!AS50-'All Respondents'!AS49","v":0.03},{"$f":"'All Respondents'!AT50-'All Respondents'!AT49","v":9.9999999999999811E-3},{"$f":"'All Respondents'!AU50-'All Respondents'!AU49","v":-1.999999999999999E-2},{"$f":"'All Respondents'!AV50-'All Respondents'!AV49","v":0},{"$f":"'All Respondents'!AW50-'All Respondents'!AW49","v":0},{"$f":"'All Respondents'!AX50-'All Respondents'!AX49","v":9.999999999999995E-3},{"$f":"'All Respondents'!AY50-'All Respondents'!AY49","v":0},{"$f":"'All Respondents'!AZ50-'All Respondents'!AZ49","v":-1.0000000000000009E-2},{"$f":"'All Respondents'!BA50-'All Respondents'!BA49","v":9.9999999999999985E-3},{"$f":"'All Respondents'!BB50-'All Respondents'!BB49","v":-3.999999999999998E-2},{"$f":"'All Respondents'!BC50-'All Respondents'!BC49","v":-2.0000000000000018E-2},{"$f":"'All Respondents'!BD50-'All Respondents'!BD49","v":-1.1660000000000004E-3},{"$f":"'All Respondents'!BE50-'All Respondents'!BE49","v":1.0000000000000009E-2},{"$f":"'All Respondents'!BF50-'All Respondents'!BF49","v":-3.0000000000000027E-2},{"$f":"'All Respondents'!BG50-'All Respondents'!BG49","v":4.0000000000000036E-2},{"$f":"'All Respondents'!BH50-'All Respondents'!BH49","v":3.0000000000000027E-2},{"$f":"'All Respondents'!BI50-'All Respondents'!BI49","v":0},{"$f":"'All Respondents'!BJ50-'All Respondents'!BJ49","v":3.0000000000000027E-2},{"$f":"'All Respondents'!BK50-'All Respondents'!BK49","v":-1.0000000000000009E-2},{"$f":"'All Respondents'!BL50-'All Respondents'!BL49","v":-1.0000000000000009E-2},{"$f":"'All Respondents'!BM50-'All Respondents'!BM49","v":-2.0000000000000018E-2},{"$f":"'All Respondents'!BN50-'All Respondents'!BN49","v":2.0000000000000018E-2},{"$f":"'All Respondents'!BO50-'All Respondents'!BO49","v":0},{"$f":"'All Respondents'!BP50-'All Respondents'!BP49","v":0},{"$f":"'All Respondents'!BQ50-'All Respondents'!BQ49","v":0},{"$f":"'All Respondents'!BR50-'All Respondents'!BR49","v":-2.0000000000000018E-2},{"$f":"'All Respondents'!BS50-'All Respondents'!BS49","v":-4.0000000000000008E-2},{"$f":"'All Respondents'!BT50-'All Respondents'!BT49","v":0},{"$f":"'All Respondents'!BU50-'All Respondents'!BU49","v":3.0000000000000027E-2},{"$f":"'All Respondents'!BV50-'All Respondents'!BV49","v":-4.0000000000000008E-2},{"$f":"'All Respondents'!BW50-'All Respondents'!BW49","v":-5.0000000000000044E-2},{"$f":"'All Respondents'!BX50-'All Respondents'!BX49","v":3.999999999999998E-2},{"$f":"'All Respondents'!BY50-'All Respondents'!BY49","v":9.0000000000000024E-2},{"$f":"'All Respondents'!BZ50-'All Respondents'!BZ49","v":0.06},{"$f":"'All Respondents'!CA50-'All Respondents'!CA49","v":-6.0000000000000012E-2},{"$f":"'All Respondents'!CB50-'All Respondents'!CB49","v":0},{"$f":"'All Respondents'!CC50-'All Respondents'!CC49","v":-2.0000000000000018E-2},{"$f":"'All Respondents'!CD50-'All Respondents'!CD49","v":-2.0000000000000018E-2},{"$f":"'All Respondents'!CE50-'All Respondents'!CE49","v":1.0000000000000009E-2},{"$f":"'All Respondents'!CF50-'All Respondents'!CF49","v":-9.9999999999999534E-3},{"$f":"'All Respondents'!CG50-'All Respondents'!CG49","v":-9.999999999999995E-3},{"$f":"'All Respondents'!CH50-'All Respondents'!CH49","v":9.999999999999995E-3},{"$f":"'All Respondents'!CI50-'All Respondents'!CI49","v":1.999999999999999E-2},{"$f":"'All Respondents'!CJ50-'All Respondents'!CJ49","v":-3.0000000000000027E-2},{"$f":"'All Respondents'!CK50-'All Respondents'!CK49","v":0},{"$f":"'All Respondents'!CL50-'All Respondents'!CL49","v":9.999999999999995E-3},{"$f":"'All Respondents'!CM50-'All Respondents'!CM49","v":9.9999999999999811E-3},{"$f":"'All Respondents'!CN50-'All Respondents'!CN49","v":-1.0000000000000009E-2},{"$f":"'All Respondents'!CO50-'All Respondents'!CO49","v":0.03},{"$f":"'All Respondents'!CP50-'All Respondents'!CP49","v":-4.0000000000000036E-2},{"$f":"'All Respondents'!CQ50-'All Respondents'!CQ49","v":-2.0000000000000018E-2},{"$f":"'All Respondents'!CR50-'All Respondents'!CR49","v":3.999999999999998E-2},{"$f":"'All Respondents'!CS50-'All Respondents'!CS49","v":-4.0000000000000008E-2},{"$f":"'All Respondents'!CT50-'All Respondents'!CT49","v":0.03},{"$f":"'All Respondents'!CU50-'All Respondents'!CU49","v":-1.999999999999999E-2},{"$f":"'All Respondents'!CV50-'All Respondents'!CV49","v":-1.0000000000000009E-2},{"$f":"'All Respondents'!CW50-'All Respondents'!CW49","v":-2.0000000000000018E-2},{"$f":"'All Respondents'!CX50-'All Respondents'!CX49","v":9.9999999999999811E-3},{"$f":"'All Respondents'!CY50-'All Respondents'!CY49","v":0},{"$f":"'All Respondents'!CZ50-'All Respondents'!CZ49","v":0},{"$f":"'All Respondents'!DA50-'All Respondents'!DA49","v":0.01},{"$f":"'All Respondents'!DB50-'All Respondents'!DB49","v":3.0000000000000013E-2},{"$f":"'All Respondents'!DC50-'All Respondents'!DC49","v":-1.0000000000000009E-2},{"$f":"'All Respondents'!DD50-'All Respondents'!DD49","v":-2.0000000000000018E-2},{"$f":"'All Respondents'!DE50-'All Respondents'!DE49","v":3.0000000000000027E-2},{"$f":"'All Respondents'!DF50-'All Respondents'!DF49","v":1.0000000000000009E-2},{"$f":"'All Respondents'!DG50-'All Respondents'!DG49","v":2.0000000000000018E-2},{"$f":"'All Respondents'!DH50-'All Respondents'!DH49","v":3.0000000000000027E-2},{"$f":"'All Respondents'!DI50-'All Respondents'!DI49","v":-3.999999999999998E-2},{"$f":"'All Respondents'!DJ50-'All Respondents'!DJ49","v":0},{"$f":"'All Respondents'!DK50-'All Respondents'!DK49","v":-9.999999999999995E-3},{"$f":"'All Respondents'!DL50-'All Respondents'!DL49","v":1.0000000000000009E-2}]
["May 14-Jun 14",{"$f":"'All Respondents'!B51-'All Respondents'!B50","v":-1.7000000000000028},{"$f":"'All Respondents'!D51-'All Respondents'!D50","v":-0.60000000000000853},{"$f":"'All Respondents'!E51-'All Respondents'!E50","v":-1.9999999999999962E-2},{"$f":"'All Respondents'!F51-'All Respondents'!F50","v":0.03},{"$f":"'All Respondents'!G51-'All Respondents'!G50","v":1.9999999999999962E-2},{"$f":"'All Respondents'!H51-'All Respondents'!H50","v":-4.9999999999999989E-2},{"$f":"'All Respondents'!I51-'All Respondents'!I50","v":2.1000000000000046E-3},{"$f":"'All Respondents'!J51-'All Respondents'!J50","v":-1.799999999999996E-3},{"$f":"'All Respondents'!K51-'All Respondents'!K50","v":-4.5409999999999964E-3},{"$f":"'All Respondents'!L51-'All Respondents'!L50","v":6.0000000000000053E-2},{"$f":"'All Respondents'!M51-'All Respondents'!M50","v":-1.0000000000000002E-2},{"$f":"'All Respondents'!N51-'All Respondents'!N50","v":-3.0000000000000027E-2},{"$f":"'All Respondents'!O51-'All Respondents'!O50","v":-7.0000000000000007E-2},null,{"$f":"'All Respondents'!Q51-'All Respondents'!Q50","v":-2.2000000000000006E-3},{"$f":"'All Respondents'!R51-'All Respondents'!R50","v":-9.9999999999999811E-3},{"$f":"'All Respondents'!S51-'All Respondents'!S50","v":3.0000000000000027E-2},{"$f":"'All Respondents'!T51-'All Respondents'!T50","v":2.0000000000000129E-2},{"$f":"'All Respondents'!U51-'All Respondents'!U50","v":9.9999999999999811E-3},{"$f":"'All Respondents'!V51-'All Respondents'!V50","v":-1.999999999999999E-2},{"$f":"'All Respondents'!W51-'All Respondents'!W50","v":-1.0000000000000009E-2},{"$f":"'All Respondents'!X51-'All Respondents'!X50","v":3.0000000000000138E-2},{"$f":"'All Respondents'!Y51-'All Respondents'!Y50","v":5.0000000000000017E-2},{"$f":"'All Respondents'!Z51-'All Respondents'!Z50","v":-3.999999999999998E-2},{"$f":"'All Respondents'!AA51-'All Respondents'!AA50","v":-1.0000000000000009E-2},{"$f":"'All Respondents'!AB51-'All Respondents'!AB50","v":0},{"$f":"'All Respondents'!AC51-'All Respondents'!AC50","v":2.0000000000000004E-2},{"$f":"'All Respondents'!AD51-'All Respondents'!AD50","v":-3.999999999999998E-2},{"$f":"'All Respondents'!AE51-'All Respondents'!AE50","v":0.12},{"$f":"'All Respondents'!AF51-'All Respondents'!AF50","v":0},{"$f":"'All Respondents'!AG51-'All Respondents'!AG50","v":0.03},{"$f":"'All Respondents'!AH51-'All Respondents'!AH50","v":-0.06},{"$f":"'All Respondents'!AI51-'All Respondents'!AI50","v":9.999999999999995E-3},{"$f":"'All Respondents'!AJ51-'All Respondents'!AJ50","v":-3.999999999999998E-2},{"$f":"'All Respondents'!AK51-'All Respondents'!AK50","v":-2.9999999999999971E-2},{"$f":"'All Respondents'!AL51-'All Respondents'!AL50","v":4.9999999999999989E-2},{"$f":"'All Respondents'!AM51-'All Respondents'!AM50","v":0},{"$f":"'All Respondents'!AN51-'All Respondents'!AN50","v":5.0000000000000044E-2},{"$f":"'All Respondents'!AO51-'All Respondents'!AO50","v":-8.0000000000000016E-2},{"$f":"'All Respondents'!AP51-'All Respondents'!AP50","v":3.999999999999998E-2},{"$f":"'All Respondents'!AQ51-'All Respondents'!AQ50","v":-3.999999999999998E-2},{"$f":"'All Respondents'!AR51-'All Respondents'!AR50","v":1.0000000000000009E-2},{"$f":"'All Respondents'!AS51-'All Respondents'!AS50","v":-1.999999999999999E-2},{"$f":"'All Respondents'!AT51-'All Respondents'!AT50","v":1.0000000000000009E-2},{"$f":"'All Respondents'!AU51-'All Respondents'!AU50","v":7.9999999999999988E-2},{"$f":"'All Respondents'!AV51-'All Respondents'!AV50","v":0},{"$f":"'All Respondents'!AW51-'All Respondents'!AW50","v":0},{"$f":"'All Respondents'!AX51-'All Respondents'!AX50","v":9.999999999999995E-3},{"$f":"'All Respondents'!AY51-'All Respondents'!AY50","v":-0.06},{"$f":"'All Respondents'!AZ51-'All Respondents'!AZ50","v":3.0000000000000027E-2},{"$f":"'All Respondents'!BA51-'All Respondents'!BA50","v":0},{"$f":"'All Respondents'!BB51-'All Respondents'!BB50","v":-1.0000000000000009E-2},{"$f":"'All Respondents'!BC51-'All Respondents'!BC50","v":3.0000000000000027E-2},{"$f":"'All Respondents'!BD51-'All Respondents'!BD50","v":4.3619999999999978E-3},{"$f":"'All Respondents'!BE51-'All Respondents'!BE50","v":2.0000000000000018E-2},{"$f":"'All Respondents'!BF51-'All Respondents'!BF50","v":-9.9999999999999534E-3},{"$f":"'All Respondents'!BG51-'All Respondents'!BG50","v":2.9999999999999971E-2},{"$f":"'All Respondents'!BH51-'All Respondents'!BH50","v":1.0000000000000009E-2},{"$f":"'All Respondents'!BI51-'All Respondents'!BI50","v":-2.9999999999999916E-2},{"$f":"'All Respondents'!BJ51-'All Respondents'!BJ50","v":3.9999999999999925E-2},{"$f":"'All Respondents'!BK51-'All Respondents'!BK50","v":0.03},{"$f":"'All Respondents'!BL51-'All Respondents'!BL50","v":-1.9999999999999962E-2},{"$f":"'All Respondents'!BM51-'All Respondents'!BM50","v":1.0000000000000064E-2},{"$f":"'All Respondents'!BN51-'All Respondents'!BN50","v":-1.0000000000000009E-2},{"$f":"'All Respondents'!BO51-'All Respondents'!BO50","v":9.999999999999995E-3},{"$f":"'All Respondents'!BP51-'All Respondents'!BP50","v":0},{"$f":"'All Respondents'!BQ51-'All Respondents'!BQ50","v":9.9999999999999811E-3},{"$f":"'All Respondents'!BR51-'All Respondents'!BR50","v":0},{"$f":"'All Respondents'!BS51-'All Respondents'!BS50","v":0.03},{"$f":"'All Respondents'!BT51-'All Respondents'!BT50","v":-9.999999999999995E-3},{"$f":"'All Respondents'!BU51-'All Respondents'!BU50","v":-1.0000000000000009E-2},{"$f":"'All Respondents'!BV51-'All Respondents'!BV50","v":4.0000000000000008E-2},{"$f":"'All Respondents'!BW51-'All Respondents'!BW50","v":-9.9999999999999534E-3},{"$f":"'All Respondents'!BX51-'All Respondents'!BX50","v":3.0000000000000027E-2},{"$f":"'All Respondents'!BY51-'All Respondents'!BY50","v":3.999999999999998E-2},{"$f":"'All Respondents'!BZ51-'All Respondents'!BZ50","v":-0.05},{"$f":"'All Respondents'!CA51-'All Respondents'!CA50","v":0.03},{"$f":"'All Respondents'!CB51-'All Respondents'!CB50","v":-1.999999999999999E-2},{"$f":"'All Respondents'!CC51-'All Respondents'!CC50","v":3.0000000000000027E-2},{"$f":"'All Respondents'!CD51-'All Respondents'!CD50","v":5.0000000000000017E-2},{"$f":"'All Respondents'!CE51-'All Respondents'!CE50","v":0.03},{"$f":"'All Respondents'!CF51-'All Respondents'!CF50","v":-5.0000000000000044E-2},{"$f":"'All Respondents'!CG51-'All Respondents'!CG50","v":0},{"$f":"'All Respondents'!CH51-'All Respondents'!CH50","v":-9.999999999999995E-3},{"$f":"'All Respondents'!CI51-'All Respondents'!CI50","v":-1.999999999999999E-2},{"$f":"'All Respondents'!CJ51-'All Respondents'!CJ50","v":4.0000000000000036E-2},{"$f":"'All Respondents'!CK51-'All Respondents'!CK50","v":-9.999999999999995E-3},{"$f":"'All Respondents'!CL51-'All Respondents'!CL50","v":-9.999999999999995E-3},{"$f":"'All Respondents'!CM51-'All Respondents'!CM50","v":-1.9999999999999962E-2},{"$f":"'All Respondents'!CN51-'All Respondents'!CN50","v":1.0000000000000009E-2},{"$f":"'All Respondents'!CO51-'All Respondents'!CO50","v":-4.0000000000000008E-2},{"$f":"'All Respondents'!CP51-'All Respondents'!CP50","v":5.0000000000000044E-2},{"$f":"'All Respondents'!CQ51-'All Respondents'!CQ50","v":3.0000000000000027E-2},{"$f":"'All Respondents'!CR51-'All Respondents'!CR50","v":3.0000000000000027E-2},{"$f":"'All Respondents'!CS51-'All Respondents'!CS50","v":0.03},{"$f":"'All Respondents'!CT51-'All Respondents'!CT50","v":-4.0000000000000008E-2},{"$f":"'All Respondents'!CU51-'All Respondents'!CU50","v":9.999999999999995E-3},{"$f":"'All Respondents'!CV51-'All Respondents'!CV50","v":0},{"$f":"'All Respondents'!CW51-'All Respondents'!CW50","v":5.0000000000000044E-2},{"$f":"'All Respondents'!CX51-'All Respondents'!CX50","v":-9.9999999999999811E-3},{"$f":"'All Respondents'!CY51-'All Respondents'!CY50","v":-3.0000000000000002E-2},{"$f":"'All Respondents'!CZ51-'All Respondents'!CZ50","v":-0.01},{"$f":"'All Respondents'!DA51-'All Respondents'!DA50","v":-0.01},{"$f":"'All Respondents'!DB51-'All Respondents'!DB50","v":-1.0000000000000009E-2},{"$f":"'All Respondents'!DC51-'All Respondents'!DC50","v":1.0000000000000009E-2},{"$f":"'All Respondents'!DD51-'All Respondents'!DD50","v":0.03},{"$f":"'All Respondents'!DE51-'All Respondents'!DE50","v":-3.0000000000000027E-2},{"$f":"'All Respondents'!DF51-'All Respondents'!DF50","v":0},{"$f":"'All Respondents'!DG51-'All Respondents'!DG50","v":-0.03},{"$f":"'All Respondents'!DH51-'All Respondents'!DH50","v":-2.9999999999999916E-2},{"$f":"'All Respondents'!DI51-'All Respondents'!DI50","v":1.999999999999999E-2},{"$f":"'All Respondents'!DJ51-'All Respondents'!DJ50","v":9.999999999999995E-3},{"$f":"'All Respondents'!DK51-'All Respondents'!DK50","v":0.03},{"$f":"'All Respondents'!DL51-'All Respondents'!DL50","v":-2.0000000000000004E-2}]
["Jun 14-Jul 14",{"$f":"'All Respondents'!B52-'All Respondents'!B51","v":-0.79999999999999716},{"$f":"'All Respondents'!D52-'All Respondents'!D51","v":-1.2000000000000028},{"$f":"'All Respondents'!E52-'All Respondents'!E51","v":-4.0000000000000036E-2},{"$f":"'All Respondents'!F52-'All Respondents'!F51","v":-2.0000000000000004E-2},{"$f":"'All Respondents'!G52-'All Respondents'!G51","v":4.0000000000000036E-2},{"$f":"'All Respondents'!H52-'All Respondents'!H51","v":-2.0000000000000018E-2},{"$f":"'All Respondents'!I52-'All Respondents'!I51","v":-2.5300000000000003E-2},{"$f":"'All Respondents'!J52-'All Respondents'!J51","v":5.5999999999999939E-3},{"$f":"'All Respondents'!K52-'All Respondents'!K51","v":-8.5600000000000259E-4},{"$f":"'All Respondents'!L52-'All Respondents'!L51","v":-1.0000000000000009E-2},{"$f":"'All Respondents'!M52-'All Respondents'!M51","v":0},{"$f":"'All Respondents'!N52-'All Respondents'!N51","v":4.0000000000000036E-2},{"$f":"'All Respondents'!O52-'All Respondents'!O51","v":1.0000000000000009E-2},null,{"$f":"'All Respondents'!Q52-'All Respondents'!Q51","v":1.800000000000003E-3},{"$f":"'All Respondents'!R52-'All Respondents'!R51","v":9.9999999999999811E-3},{"$f":"'All Respondents'!S52-'All Respondents'!S51","v":-4.0000000000000036E-2},{"$f":"'All Respondents'!T52-'All Respondents'!T51","v":-3.0000000000000138E-2},{"$f":"'All Respondents'!U52-'All Respondents'!U51","v":0},{"$f":"'All Respondents'!V52-'All Respondents'!V51","v":1.999999999999999E-2},{"$f":"'All Respondents'!W52-'All Respondents'!W51","v":2.0000000000000018E-2},{"$f":"'All Respondents'!X52-'All Respondents'!X51","v":-5.0000000000000155E-2},{"$f":"'All Respondents'!Y52-'All Respondents'!Y51","v":-2.0000000000000018E-2},{"$f":"'All Respondents'!Z52-'All Respondents'!Z51","v":3.999999999999998E-2},{"$f":"'All Respondents'!AA52-'All Respondents'!AA51","v":-1.0000000000000009E-2},{"$f":"'All Respondents'!AB52-'All Respondents'!AB51","v":-1.0000000000000002E-2},{"$f":"'All Respondents'!AC52-'All Respondents'!AC51","v":0},{"$f":"'All Respondents'!AD52-'All Respondents'!AD51","v":4.9999999999999989E-2},{"$f":"'All Respondents'!AE52-'All Respondents'!AE51","v":-0.1},{"$f":"'All Respondents'!AF52-'All Respondents'!AF51","v":0},{"$f":"'All Respondents'!AG52-'All Respondents'!AG51","v":0},{"$f":"'All Respondents'!AH52-'All Respondents'!AH51","v":3.0000000000000027E-2},{"$f":"'All Respondents'!AI52-'All Respondents'!AI51","v":0},{"$f":"'All Respondents'!AJ52-'All Respondents'!AJ51","v":3.0000000000000027E-2},{"$f":"'All Respondents'!AK52-'All Respondents'!AK51","v":3.0000000000000027E-2},{"$f":"'All Respondents'!AL52-'All Respondents'!AL51","v":-3.0000000000000027E-2},{"$f":"'All Respondents'!AM52-'All Respondents'!AM51","v":0},{"$f":"'All Respondents'!AN52-'All Respondents'!AN51","v":-3.0000000000000027E-2},{"$f":"'All Respondents'!AO52-'All Respondents'!AO51","v":6.0000000000000053E-2},{"$f":"'All Respondents'!AP52-'All Respondents'!AP51","v":0},{"$f":"'All Respondents'!AQ52-'All Respondents'!AQ51","v":7.0000000000000007E-2},{"$f":"'All Respondents'!AR52-'All Respondents'!AR51","v":0},{"$f":"'All Respondents'!AS52-'All Respondents'!AS51","v":0},{"$f":"'All Respondents'!AT52-'All Respondents'!AT51","v":-0.03},{"$f":"'All Respondents'!AU52-'All Respondents'!AU51","v":-1.0000000000000009E-2},{"$f":"'All Respondents'!AV52-'All Respondents'!AV51","v":-1.0000000000000002E-2},{"$f":"'All Respondents'!AW52-'All Respondents'!AW51","v":-2.0000000000000018E-2},{"$f":"'All Respondents'!AX52-'All Respondents'!AX51","v":0},{"$f":"'All Respondents'!AY52-'All Respondents'!AY51","v":3.999999999999998E-2},{"$f":"'All Respondents'!AZ52-'All Respondents'!AZ51","v":-3.0000000000000027E-2},{"$f":"'All Respondents'!BA52-'All Respondents'!BA51","v":0},{"$f":"'All Respondents'!BB52-'All Respondents'!BB51","v":3.999999999999998E-2},{"$f":"'All Respondents'!BC52-'All Respondents'!BC51","v":-3.0000000000000027E-2},{"$f":"'All Respondents'!BD52-'All Respondents'!BD51","v":-4.8599999999999893E-3},{"$f":"'All Respondents'!BE52-'All Respondents'!BE51","v":-1.0000000000000009E-2},{"$f":"'All Respondents'!BF52-'All Respondents'!BF51","v":9.9999999999999534E-3},{"$f":"'All Respondents'!BG52-'All Respondents'!BG51","v":-1.9999999999999962E-2},{"$f":"'All Respondents'!BH52-'All Respondents'!BH51","v":-4.0000000000000036E-2},{"$f":"'All Respondents'!BI52-'All Respondents'!BI51","v":4.9999999999999933E-2},{"$f":"'All Respondents'!BJ52-'All Respondents'!BJ51","v":-8.9999999999999969E-2},{"$f":"'All Respondents'!BK52-'All Respondents'!BK51","v":-1.0000000000000009E-2},{"$f":"'All Respondents'!BL52-'All Respondents'!BL51","v":-2.0000000000000018E-2},{"$f":"'All Respondents'!BM52-'All Respondents'!BM51","v":-3.0000000000000027E-2},{"$f":"'All Respondents'!BN52-'All Respondents'!BN51","v":1.0000000000000009E-2},{"$f":"'All Respondents'!BO52-'All Respondents'!BO51","v":-2.0000000000000004E-2},{"$f":"'All Respondents'!BP52-'All Respondents'!BP51","v":1.9999999999999997E-2},{"$f":"'All Respondents'!BQ52-'All Respondents'!BQ51","v":0},{"$f":"'All Respondents'!BR52-'All Respondents'!BR51","v":-3.0000000000000027E-2},{"$f":"'All Respondents'!BS52-'All Respondents'!BS51","v":4.0000000000000036E-2},{"$f":"'All Respondents'!BT52-'All Respondents'!BT51","v":9.999999999999995E-3},{"$f":"'All Respondents'!BU52-'All Respondents'!BU51","v":-6.0000000000000053E-2},{"$f":"'All Respondents'!BV52-'All Respondents'!BV51","v":3.0000000000000027E-2},{"$f":"'All Respondents'!BW52-'All Respondents'!BW51","v":3.999999999999998E-2},{"$f":"'All Respondents'!BX52-'All Respondents'!BX51","v":-5.0000000000000044E-2},{"$f":"'All Respondents'!BY52-'All Respondents'!BY51","v":-9.0000000000000024E-2},{"$f":"'All Respondents'!BZ52-'All Respondents'!BZ51","v":3.0000000000000013E-2},{"$f":"'All Respondents'!CA52-'All Respondents'!CA51","v":-2.0000000000000004E-2},{"$f":"'All Respondents'!CB52-'All Respondents'!CB51","v":1.0000000000000009E-2},{"$f":"'All Respondents'!CC52-'All Respondents'!CC51","v":-3.0000000000000027E-2},{"$f":"'All Respondents'!CD52-'All Respondents'!CD51","v":-2.0000000000000018E-2},{"$f":"'All Respondents'!CE52-'All Respondents'!CE51","v":-0.03},{"$f":"'All Respondents'!CF52-'All Respondents'!CF51","v":2.0000000000000018E-2},{"$f":"'All Respondents'!CG52-'All Respondents'!CG51","v":0},{"$f":"'All Respondents'!CH52-'All Respondents'!CH51","v":0.03},{"$f":"'All Respondents'!CI52-'All Respondents'!CI51","v":-0.03},{"$f":"'All Respondents'!CJ52-'All Respondents'!CJ51","v":-1.0000000000000009E-2},{"$f":"'All Respondents'!CK52-'All Respondents'!CK51","v":0},{"$f":"'All Respondents'!CL52-'All Respondents'!CL51","v":4.0000000000000008E-2},{"$f":"'All Respondents'!CM52-'All Respondents'!CM51","v":3.999999999999998E-2},{"$f":"'All Respondents'!CN52-'All Respondents'!CN51","v":-3.9999999999999925E-2},{"$f":"'All Respondents'!CO52-'All Respondents'!CO51","v":-0.03},{"$f":"'All Respondents'!CP52-'All Respondents'!CP51","v":-1.0000000000000009E-2},{"$f":"'All Respondents'!CQ52-'All Respondents'!CQ51","v":-7.9999999999999849E-2},{"$f":"'All Respondents'!CR52-'All Respondents'!CR51","v":0},{"$f":"'All Respondents'!CS52-'All Respondents'!CS51","v":2.0000000000000018E-2},{"$f":"'All Respondents'!CT52-'All Respondents'!CT51","v":0},{"$f":"'All Respondents'!CU52-'All Respondents'!CU51","v":-9.999999999999995E-3},{"$f":"'All Respondents'!CV52-'All Respondents'!CV51","v":-1.999999999999999E-2},{"$f":"'All Respondents'!CW52-'All Respondents'!CW51","v":1.0000000000000009E-2},{"$f":"'All Respondents'!CX52-'All Respondents'!CX51","v":-4.0000000000000008E-2},{"$f":"'All Respondents'!CY52-'All Respondents'!CY51","v":0.02},{"$f":"'All Respondents'!CZ52-'All Respondents'!CZ51","v":0},{"$f":"'All Respondents'!DA52-'All Respondents'!DA51","v":1.9999999999999997E-2},{"$f":"'All Respondents'!DB52-'All Respondents'!DB51","v":1.0000000000000009E-2},{"$f":"'All Respondents'!DC52-'All Respondents'!DC51","v":-3.0000000000000027E-2},{"$f":"'All Respondents'!DD52-'All Respondents'!DD51","v":-0.03},{"$f":"'All Respondents'!DE52-'All Respondents'!DE51","v":2.0000000000000018E-2},{"$f":"'All Respondents'!DF52-'All Respondents'!DF51","v":4.9999999999999989E-2},{"$f":"'All Respondents'!DG52-'All Respondents'!DG51","v":-1.0000000000000009E-2},{"$f":"'All Respondents'!DH52-'All Respondents'!DH51","v":3.9999999999999925E-2},{"$f":"'All Respondents'!DI52-'All Respondents'!DI51","v":-0.03},{"$f":"'All Respondents'!DJ52-'All Respondents'!DJ51","v":0},{"$f":"'All Respondents'!DK52-'All Respondents'!DK51","v":-2.0000000000000004E-2},{"$f":"'All Respondents'!DL52-'All Respondents'!DL51","v":2.0000000000000004E-2}]
["Jul 14-Aug 14",{"$f":"'All Respondents'!B53-'All Respondents'!B52","v":-3.5},{"$f":"'All Respondents'!D53-'All Respondents'!D52","v":-5.1999999999999886},{"$f":"'All Respondents'!E53-'All Respondents'!E52","v":0},{"$f":"'All Respondents'!F53-'All Respondents'!F52","v":9.999999999999995E-3},{"$f":"'All Respondents'!G53-'All Respondents'!G52","v":0},{"$f":"'All Respondents'!H53-'All Respondents'!H52","v":-1.0000000000000009E-2},{"$f":"'All Respondents'!I53-'All Respondents'!I52","v":2.2500000000000006E-2},{"$f":"'All Respondents'!J53-'All Respondents'!J52","v":-7.5999999999999956E-3},{"$f":"'All Respondents'!K53-'All Respondents'!K52","v":-2.2279999999999939E-3},{"$f":"'All Respondents'!L53-'All Respondents'!L52","v":-4.0000000000000036E-2},{"$f":"'All Respondents'!M53-'All Respondents'!M52","v":1.0000000000000002E-2},{"$f":"'All Respondents'!N53-'All Respondents'!N52","v":1.0000000000000009E-2},{"$f":"'All Respondents'!O53-'All Respondents'!O52","v":4.9999999999999989E-2},null,{"$f":"'All Respondents'!Q53-'All Respondents'!Q52","v":-1.7000000000000001E-3},{"$f":"'All Respondents'!R53-'All Respondents'!R52","v":0},{"$f":"'All Respondents'!S53-'All Respondents'!S52","v":-2.9999999999999971E-2},{"$f":"'All Respondents'!T53-'All Respondents'!T52","v":-2.9999999999999916E-2},{"$f":"'All Respondents'!U53-'All Respondents'!U52","v":2.0000000000000018E-2},{"$f":"'All Respondents'!V53-'All Respondents'!V52","v":0},{"$f":"'All Respondents'!W53-'All Respondents'!W52","v":2.0000000000000018E-2},{"$f":"'All Respondents'!X53-'All Respondents'!X52","v":-4.9999999999999933E-2},{"$f":"'All Respondents'!Y53-'All Respondents'!Y52","v":2.0000000000000018E-2},{"$f":"'All Respondents'!Z53-'All Respondents'!Z52","v":0},{"$f":"'All Respondents'!AA53-'All Respondents'!AA52","v":0},{"$f":"'All Respondents'!AB53-'All Respondents'!AB52","v":-1.9999999999999997E-2},{"$f":"'All Respondents'!AC53-'All Respondents'!AC52","v":2.0000000000000004E-2},{"$f":"'All Respondents'!AD53-'All Respondents'!AD52","v":-0.03},{"$f":"'All Respondents'!AE53-'All Respondents'!AE52","v":0},{"$f":"'All Respondents'!AF53-'All Respondents'!AF52","v":-9.9999999999999985E-3},{"$f":"'All Respondents'!AG53-'All Respondents'!AG52","v":0.06},{"$f":"'All Respondents'!AH53-'All Respondents'!AH52","v":-7.0000000000000007E-2},{"$f":"'All Respondents'!AI53-'All Respondents'!AI52","v":-9.999999999999995E-3},{"$f":"'All Respondents'!AJ53-'All Respondents'!AJ52","v":-4.0000000000000036E-2},{"$f":"'All Respondents'!AK53-'All Respondents'!AK52","v":-5.0000000000000044E-2},{"$f":"'All Respondents'!AL53-'All Respondents'!AL52","v":3.0000000000000027E-2},{"$f":"'All Respondents'!AM53-'All Respondents'!AM52","v":0},{"$f":"'All Respondents'!AN53-'All Respondents'!AN52","v":3.0000000000000027E-2},{"$f":"'All Respondents'!AO53-'All Respondents'!AO52","v":-8.0000000000000071E-2},{"$f":"'All Respondents'!AP53-'All Respondents'!AP52","v":4.0000000000000008E-2},{"$f":"'All Respondents'!AQ53-'All Respondents'!AQ52","v":0},{"$f":"'All Respondents'!AR53-'All Respondents'!AR52","v":0},{"$f":"'All Respondents'!AS53-'All Respondents'!AS52","v":-0.05},{"$f":"'All Respondents'!AT53-'All Respondents'!AT52","v":0},{"$f":"'All Respondents'!AU53-'All Respondents'!AU52","v":-1.9999999999999962E-2},{"$f":"'All Respondents'!AV53-'All Respondents'!AV52","v":0},{"$f":"'All Respondents'!AW53-'All Respondents'!AW52","v":-9.9999999999999811E-3},{"$f":"'All Respondents'!AX53-'All Respondents'!AX52","v":0.03},{"$f":"'All Respondents'!AY53-'All Respondents'!AY52","v":3.0000000000000027E-2},{"$f":"'All Respondents'!AZ53-'All Respondents'!AZ52","v":2.0000000000000018E-2},{"$f":"'All Respondents'!BA53-'All Respondents'!BA52","v":1.0000000000000002E-2},{"$f":"'All Respondents'!BB53-'All Respondents'!BB52","v":-3.999999999999998E-2},{"$f":"'All Respondents'!BC53-'All Respondents'!BC52","v":1.0000000000000064E-2},{"$f":"'All Respondents'!BD53-'All Respondents'!BD52","v":2.473999999999997E-3},{"$f":"'All Respondents'!BE53-'All Respondents'!BE52","v":-3.0000000000000027E-2},{"$f":"'All Respondents'!BF53-'All Respondents'!BF52","v":3.0000000000000027E-2},{"$f":"'All Respondents'!BG53-'All Respondents'!BG52","v":-6.0000000000000053E-2},{"$f":"'All Respondents'!BH53-'All Respondents'!BH52","v":0},{"$f":"'All Respondents'!BI53-'All Respondents'!BI52","v":-2.9999999999999916E-2},{"$f":"'All Respondents'!BJ53-'All Respondents'!BJ52","v":2.9999999999999916E-2},{"$f":"'All Respondents'!BK53-'All Respondents'!BK52","v":2.0000000000000018E-2},{"$f":"'All Respondents'!BL53-'All Respondents'!BL52","v":2.0000000000000018E-2},{"$f":"'All Respondents'!BM53-'All Respondents'!BM52","v":4.0000000000000036E-2},{"$f":"'All Respondents'!BN53-'All Respondents'!BN52","v":-2.9999999999999971E-2},{"$f":"'All Respondents'!BO53-'All Respondents'!BO52","v":1.0000000000000009E-2},{"$f":"'All Respondents'!BP53-'All Respondents'!BP52","v":-1.9999999999999997E-2},{"$f":"'All Respondents'!BQ53-'All Respondents'!BQ52","v":-9.9999999999999811E-3},{"$f":"'All Respondents'!BR53-'All Respondents'!BR52","v":5.0000000000000044E-2},{"$f":"'All Respondents'!BS53-'All Respondents'!BS52","v":-5.0000000000000017E-2},{"$f":"'All Respondents'!BT53-'All Respondents'!BT52","v":0.03},{"$f":"'All Respondents'!BU53-'All Respondents'!BU52","v":2.0000000000000018E-2},{"$f":"'All Respondents'!BV53-'All Respondents'!BV52","v":-8.0000000000000016E-2},{"$f":"'All Respondents'!BW53-'All Respondents'!BW52","v":-1.0000000000000009E-2},{"$f":"'All Respondents'!BX53-'All Respondents'!BX52","v":1.0000000000000009E-2},{"$f":"'All Respondents'!BY53-'All Respondents'!BY52","v":2.0000000000000018E-2},{"$f":"'All Respondents'!BZ53-'All Respondents'!BZ52","v":-4.0000000000000008E-2},{"$f":"'All Respondents'!CA53-'All Respondents'!CA52","v":0},{"$f":"'All Respondents'!CB53-'All Respondents'!CB52","v":-4.0000000000000008E-2},{"$f":"'All Respondents'!CC53-'All Respondents'!CC52","v":5.0000000000000044E-2},{"$f":"'All Respondents'!CD53-'All Respondents'!CD52","v":4.0000000000000008E-2},{"$f":"'All Respondents'!CE53-'All Respondents'!CE52","v":-1.999999999999999E-2},{"$f":"'All Respondents'!CF53-'All Respondents'!CF52","v":3.0000000000000027E-2},{"$f":"'All Respondents'!CG53-'All Respondents'!CG52","v":9.999999999999995E-3},{"$f":"'All Respondents'!CH53-'All Respondents'!CH52","v":-2.0000000000000004E-2},{"$f":"'All Respondents'!CI53-'All Respondents'!CI52","v":0},{"$f":"'All Respondents'!CJ53-'All Respondents'!CJ52","v":-1.0000000000000009E-2},{"$f":"'All Respondents'!CK53-'All Respondents'!CK52","v":0.03},{"$f":"'All Respondents'!CL53-'All Respondents'!CL52","v":-1.0000000000000009E-2},{"$f":"'All Respondents'!CM53-'All Respondents'!CM52","v":2.0000000000000018E-2},{"$f":"'All Respondents'!CN53-'All Respondents'!CN52","v":-2.0000000000000018E-2},{"$f":"'All Respondents'!CO53-'All Respondents'!CO52","v":1.0000000000000009E-2},{"$f":"'All Respondents'!CP53-'All Respondents'!CP52","v":-3.0000000000000027E-2},{"$f":"'All Respondents'!CQ53-'All Respondents'!CQ52","v":-4.0000000000000036E-2},{"$f":"'All Respondents'!CR53-'All Respondents'!CR52","v":-4.9999999999999989E-2},{"$f":"'All Respondents'!CS53-'All Respondents'!CS52","v":-1.0000000000000009E-2},{"$f":"'All Respondents'!CT53-'All Respondents'!CT52","v":0},{"$f":"'All Respondents'!CU53-'All Respondents'!CU52","v":9.999999999999995E-3},{"$f":"'All Respondents'!CV53-'All Respondents'!CV52","v":1.999999999999999E-2},{"$f":"'All Respondents'!CW53-'All Respondents'!CW52","v":-1.0000000000000009E-2},{"$f":"'All Respondents'!CX53-'All Respondents'!CX52","v":0.03},{"$f":"'All Respondents'!CY53-'All Respondents'!CY52","v":-1.0000000000000002E-2},{"$f":"'All Respondents'!CZ53-'All Respondents'!CZ52","v":0.01},{"$f":"'All Respondents'!DA53-'All Respondents'!DA52","v":-0.03},{"$f":"'All Respondents'!DB53-'All Respondents'!DB52","v":9.9999999999999811E-3},{"$f":"'All Respondents'!DC53-'All Respondents'!DC52","v":0},{"$f":"'All Respondents'!DD53-'All Respondents'!DD52","v":5.0000000000000017E-2},{"$f":"'All Respondents'!DE53-'All Respondents'!DE52","v":-4.0000000000000036E-2},{"$f":"'All Respondents'!DF53-'All Respondents'!DF52","v":-4.9999999999999989E-2},{"$f":"'All Respondents'!DG53-'All Respondents'!DG52","v":-1.999999999999999E-2},{"$f":"'All Respondents'!DH53-'All Respondents'!DH52","v":-6.9999999999999951E-2},{"$f":"'All Respondents'!DI53-'All Respondents'!DI52","v":4.9999999999999989E-2},{"$f":"'All Respondents'!DJ53-'All Respondents'!DJ52","v":2.0000000000000018E-2},{"$f":"'All Respondents'!DK53-'All Respondents'!DK52","v":4.0000000000000008E-2},{"$f":"'All Respondents'!DL53-'All Respondents'!DL52","v":-2.0000000000000004E-2}]
["Aug 14-Sep 14",{"$f":"'All Respondents'!B54-'All Respondents'!B53","v":4.7000000000000028},{"$f":"'All Respondents'!D54-'All Respondents'!D53","v":4.5999999999999943},{"$f":"'All Respondents'!E54-'All Respondents'!E53","v":3.0000000000000027E-2},{"$f":"'All Respondents'!F54-'All Respondents'!F53","v":-9.999999999999995E-3},{"$f":"'All Respondents'!G54-'All Respondents'!G53","v":-3.0000000000000027E-2},{"$f":"'All Respondents'!H54-'All Respondents'!H53","v":4.0000000000000036E-2},{"$f":"'All Respondents'!I54-'All Respondents'!I53","v":2.6499999999999996E-2},{"$f":"'All Respondents'!J54-'All Respondents'!J53","v":-9.1000000000000039E-3},{"$f":"'All Respondents'!K54-'All Respondents'!K53","v":9.0099999999999902E-4},{"$f":"'All Respondents'!L54-'All Respondents'!L53","v":-4.9999999999999989E-2},{"$f":"'All Respondents'!M54-'All Respondents'!M53","v":0},{"$f":"'All Respondents'!N54-'All Respondents'!N53","v":4.9999999999999989E-2},{"$f":"'All Respondents'!O54-'All Respondents'!O53","v":4.9999999999999989E-2},null,{"$f":"'All Respondents'!Q54-'All Respondents'!Q53","v":-1.7000000000000001E-3},{"$f":"'All Respondents'!R54-'All Respondents'!R53","v":-1.999999999999999E-2},{"$f":"'All Respondents'!S54-'All Respondents'!S53","v":0.06},{"$f":"'All Respondents'!T54-'All Respondents'!T53","v":4.0000000000000036E-2},{"$f":"'All Respondents'!U54-'All Respondents'!U53","v":-4.0000000000000008E-2},{"$f":"'All Respondents'!V54-'All Respondents'!V53","v":0},{"$f":"'All Respondents'!W54-'All Respondents'!W53","v":-4.0000000000000036E-2},{"$f":"'All Respondents'!X54-'All Respondents'!X53","v":8.0000000000000071E-2},{"$f":"'All Respondents'!Y54-'All Respondents'!Y53","v":-4.0000000000000008E-2},{"$f":"'All Respondents'!Z54-'All Respondents'!Z53","v":-3.999999999999998E-2},{"$f":"'All Respondents'!AA54-'All Respondents'!AA53","v":0},{"$f":"'All Respondents'!AB54-'All Respondents'!AB53","v":1.9999999999999997E-2},{"$f":"'All Respondents'!AC54-'All Respondents'!AC53","v":9.999999999999995E-3},{"$f":"'All Respondents'!AD54-'All Respondents'!AD53","v":-0.03},{"$f":"'All Respondents'!AE54-'All Respondents'!AE53","v":1.0000000000000009E-2},{"$f":"'All Respondents'!AF54-'All Respondents'!AF53","v":3.0000000000000002E-2},{"$f":"'All Respondents'!AG54-'All Respondents'!AG53","v":-0.1},{"$f":"'All Respondents'!AH54-'All Respondents'!AH53","v":0.06},{"$f":"'All Respondents'!AI54-'All Respondents'!AI53","v":-9.999999999999995E-3},{"$f":"'All Respondents'!AJ54-'All Respondents'!AJ53","v":2.0000000000000018E-2},{"$f":"'All Respondents'!AK54-'All Respondents'!AK53","v":1.0000000000000009E-2},{"$f":"'All Respondents'!AL54-'All Respondents'!AL53","v":-3.0000000000000027E-2},{"$f":"'All Respondents'!AM54-'All Respondents'!AM53","v":0},{"$f":"'All Respondents'!AN54-'All Respondents'!AN53","v":-3.0000000000000027E-2},{"$f":"'All Respondents'!AO54-'All Respondents'!AO53","v":4.0000000000000036E-2},{"$f":"'All Respondents'!AP54-'All Respondents'!AP53","v":-7.9999999999999988E-2},{"$f":"'All Respondents'!AQ54-'All Respondents'!AQ53","v":-4.0000000000000036E-2},{"$f":"'All Respondents'!AR54-'All Respondents'!AR53","v":-1.0000000000000009E-2},{"$f":"'All Respondents'!AS54-'All Respondents'!AS53","v":3.9999999999999994E-2},{"$f":"'All Respondents'!AT54-'All Respondents'!AT53","v":0.06},{"$f":"'All Respondents'!AU54-'All Respondents'!AU53","v":-1.0000000000000009E-2},{"$f":"'All Respondents'!AV54-'All Respondents'!AV53","v":1.0000000000000002E-2},{"$f":"'All Respondents'!AW54-'All Respondents'!AW53","v":0},{"$f":"'All Respondents'!AX54-'All Respondents'!AX53","v":-3.9999999999999994E-2},{"$f":"'All Respondents'!AY54-'All Respondents'!AY53","v":-1.0000000000000009E-2},{"$f":"'All Respondents'!AZ54-'All Respondents'!AZ53","v":2.0000000000000018E-2},{"$f":"'All Respondents'!BA54-'All Respondents'!BA53","v":-1.0000000000000002E-2},{"$f":"'All Respondents'!BB54-'All Respondents'!BB53","v":-1.0000000000000009E-2},{"$f":"'All Respondents'!BC54-'All Respondents'!BC53","v":2.9999999999999971E-2},{"$f":"'All Respondents'!BD54-'All Respondents'!BD53","v":-9.4029999999999947E-3},{"$f":"'All Respondents'!BE54-'All Respondents'!BE53","v":2.0000000000000018E-2},{"$f":"'All Respondents'!BF54-'All Respondents'!BF53","v":-3.999999999999998E-2},{"$f":"'All Respondents'!BG54-'All Respondents'!BG53","v":0.06},{"$f":"'All Respondents'!BH54-'All Respondents'!BH53","v":5.0000000000000044E-2},{"$f":"'All Respondents'!BI54-'All Respondents'!BI53","v":-2.0000000000000018E-2},{"$f":"'All Respondents'!BJ54-'All Respondents'!BJ53","v":7.0000000000000062E-2},{"$f":"'All Respondents'!BK54-'All Respondents'!BK53","v":-0.03},{"$f":"'All Respondents'!BL54-'All Respondents'!BL53","v":0},{"$f":"'All Respondents'!BM54-'All Respondents'!BM53","v":-3.0000000000000027E-2},{"$f":"'All Respondents'!BN54-'All Respondents'!BN53","v":3.999999999999998E-2},{"$f":"'All Respondents'!BO54-'All Respondents'!BO53","v":-2.0000000000000004E-2},{"$f":"'All Respondents'!BP54-'All Respondents'!BP53","v":0},{"$f":"'All Respondents'!BQ54-'All Respondents'!BQ53","v":-2.0000000000000018E-2},{"$f":"'All Respondents'!BR54-'All Respondents'!BR53","v":-1.0000000000000009E-2},{"$f":"'All Respondents'!BS54-'All Respondents'!BS53","v":1.999999999999999E-2},{"$f":"'All Respondents'!BT54-'All Respondents'!BT53","v":-9.9999999999999811E-3},{"$f":"'All Respondents'!BU54-'All Respondents'!BU53","v":-1.0000000000000009E-2},{"$f":"'All Respondents'!BV54-'All Respondents'!BV53","v":2.9999999999999971E-2},{"$f":"'All Respondents'!BW54-'All Respondents'!BW53","v":-1.0000000000000009E-2},{"$f":"'All Respondents'!BX54-'All Respondents'!BX53","v":0},{"$f":"'All Respondents'!BY54-'All Respondents'!BY53","v":1.0000000000000009E-2},{"$f":"'All Respondents'!BZ54-'All Respondents'!BZ53","v":4.0000000000000008E-2},{"$f":"'All Respondents'!CA54-'All Respondents'!CA53","v":0},{"$f":"'All Respondents'!CB54-'All Respondents'!CB53","v":4.0000000000000008E-2},{"$f":"'All Respondents'!CC54-'All Respondents'!CC53","v":-3.0000000000000027E-2},{"$f":"'All Respondents'!CD54-'All Respondents'!CD53","v":-0.06},{"$f":"'All Respondents'!CE54-'All Respondents'!CE53","v":7.9999999999999988E-2},{"$f":"'All Respondents'!CF54-'All Respondents'!CF53","v":-5.0000000000000044E-2},{"$f":"'All Respondents'!CG54-'All Respondents'!CG53","v":0},{"$f":"'All Respondents'!CH54-'All Respondents'!CH53","v":1.0000000000000009E-2},{"$f":"'All Respondents'!CI54-'All Respondents'!CI53","v":9.9999999999999811E-3},{"$f":"'All Respondents'!CJ54-'All Respondents'!CJ53","v":0},{"$f":"'All Respondents'!CK54-'All Respondents'!CK53","v":-0.03},{"$f":"'All Respondents'!CL54-'All Respondents'!CL53","v":1.0000000000000009E-2},{"$f":"'All Respondents'!CM54-'All Respondents'!CM53","v":-2.0000000000000018E-2},{"$f":"'All Respondents'!CN54-'All Respondents'!CN53","v":2.0000000000000018E-2},{"$f":"'All Respondents'!CO54-'All Respondents'!CO53","v":0},{"$f":"'All Respondents'!CP54-'All Respondents'!CP53","v":2.0000000000000018E-2},{"$f":"'All Respondents'!CQ54-'All Respondents'!CQ53","v":4.0000000000000036E-2},{"$f":"'All Respondents'!CR54-'All Respondents'!CR53","v":1.9999999999999962E-2},{"$f":"'All Respondents'!CS54-'All Respondents'!CS53","v":-2.0000000000000004E-2},{"$f":"'All Respondents'!CT54-'All Respondents'!CT53","v":2.0000000000000018E-2},{"$f":"'All Respondents'!CU54-'All Respondents'!CU53","v":9.999999999999995E-3},{"$f":"'All Respondents'!CV54-'All Respondents'!CV53","v":-0.03},{"$f":"'All Respondents'!CW54-'All Respondents'!CW53","v":1.0000000000000009E-2},{"$f":"'All Respondents'!CX54-'All Respondents'!CX53","v":-1.0000000000000009E-2},{"$f":"'All Respondents'!CY54-'All Respondents'!CY53","v":0},{"$f":"'All Respondents'!CZ54-'All Respondents'!CZ53","v":0},{"$f":"'All Respondents'!DA54-'All Respondents'!DA53","v":0.01},{"$f":"'All Respondents'!DB54-'All Respondents'!DB53","v":1.0000000000000009E-2},{"$f":"'All Respondents'!DC54-'All Respondents'!DC53","v":-1.9999999999999907E-2},{"$f":"'All Respondents'!DD54-'All Respondents'!DD53","v":-5.0000000000000017E-2},{"$f":"'All Respondents'!DE54-'All Respondents'!DE53","v":3.0000000000000027E-2},{"$f":"'All Respondents'!DF54-'All Respondents'!DF53","v":-4.0000000000000036E-2},{"$f":"'All Respondents'!DG54-'All Respondents'!DG53","v":0.06},{"$f":"'All Respondents'!DH54-'All Respondents'!DH53","v":1.9999999999999907E-2},{"$f":"'All Respondents'!DI54-'All Respondents'!DI53","v":0},{"$f":"'All Respondents'!DJ54-'All Respondents'!DJ53","v":-1.0000000000000009E-2},{"$f":"'All Respondents'!DK54-'All Respondents'!DK53","v":-0.03},{"$f":"'All Respondents'!DL54-'All Respondents'!DL53","v":2.0000000000000004E-2}]
["Sep 14-Oct 14",{"$f":"'All Respondents'!B55-'All Respondents'!B54","v":2.2999999999999972},{"$f":"'All Respondents'!D55-'All Respondents'!D54","v":3.2000000000000028},{"$f":"'All Respondents'!E55-'All Respondents'!E54","v":-1.0000000000000009E-2},{"$f":"'All Respondents'!F55-'All Respondents'!F54","v":-9.999999999999995E-3},{"$f":"'All Respondents'!G55-'All Respondents'!G54","v":1.0000000000000009E-2},{"$f":"'All Respondents'!H55-'All Respondents'!H54","v":0},{"$f":"'All Respondents'!I55-'All Respondents'!I54","v":-1.9100000000000006E-2},{"$f":"'All Respondents'!J55-'All Respondents'!J54","v":1.7599999999999998E-2},{"$f":"'All Respondents'!K55-'All Respondents'!K54","v":6.3890000000000023E-3},{"$f":"'All Respondents'!L55-'All Respondents'!L54","v":2.9999999999999971E-2},{"$f":"'All Respondents'!M55-'All Respondents'!M54","v":9.999999999999995E-3},{"$f":"'All Respondents'!N55-'All Respondents'!N54","v":-7.0000000000000007E-2},{"$f":"'All Respondents'!O55-'All Respondents'!O54","v":-1.9999999999999962E-2},null,{"$f":"'All Respondents'!Q55-'All Respondents'!Q54","v":6.9999999999999923E-4},{"$f":"'All Respondents'!R55-'All Respondents'!R54","v":0},{"$f":"'All Respondents'!S55-'All Respondents'!S54","v":-3.0000000000000027E-2},{"$f":"'All Respondents'!T55-'All Respondents'!T54","v":-3.0000000000000027E-2},{"$f":"'All Respondents'!U55-'All Respondents'!U54","v":4.0000000000000008E-2},{"$f":"'All Respondents'!V55-'All Respondents'!V54","v":-1.999999999999999E-2},{"$f":"'All Respondents'!W55-'All Respondents'!W54","v":2.0000000000000018E-2},{"$f":"'All Respondents'!X55-'All Respondents'!X54","v":-5.0000000000000044E-2},{"$f":"'All Respondents'!Y55-'All Respondents'!Y54","v":1.999999999999999E-2},{"$f":"'All Respondents'!Z55-'All Respondents'!Z54","v":1.0000000000000009E-2},{"$f":"'All Respondents'!AA55-'All Respondents'!AA54","v":0.03},{"$f":"'All Respondents'!AB55-'All Respondents'!AB54","v":0},{"$f":"'All Respondents'!AC55-'All Respondents'!AC54","v":-2.0000000000000004E-2},{"$f":"'All Respondents'!AD55-'All Respondents'!AD54","v":0.1},{"$f":"'All Respondents'!AE55-'All Respondents'!AE54","v":0.03},{"$f":"'All Respondents'!AF55-'All Respondents'!AF54","v":-3.0000000000000002E-2},{"$f":"'All Respondents'!AG55-'All Respondents'!AG54","v":4.0000000000000008E-2},{"$f":"'All Respondents'!AH55-'All Respondents'!AH54","v":-0.12},{"$f":"'All Respondents'!AI55-'All Respondents'!AI54","v":9.999999999999995E-3},{"$f":"'All Respondents'!AJ55-'All Respondents'!AJ54","v":3.999999999999998E-2},{"$f":"'All Respondents'!AK55-'All Respondents'!AK54","v":4.9999999999999989E-2},{"$f":"'All Respondents'!AL55-'All Respondents'!AL54","v":-2.9999999999999971E-2},{"$f":"'All Respondents'!AM55-'All Respondents'!AM54","v":-1.0000000000000009E-2},{"$f":"'All Respondents'!AN55-'All Respondents'!AN54","v":-4.0000000000000036E-2},{"$f":"'All Respondents'!AO55-'All Respondents'!AO54","v":9.0000000000000024E-2},{"$f":"'All Respondents'!AP55-'All Respondents'!AP54","v":9.9999999999999811E-3},{"$f":"'All Respondents'!AQ55-'All Respondents'!AQ54","v":-2.9999999999999971E-2},{"$f":"'All Respondents'!AR55-'All Respondents'!AR54","v":7.0000000000000007E-2},{"$f":"'All Respondents'!AS55-'All Respondents'!AS54","v":2.0000000000000004E-2},{"$f":"'All Respondents'!AT55-'All Respondents'!AT54","v":-4.9999999999999989E-2},{"$f":"'All Respondents'!AU55-'All Respondents'!AU54","v":-1.0000000000000009E-2},{"$f":"'All Respondents'!AV55-'All Respondents'!AV54","v":0},{"$f":"'All Respondents'!AW55-'All Respondents'!AW54","v":0.03},{"$f":"'All Respondents'!AX55-'All Respondents'!AX54","v":9.0000000000000011E-2},{"$f":"'All Respondents'!AY55-'All Respondents'!AY54","v":-0.11000000000000001},{"$f":"'All Respondents'!AZ55-'All Respondents'!AZ54","v":-6.0000000000000053E-2},{"$f":"'All Respondents'!BA55-'All Respondents'!BA54","v":1.0000000000000002E-2},{"$f":"'All Respondents'!BB55-'All Respondents'!BB54","v":3.999999999999998E-2},{"$f":"'All Respondents'!BC55-'All Respondents'!BC54","v":-7.0000000000000007E-2},{"$f":"'All Respondents'!BD55-'All Respondents'!BD54","v":5.9299999999999908E-3},{"$f":"'All Respondents'!BE55-'All Respondents'!BE54","v":-1.0000000000000009E-2},{"$f":"'All Respondents'!BF55-'All Respondents'!BF54","v":1.9999999999999962E-2},{"$f":"'All Respondents'!BG55-'All Respondents'!BG54","v":-2.9999999999999971E-2},{"$f":"'All Respondents'!BH55-'All Respondents'!BH54","v":0},{"$f":"'All Respondents'!BI55-'All Respondents'!BI54","v":-1.0000000000000009E-2},{"$f":"'All Respondents'!BJ55-'All Respondents'!BJ54","v":1.0000000000000009E-2},{"$f":"'All Respondents'!BK55-'All Respondents'!BK54","v":9.9999999999999811E-3},{"$f":"'All Respondents'!BL55-'All Respondents'!BL54","v":2.9999999999999971E-2},{"$f":"'All Respondents'!BM55-'All Respondents'!BM54","v":3.9999999999999925E-2},{"$f":"'All Respondents'!BN55-'All Respondents'!BN54","v":-1.0000000000000009E-2},{"$f":"'All Respondents'!BO55-'All Respondents'!BO54","v":0},{"$f":"'All Respondents'!BP55-'All Respondents'!BP54","v":-0.02},{"$f":"'All Respondents'!BQ55-'All Respondents'!BQ54","v":-1.999999999999999E-2},{"$f":"'All Respondents'!BR55-'All Respondents'!BR54","v":5.9999999999999942E-2},{"$f":"'All Respondents'!BS55-'All Respondents'!BS54","v":0},{"$f":"'All Respondents'!BT55-'All Respondents'!BT54","v":-2.0000000000000018E-2},{"$f":"'All Respondents'!BU55-'All Respondents'!BU54","v":2.0000000000000018E-2},{"$f":"'All Respondents'!BV55-'All Respondents'!BV54","v":2.0000000000000018E-2},{"$f":"'All Respondents'!BW55-'All Respondents'!BW54","v":2.0000000000000018E-2},{"$f":"'All Respondents'!BX55-'All Respondents'!BX54","v":0},{"$f":"'All Respondents'!BY55-'All Respondents'!BY54","v":-2.0000000000000018E-2},{"$f":"'All Respondents'!BZ55-'All Respondents'!BZ54","v":9.9999999999999811E-3},{"$f":"'All Respondents'!CA55-'All Respondents'!CA54","v":0},{"$f":"'All Respondents'!CB55-'All Respondents'!CB54","v":9.9999999999999811E-3},{"$f":"'All Respondents'!CC55-'All Respondents'!CC54","v":0},{"$f":"'All Respondents'!CD55-'All Respondents'!CD54","v":-1.999999999999999E-2},{"$f":"'All Respondents'!CE55-'All Respondents'!CE54","v":-0.03},{"$f":"'All Respondents'!CF55-'All Respondents'!CF54","v":5.0000000000000044E-2},{"$f":"'All Respondents'!CG55-'All Respondents'!CG54","v":-1.9999999999999997E-2},{"$f":"'All Respondents'!CH55-'All Respondents'!CH54","v":-2.0000000000000004E-2},{"$f":"'All Respondents'!CI55-'All Respondents'!CI54","v":-0.03},{"$f":"'All Respondents'!CJ55-'All Respondents'!CJ54","v":5.9999999999999942E-2},{"$f":"'All Respondents'!CK55-'All Respondents'!CK54","v":-1.0000000000000002E-2},{"$f":"'All Respondents'!CL55-'All Respondents'!CL54","v":-4.0000000000000008E-2},{"$f":"'All Respondents'!CM55-'All Respondents'!CM54","v":-4.9999999999999989E-2},{"$f":"'All Respondents'!CN55-'All Respondents'!CN54","v":4.9999999999999933E-2},{"$f":"'All Respondents'!CO55-'All Respondents'!CO54","v":-4.0000000000000008E-2},{"$f":"'All Respondents'!CP55-'All Respondents'!CP54","v":8.9999999999999969E-2},{"$f":"'All Respondents'!CQ55-'All Respondents'!CQ54","v":9.9999999999999867E-2},{"$f":"'All Respondents'!CR55-'All Respondents'!CR54","v":-2.9999999999999971E-2},{"$f":"'All Respondents'!CS55-'All Respondents'!CS54","v":3.0000000000000013E-2},{"$f":"'All Respondents'!CT55-'All Respondents'!CT54","v":0},{"$f":"'All Respondents'!CU55-'All Respondents'!CU54","v":0},{"$f":"'All Respondents'!CV55-'All Respondents'!CV54","v":1.0000000000000009E-2},{"$f":"'All Respondents'!CW55-'All Respondents'!CW54","v":-1.0000000000000009E-2},{"$f":"'All Respondents'!CX55-'All Respondents'!CX54","v":0},{"$f":"'All Respondents'!CY55-'All Respondents'!CY54","v":1.0000000000000002E-2},{"$f":"'All Respondents'!CZ55-'All Respondents'!CZ54","v":-0.01},{"$f":"'All Respondents'!DA55-'All Respondents'!DA54","v":0},{"$f":"'All Respondents'!DB55-'All Respondents'!DB54","v":-1.999999999999999E-2},{"$f":"'All Respondents'!DC55-'All Respondents'!DC54","v":1.9999999999999907E-2},{"$f":"'All Respondents'!DD55-'All Respondents'!DD54","v":-3.999999999999998E-2},{"$f":"'All Respondents'!DE55-'All Respondents'!DE54","v":5.9999999999999942E-2},{"$f":"'All Respondents'!DF55-'All Respondents'!DF54","v":3.0000000000000027E-2},{"$f":"'All Respondents'!DG55-'All Respondents'!DG54","v":-1.0000000000000009E-2},{"$f":"'All Respondents'!DH55-'All Respondents'!DH54","v":2.0000000000000018E-2},{"$f":"'All Respondents'!DI55-'All Respondents'!DI54","v":-1.999999999999999E-2},{"$f":"'All Respondents'!DJ55-'All Respondents'!DJ54","v":-2.0000000000000004E-2},{"$f":"'All Respondents'!DK55-'All Respondents'!DK54","v":0},{"$f":"'All Respondents'!DL55-'All Respondents'!DL54","v":-2.0000000000000004E-2}]
["Oct 14-Nov 14",{"$f":"'All Respondents'!B56-'All Respondents'!B55","v":-1.5},{"$f":"'All Respondents'!D56-'All Respondents'!D55","v":-2},{"$f":"'All Respondents'!E56-'All Respondents'!E55","v":0},{"$f":"'All Respondents'!F56-'All Respondents'!F55","v":-1.0000000000000009E-2},{"$f":"'All Respondents'!G56-'All Respondents'!G55","v":1.0000000000000009E-2},{"$f":"'All Respondents'!H56-'All Respondents'!H55","v":1.0000000000000009E-2},{"$f":"'All Respondents'!I56-'All Respondents'!I55","v":-2.1400000000000002E-2},{"$f":"'All Respondents'!J56-'All Respondents'!J55","v":-5.0000000000000044E-3},{"$f":"'All Respondents'!K56-'All Respondents'!K55","v":-2.7219999999999987E-3},{"$f":"'All Respondents'!L56-'All Respondents'!L55","v":-2.9999999999999971E-2},{"$f":"'All Respondents'!M56-'All Respondents'!M55","v":-1.9999999999999997E-2},{"$f":"'All Respondents'!N56-'All Respondents'!N55","v":2.9999999999999971E-2},{"$f":"'All Respondents'!O56-'All Respondents'!O55","v":9.9999999999999534E-3},null,{"$f":"'All Respondents'!Q56-'All Respondents'!Q55","v":-4.0000000000000036E-3},{"$f":"'All Respondents'!R56-'All Respondents'!R55","v":1.0000000000000009E-2},{"$f":"'All Respondents'!S56-'All Respondents'!S55","v":2.0000000000000018E-2},{"$f":"'All Respondents'!T56-'All Respondents'!T55","v":3.0000000000000027E-2},{"$f":"'All Respondents'!U56-'All Respondents'!U55","v":-5.0000000000000017E-2},{"$f":"'All Respondents'!V56-'All Respondents'!V55","v":1.999999999999999E-2},{"$f":"'All Respondents'!W56-'All Respondents'!W55","v":-3.0000000000000027E-2},{"$f":"'All Respondents'!X56-'All Respondents'!X55","v":6.0000000000000053E-2},{"$f":"'All Respondents'!Y56-'All Respondents'!Y55","v":0},{"$f":"'All Respondents'!Z56-'All Respondents'!Z55","v":2.9999999999999971E-2},{"$f":"'All Respondents'!AA56-'All Respondents'!AA55","v":-0.03},{"$f":"'All Respondents'!AB56-'All Respondents'!AB55","v":1.0000000000000002E-2},{"$f":"'All Respondents'!AC56-'All Respondents'!AC55","v":1.0000000000000009E-2},{"$f":"'All Respondents'!AD56-'All Respondents'!AD55","v":-5.0000000000000017E-2},{"$f":"'All Respondents'!AE56-'All Respondents'!AE55","v":-4.0000000000000008E-2},{"$f":"'All Respondents'!AF56-'All Respondents'!AF55","v":0},{"$f":"'All Respondents'!AG56-'All Respondents'!AG55","v":7.9999999999999988E-2},{"$f":"'All Respondents'!AH56-'All Respondents'!AH55","v":2.0000000000000018E-2},{"$f":"'All Respondents'!AI56-'All Respondents'!AI55","v":9.999999999999995E-3},{"$f":"'All Respondents'!AJ56-'All Respondents'!AJ55","v":-0.06},{"$f":"'All Respondents'!AK56-'All Respondents'!AK55","v":-4.9999999999999989E-2},{"$f":"'All Respondents'!AL56-'All Respondents'!AL55","v":4.9999999999999989E-2},{"$f":"'All Respondents'!AM56-'All Respondents'!AM55","v":-9.9999999999999811E-3},{"$f":"'All Respondents'!AN56-'All Respondents'!AN55","v":4.0000000000000036E-2},{"$f":"'All Respondents'!AO56-'All Respondents'!AO55","v":-9.0000000000000024E-2},{"$f":"'All Respondents'!AP56-'All Respondents'!AP55","v":2.0000000000000018E-2},{"$f":"'All Respondents'!AQ56-'All Respondents'!AQ55","v":0.06},{"$f":"'All Respondents'!AR56-'All Respondents'!AR55","v":-7.0000000000000007E-2},{"$f":"'All Respondents'!AS56-'All Respondents'!AS55","v":-9.999999999999995E-3},{"$f":"'All Respondents'!AT56-'All Respondents'!AT55","v":-2.0000000000000018E-2},{"$f":"'All Respondents'!AU56-'All Respondents'!AU55","v":1.0000000000000009E-2},{"$f":"'All Respondents'!AV56-'All Respondents'!AV55","v":9.999999999999995E-3},{"$f":"'All Respondents'!AW56-'All Respondents'!AW55","v":-0.03},{"$f":"'All Respondents'!AX56-'All Respondents'!AX55","v":-0.03},{"$f":"'All Respondents'!AY56-'All Respondents'!AY55","v":0.03},{"$f":"'All Respondents'!AZ56-'All Respondents'!AZ55","v":4.0000000000000036E-2},{"$f":"'All Respondents'!BA56-'All Respondents'!BA55","v":0},{"$f":"'All Respondents'!BB56-'All Respondents'!BB55","v":-3.999999999999998E-2},{"$f":"'All Respondents'!BC56-'All Respondents'!BC55","v":4.0000000000000036E-2},{"$f":"'All Respondents'!BD56-'All Respondents'!BD55","v":-1.5549999999999939E-3},{"$f":"'All Respondents'!BE56-'All Respondents'!BE55","v":-3.0000000000000027E-2},{"$f":"'All Respondents'!BF56-'All Respondents'!BF55","v":1.0000000000000009E-2},{"$f":"'All Respondents'!BG56-'All Respondents'!BG55","v":-4.0000000000000036E-2},{"$f":"'All Respondents'!BH56-'All Respondents'!BH55","v":-4.0000000000000036E-2},{"$f":"'All Respondents'!BI56-'All Respondents'!BI55","v":-1.0000000000000009E-2},{"$f":"'All Respondents'!BJ56-'All Respondents'!BJ55","v":-3.0000000000000027E-2},{"$f":"'All Respondents'!BK56-'All Respondents'!BK55","v":2.0000000000000018E-2},{"$f":"'All Respondents'!BL56-'All Respondents'!BL55","v":-1.0000000000000009E-2},{"$f":"'All Respondents'!BM56-'All Respondents'!BM55","v":1.0000000000000009E-2},{"$f":"'All Respondents'!BN56-'All Respondents'!BN55","v":-2.0000000000000018E-2},{"$f":"'All Respondents'!BO56-'All Respondents'!BO55","v":0},{"$f":"'All Respondents'!BP56-'All Respondents'!BP55","v":0.02},{"$f":"'All Respondents'!BQ56-'All Respondents'!BQ55","v":1.999999999999999E-2},{"$f":"'All Respondents'!BR56-'All Respondents'!BR55","v":-1.0000000000000009E-2},{"$f":"'All Respondents'!BS56-'All Respondents'!BS55","v":0},{"$f":"'All Respondents'!BT56-'All Respondents'!BT55","v":-9.999999999999995E-3},{"$f":"'All Respondents'!BU56-'All Respondents'!BU55","v":1.0000000000000009E-2},{"$f":"'All Respondents'!BV56-'All Respondents'!BV55","v":1.0000000000000009E-2},{"$f":"'All Respondents'!BW56-'All Respondents'!BW55","v":-3.0000000000000027E-2},{"$f":"'All Respondents'!BX56-'All Respondents'!BX55","v":0},{"$f":"'All Respondents'!BY56-'All Respondents'!BY55","v":3.0000000000000027E-2},{"$f":"'All Respondents'!BZ56-'All Respondents'!BZ55","v":0},{"$f":"'All Respondents'!CA56-'All Respondents'!CA55","v":-0.03},{"$f":"'All Respondents'!CB56-'All Respondents'!CB55","v":-0.03},{"$f":"'All Respondents'!CC56-'All Respondents'!CC55","v":-1.0000000000000009E-2},{"$f":"'All Respondents'!CD56-'All Respondents'!CD55","v":9.9999999999999811E-3},{"$f":"'All Respondents'!CE56-'All Respondents'!CE55","v":4.9999999999999989E-2},{"$f":"'All Respondents'!CF56-'All Respondents'!CF55","v":-7.0000000000000007E-2},{"$f":"'All Respondents'!CG56-'All Respondents'!CG55","v":1.0000000000000002E-2},{"$f":"'All Respondents'!CH56-'All Respondents'!CH55","v":3.9999999999999994E-2},{"$f":"'All Respondents'!CI56-'All Respondents'!CI55","v":2.0000000000000018E-2},{"$f":"'All Respondents'!CJ56-'All Respondents'!CJ55","v":-5.9999999999999942E-2},{"$f":"'All Respondents'!CK56-'All Respondents'!CK55","v":1.9999999999999997E-2},{"$f":"'All Respondents'!CL56-'All Respondents'!CL55","v":0.03},{"$f":"'All Respondents'!CM56-'All Respondents'!CM55","v":4.9999999999999989E-2},{"$f":"'All Respondents'!CN56-'All Respondents'!CN55","v":-3.9999999999999925E-2},{"$f":"'All Respondents'!CO56-'All Respondents'!CO55","v":0.03},{"$f":"'All Respondents'!CP56-'All Respondents'!CP55","v":-6.9999999999999951E-2},{"$f":"'All Respondents'!CQ56-'All Respondents'!CQ55","v":-8.9999999999999858E-2},{"$f":"'All Respondents'!CR56-'All Respondents'!CR55","v":-1.0000000000000009E-2},{"$f":"'All Respondents'!CS56-'All Respondents'!CS55","v":-2.0000000000000018E-2},{"$f":"'All Respondents'!CT56-'All Respondents'!CT55","v":3.999999999999998E-2},{"$f":"'All Respondents'!CU56-'All Respondents'!CU55","v":-9.999999999999995E-3},{"$f":"'All Respondents'!CV56-'All Respondents'!CV55","v":0},{"$f":"'All Respondents'!CW56-'All Respondents'!CW55","v":1.0000000000000009E-2},{"$f":"'All Respondents'!CX56-'All Respondents'!CX55","v":0},{"$f":"'All Respondents'!CY56-'All Respondents'!CY55","v":0},{"$f":"'All Respondents'!CZ56-'All Respondents'!CZ55","v":0.01},{"$f":"'All Respondents'!DA56-'All Respondents'!DA55","v":0},{"$f":"'All Respondents'!DB56-'All Respondents'!DB55","v":9.9999999999999811E-3},{"$f":"'All Respondents'!DC56-'All Respondents'!DC55","v":-1.0000000000000009E-2},{"$f":"'All Respondents'!DD56-'All Respondents'!DD55","v":4.9999999999999989E-2},{"$f":"'All Respondents'!DE56-'All Respondents'!DE55","v":-5.9999999999999942E-2},{"$f":"'All Respondents'!DF56-'All Respondents'!DF55","v":1.0000000000000009E-2},{"$f":"'All Respondents'!DG56-'All Respondents'!DG55","v":-0.03},{"$f":"'All Respondents'!DH56-'All Respondents'!DH55","v":-1.9999999999999907E-2},{"$f":"'All Respondents'!DI56-'All Respondents'!DI55","v":1.999999999999999E-2},{"$f":"'All Respondents'!DJ56-'All Respondents'!DJ55","v":0},{"$f":"'All Respondents'!DK56-'All Respondents'!DK55","v":0},{"$f":"'All Respondents'!DL56-'All Respondents'!DL55","v":0}]
["Nov 14-Dec 14",{"$f":"'All Respondents'!B57-'All Respondents'!B56","v":0.29999999999999716},{"$f":"'All Respondents'!D57-'All Respondents'!D56","v":0.39999999999999147},{"$f":"'All Respondents'!E57-'All Respondents'!E56","v":2.0000000000000018E-2},{"$f":"'All Respondents'!F57-'All Respondents'!F56","v":2.0000000000000004E-2},{"$f":"'All Respondents'!G57-'All Respondents'!G56","v":-3.0000000000000027E-2},{"$f":"'All Respondents'!H57-'All Respondents'!H56","v":0},{"$f":"'All Respondents'!I57-'All Respondents'!I56","v":5.1000000000000073E-3},{"$f":"'All Respondents'!J57-'All Respondents'!J56","v":-5.8999999999999886E-3},{"$f":"'All Respondents'!K57-'All Respondents'!K56","v":-2.8280000000000076E-3},{"$f":"'All Respondents'!L57-'All Respondents'!L56","v":2.9999999999999971E-2},{"$f":"'All Respondents'!M57-'All Respondents'!M56","v":3.0000000000000006E-2},{"$f":"'All Respondents'!N57-'All Respondents'!N56","v":-2.9999999999999971E-2},{"$f":"'All Respondents'!O57-'All Respondents'!O56","v":0},null,{"$f":"'All Respondents'!Q57-'All Respondents'!Q56","v":-6.9999999999999923E-4},{"$f":"'All Respondents'!R57-'All Respondents'!R56","v":0},{"$f":"'All Respondents'!S57-'All Respondents'!S56","v":-4.0000000000000036E-2},{"$f":"'All Respondents'!T57-'All Respondents'!T56","v":-4.0000000000000036E-2},{"$f":"'All Respondents'!U57-'All Respondents'!U56","v":0.03},{"$f":"'All Respondents'!V57-'All Respondents'!V56","v":1.0000000000000009E-2},{"$f":"'All Respondents'!W57-'All Respondents'!W56","v":4.0000000000000036E-2},{"$f":"'All Respondents'!X57-'All Respondents'!X56","v":-8.0000000000000071E-2},{"$f":"'All Respondents'!Y57-'All Respondents'!Y56","v":-9.9999999999999811E-3},{"$f":"'All Respondents'!Z57-'All Respondents'!Z56","v":-1.9999999999999962E-2},{"$f":"'All Respondents'!AA57-'All Respondents'!AA56","v":-3.999999999999998E-2},{"$f":"'All Respondents'!AB57-'All Respondents'!AB56","v":-1.0000000000000002E-2},{"$f":"'All Respondents'!AC57-'All Respondents'!AC56","v":9.999999999999995E-3},{"$f":"'All Respondents'!AD57-'All Respondents'!AD56","v":-0.03},{"$f":"'All Respondents'!AE57-'All Respondents'!AE56","v":-1.9999999999999997E-2},{"$f":"'All Respondents'!AF57-'All Respondents'!AF56","v":0},{"$f":"'All Respondents'!AG57-'All Respondents'!AG56","v":-6.9999999999999979E-2},{"$f":"'All Respondents'!AH57-'All Respondents'!AH56","v":7.999999999999996E-2},{"$f":"'All Respondents'!AI57-'All Respondents'!AI56","v":0},{"$f":"'All Respondents'!AJ57-'All Respondents'!AJ56","v":1.0000000000000009E-2},{"$f":"'All Respondents'!AK57-'All Respondents'!AK56","v":1.0000000000000009E-2},{"$f":"'All Respondents'!AL57-'All Respondents'!AL56","v":-3.999999999999998E-2},{"$f":"'All Respondents'!AM57-'All Respondents'!AM56","v":1.999999999999999E-2},{"$f":"'All Respondents'!AN57-'All Respondents'!AN56","v":-2.0000000000000018E-2},{"$f":"'All Respondents'!AO57-'All Respondents'!AO56","v":3.0000000000000027E-2},{"$f":"'All Respondents'!AP57-'All Respondents'!AP56","v":0},{"$f":"'All Respondents'!AQ57-'All Respondents'!AQ56","v":-1.0000000000000009E-2},{"$f":"'All Respondents'!AR57-'All Respondents'!AR56","v":-0.03},{"$f":"'All Respondents'!AS57-'All Respondents'!AS56","v":-1.0000000000000009E-2},{"$f":"'All Respondents'!AT57-'All Respondents'!AT56","v":5.0000000000000017E-2},{"$f":"'All Respondents'!AU57-'All Respondents'!AU56","v":2.9999999999999971E-2},{"$f":"'All Respondents'!AV57-'All Respondents'!AV56","v":0},{"$f":"'All Respondents'!AW57-'All Respondents'!AW56","v":-4.0000000000000008E-2},{"$f":"'All Respondents'!AX57-'All Respondents'!AX56","v":-5.0000000000000017E-2},{"$f":"'All Respondents'!AY57-'All Respondents'!AY56","v":3.999999999999998E-2},{"$f":"'All Respondents'!AZ57-'All Respondents'!AZ56","v":0},{"$f":"'All Respondents'!BA57-'All Respondents'!BA56","v":0},{"$f":"'All Respondents'!BB57-'All Respondents'!BB56","v":3.0000000000000027E-2},{"$f":"'All Respondents'!BC57-'All Respondents'!BC56","v":0},{"$f":"'All Respondents'!BD57-'All Respondents'!BD56","v":5.0710000000000061E-3},{"$f":"'All Respondents'!BE57-'All Respondents'!BE56","v":-1.0000000000000009E-2},{"$f":"'All Respondents'!BF57-'All Respondents'!BF56","v":3.0000000000000027E-2},{"$f":"'All Respondents'!BG57-'All Respondents'!BG56","v":-4.0000000000000036E-2},{"$f":"'All Respondents'!BH57-'All Respondents'!BH56","v":4.9999999999999989E-2},{"$f":"'All Respondents'!BI57-'All Respondents'!BI56","v":-1.0000000000000009E-2},{"$f":"'All Respondents'!BJ57-'All Respondents'!BJ56","v":0.06},{"$f":"'All Respondents'!BK57-'All Respondents'!BK56","v":-1.0000000000000009E-2},{"$f":"'All Respondents'!BL57-'All Respondents'!BL56","v":0},{"$f":"'All Respondents'!BM57-'All Respondents'!BM56","v":-1.0000000000000009E-2},{"$f":"'All Respondents'!BN57-'All Respondents'!BN56","v":1.0000000000000009E-2},{"$f":"'All Respondents'!BO57-'All Respondents'!BO56","v":-9.999999999999995E-3},{"$f":"'All Respondents'!BP57-'All Respondents'!BP56","v":1.0000000000000002E-2},{"$f":"'All Respondents'!BQ57-'All Respondents'!BQ56","v":0},{"$f":"'All Respondents'!BR57-'All Respondents'!BR56","v":-1.0000000000000009E-2},{"$f":"'All Respondents'!BS57-'All Respondents'!BS56","v":0},{"$f":"'All Respondents'!BT57-'All Respondents'!BT56","v":3.0000000000000013E-2},{"$f":"'All Respondents'!BU57-'All Respondents'!BU56","v":-4.0000000000000036E-2},{"$f":"'All Respondents'!BV57-'All Respondents'!BV56","v":-3.0000000000000027E-2},{"$f":"'All Respondents'!BW57-'All Respondents'!BW56","v":-2.9999999999999971E-2},{"$f":"'All Respondents'!BX57-'All Respondents'!BX56","v":4.0000000000000036E-2},{"$f":"'All Respondents'!BY57-'All Respondents'!BY56","v":7.0000000000000007E-2},{"$f":"'All Respondents'!BZ57-'All Respondents'!BZ56","v":-0.03},{"$f":"'All Respondents'!CA57-'All Respondents'!CA56","v":0.05},{"$f":"'All Respondents'!CB57-'All Respondents'!CB56","v":1.999999999999999E-2},{"$f":"'All Respondents'!CC57-'All Respondents'!CC56","v":-1.0000000000000009E-2},{"$f":"'All Respondents'!CD57-'All Respondents'!CD56","v":4.0000000000000008E-2},{"$f":"'All Respondents'!CE57-'All Respondents'!CE56","v":-0.09},{"$f":"'All Respondents'!CF57-'All Respondents'!CF56","v":3.999999999999998E-2},{"$f":"'All Respondents'!CG57-'All Respondents'!CG56","v":-2.0000000000000004E-2},{"$f":"'All Respondents'!CH57-'All Respondents'!CH56","v":-0.03},{"$f":"'All Respondents'!CI57-'All Respondents'!CI56","v":9.9999999999999811E-3},{"$f":"'All Respondents'!CJ57-'All Respondents'!CJ56","v":2.9999999999999916E-2},{"$f":"'All Respondents'!CK57-'All Respondents'!CK56","v":-3.9999999999999994E-2},{"$f":"'All Respondents'!CL57-'All Respondents'!CL56","v":-2.0000000000000004E-2},{"$f":"'All Respondents'!CM57-'All Respondents'!CM56","v":-0.06},{"$f":"'All Respondents'!CN57-'All Respondents'!CN56","v":3.9999999999999925E-2},{"$f":"'All Respondents'!CO57-'All Respondents'!CO56","v":1.999999999999999E-2},{"$f":"'All Respondents'!CP57-'All Respondents'!CP56","v":2.0000000000000018E-2},{"$f":"'All Respondents'!CQ57-'All Respondents'!CQ56","v":9.9999999999999867E-2},{"$f":"'All Respondents'!CR57-'All Respondents'!CR56","v":2.0000000000000018E-2},{"$f":"'All Respondents'!CS57-'All Respondents'!CS56","v":2.0000000000000018E-2},{"$f":"'All Respondents'!CT57-'All Respondents'!CT56","v":-3.999999999999998E-2},{"$f":"'All Respondents'!CU57-'All Respondents'!CU56","v":2.0000000000000004E-2},{"$f":"'All Respondents'!CV57-'All Respondents'!CV56","v":-1.0000000000000009E-2},{"$f":"'All Respondents'!CW57-'All Respondents'!CW56","v":0},{"$f":"'All Respondents'!CX57-'All Respondents'!CX56","v":1.0000000000000009E-2},{"$f":"'All Respondents'!CY57-'All Respondents'!CY56","v":-1.0000000000000002E-2},{"$f":"'All Respondents'!CZ57-'All Respondents'!CZ56","v":0},{"$f":"'All Respondents'!DA57-'All Respondents'!DA56","v":0},{"$f":"'All Respondents'!DB57-'All Respondents'!DB56","v":1.0000000000000009E-2},{"$f":"'All Respondents'!DC57-'All Respondents'!DC56","v":-9.9999999999998979E-3},{"$f":"'All Respondents'!DD57-'All Respondents'!DD56","v":1.999999999999999E-2},{"$f":"'All Respondents'!DE57-'All Respondents'!DE56","v":-1.0000000000000009E-2},{"$f":"'All Respondents'!DF57-'All Respondents'!DF56","v":0},{"$f":"'All Respondents'!DG57-'All Respondents'!DG56","v":0.03},{"$f":"'All Respondents'!DH57-'All Respondents'!DH56","v":2.9999999999999916E-2},{"$f":"'All Respondents'!DI57-'All Respondents'!DI56","v":-9.9999999999999811E-3},{"$f":"'All Respondents'!DJ57-'All Respondents'!DJ56","v":-2.0000000000000004E-2},{"$f":"'All Respondents'!DK57-'All Respondents'!DK56","v":-1.0000000000000009E-2},{"$f":"'All Respondents'!DL57-'All Respondents'!DL56","v":-1.0000000000000002E-2}]
["Dec 14-Jan 15",{"$f":"'All Respondents'!B58-'All Respondents'!B57","v":1.5},{"$f":"'All Respondents'!D58-'All Respondents'!D57","v":1.2000000000000028},{"$f":"'All Respondents'!E58-'All Respondents'!E57","v":2.9999999999999971E-2},{"$f":"'All Respondents'!F58-'All Respondents'!F57","v":0},{"$f":"'All Respondents'!G58-'All Respondents'!G57","v":-2.9999999999999971E-2},{"$f":"'All Respondents'!H58-'All Respondents'!H57","v":2.9999999999999971E-2},{"$f":"'All Respondents'!I58-'All Respondents'!I57","v":-1.7799999999999996E-2},{"$f":"'All Respondents'!J58-'All Respondents'!J57","v":4.1999999999999954E-3},{"$f":"'All Respondents'!K58-'All Respondents'!K57","v":2.6020000000000036E-3},{"$f":"'All Respondents'!L58-'All Respondents'!L57","v":-2.9999999999999971E-2},{"$f":"'All Respondents'!M58-'All Respondents'!M57","v":0},{"$f":"'All Respondents'!N58-'All Respondents'!N57","v":2.9999999999999971E-2},{"$f":"'All Respondents'!O58-'All Respondents'!O57","v":2.9999999999999971E-2},null,{"$f":"'All Respondents'!Q58-'All Respondents'!Q57","v":-1.9999999999999879E-4},{"$f":"'All Respondents'!R58-'All Respondents'!R57","v":0},{"$f":"'All Respondents'!S58-'All Respondents'!S57","v":3.0000000000000027E-2},{"$f":"'All Respondents'!T58-'All Respondents'!T57","v":3.0000000000000027E-2},{"$f":"'All Respondents'!U58-'All Respondents'!U57","v":-9.9999999999999811E-3},{"$f":"'All Respondents'!V58-'All Respondents'!V57","v":-2.0000000000000004E-2},{"$f":"'All Respondents'!W58-'All Respondents'!W57","v":-3.0000000000000027E-2},{"$f":"'All Respondents'!X58-'All Respondents'!X57","v":6.0000000000000053E-2},{"$f":"'All Respondents'!Y58-'All Respondents'!Y57","v":-1.0000000000000009E-2},{"$f":"'All Respondents'!Z58-'All Respondents'!Z57","v":9.9999999999999534E-3},{"$f":"'All Respondents'!AA58-'All Respondents'!AA57","v":-2.0000000000000018E-2},{"$f":"'All Respondents'!AB58-'All Respondents'!AB57","v":4.0000000000000008E-2},{"$f":"'All Respondents'!AC58-'All Respondents'!AC57","v":0},{"$f":"'All Respondents'!AD58-'All Respondents'!AD57","v":1.0000000000000009E-2},{"$f":"'All Respondents'!AE58-'All Respondents'!AE57","v":-1.0000000000000002E-2},{"$f":"'All Respondents'!AF58-'All Respondents'!AF57","v":-0.01},{"$f":"'All Respondents'!AG58-'All Respondents'!AG57","v":-1.0000000000000009E-2},{"$f":"'All Respondents'!AH58-'All Respondents'!AH57","v":3.0000000000000027E-2},{"$f":"'All Respondents'!AI58-'All Respondents'!AI57","v":1.0000000000000009E-2},{"$f":"'All Respondents'!AJ58-'All Respondents'!AJ57","v":3.0000000000000027E-2},{"$f":"'All Respondents'!AK58-'All Respondents'!AK57","v":4.0000000000000036E-2},{"$f":"'All Respondents'!AL58-'All Respondents'!AL57","v":1.0000000000000009E-2},{"$f":"'All Respondents'!AM58-'All Respondents'!AM57","v":-1.0000000000000009E-2},{"$f":"'All Respondents'!AN58-'All Respondents'!AN57","v":0},{"$f":"'All Respondents'!AO58-'All Respondents'!AO57","v":4.0000000000000036E-2},{"$f":"'All Respondents'!AP58-'All Respondents'!AP57","v":-4.0000000000000008E-2},{"$f":"'All Respondents'!AQ58-'All Respondents'!AQ57","v":-2.0000000000000018E-2},{"$f":"'All Respondents'!AR58-'All Respondents'!AR57","v":1.999999999999999E-2},{"$f":"'All Respondents'!AS58-'All Respondents'!AS57","v":1.0000000000000009E-2},{"$f":"'All Respondents'!AT58-'All Respondents'!AT57","v":1.999999999999999E-2},{"$f":"'All Respondents'!AU58-'All Respondents'!AU57","v":1.0000000000000009E-2},{"$f":"'All Respondents'!AV58-'All Respondents'!AV57","v":-0.03},{"$f":"'All Respondents'!AW58-'All Respondents'!AW57","v":1.0000000000000009E-2},{"$f":"'All Respondents'!AX58-'All Respondents'!AX57","v":2.0000000000000018E-2},{"$f":"'All Respondents'!AY58-'All Respondents'!AY57","v":-1.9999999999999962E-2},{"$f":"'All Respondents'!AZ58-'All Respondents'!AZ57","v":-1.0000000000000009E-2},{"$f":"'All Respondents'!BA58-'All Respondents'!BA57","v":-0.02},{"$f":"'All Respondents'!BB58-'All Respondents'!BB57","v":9.9999999999999534E-3},{"$f":"'All Respondents'!BC58-'All Respondents'!BC57","v":9.9999999999999534E-3},{"$f":"'All Respondents'!BD58-'All Respondents'!BD57","v":-3.1250000000000097E-3},{"$f":"'All Respondents'!BE58-'All Respondents'!BE57","v":5.0000000000000044E-2},{"$f":"'All Respondents'!BF58-'All Respondents'!BF57","v":-5.0000000000000044E-2},{"$f":"'All Respondents'!BG58-'All Respondents'!BG57","v":0.10000000000000009},{"$f":"'All Respondents'!BH58-'All Respondents'!BH57","v":3.0000000000000027E-2},{"$f":"'All Respondents'!BI58-'All Respondents'!BI57","v":-2.0000000000000018E-2},{"$f":"'All Respondents'!BJ58-'All Respondents'!BJ57","v":5.0000000000000044E-2},{"$f":"'All Respondents'!BK58-'All Respondents'!BK57","v":0},{"$f":"'All Respondents'!BL58-'All Respondents'!BL57","v":3.0000000000000027E-2},{"$f":"'All Respondents'!BM58-'All Respondents'!BM57","v":3.0000000000000027E-2},{"$f":"'All Respondents'!BN58-'All Respondents'!BN57","v":-2.9999999999999971E-2},{"$f":"'All Respondents'!BO58-'All Respondents'!BO57","v":0},{"$f":"'All Respondents'!BP58-'All Respondents'!BP57","v":-1.0000000000000002E-2},{"$f":"'All Respondents'!BQ58-'All Respondents'!BQ57","v":-9.999999999999995E-3},{"$f":"'All Respondents'!BR58-'All Respondents'!BR57","v":4.0000000000000036E-2},{"$f":"'All Respondents'!BS58-'All Respondents'!BS57","v":3.999999999999998E-2},{"$f":"'All Respondents'!BT58-'All Respondents'!BT57","v":-1.0000000000000009E-2},{"$f":"'All Respondents'!BU58-'All Respondents'!BU57","v":-1.9999999999999907E-2},{"$f":"'All Respondents'!BV58-'All Respondents'!BV57","v":4.9999999999999989E-2},{"$f":"'All Respondents'!BW58-'All Respondents'!BW57","v":2.9999999999999971E-2},{"$f":"'All Respondents'!BX58-'All Respondents'!BX57","v":-2.0000000000000018E-2},{"$f":"'All Respondents'!BY58-'All Respondents'!BY57","v":-4.9999999999999989E-2},{"$f":"'All Respondents'!BZ58-'All Respondents'!BZ57","v":5.0000000000000017E-2},{"$f":"'All Respondents'!CA58-'All Respondents'!CA57","v":-0.03},{"$f":"'All Respondents'!CB58-'All Respondents'!CB57","v":2.0000000000000018E-2},{"$f":"'All Respondents'!CC58-'All Respondents'!CC57","v":-1.0000000000000009E-2},{"$f":"'All Respondents'!CD58-'All Respondents'!CD57","v":-4.0000000000000008E-2},{"$f":"'All Respondents'!CE58-'All Respondents'!CE57","v":1.0000000000000009E-2},{"$f":"'All Respondents'!CF58-'All Respondents'!CF57","v":2.0000000000000018E-2},{"$f":"'All Respondents'!CG58-'All Respondents'!CG57","v":0.03},{"$f":"'All Respondents'!CH58-'All Respondents'!CH57","v":2.0000000000000004E-2},{"$f":"'All Respondents'!CI58-'All Respondents'!CI57","v":1.0000000000000009E-2},{"$f":"'All Respondents'!CJ58-'All Respondents'!CJ57","v":-3.9999999999999925E-2},{"$f":"'All Respondents'!CK58-'All Respondents'!CK57","v":3.9999999999999994E-2},{"$f":"'All Respondents'!CL58-'All Respondents'!CL57","v":3.0000000000000013E-2},{"$f":"'All Respondents'!CM58-'All Respondents'!CM57","v":7.0000000000000007E-2},{"$f":"'All Respondents'!CN58-'All Respondents'!CN57","v":-4.9999999999999933E-2},{"$f":"'All Respondents'!CO58-'All Respondents'!CO57","v":-1.999999999999999E-2},{"$f":"'All Respondents'!CP58-'All Respondents'!CP57","v":-3.0000000000000027E-2},{"$f":"'All Respondents'!CQ58-'All Respondents'!CQ57","v":-0.11999999999999988},{"$f":"'All Respondents'!CR58-'All Respondents'!CR57","v":-1.0000000000000009E-2},{"$f":"'All Respondents'!CS58-'All Respondents'!CS57","v":9.9999999999999811E-3},{"$f":"'All Respondents'!CT58-'All Respondents'!CT57","v":-1.0000000000000009E-2},{"$f":"'All Respondents'!CU58-'All Respondents'!CU57","v":-2.0000000000000004E-2},{"$f":"'All Respondents'!CV58-'All Respondents'!CV57","v":1.0000000000000009E-2},{"$f":"'All Respondents'!CW58-'All Respondents'!CW57","v":-1.0000000000000009E-2},{"$f":"'All Respondents'!CX58-'All Respondents'!CX57","v":-1.0000000000000009E-2},{"$f":"'All Respondents'!CY58-'All Respondents'!CY57","v":1.0000000000000002E-2},{"$f":"'All Respondents'!CZ58-'All Respondents'!CZ57","v":0},{"$f":"'All Respondents'!DA58-'All Respondents'!DA57","v":0},{"$f":"'All Respondents'!DB58-'All Respondents'!DB57","v":0},{"$f":"'All Respondents'!DC58-'All Respondents'!DC57","v":9.9999999999998979E-3},{"$f":"'All Respondents'!DD58-'All Respondents'!DD57","v":-4.9999999999999989E-2},{"$f":"'All Respondents'!DE58-'All Respondents'!DE57","v":4.0000000000000036E-2},{"$f":"'All Respondents'!DF58-'All Respondents'!DF57","v":1.0000000000000009E-2},{"$f":"'All Respondents'!DG58-'All Respondents'!DG57","v":-0.03},{"$f":"'All Respondents'!DH58-'All Respondents'!DH57","v":-1.9999999999999907E-2},{"$f":"'All Respondents'!DI58-'All Respondents'!DI57","v":-2.0000000000000018E-2},{"$f":"'All Respondents'!DJ58-'All Respondents'!DJ57","v":4.0000000000000008E-2},{"$f":"'All Respondents'!DK58-'All Respondents'!DK57","v":1.0000000000000009E-2},{"$f":"'All Respondents'!DL58-'All Respondents'!DL57","v":3.0000000000000006E-2}]
["Jan 15 - Feb 15",{"$f":"'All Respondents'!B59-'All Respondents'!B58","v":-1.2999999999999972},{"$f":"'All Respondents'!D59-'All Respondents'!D58","v":-0.79999999999999716},{"$f":"'All Respondents'!E59-'All Respondents'!E58","v":-2.9999999999999971E-2},{"$f":"'All Respondents'!F59-'All Respondents'!F58","v":-2.0000000000000004E-2},{"$f":"'All Respondents'!G59-'All Respondents'!G58","v":2.9999999999999971E-2},{"$f":"'All Respondents'!H59-'All Respondents'!H58","v":-9.9999999999999534E-3},{"$f":"'All Respondents'!I59-'All Respondents'!I58","v":1.0000000000000009E-3},{"$f":"'All Respondents'!J59-'All Respondents'!J58","v":-1.799999999999996E-3},{"$f":"'All Respondents'!K59-'All Respondents'!K58","v":-6.5600000000000033E-4},{"$f":"'All Respondents'!L59-'All Respondents'!L58","v":2.9999999999999971E-2},{"$f":"'All Respondents'!M59-'All Respondents'!M58","v":-1.0000000000000009E-2},{"$f":"'All Respondents'!N59-'All Respondents'!N58","v":-9.9999999999999534E-3},{"$f":"'All Respondents'!O59-'All Respondents'!O58","v":-3.999999999999998E-2},null,{"$f":"'All Respondents'!Q59-'All Respondents'!Q58","v":6.9999999999999923E-4},{"$f":"'All Respondents'!R59-'All Respondents'!R58","v":0},{"$f":"'All Respondents'!S59-'All Respondents'!S58","v":0},{"$f":"'All Respondents'!T59-'All Respondents'!T58","v":0},{"$f":"'All Respondents'!U59-'All Respondents'!U58","v":0.03},{"$f":"'All Respondents'!V59-'All Respondents'!V58","v":-9.999999999999995E-3},{"$f":"'All Respondents'!W59-'All Respondents'!W58","v":2.0000000000000018E-2},{"$f":"'All Respondents'!X59-'All Respondents'!X58","v":-2.0000000000000018E-2},{"$f":"'All Respondents'!Y59-'All Respondents'!Y58","v":-4.0000000000000008E-2},{"$f":"'All Respondents'!Z59-'All Respondents'!Z58","v":5.0000000000000044E-2},{"$f":"'All Respondents'!AA59-'All Respondents'!AA58","v":0},{"$f":"'All Respondents'!AB59-'All Respondents'!AB58","v":-3.0000000000000006E-2},{"$f":"'All Respondents'!AC59-'All Respondents'!AC58","v":9.999999999999995E-3},{"$f":"'All Respondents'!AD59-'All Respondents'!AD58","v":0},{"$f":"'All Respondents'!AE59-'All Respondents'!AE58","v":0.09},{"$f":"'All Respondents'!AF59-'All Respondents'!AF58","v":1.9999999999999997E-2},{"$f":"'All Respondents'!AG59-'All Respondents'!AG58","v":0},{"$f":"'All Respondents'!AH59-'All Respondents'!AH58","v":-8.0000000000000016E-2},{"$f":"'All Respondents'!AI59-'All Respondents'!AI58","v":-2.0000000000000004E-2},{"$f":"'All Respondents'!AJ59-'All Respondents'!AJ58","v":-2.0000000000000018E-2},{"$f":"'All Respondents'!AK59-'All Respondents'!AK58","v":-4.0000000000000036E-2},{"$f":"'All Respondents'!AL59-'All Respondents'!AL58","v":3.999999999999998E-2},{"$f":"'All Respondents'!AM59-'All Respondents'!AM58","v":-1.999999999999999E-2},{"$f":"'All Respondents'!AN59-'All Respondents'!AN58","v":2.0000000000000018E-2},{"$f":"'All Respondents'!AO59-'All Respondents'!AO58","v":-6.0000000000000053E-2},{"$f":"'All Respondents'!AP59-'All Respondents'!AP58","v":-1.0000000000000009E-2},{"$f":"'All Respondents'!AQ59-'All Respondents'!AQ58","v":5.0000000000000044E-2},{"$f":"'All Respondents'!AR59-'All Respondents'!AR58","v":-1.999999999999999E-2},{"$f":"'All Respondents'!AS59-'All Respondents'!AS58","v":-1.0000000000000009E-2},{"$f":"'All Respondents'!AT59-'All Respondents'!AT58","v":4.0000000000000008E-2},{"$f":"'All Respondents'!AU59-'All Respondents'!AU58","v":1.0000000000000009E-2},{"$f":"'All Respondents'!AV59-'All Respondents'!AV58","v":2.0000000000000004E-2},{"$f":"'All Respondents'!AW59-'All Respondents'!AW58","v":9.9999999999999811E-3},{"$f":"'All Respondents'!AX59-'All Respondents'!AX58","v":0},{"$f":"'All Respondents'!AY59-'All Respondents'!AY58","v":-2.0000000000000018E-2},{"$f":"'All Respondents'!AZ59-'All Respondents'!AZ58","v":0},{"$f":"'All Respondents'!BA59-'All Respondents'!BA58","v":9.9999999999999985E-3},{"$f":"'All Respondents'!BB59-'All Respondents'!BB58","v":-2.9999999999999971E-2},{"$f":"'All Respondents'!BC59-'All Respondents'!BC58","v":-1.0000000000000009E-2},{"$f":"'All Respondents'!BD59-'All Respondents'!BD58","v":1.9359999999999933E-3},{"$f":"'All Respondents'!BE59-'All Respondents'!BE58","v":-1.0000000000000009E-2},{"$f":"'All Respondents'!BF59-'All Respondents'!BF58","v":0},{"$f":"'All Respondents'!BG59-'All Respondents'!BG58","v":-1.0000000000000009E-2},{"$f":"'All Respondents'!BH59-'All Respondents'!BH58","v":2.9999999999999971E-2},{"$f":"'All Respondents'!BI59-'All Respondents'!BI58","v":-3.999999999999998E-2},{"$f":"'All Respondents'!BJ59-'All Respondents'!BJ58","v":6.9999999999999951E-2},{"$f":"'All Respondents'!BK59-'All Respondents'!BK58","v":0},{"$f":"'All Respondents'!BL59-'All Respondents'!BL58","v":-2.0000000000000018E-2},{"$f":"'All Respondents'!BM59-'All Respondents'!BM58","v":-2.0000000000000018E-2},{"$f":"'All Respondents'!BN59-'All Respondents'!BN58","v":2.9999999999999971E-2},{"$f":"'All Respondents'!BO59-'All Respondents'!BO58","v":9.999999999999995E-3},{"$f":"'All Respondents'!BP59-'All Respondents'!BP58","v":-1.0000000000000002E-2},{"$f":"'All Respondents'!BQ59-'All Respondents'!BQ58","v":0},{"$f":"'All Respondents'!BR59-'All Respondents'!BR58","v":-2.0000000000000018E-2},{"$f":"'All Respondents'!BS59-'All Respondents'!BS58","v":-4.9999999999999989E-2},{"$f":"'All Respondents'!BT59-'All Respondents'!BT58","v":-1.0000000000000009E-2},{"$f":"'All Respondents'!BU59-'All Respondents'!BU58","v":4.9999999999999933E-2},{"$f":"'All Respondents'!BV59-'All Respondents'!BV58","v":-3.999999999999998E-2},{"$f":"'All Respondents'!BW59-'All Respondents'!BW58","v":-3.999999999999998E-2},{"$f":"'All Respondents'!BX59-'All Respondents'!BX58","v":4.0000000000000036E-2},{"$f":"'All Respondents'!BY59-'All Respondents'!BY58","v":8.0000000000000016E-2},{"$f":"'All Respondents'!BZ59-'All Respondents'!BZ58","v":1.999999999999999E-2},{"$f":"'All Respondents'!CA59-'All Respondents'!CA58","v":0},{"$f":"'All Respondents'!CB59-'All Respondents'!CB58","v":2.0000000000000018E-2},{"$f":"'All Respondents'!CC59-'All Respondents'!CC58","v":-2.9999999999999916E-2},{"$f":"'All Respondents'!CD59-'All Respondents'!CD58","v":-1.999999999999999E-2},{"$f":"'All Respondents'!CE59-'All Respondents'!CE58","v":4.0000000000000008E-2},{"$f":"'All Respondents'!CF59-'All Respondents'!CF58","v":-4.9999999999999989E-2},{"$f":"'All Respondents'!CG59-'All Respondents'!CG58","v":-9.999999999999995E-3},{"$f":"'All Respondents'!CH59-'All Respondents'!CH58","v":-2.0000000000000004E-2},{"$f":"'All Respondents'!CI59-'All Respondents'!CI58","v":0},{"$f":"'All Respondents'!CJ59-'All Respondents'!CJ58","v":1.0000000000000009E-2},{"$f":"'All Respondents'!CK59-'All Respondents'!CK58","v":-1.9999999999999997E-2},{"$f":"'All Respondents'!CL59-'All Respondents'!CL58","v":-3.0000000000000013E-2},{"$f":"'All Respondents'!CM59-'All Respondents'!CM58","v":-5.0000000000000017E-2},{"$f":"'All Respondents'!CN59-'All Respondents'!CN58","v":3.9999999999999925E-2},{"$f":"'All Respondents'!CO59-'All Respondents'!CO58","v":4.0000000000000008E-2},{"$f":"'All Respondents'!CP59-'All Respondents'!CP58","v":0},{"$f":"'All Respondents'!CQ59-'All Respondents'!CQ58","v":8.9999999999999858E-2},{"$f":"'All Respondents'!CR59-'All Respondents'!CR58","v":-4.0000000000000036E-2},{"$f":"'All Respondents'!CS59-'All Respondents'!CS58","v":0},{"$f":"'All Respondents'!CT59-'All Respondents'!CT58","v":1.999999999999999E-2},{"$f":"'All Respondents'!CU59-'All Respondents'!CU58","v":0},{"$f":"'All Respondents'!CV59-'All Respondents'!CV58","v":0},{"$f":"'All Respondents'!CW59-'All Respondents'!CW58","v":-5.0000000000000044E-2},{"$f":"'All Respondents'!CX59-'All Respondents'!CX58","v":5.0000000000000017E-2},{"$f":"'All Respondents'!CY59-'All Respondents'!CY58","v":0},{"$f":"'All Respondents'!CZ59-'All Respondents'!CZ58","v":0},{"$f":"'All Respondents'!DA59-'All Respondents'!DA58","v":0},{"$f":"'All Respondents'!DB59-'All Respondents'!DB58","v":-1.0000000000000009E-2},{"$f":"'All Respondents'!DC59-'All Respondents'!DC58","v":1.0000000000000009E-2},{"$f":"'All Respondents'!DD59-'All Respondents'!DD58","v":1.0000000000000009E-2},{"$f":"'All Respondents'!DE59-'All Respondents'!DE58","v":0},{"$f":"'All Respondents'!DF59-'All Respondents'!DF58","v":1.9999999999999962E-2},{"$f":"'All Respondents'!DG59-'All Respondents'!DG58","v":-1.0000000000000009E-2},{"$f":"'All Respondents'!DH59-'All Respondents'!DH58","v":9.9999999999998979E-3},{"$f":"'All Respondents'!DI59-'All Respondents'!DI58","v":0},{"$f":"'All Respondents'!DJ59-'All Respondents'!DJ58","v":-2.0000000000000004E-2},{"$f":"'All Respondents'!DK59-'All Respondents'!DK58","v":0},{"$f":"'All Respondents'!DL59-'All Respondents'!DL58","v":-2.0000000000000004E-2}]
["Feb 15 - Mar 15",{"$f":"'All Respondents'!B60-'All Respondents'!B59","v":0.20000000000000284},{"$f":"'All Respondents'!D60-'All Respondents'!D59","v":1.4000000000000057},{"$f":"'All Respondents'!E60-'All Respondents'!E59","v":1.9999999999999962E-2},{"$f":"'All Respondents'!F60-'All Respondents'!F59","v":2.0000000000000004E-2},{"$f":"'All Respondents'!G60-'All Respondents'!G59","v":-1.9999999999999962E-2},{"$f":"'All Respondents'!H60-'All Respondents'!H59","v":0},{"$f":"'All Respondents'!I60-'All Respondents'!I59","v":-5.6000000000000077E-3},{"$f":"'All Respondents'!J60-'All Respondents'!J59","v":7.3999999999999899E-3},{"$f":"'All Respondents'!K60-'All Respondents'!K59","v":2.2779999999999953E-3},{"$f":"'All Respondents'!L60-'All Respondents'!L59","v":4.0000000000000036E-2},{"$f":"'All Respondents'!M60-'All Respondents'!M59","v":-1.9999999999999997E-2},{"$f":"'All Respondents'!N60-'All Respondents'!N59","v":-3.0000000000000027E-2},{"$f":"'All Respondents'!O60-'All Respondents'!O59","v":-6.0000000000000053E-2},null,{"$f":"'All Respondents'!Q60-'All Respondents'!Q59","v":3.0000000000000165E-4},{"$f":"'All Respondents'!R60-'All Respondents'!R59","v":-1.0000000000000009E-2},{"$f":"'All Respondents'!S60-'All Respondents'!S59","v":0},{"$f":"'All Respondents'!T60-'All Respondents'!T59","v":-1.0000000000000009E-2},{"$f":"'All Respondents'!U60-'All Respondents'!U59","v":-2.0000000000000018E-2},{"$f":"'All Respondents'!V60-'All Respondents'!V59","v":9.999999999999995E-3},{"$f":"'All Respondents'!W60-'All Respondents'!W59","v":-1.0000000000000009E-2},{"$f":"'All Respondents'!X60-'All Respondents'!X59","v":0},{"$f":"'All Respondents'!Y60-'All Respondents'!Y59","v":0.06},{"$f":"'All Respondents'!Z60-'All Respondents'!Z59","v":-4.0000000000000036E-2},{"$f":"'All Respondents'!AA60-'All Respondents'!AA59","v":4.0000000000000008E-2},{"$f":"'All Respondents'!AB60-'All Respondents'!AB59","v":-1.0000000000000002E-2},{"$f":"'All Respondents'!AC60-'All Respondents'!AC59","v":-1.999999999999999E-2},{"$f":"'All Respondents'!AD60-'All Respondents'!AD59","v":4.9999999999999989E-2},{"$f":"'All Respondents'!AE60-'All Respondents'!AE59","v":-3.9999999999999994E-2},{"$f":"'All Respondents'!AF60-'All Respondents'!AF59","v":4.0000000000000008E-2},{"$f":"'All Respondents'!AG60-'All Respondents'!AG59","v":-1.999999999999999E-2},{"$f":"'All Respondents'!AH60-'All Respondents'!AH59","v":-9.9999999999999978E-2},{"$f":"'All Respondents'!AI60-'All Respondents'!AI59","v":2.0000000000000004E-2},{"$f":"'All Respondents'!AJ60-'All Respondents'!AJ59","v":3.999999999999998E-2},{"$f":"'All Respondents'!AK60-'All Respondents'!AK59","v":5.9999999999999942E-2},{"$f":"'All Respondents'!AL60-'All Respondents'!AL59","v":-7.0000000000000007E-2},{"$f":"'All Respondents'!AM60-'All Respondents'!AM59","v":0},{"$f":"'All Respondents'!AN60-'All Respondents'!AN59","v":-7.0000000000000007E-2},{"$f":"'All Respondents'!AO60-'All Respondents'!AO59","v":0.12999999999999995},{"$f":"'All Respondents'!AP60-'All Respondents'!AP59","v":4.0000000000000008E-2},{"$f":"'All Respondents'!AQ60-'All Respondents'!AQ59","v":-2.0000000000000018E-2},{"$f":"'All Respondents'!AR60-'All Respondents'!AR59","v":1.999999999999999E-2},{"$f":"'All Respondents'!AS60-'All Respondents'!AS59","v":0},{"$f":"'All Respondents'!AT60-'All Respondents'!AT59","v":-5.0000000000000017E-2},{"$f":"'All Respondents'!AU60-'All Respondents'!AU59","v":-3.999999999999998E-2},{"$f":"'All Respondents'!AV60-'All Respondents'!AV59","v":9.999999999999995E-3},{"$f":"'All Respondents'!AW60-'All Respondents'!AW59","v":0},{"$f":"'All Respondents'!AX60-'All Respondents'!AX59","v":0},{"$f":"'All Respondents'!AY60-'All Respondents'!AY59","v":3.0000000000000027E-2},{"$f":"'All Respondents'!AZ60-'All Respondents'!AZ59","v":1.0000000000000009E-2},{"$f":"'All Respondents'!BA60-'All Respondents'!BA59","v":1.0000000000000002E-2},{"$f":"'All Respondents'!BB60-'All Respondents'!BB59","v":0},{"$f":"'All Respondents'!BC60-'All Respondents'!BC59","v":0},{"$f":"'All Respondents'!BD60-'All Respondents'!BD59","v":4.8000000000006371E-5},{"$f":"'All Respondents'!BE60-'All Respondents'!BE59","v":-5.0000000000000044E-2},{"$f":"'All Respondents'!BF60-'All Respondents'!BF59","v":5.0000000000000044E-2},{"$f":"'All Respondents'!BG60-'All Respondents'!BG59","v":-0.10000000000000009},{"$f":"'All Respondents'!BH60-'All Respondents'!BH59","v":-3.999999999999998E-2},{"$f":"'All Respondents'!BI60-'All Respondents'!BI59","v":2.9999999999999971E-2},{"$f":"'All Respondents'!BJ60-'All Respondents'!BJ59","v":-6.9999999999999951E-2},{"$f":"'All Respondents'!BK60-'All Respondents'!BK59","v":-1.0000000000000009E-2},{"$f":"'All Respondents'!BL60-'All Respondents'!BL59","v":-3.999999999999998E-2},{"$f":"'All Respondents'!BM60-'All Respondents'!BM59","v":-4.9999999999999933E-2},{"$f":"'All Respondents'!BN60-'All Respondents'!BN59","v":2.0000000000000018E-2},{"$f":"'All Respondents'!BO60-'All Respondents'!BO59","v":2.0000000000000004E-2},{"$f":"'All Respondents'!BP60-'All Respondents'!BP59","v":1.0000000000000002E-2},{"$f":"'All Respondents'!BQ60-'All Respondents'!BQ59","v":3.0000000000000013E-2},{"$f":"'All Respondents'!BR60-'All Respondents'!BR59","v":-7.999999999999996E-2},{"$f":"'All Respondents'!BS60-'All Respondents'!BS59","v":-1.999999999999999E-2},{"$f":"'All Respondents'!BT60-'All Respondents'!BT59","v":0.03},{"$f":"'All Respondents'!BU60-'All Respondents'!BU59","v":0},{"$f":"'All Respondents'!BV60-'All Respondents'!BV59","v":-4.9999999999999989E-2},{"$f":"'All Respondents'!BW60-'All Respondents'!BW59","v":3.0000000000000027E-2},{"$f":"'All Respondents'!BX60-'All Respondents'!BX59","v":-4.0000000000000036E-2},{"$f":"'All Respondents'!BY60-'All Respondents'!BY59","v":-7.0000000000000062E-2},{"$f":"'All Respondents'!BZ60-'All Respondents'!BZ59","v":-0.06},{"$f":"'All Respondents'!CA60-'All Respondents'!CA59","v":9.999999999999995E-3},{"$f":"'All Respondents'!CB60-'All Respondents'!CB59","v":-5.0000000000000017E-2},{"$f":"'All Respondents'!CC60-'All Respondents'!CC59","v":3.9999999999999925E-2},{"$f":"'All Respondents'!CD60-'All Respondents'!CD59","v":-2.0000000000000004E-2},{"$f":"'All Respondents'!CE60-'All Respondents'!CE59","v":-2.0000000000000018E-2},{"$f":"'All Respondents'!CF60-'All Respondents'!CF59","v":7.999999999999996E-2},{"$f":"'All Respondents'!CG60-'All Respondents'!CG59","v":9.999999999999995E-3},{"$f":"'All Respondents'!CH60-'All Respondents'!CH59","v":-9.999999999999995E-3},{"$f":"'All Respondents'!CI60-'All Respondents'!CI59","v":-1.0000000000000009E-2},{"$f":"'All Respondents'!CJ60-'All Respondents'!CJ59","v":2.0000000000000018E-2},{"$f":"'All Respondents'!CK60-'All Respondents'!CK59","v":1.9999999999999997E-2},{"$f":"'All Respondents'!CL60-'All Respondents'!CL59","v":-9.999999999999995E-3},{"$f":"'All Respondents'!CM60-'All Respondents'!CM59","v":1.0000000000000009E-2},{"$f":"'All Respondents'!CN60-'All Respondents'!CN59","v":0},{"$f":"'All Respondents'!CO60-'All Respondents'!CO59","v":-0.03},{"$f":"'All Respondents'!CP60-'All Respondents'!CP59","v":3.0000000000000027E-2},{"$f":"'All Respondents'!CQ60-'All Respondents'!CQ59","v":-9.9999999999998979E-3},{"$f":"'All Respondents'!CR60-'All Respondents'!CR59","v":5.0000000000000044E-2},{"$f":"'All Respondents'!CS60-'All Respondents'!CS59","v":-9.9999999999999811E-3},{"$f":"'All Respondents'!CT60-'All Respondents'!CT59","v":0},{"$f":"'All Respondents'!CU60-'All Respondents'!CU59","v":-9.999999999999995E-3},{"$f":"'All Respondents'!CV60-'All Respondents'!CV59","v":9.9999999999999811E-3},{"$f":"'All Respondents'!CW60-'All Respondents'!CW59","v":-1.0000000000000009E-2},{"$f":"'All Respondents'!CX60-'All Respondents'!CX59","v":9.9999999999999811E-3},{"$f":"'All Respondents'!CY60-'All Respondents'!CY59","v":-1.0000000000000002E-2},{"$f":"'All Respondents'!CZ60-'All Respondents'!CZ59","v":0},{"$f":"'All Respondents'!DA60-'All Respondents'!DA59","v":0.01},{"$f":"'All Respondents'!DB60-'All Respondents'!DB59","v":-9.9999999999999811E-3},{"$f":"'All Respondents'!DC60-'All Respondents'!DC59","v":0},{"$f":"'All Respondents'!DD60-'All Respondents'!DD59","v":-1.0000000000000009E-2},{"$f":"'All Respondents'!DE60-'All Respondents'!DE59","v":1.0000000000000009E-2},{"$f":"'All Respondents'!DF60-'All Respondents'!DF59","v":-1.0000000000000009E-2},{"$f":"'All Respondents'!DG60-'All Respondents'!DG59","v":2.0000000000000018E-2},{"$f":"'All Respondents'!DH60-'All Respondents'!DH59","v":1.0000000000000009E-2},{"$f":"'All Respondents'!DI60-'All Respondents'!DI59","v":-9.9999999999999811E-3},{"$f":"'All Respondents'!DJ60-'All Respondents'!DJ59","v":0},{"$f":"'All Respondents'!DK60-'All Respondents'!DK59","v":0},{"$f":"'All Respondents'!DL60-'All Respondents'!DL59","v":0}]
["Mar 15 - Apr 15",{"$f":"'All Respondents'!B61-'All Respondents'!B60","v":0.59999999999999432},{"$f":"'All Respondents'!D61-'All Respondents'!D60","v":0.19999999999998863},{"$f":"'All Respondents'!E61-'All Respondents'!E60","v":-1.9999999999999962E-2},{"$f":"'All Respondents'!F61-'All Respondents'!F60","v":-9.999999999999995E-3},{"$f":"'All Respondents'!G61-'All Respondents'!G60","v":1.9999999999999962E-2},{"$f":"'All Respondents'!H61-'All Respondents'!H60","v":-9.9999999999999534E-3},{"$f":"'All Respondents'!I61-'All Respondents'!I60","v":4.3999999999999997E-2},{"$f":"'All Respondents'!J61-'All Respondents'!J60","v":-3.4999999999999892E-3},{"$f":"'All Respondents'!K61-'All Respondents'!K60","v":1.1110000000000043E-3},{"$f":"'All Respondents'!L61-'All Respondents'!L60","v":0},{"$f":"'All Respondents'!M61-'All Respondents'!M60","v":3.0000000000000006E-2},{"$f":"'All Respondents'!N61-'All Respondents'!N60","v":-2.9999999999999971E-2},{"$f":"'All Respondents'!O61-'All Respondents'!O60","v":3.0000000000000027E-2},null,{"$f":"'All Respondents'!Q61-'All Respondents'!Q60","v":-1.3000000000000025E-3},{"$f":"'All Respondents'!R61-'All Respondents'!R60","v":1.999999999999999E-2},{"$f":"'All Respondents'!S61-'All Respondents'!S60","v":-4.9999999999999989E-2},{"$f":"'All Respondents'!T61-'All Respondents'!T60","v":-3.0000000000000027E-2},{"$f":"'All Respondents'!U61-'All Respondents'!U60","v":1.0000000000000009E-2},{"$f":"'All Respondents'!V61-'All Respondents'!V60","v":9.999999999999995E-3},{"$f":"'All Respondents'!W61-'All Respondents'!W60","v":2.0000000000000018E-2},{"$f":"'All Respondents'!X61-'All Respondents'!X60","v":-5.0000000000000044E-2},{"$f":"'All Respondents'!Y61-'All Respondents'!Y60","v":-1.999999999999999E-2},{"$f":"'All Respondents'!Z61-'All Respondents'!Z60","v":3.0000000000000027E-2},{"$f":"'All Respondents'!AA61-'All Respondents'!AA60","v":-1.0000000000000009E-2},{"$f":"'All Respondents'!AB61-'All Respondents'!AB60","v":0},{"$f":"'All Respondents'!AC61-'All Respondents'!AC60","v":1.999999999999999E-2},{"$f":"'All Respondents'!AD61-'All Respondents'!AD60","v":9.0000000000000024E-2},{"$f":"'All Respondents'!AE61-'All Respondents'!AE60","v":-9.999999999999995E-3},{"$f":"'All Respondents'!AF61-'All Respondents'!AF60","v":-2.0000000000000004E-2},{"$f":"'All Respondents'!AG61-'All Respondents'!AG60","v":-4.0000000000000008E-2},{"$f":"'All Respondents'!AH61-'All Respondents'!AH60","v":0.06},{"$f":"'All Respondents'!AI61-'All Respondents'!AI60","v":9.999999999999995E-3},{"$f":"'All Respondents'!AJ61-'All Respondents'!AJ60","v":-1.0000000000000009E-2},{"$f":"'All Respondents'!AK61-'All Respondents'!AK60","v":0},{"$f":"'All Respondents'!AL61-'All Respondents'!AL60","v":1.0000000000000009E-2},{"$f":"'All Respondents'!AM61-'All Respondents'!AM60","v":0},{"$f":"'All Respondents'!AN61-'All Respondents'!AN60","v":1.0000000000000009E-2},{"$f":"'All Respondents'!AO61-'All Respondents'!AO60","v":-1.0000000000000009E-2},{"$f":"'All Respondents'!AP61-'All Respondents'!AP60","v":-1.0000000000000009E-2},{"$f":"'All Respondents'!AQ61-'All Respondents'!AQ60","v":0},{"$f":"'All Respondents'!AR61-'All Respondents'!AR60","v":2.0000000000000018E-2},{"$f":"'All Respondents'!AS61-'All Respondents'!AS60","v":0},{"$f":"'All Respondents'!AT61-'All Respondents'!AT60","v":-9.9999999999999811E-3},{"$f":"'All Respondents'!AU61-'All Respondents'!AU60","v":-1.0000000000000009E-2},{"$f":"'All Respondents'!AV61-'All Respondents'!AV60","v":1.0000000000000009E-2},{"$f":"'All Respondents'!AW61-'All Respondents'!AW60","v":2.0000000000000018E-2},{"$f":"'All Respondents'!AX61-'All Respondents'!AX60","v":-5.0000000000000017E-2},{"$f":"'All Respondents'!AY61-'All Respondents'!AY60","v":0.06},{"$f":"'All Respondents'!AZ61-'All Respondents'!AZ60","v":1.0000000000000009E-2},{"$f":"'All Respondents'!BA61-'All Respondents'!BA60","v":-1.0000000000000002E-2},{"$f":"'All Respondents'!BB61-'All Respondents'!BB60","v":0},{"$f":"'All Respondents'!BC61-'All Respondents'!BC60","v":1.9999999999999962E-2},{"$f":"'All Respondents'!BD61-'All Respondents'!BD60","v":1.3120000000000007E-3},{"$f":"'All Respondents'!BE61-'All Respondents'!BE60","v":3.0000000000000027E-2},{"$f":"'All Respondents'!BF61-'All Respondents'!BF60","v":-2.0000000000000018E-2},{"$f":"'All Respondents'!BG61-'All Respondents'!BG60","v":5.0000000000000044E-2},{"$f":"'All Respondents'!BH61-'All Respondents'!BH60","v":-1.0000000000000009E-2},{"$f":"'All Respondents'!BI61-'All Respondents'!BI60","v":1.0000000000000009E-2},{"$f":"'All Respondents'!BJ61-'All Respondents'!BJ60","v":-2.0000000000000018E-2},{"$f":"'All Respondents'!BK61-'All Respondents'!BK60","v":0.03},{"$f":"'All Respondents'!BL61-'All Respondents'!BL60","v":1.0000000000000009E-2},{"$f":"'All Respondents'!BM61-'All Respondents'!BM60","v":3.999999999999998E-2},{"$f":"'All Respondents'!BN61-'All Respondents'!BN60","v":0},{"$f":"'All Respondents'!BO61-'All Respondents'!BO60","v":-0.03},{"$f":"'All Respondents'!BP61-'All Respondents'!BP60","v":-1.0000000000000002E-2},{"$f":"'All Respondents'!BQ61-'All Respondents'!BQ60","v":-4.0000000000000008E-2},{"$f":"'All Respondents'!BR61-'All Respondents'!BR60","v":7.999999999999996E-2},{"$f":"'All Respondents'!BS61-'All Respondents'!BS60","v":1.999999999999999E-2},{"$f":"'All Respondents'!BT61-'All Respondents'!BT60","v":-0.03},{"$f":"'All Respondents'!BU61-'All Respondents'!BU60","v":1.0000000000000009E-2},{"$f":"'All Respondents'!BV61-'All Respondents'!BV60","v":4.9999999999999989E-2},{"$f":"'All Respondents'!BW61-'All Respondents'!BW60","v":0},{"$f":"'All Respondents'!BX61-'All Respondents'!BX60","v":2.0000000000000018E-2},{"$f":"'All Respondents'!BY61-'All Respondents'!BY60","v":2.0000000000000018E-2},{"$f":"'All Respondents'!BZ61-'All Respondents'!BZ60","v":4.9999999999999989E-2},{"$f":"'All Respondents'!CA61-'All Respondents'!CA60","v":-9.999999999999995E-3},{"$f":"'All Respondents'!CB61-'All Respondents'!CB60","v":4.0000000000000008E-2},{"$f":"'All Respondents'!CC61-'All Respondents'!CC60","v":-2.9999999999999916E-2},{"$f":"'All Respondents'!CD61-'All Respondents'!CD60","v":6.0000000000000012E-2},{"$f":"'All Respondents'!CE61-'All Respondents'!CE60","v":-9.9999999999999811E-3},{"$f":"'All Respondents'!CF61-'All Respondents'!CF60","v":-7.999999999999996E-2},{"$f":"'All Respondents'!CG61-'All Respondents'!CG60","v":-9.999999999999995E-3},{"$f":"'All Respondents'!CH61-'All Respondents'!CH60","v":0},{"$f":"'All Respondents'!CI61-'All Respondents'!CI60","v":-9.9999999999999811E-3},{"$f":"'All Respondents'!CJ61-'All Respondents'!CJ60","v":9.9999999999998979E-3},{"$f":"'All Respondents'!CK61-'All Respondents'!CK60","v":-9.999999999999995E-3},{"$f":"'All Respondents'!CL61-'All Respondents'!CL60","v":-1.0000000000000009E-2},{"$f":"'All Respondents'!CM61-'All Respondents'!CM60","v":-1.999999999999999E-2},{"$f":"'All Respondents'!CN61-'All Respondents'!CN60","v":1.0000000000000009E-2},{"$f":"'All Respondents'!CO61-'All Respondents'!CO60","v":-1.0000000000000009E-2},{"$f":"'All Respondents'!CP61-'All Respondents'!CP60","v":2.0000000000000018E-2},{"$f":"'All Respondents'!CQ61-'All Respondents'!CQ60","v":3.0000000000000027E-2},{"$f":"'All Respondents'!CR61-'All Respondents'!CR60","v":-5.0000000000000044E-2},{"$f":"'All Respondents'!CS61-'All Respondents'!CS60","v":1.999999999999999E-2},{"$f":"'All Respondents'!CT61-'All Respondents'!CT60","v":4.0000000000000008E-2},{"$f":"'All Respondents'!CU61-'All Respondents'!CU60","v":1.999999999999999E-2},{"$f":"'All Respondents'!CV61-'All Respondents'!CV60","v":-0.03},{"$f":"'All Respondents'!CW61-'All Respondents'!CW60","v":8.9999999999999969E-2},{"$f":"'All Respondents'!CX61-'All Respondents'!CX60","v":-6.9999999999999979E-2},{"$f":"'All Respondents'!CY61-'All Respondents'!CY60","v":0},{"$f":"'All Respondents'!CZ61-'All Respondents'!CZ60","v":0},{"$f":"'All Respondents'!DA61-'All Respondents'!DA60","v":-0.01},{"$f":"'All Respondents'!DB61-'All Respondents'!DB60","v":0.03},{"$f":"'All Respondents'!DC61-'All Respondents'!DC60","v":-2.9999999999999916E-2},{"$f":"'All Respondents'!DD61-'All Respondents'!DD60","v":1.999999999999999E-2},{"$f":"'All Respondents'!DE61-'All Respondents'!DE60","v":-3.0000000000000027E-2},{"$f":"'All Respondents'!DF61-'All Respondents'!DF60","v":0},{"$f":"'All Respondents'!DG61-'All Respondents'!DG60","v":-2.0000000000000018E-2},{"$f":"'All Respondents'!DH61-'All Respondents'!DH60","v":-2.0000000000000018E-2},{"$f":"'All Respondents'!DI61-'All Respondents'!DI60","v":4.9999999999999989E-2},{"$f":"'All Respondents'!DJ61-'All Respondents'!DJ60","v":-2.0000000000000004E-2},{"$f":"'All Respondents'!DK61-'All Respondents'!DK60","v":-2.0000000000000004E-2},{"$f":"'All Respondents'!DL61-'All Respondents'!DL60","v":0}]
["Apr 15 - May 15",{"$f":"'All Respondents'!B62-'All Respondents'!B61","v":2},{"$f":"'All Respondents'!D62-'All Respondents'!D61","v":2},{"$f":"'All Respondents'!E62-'All Respondents'!E61","v":2.9999999999999971E-2},{"$f":"'All Respondents'!F62-'All Respondents'!F61","v":-1.0000000000000009E-2},{"$f":"'All Respondents'!G62-'All Respondents'!G61","v":-4.9999999999999989E-2},{"$f":"'All Respondents'!H62-'All Respondents'!H61","v":3.999999999999998E-2},{"$f":"'All Respondents'!I62-'All Respondents'!I61","v":-2.9999999999999472E-4},{"$f":"'All Respondents'!J62-'All Respondents'!J61","v":-5.400000000000002E-3},{"$f":"'All Respondents'!K62-'All Respondents'!K61","v":2.0200000000000079E-4},{"$f":"'All Respondents'!L62-'All Respondents'!L61","v":-5.0000000000000044E-2},{"$f":"'All Respondents'!M62-'All Respondents'!M61","v":-3.0000000000000006E-2},{"$f":"'All Respondents'!N62-'All Respondents'!N61","v":8.9999999999999969E-2},{"$f":"'All Respondents'!O62-'All Respondents'!O61","v":2.0000000000000018E-2},null,{"$f":"'All Respondents'!Q62-'All Respondents'!Q61","v":1.9999999999999879E-4},{"$f":"'All Respondents'!R62-'All Respondents'!R61","v":1.0000000000000009E-2},{"$f":"'All Respondents'!S62-'All Respondents'!S61","v":1.9999999999999962E-2},{"$f":"'All Respondents'!T62-'All Respondents'!T61","v":2.9999999999999916E-2},{"$f":"'All Respondents'!U62-'All Respondents'!U61","v":0},{"$f":"'All Respondents'!V62-'All Respondents'!V61","v":0},{"$f":"'All Respondents'!W62-'All Respondents'!W61","v":0},{"$f":"'All Respondents'!X62-'All Respondents'!X61","v":2.9999999999999916E-2},{"$f":"'All Respondents'!Y62-'All Respondents'!Y61","v":-4.9999999999999989E-2},{"$f":"'All Respondents'!Z62-'All Respondents'!Z61","v":-4.0000000000000036E-2},{"$f":"'All Respondents'!AA62-'All Respondents'!AA61","v":4.0000000000000008E-2},{"$f":"'All Respondents'!AB62-'All Respondents'!AB61","v":1.0000000000000002E-2},{"$f":"'All Respondents'!AC62-'All Respondents'!AC61","v":1.0000000000000009E-2},{"$f":"'All Respondents'!AD62-'All Respondents'!AD61","v":-0.06},{"$f":"'All Respondents'!AE62-'All Respondents'!AE61","v":-2.0000000000000004E-2},{"$f":"'All Respondents'!AF62-'All Respondents'!AF61","v":0},{"$f":"'All Respondents'!AG62-'All Respondents'!AG61","v":0.06},{"$f":"'All Respondents'!AH62-'All Respondents'!AH61","v":3.999999999999998E-2},{"$f":"'All Respondents'!AI62-'All Respondents'!AI61","v":9.999999999999995E-3},{"$f":"'All Respondents'!AJ62-'All Respondents'!AJ61","v":2.0000000000000018E-2},{"$f":"'All Respondents'!AK62-'All Respondents'!AK61","v":3.0000000000000027E-2},{"$f":"'All Respondents'!AL62-'All Respondents'!AL61","v":-3.0000000000000027E-2},{"$f":"'All Respondents'!AM62-'All Respondents'!AM61","v":-1.0000000000000009E-2},{"$f":"'All Respondents'!AN62-'All Respondents'!AN61","v":-4.0000000000000036E-2},{"$f":"'All Respondents'!AO62-'All Respondents'!AO61","v":7.0000000000000062E-2},{"$f":"'All Respondents'!AP62-'All Respondents'!AP61","v":0.06},{"$f":"'All Respondents'!AQ62-'All Respondents'!AQ61","v":-2.0000000000000018E-2},{"$f":"'All Respondents'!AR62-'All Respondents'!AR61","v":-1.0000000000000009E-2},{"$f":"'All Respondents'!AS62-'All Respondents'!AS61","v":-9.999999999999995E-3},{"$f":"'All Respondents'!AT62-'All Respondents'!AT61","v":-0.03},{"$f":"'All Respondents'!AU62-'All Respondents'!AU61","v":-2.0000000000000018E-2},{"$f":"'All Respondents'!AV62-'All Respondents'!AV61","v":0},{"$f":"'All Respondents'!AW62-'All Respondents'!AW61","v":-2.0000000000000018E-2},{"$f":"'All Respondents'!AX62-'All Respondents'!AX61","v":2.0000000000000004E-2},{"$f":"'All Respondents'!AY62-'All Respondents'!AY61","v":2.9999999999999971E-2},{"$f":"'All Respondents'!AZ62-'All Respondents'!AZ61","v":1.0000000000000009E-2},{"$f":"'All Respondents'!BA62-'All Respondents'!BA61","v":1.0000000000000002E-2},{"$f":"'All Respondents'!BB62-'All Respondents'!BB61","v":-4.9999999999999989E-2},{"$f":"'All Respondents'!BC62-'All Respondents'!BC61","v":0},{"$f":"'All Respondents'!BD62-'All Respondents'!BD61","v":2.0490000000000091E-3},{"$f":"'All Respondents'!BE62-'All Respondents'!BE61","v":3.0000000000000027E-2},{"$f":"'All Respondents'!BF62-'All Respondents'!BF61","v":-4.9999999999999989E-2},{"$f":"'All Respondents'!BG62-'All Respondents'!BG61","v":8.0000000000000016E-2},{"$f":"'All Respondents'!BH62-'All Respondents'!BH61","v":-3.999999999999998E-2},{"$f":"'All Respondents'!BI62-'All Respondents'!BI61","v":3.0000000000000027E-2},{"$f":"'All Respondents'!BJ62-'All Respondents'!BJ61","v":-7.0000000000000007E-2},{"$f":"'All Respondents'!BK62-'All Respondents'!BK61","v":-9.9999999999999811E-3},{"$f":"'All Respondents'!BL62-'All Respondents'!BL61","v":1.9999999999999962E-2},{"$f":"'All Respondents'!BM62-'All Respondents'!BM61","v":9.9999999999999534E-3},{"$f":"'All Respondents'!BN62-'All Respondents'!BN61","v":-2.0000000000000018E-2},{"$f":"'All Respondents'!BO62-'All Respondents'!BO61","v":9.999999999999995E-3},{"$f":"'All Respondents'!BP62-'All Respondents'!BP61","v":1.0000000000000002E-2},{"$f":"'All Respondents'!BQ62-'All Respondents'!BQ61","v":1.999999999999999E-2},{"$f":"'All Respondents'!BR62-'All Respondents'!BR61","v":-1.0000000000000009E-2},{"$f":"'All Respondents'!BS62-'All Respondents'!BS61","v":4.0000000000000036E-2},{"$f":"'All Respondents'!BT62-'All Respondents'!BT61","v":0},{"$f":"'All Respondents'!BU62-'All Respondents'!BU61","v":-4.0000000000000036E-2},{"$f":"'All Respondents'!BV62-'All Respondents'!BV61","v":4.0000000000000036E-2},{"$f":"'All Respondents'!BW62-'All Respondents'!BW61","v":0},{"$f":"'All Respondents'!BX62-'All Respondents'!BX61","v":-2.0000000000000018E-2},{"$f":"'All Respondents'!BY62-'All Respondents'!BY61","v":-2.0000000000000018E-2},{"$f":"'All Respondents'!BZ62-'All Respondents'!BZ61","v":-3.999999999999998E-2},{"$f":"'All Respondents'!CA62-'All Respondents'!CA61","v":-9.999999999999995E-3},{"$f":"'All Respondents'!CB62-'All Respondents'!CB61","v":-4.9999999999999989E-2},{"$f":"'All Respondents'!CC62-'All Respondents'!CC61","v":1.9999999999999907E-2},{"$f":"'All Respondents'!CD62-'All Respondents'!CD61","v":9.9999999999999811E-3},{"$f":"'All Respondents'!CE62-'All Respondents'!CE61","v":1.999999999999999E-2},{"$f":"'All Respondents'!CF62-'All Respondents'!CF61","v":-1.0000000000000009E-2},{"$f":"'All Respondents'!CG62-'All Respondents'!CG61","v":9.999999999999995E-3},{"$f":"'All Respondents'!CH62-'All Respondents'!CH61","v":9.999999999999995E-3},{"$f":"'All Respondents'!CI62-'All Respondents'!CI61","v":1.999999999999999E-2},{"$f":"'All Respondents'!CJ62-'All Respondents'!CJ61","v":-4.9999999999999933E-2},{"$f":"'All Respondents'!CK62-'All Respondents'!CK61","v":9.999999999999995E-3},{"$f":"'All Respondents'!CL62-'All Respondents'!CL61","v":4.0000000000000008E-2},{"$f":"'All Respondents'!CM62-'All Respondents'!CM61","v":4.9999999999999989E-2},{"$f":"'All Respondents'!CN62-'All Respondents'!CN61","v":-3.0000000000000138E-2},{"$f":"'All Respondents'!CO62-'All Respondents'!CO61","v":1.999999999999999E-2},{"$f":"'All Respondents'!CP62-'All Respondents'!CP61","v":-5.0000000000000044E-2},{"$f":"'All Respondents'!CQ62-'All Respondents'!CQ61","v":-8.0000000000000182E-2},{"$f":"'All Respondents'!CR62-'All Respondents'!CR61","v":5.0000000000000044E-2},{"$f":"'All Respondents'!CS62-'All Respondents'!CS61","v":-1.999999999999999E-2},{"$f":"'All Respondents'!CT62-'All Respondents'!CT61","v":-4.0000000000000008E-2},{"$f":"'All Respondents'!CU62-'All Respondents'!CU61","v":-9.999999999999995E-3},{"$f":"'All Respondents'!CV62-'All Respondents'!CV61","v":1.0000000000000009E-2},{"$f":"'All Respondents'!CW62-'All Respondents'!CW61","v":-1.9999999999999907E-2},{"$f":"'All Respondents'!CX62-'All Respondents'!CX61","v":9.9999999999999811E-3},{"$f":"'All Respondents'!CY62-'All Respondents'!CY61","v":0},{"$f":"'All Respondents'!CZ62-'All Respondents'!CZ61","v":-0.01},{"$f":"'All Respondents'!DA62-'All Respondents'!DA61","v":0},{"$f":"'All Respondents'!DB62-'All Respondents'!DB61","v":-4.0000000000000008E-2},{"$f":"'All Respondents'!DC62-'All Respondents'!DC61","v":4.9999999999999933E-2},{"$f":"'All Respondents'!DD62-'All Respondents'!DD61","v":-0.03},{"$f":"'All Respondents'!DE62-'All Respondents'!DE61","v":3.0000000000000027E-2},{"$f":"'All Respondents'!DF62-'All Respondents'!DF61","v":3.0000000000000027E-2},{"$f":"'All Respondents'!DG62-'All Respondents'!DG61","v":0},{"$f":"'All Respondents'!DH62-'All Respondents'!DH61","v":3.0000000000000027E-2},{"$f":"'All Respondents'!DI62-'All Respondents'!DI61","v":-0.06},{"$f":"'All Respondents'!DJ62-'All Respondents'!DJ61","v":9.999999999999995E-3},{"$f":"'All Respondents'!DK62-'All Respondents'!DK61","v":0.03},{"$f":"'All Respondents'!DL62-'All Respondents'!DL61","v":-2.0000000000000004E-2}]
["May 15 - Jun 15",{"$f":"'All Respondents'!B63-'All Respondents'!B62","v":0.40000000000000568},{"$f":"'All Respondents'!D63-'All Respondents'!D62","v":1},{"$f":"'All Respondents'!E63-'All Respondents'!E62","v":-2.0000000000000018E-2},{"$f":"'All Respondents'!F63-'All Respondents'!F62","v":1.0000000000000009E-2},{"$f":"'All Respondents'!G63-'All Respondents'!G62","v":2.0000000000000018E-2},{"$f":"'All Respondents'!H63-'All Respondents'!H62","v":-3.0000000000000027E-2},{"$f":"'All Respondents'!I63-'All Respondents'!I62","v":-2.1400000000000002E-2},{"$f":"'All Respondents'!J63-'All Respondents'!J62","v":3.2999999999999974E-3},{"$f":"'All Respondents'!K63-'All Respondents'!K62","v":-1.9890000000000012E-3},{"$f":"'All Respondents'!L63-'All Respondents'!L62","v":3.0000000000000027E-2},{"$f":"'All Respondents'!M63-'All Respondents'!M62","v":0},{"$f":"'All Respondents'!N63-'All Respondents'!N62","v":-0.06},{"$f":"'All Respondents'!O63-'All Respondents'!O62","v":-3.0000000000000027E-2},null,{"$f":"'All Respondents'!Q63-'All Respondents'!Q62","v":1.0000000000000286E-4},{"$f":"'All Respondents'!R63-'All Respondents'!R62","v":-1.0000000000000009E-2},{"$f":"'All Respondents'!S63-'All Respondents'!S62","v":-1.9999999999999962E-2},{"$f":"'All Respondents'!T63-'All Respondents'!T62","v":-2.9999999999999916E-2},{"$f":"'All Respondents'!U63-'All Respondents'!U62","v":0},{"$f":"'All Respondents'!V63-'All Respondents'!V62","v":0},{"$f":"'All Respondents'!W63-'All Respondents'!W62","v":0},{"$f":"'All Respondents'!X63-'All Respondents'!X62","v":-2.9999999999999916E-2},{"$f":"'All Respondents'!Y63-'All Respondents'!Y62","v":9.9999999999999811E-3},{"$f":"'All Respondents'!Z63-'All Respondents'!Z62","v":0},{"$f":"'All Respondents'!AA63-'All Respondents'!AA62","v":-4.0000000000000008E-2},{"$f":"'All Respondents'!AB63-'All Respondents'!AB62","v":0},{"$f":"'All Respondents'!AC63-'All Respondents'!AC62","v":1.999999999999999E-2},{"$f":"'All Respondents'!AD63-'All Respondents'!AD62","v":1.0000000000000009E-2},{"$f":"'All Respondents'!AE63-'All Respondents'!AE62","v":0.03},{"$f":"'All Respondents'!AF63-'All Respondents'!AF62","v":-2.0000000000000004E-2},{"$f":"'All Respondents'!AG63-'All Respondents'!AG62","v":-0.05},{"$f":"'All Respondents'!AH63-'All Respondents'!AH62","v":1.0000000000000009E-2},{"$f":"'All Respondents'!AI63-'All Respondents'!AI62","v":0},{"$f":"'All Respondents'!AJ63-'All Respondents'!AJ62","v":3.0000000000000027E-2},{"$f":"'All Respondents'!AK63-'All Respondents'!AK62","v":3.0000000000000027E-2},{"$f":"'All Respondents'!AL63-'All Respondents'!AL62","v":-1.9999999999999962E-2},{"$f":"'All Respondents'!AM63-'All Respondents'!AM62","v":-9.999999999999995E-3},{"$f":"'All Respondents'!AN63-'All Respondents'!AN62","v":-2.9999999999999971E-2},{"$f":"'All Respondents'!AO63-'All Respondents'!AO62","v":0.06},{"$f":"'All Respondents'!AP63-'All Respondents'!AP62","v":-3.999999999999998E-2},{"$f":"'All Respondents'!AQ63-'All Respondents'!AQ62","v":-2.9999999999999971E-2},{"$f":"'All Respondents'!AR63-'All Respondents'!AR62","v":1.999999999999999E-2},{"$f":"'All Respondents'!AS63-'All Respondents'!AS62","v":0},{"$f":"'All Respondents'!AT63-'All Respondents'!AT62","v":4.9999999999999989E-2},{"$f":"'All Respondents'!AU63-'All Respondents'!AU62","v":2.0000000000000018E-2},{"$f":"'All Respondents'!AV63-'All Respondents'!AV62","v":-1.0000000000000009E-2},{"$f":"'All Respondents'!AW63-'All Respondents'!AW62","v":5.0000000000000017E-2},{"$f":"'All Respondents'!AX63-'All Respondents'!AX62","v":3.0000000000000013E-2},{"$f":"'All Respondents'!AY63-'All Respondents'!AY62","v":-0.10999999999999999},{"$f":"'All Respondents'!AZ63-'All Respondents'!AZ62","v":3.9999999999999925E-2},{"$f":"'All Respondents'!BA63-'All Respondents'!BA62","v":-1.0000000000000002E-2},{"$f":"'All Respondents'!BB63-'All Respondents'!BB62","v":1.0000000000000009E-2},{"$f":"'All Respondents'!BC63-'All Respondents'!BC62","v":4.9999999999999933E-2},{"$f":"'All Respondents'!BD63-'All Respondents'!BD62","v":-1.4120000000000105E-3},{"$f":"'All Respondents'!BE63-'All Respondents'!BE62","v":-2.0000000000000018E-2},{"$f":"'All Respondents'!BF63-'All Respondents'!BF62","v":2.9999999999999971E-2},{"$f":"'All Respondents'!BG63-'All Respondents'!BG62","v":-4.9999999999999989E-2},{"$f":"'All Respondents'!BH63-'All Respondents'!BH62","v":1.0000000000000009E-2},{"$f":"'All Respondents'!BI63-'All Respondents'!BI62","v":-1.0000000000000009E-2},{"$f":"'All Respondents'!BJ63-'All Respondents'!BJ62","v":2.0000000000000018E-2},{"$f":"'All Respondents'!BK63-'All Respondents'!BK62","v":-1.0000000000000009E-2},{"$f":"'All Respondents'!BL63-'All Respondents'!BL62","v":2.0000000000000018E-2},{"$f":"'All Respondents'!BM63-'All Respondents'!BM62","v":1.0000000000000009E-2},{"$f":"'All Respondents'!BN63-'All Respondents'!BN62","v":0},{"$f":"'All Respondents'!BO63-'All Respondents'!BO62","v":-9.999999999999995E-3},{"$f":"'All Respondents'!BP63-'All Respondents'!BP62","v":-1.0000000000000002E-2},{"$f":"'All Respondents'!BQ63-'All Respondents'!BQ62","v":-1.999999999999999E-2},{"$f":"'All Respondents'!BR63-'All Respondents'!BR62","v":3.0000000000000027E-2},{"$f":"'All Respondents'!BS63-'All Respondents'!BS62","v":-1.0000000000000009E-2},{"$f":"'All Respondents'!BT63-'All Respondents'!BT62","v":0},{"$f":"'All Respondents'!BU63-'All Respondents'!BU62","v":2.0000000000000018E-2},{"$f":"'All Respondents'!BV63-'All Respondents'!BV62","v":-1.0000000000000009E-2},{"$f":"'All Respondents'!BW63-'All Respondents'!BW62","v":0},{"$f":"'All Respondents'!BX63-'All Respondents'!BX62","v":0},{"$f":"'All Respondents'!BY63-'All Respondents'!BY62","v":0},{"$f":"'All Respondents'!BZ63-'All Respondents'!BZ62","v":1.999999999999999E-2},{"$f":"'All Respondents'!CA63-'All Respondents'!CA62","v":3.9999999999999994E-2},{"$f":"'All Respondents'!CB63-'All Respondents'!CB62","v":0.06},{"$f":"'All Respondents'!CC63-'All Respondents'!CC62","v":-3.0000000000000027E-2},{"$f":"'All Respondents'!CD63-'All Respondents'!CD62","v":-0.03},{"$f":"'All Respondents'!CE63-'All Respondents'!CE62","v":-4.0000000000000008E-2},{"$f":"'All Respondents'!CF63-'All Respondents'!CF62","v":3.999999999999998E-2},{"$f":"'All Respondents'!CG63-'All Respondents'!CG62","v":-9.999999999999995E-3},{"$f":"'All Respondents'!CH63-'All Respondents'!CH62","v":0},{"$f":"'All Respondents'!CI63-'All Respondents'!CI62","v":0},{"$f":"'All Respondents'!CJ63-'All Respondents'!CJ62","v":2.0000000000000018E-2},{"$f":"'All Respondents'!CK63-'All Respondents'!CK62","v":-9.999999999999995E-3},{"$f":"'All Respondents'!CL63-'All Respondents'!CL62","v":-2.0000000000000004E-2},{"$f":"'All Respondents'!CM63-'All Respondents'!CM62","v":-0.03},{"$f":"'All Respondents'!CN63-'All Respondents'!CN62","v":3.0000000000000027E-2},{"$f":"'All Respondents'!CO63-'All Respondents'!CO62","v":1.0000000000000009E-2},{"$f":"'All Respondents'!CP63-'All Respondents'!CP62","v":2.0000000000000018E-2},{"$f":"'All Respondents'!CQ63-'All Respondents'!CQ62","v":6.0000000000000053E-2},{"$f":"'All Respondents'!CR63-'All Respondents'!CR62","v":-4.0000000000000036E-2},{"$f":"'All Respondents'!CS63-'All Respondents'!CS62","v":1.999999999999999E-2},{"$f":"'All Respondents'!CT63-'All Respondents'!CT62","v":0},{"$f":"'All Respondents'!CU63-'All Respondents'!CU62","v":-9.999999999999995E-3},{"$f":"'All Respondents'!CV63-'All Respondents'!CV62","v":1.0000000000000009E-2},{"$f":"'All Respondents'!CW63-'All Respondents'!CW62","v":-1.0000000000000009E-2},{"$f":"'All Respondents'!CX63-'All Respondents'!CX62","v":1.0000000000000009E-2},{"$f":"'All Respondents'!CY63-'All Respondents'!CY62","v":1.0000000000000002E-2},{"$f":"'All Respondents'!CZ63-'All Respondents'!CZ62","v":0},{"$f":"'All Respondents'!DA63-'All Respondents'!DA62","v":0},{"$f":"'All Respondents'!DB63-'All Respondents'!DB62","v":-1.0000000000000009E-2},{"$f":"'All Respondents'!DC63-'All Respondents'!DC62","v":-1.0000000000000009E-2},{"$f":"'All Respondents'!DD63-'All Respondents'!DD62","v":0},{"$f":"'All Respondents'!DE63-'All Respondents'!DE62","v":-1.0000000000000009E-2},{"$f":"'All Respondents'!DF63-'All Respondents'!DF62","v":-0.06},{"$f":"'All Respondents'!DG63-'All Respondents'!DG62","v":2.0000000000000018E-2},{"$f":"'All Respondents'!DH63-'All Respondents'!DH62","v":-3.9999999999999925E-2},{"$f":"'All Respondents'!DI63-'All Respondents'!DI62","v":4.0000000000000008E-2},{"$f":"'All Respondents'!DJ63-'All Respondents'!DJ62","v":3.0000000000000013E-2},{"$f":"'All Respondents'!DK63-'All Respondents'!DK62","v":-9.999999999999995E-3},{"$f":"'All Respondents'!DL63-'All Respondents'!DL62","v":4.0000000000000008E-2}]
["Jun 15 - Jul 15",{"$f":"'All Respondents'!B64-'All Respondents'!B63","v":-3.4000000000000057},{"$f":"'All Respondents'!D64-'All Respondents'!D63","v":-4},{"$f":"'All Respondents'!E64-'All Respondents'!E63","v":2.0000000000000018E-2},{"$f":"'All Respondents'!F64-'All Respondents'!F63","v":9.999999999999995E-3},{"$f":"'All Respondents'!G64-'All Respondents'!G63","v":-1.0000000000000009E-2},{"$f":"'All Respondents'!H64-'All Respondents'!H63","v":1.0000000000000009E-2},{"$f":"'All Respondents'!I64-'All Respondents'!I63","v":2.8700000000000003E-2},{"$f":"'All Respondents'!J64-'All Respondents'!J63","v":1.8999999999999989E-3},{"$f":"'All Respondents'!K64-'All Respondents'!K63","v":3.6969999999999989E-3},{"$f":"'All Respondents'!L64-'All Respondents'!L63","v":1.0000000000000009E-2},{"$f":"'All Respondents'!M64-'All Respondents'!M63","v":1.0000000000000002E-2},{"$f":"'All Respondents'!N64-'All Respondents'!N63","v":-2.0000000000000018E-2},{"$f":"'All Respondents'!O64-'All Respondents'!O63","v":0},null,{"$f":"'All Respondents'!Q64-'All Respondents'!Q63","v":5.2999999999999992E-3},{"$f":"'All Respondents'!R64-'All Respondents'!R63","v":-1.999999999999999E-2},{"$f":"'All Respondents'!S64-'All Respondents'!S63","v":0},{"$f":"'All Respondents'!T64-'All Respondents'!T63","v":-2.0000000000000018E-2},{"$f":"'All Respondents'!U64-'All Respondents'!U63","v":-1.0000000000000009E-2},{"$f":"'All Respondents'!V64-'All Respondents'!V63","v":0},{"$f":"'All Respondents'!W64-'All Respondents'!W63","v":-1.0000000000000009E-2},{"$f":"'All Respondents'!X64-'All Respondents'!X63","v":-1.0000000000000009E-2},{"$f":"'All Respondents'!Y64-'All Respondents'!Y63","v":0},{"$f":"'All Respondents'!Z64-'All Respondents'!Z63","v":0},{"$f":"'All Respondents'!AA64-'All Respondents'!AA63","v":5.0000000000000017E-2},{"$f":"'All Respondents'!AB64-'All Respondents'!AB63","v":-0.02},{"$f":"'All Respondents'!AC64-'All Respondents'!AC63","v":-4.9999999999999989E-2},{"$f":"'All Respondents'!AD64-'All Respondents'!AD63","v":-1.0000000000000009E-2},{"$f":"'All Respondents'!AE64-'All Respondents'!AE63","v":-2.0000000000000004E-2},{"$f":"'All Respondents'!AF64-'All Respondents'!AF63","v":1.0000000000000002E-2},{"$f":"'All Respondents'!AG64-'All Respondents'!AG63","v":2.0000000000000004E-2},{"$f":"'All Respondents'!AH64-'All Respondents'!AH63","v":1.0000000000000009E-2},{"$f":"'All Respondents'!AI64-'All Respondents'!AI63","v":0},{"$f":"'All Respondents'!AJ64-'All Respondents'!AJ63","v":-7.0000000000000007E-2},{"$f":"'All Respondents'!AK64-'All Respondents'!AK63","v":-7.0000000000000007E-2},{"$f":"'All Respondents'!AL64-'All Respondents'!AL63","v":4.9999999999999989E-2},{"$f":"'All Respondents'!AM64-'All Respondents'!AM63","v":0},{"$f":"'All Respondents'!AN64-'All Respondents'!AN63","v":4.9999999999999989E-2},{"$f":"'All Respondents'!AO64-'All Respondents'!AO63","v":-0.12},{"$f":"'All Respondents'!AP64-'All Respondents'!AP63","v":-2.0000000000000018E-2},{"$f":"'All Respondents'!AQ64-'All Respondents'!AQ63","v":1.0000000000000009E-2},{"$f":"'All Respondents'!AR64-'All Respondents'!AR63","v":-1.999999999999999E-2},{"$f":"'All Respondents'!AS64-'All Respondents'!AS63","v":9.999999999999995E-3},{"$f":"'All Respondents'!AT64-'All Respondents'!AT63","v":1.0000000000000009E-2},{"$f":"'All Respondents'!AU64-'All Respondents'!AU63","v":-0.03},{"$f":"'All Respondents'!AV64-'All Respondents'!AV63","v":1.0000000000000009E-2},{"$f":"'All Respondents'!AW64-'All Respondents'!AW63","v":-2.0000000000000018E-2},{"$f":"'All Respondents'!AX64-'All Respondents'!AX63","v":-2.0000000000000018E-2},{"$f":"'All Respondents'!AY64-'All Respondents'!AY63","v":3.999999999999998E-2},{"$f":"'All Respondents'!AZ64-'All Respondents'!AZ63","v":-4.9999999999999933E-2},{"$f":"'All Respondents'!BA64-'All Respondents'!BA63","v":0},{"$f":"'All Respondents'!BB64-'All Respondents'!BB63","v":2.9999999999999971E-2},{"$f":"'All Respondents'!BC64-'All Respondents'!BC63","v":-4.9999999999999933E-2},{"$f":"'All Respondents'!BD64-'All Respondents'!BD63","v":2.9659999999999964E-3},{"$f":"'All Respondents'!BE64-'All Respondents'!BE63","v":1.0000000000000009E-2},{"$f":"'All Respondents'!BF64-'All Respondents'!BF63","v":-1.9999999999999962E-2},{"$f":"'All Respondents'!BG64-'All Respondents'!BG63","v":2.9999999999999971E-2},{"$f":"'All Respondents'!BH64-'All Respondents'!BH63","v":-2.0000000000000018E-2},{"$f":"'All Respondents'!BI64-'All Respondents'!BI63","v":3.0000000000000027E-2},{"$f":"'All Respondents'!BJ64-'All Respondents'!BJ63","v":-5.0000000000000044E-2},{"$f":"'All Respondents'!BK64-'All Respondents'!BK63","v":0},{"$f":"'All Respondents'!BL64-'All Respondents'!BL63","v":-2.9999999999999971E-2},{"$f":"'All Respondents'!BM64-'All Respondents'!BM63","v":-2.9999999999999916E-2},{"$f":"'All Respondents'!BN64-'All Respondents'!BN63","v":0},{"$f":"'All Respondents'!BO64-'All Respondents'!BO63","v":9.999999999999995E-3},{"$f":"'All Respondents'!BP64-'All Respondents'!BP63","v":1.0000000000000002E-2},{"$f":"'All Respondents'!BQ64-'All Respondents'!BQ63","v":1.999999999999999E-2},{"$f":"'All Respondents'!BR64-'All Respondents'!BR63","v":-4.9999999999999933E-2},{"$f":"'All Respondents'!BS64-'All Respondents'!BS63","v":0},{"$f":"'All Respondents'!BT64-'All Respondents'!BT63","v":0.03},{"$f":"'All Respondents'!BU64-'All Respondents'!BU63","v":-3.0000000000000027E-2},{"$f":"'All Respondents'!BV64-'All Respondents'!BV63","v":-0.03},{"$f":"'All Respondents'!BW64-'All Respondents'!BW63","v":2.9999999999999971E-2},{"$f":"'All Respondents'!BX64-'All Respondents'!BX63","v":-2.0000000000000018E-2},{"$f":"'All Respondents'!BY64-'All Respondents'!BY63","v":-4.9999999999999989E-2},{"$f":"'All Respondents'!BZ64-'All Respondents'!BZ63","v":-1.999999999999999E-2},{"$f":"'All Respondents'!CA64-'All Respondents'!CA63","v":-9.999999999999995E-3},{"$f":"'All Respondents'!CB64-'All Respondents'!CB63","v":-0.03},{"$f":"'All Respondents'!CC64-'All Respondents'!CC63","v":5.0000000000000044E-2},{"$f":"'All Respondents'!CD64-'All Respondents'!CD63","v":-0.03},{"$f":"'All Respondents'!CE64-'All Respondents'!CE63","v":0},{"$f":"'All Respondents'!CF64-'All Respondents'!CF63","v":8.0000000000000016E-2},{"$f":"'All Respondents'!CG64-'All Respondents'!CG63","v":2.0000000000000004E-2},{"$f":"'All Respondents'!CH64-'All Respondents'!CH63","v":0},{"$f":"'All Respondents'!CI64-'All Respondents'!CI63","v":1.0000000000000009E-2},{"$f":"'All Respondents'!CJ64-'All Respondents'!CJ63","v":-3.0000000000000027E-2},{"$f":"'All Respondents'!CK64-'All Respondents'!CK63","v":9.999999999999995E-3},{"$f":"'All Respondents'!CL64-'All Respondents'!CL63","v":9.999999999999995E-3},{"$f":"'All Respondents'!CM64-'All Respondents'!CM63","v":1.999999999999999E-2},{"$f":"'All Respondents'!CN64-'All Respondents'!CN63","v":-3.0000000000000027E-2},{"$f":"'All Respondents'!CO64-'All Respondents'!CO63","v":0},{"$f":"'All Respondents'!CP64-'All Respondents'!CP63","v":-3.0000000000000027E-2},{"$f":"'All Respondents'!CQ64-'All Respondents'!CQ63","v":-5.0000000000000044E-2},{"$f":"'All Respondents'!CR64-'All Respondents'!CR63","v":2.0000000000000018E-2},{"$f":"'All Respondents'!CS64-'All Respondents'!CS63","v":-1.999999999999999E-2},{"$f":"'All Respondents'!CT64-'All Respondents'!CT63","v":1.0000000000000009E-2},{"$f":"'All Respondents'!CU64-'All Respondents'!CU63","v":1.999999999999999E-2},{"$f":"'All Respondents'!CV64-'All Respondents'!CV63","v":9.9999999999999811E-3},{"$f":"'All Respondents'!CW64-'All Respondents'!CW63","v":-1.0000000000000009E-2},{"$f":"'All Respondents'!CX64-'All Respondents'!CX63","v":0},{"$f":"'All Respondents'!CY64-'All Respondents'!CY63","v":1.0000000000000002E-2},{"$f":"'All Respondents'!CZ64-'All Respondents'!CZ63","v":0.01},{"$f":"'All Respondents'!DA64-'All Respondents'!DA63","v":0},{"$f":"'All Respondents'!DB64-'All Respondents'!DB63","v":1.0000000000000009E-2},{"$f":"'All Respondents'!DC64-'All Respondents'!DC63","v":0},{"$f":"'All Respondents'!DD64-'All Respondents'!DD63","v":1.0000000000000009E-2},{"$f":"'All Respondents'!DE64-'All Respondents'!DE63","v":1.0000000000000009E-2},{"$f":"'All Respondents'!DF64-'All Respondents'!DF63","v":2.9999999999999971E-2},{"$f":"'All Respondents'!DG64-'All Respondents'!DG63","v":9.9999999999999811E-3},{"$f":"'All Respondents'!DH64-'All Respondents'!DH63","v":3.9999999999999925E-2},{"$f":"'All Respondents'!DI64-'All Respondents'!DI63","v":0},{"$f":"'All Respondents'!DJ64-'All Respondents'!DJ63","v":-3.0000000000000013E-2},{"$f":"'All Respondents'!DK64-'All Respondents'!DK63","v":-2.0000000000000004E-2},{"$f":"'All Respondents'!DL64-'All Respondents'!DL63","v":-1.0000000000000009E-2}]
["Jul 15 - Aug 15",{"$f":"'All Respondents'!B65-'All Respondents'!B64","v":-0.5},{"$f":"'All Respondents'!D65-'All Respondents'!D64","v":0},{"$f":"'All Respondents'!E65-'All Respondents'!E64","v":-2.0000000000000018E-2},{"$f":"'All Respondents'!F65-'All Respondents'!F64","v":9.999999999999995E-3},{"$f":"'All Respondents'!G65-'All Respondents'!G64","v":0},{"$f":"'All Respondents'!H65-'All Respondents'!H64","v":-2.9999999999999971E-2},{"$f":"'All Respondents'!I65-'All Respondents'!I64","v":-5.1199999999999996E-2},{"$f":"'All Respondents'!J65-'All Respondents'!J64","v":7.0000000000000062E-3},{"$f":"'All Respondents'!K65-'All Respondents'!K64","v":-3.3910000000000051E-3},{"$f":"'All Respondents'!L65-'All Respondents'!L64","v":3.0000000000000027E-2},{"$f":"'All Respondents'!M65-'All Respondents'!M64","v":0},{"$f":"'All Respondents'!N65-'All Respondents'!N64","v":-9.9999999999999534E-3},{"$f":"'All Respondents'!O65-'All Respondents'!O64","v":-3.0000000000000027E-2},null,{"$f":"'All Respondents'!Q65-'All Respondents'!Q64","v":-3.9000000000000007E-3},{"$f":"'All Respondents'!R65-'All Respondents'!R64","v":1.0000000000000009E-2},{"$f":"'All Respondents'!S65-'All Respondents'!S64","v":1.0000000000000009E-2},{"$f":"'All Respondents'!T65-'All Respondents'!T64","v":2.0000000000000018E-2},{"$f":"'All Respondents'!U65-'All Respondents'!U64","v":0.03},{"$f":"'All Respondents'!V65-'All Respondents'!V64","v":0},{"$f":"'All Respondents'!W65-'All Respondents'!W64","v":2.9999999999999971E-2},{"$f":"'All Respondents'!X65-'All Respondents'!X64","v":-9.9999999999999534E-3},{"$f":"'All Respondents'!Y65-'All Respondents'!Y64","v":-1.999999999999999E-2},{"$f":"'All Respondents'!Z65-'All Respondents'!Z64","v":8.0000000000000016E-2},{"$f":"'All Respondents'!AA65-'All Respondents'!AA64","v":0},{"$f":"'All Respondents'!AB65-'All Respondents'!AB64","v":0},{"$f":"'All Respondents'!AC65-'All Respondents'!AC64","v":-1.0000000000000009E-2},{"$f":"'All Respondents'!AD65-'All Respondents'!AD64","v":2.9999999999999971E-2},{"$f":"'All Respondents'!AE65-'All Respondents'!AE64","v":1.0000000000000009E-2},{"$f":"'All Respondents'!AF65-'All Respondents'!AF64","v":1.9999999999999997E-2},{"$f":"'All Respondents'!AG65-'All Respondents'!AG64","v":-4.0000000000000008E-2},{"$f":"'All Respondents'!AH65-'All Respondents'!AH64","v":1.0000000000000009E-2},{"$f":"'All Respondents'!AI65-'All Respondents'!AI64","v":-1.999999999999999E-2},{"$f":"'All Respondents'!AJ65-'All Respondents'!AJ64","v":3.999999999999998E-2},{"$f":"'All Respondents'!AK65-'All Respondents'!AK64","v":1.9999999999999962E-2},{"$f":"'All Respondents'!AL65-'All Respondents'!AL64","v":1.0000000000000009E-2},{"$f":"'All Respondents'!AM65-'All Respondents'!AM64","v":0},{"$f":"'All Respondents'!AN65-'All Respondents'!AN64","v":1.0000000000000009E-2},{"$f":"'All Respondents'!AO65-'All Respondents'!AO64","v":9.9999999999999534E-3},{"$f":"'All Respondents'!AP65-'All Respondents'!AP64","v":5.0000000000000017E-2},{"$f":"'All Respondents'!AQ65-'All Respondents'!AQ64","v":4.9999999999999989E-2},{"$f":"'All Respondents'!AR65-'All Respondents'!AR64","v":1.0000000000000009E-2},{"$f":"'All Respondents'!AS65-'All Respondents'!AS64","v":0},{"$f":"'All Respondents'!AT65-'All Respondents'!AT64","v":-8.0000000000000016E-2},{"$f":"'All Respondents'!AU65-'All Respondents'!AU64","v":-5.0000000000000017E-2},{"$f":"'All Respondents'!AV65-'All Respondents'!AV64","v":-3.0000000000000006E-2},{"$f":"'All Respondents'!AW65-'All Respondents'!AW64","v":5.0000000000000017E-2},{"$f":"'All Respondents'!AX65-'All Respondents'!AX64","v":0},{"$f":"'All Respondents'!AY65-'All Respondents'!AY64","v":4.0000000000000036E-2},{"$f":"'All Respondents'!AZ65-'All Respondents'!AZ64","v":1.0000000000000009E-2},{"$f":"'All Respondents'!BA65-'All Respondents'!BA64","v":-9.9999999999999985E-3},{"$f":"'All Respondents'!BB65-'All Respondents'!BB64","v":0},{"$f":"'All Respondents'!BC65-'All Respondents'!BC64","v":2.0000000000000018E-2},{"$f":"'All Respondents'!BD65-'All Respondents'!BD64","v":-4.3819999999999901E-3},{"$f":"'All Respondents'!BE65-'All Respondents'!BE64","v":0},{"$f":"'All Respondents'!BF65-'All Respondents'!BF64","v":2.9999999999999971E-2},{"$f":"'All Respondents'!BG65-'All Respondents'!BG64","v":-2.9999999999999971E-2},{"$f":"'All Respondents'!BH65-'All Respondents'!BH64","v":-4.9999999999999989E-2},{"$f":"'All Respondents'!BI65-'All Respondents'!BI64","v":3.9999999999999925E-2},{"$f":"'All Respondents'!BJ65-'All Respondents'!BJ64","v":-8.9999999999999913E-2},{"$f":"'All Respondents'!BK65-'All Respondents'!BK64","v":-1.0000000000000009E-2},{"$f":"'All Respondents'!BL65-'All Respondents'!BL64","v":-2.0000000000000018E-2},{"$f":"'All Respondents'!BM65-'All Respondents'!BM64","v":-3.0000000000000027E-2},{"$f":"'All Respondents'!BN65-'All Respondents'!BN64","v":1.0000000000000009E-2},{"$f":"'All Respondents'!BO65-'All Respondents'!BO64","v":2.0000000000000004E-2},{"$f":"'All Respondents'!BP65-'All Respondents'!BP64","v":0},{"$f":"'All Respondents'!BQ65-'All Respondents'!BQ64","v":2.0000000000000018E-2},{"$f":"'All Respondents'!BR65-'All Respondents'!BR64","v":-5.0000000000000044E-2},{"$f":"'All Respondents'!BS65-'All Respondents'!BS64","v":-3.0000000000000027E-2},{"$f":"'All Respondents'!BT65-'All Respondents'!BT64","v":-0.03},{"$f":"'All Respondents'!BU65-'All Respondents'!BU64","v":7.0000000000000062E-2},{"$f":"'All Respondents'!BV65-'All Respondents'!BV64","v":0},{"$f":"'All Respondents'!BW65-'All Respondents'!BW64","v":-0.06},{"$f":"'All Respondents'!BX65-'All Respondents'!BX64","v":7.0000000000000062E-2},{"$f":"'All Respondents'!BY65-'All Respondents'!BY64","v":0.13000000000000006},{"$f":"'All Respondents'!BZ65-'All Respondents'!BZ64","v":4.9999999999999989E-2},{"$f":"'All Respondents'!CA65-'All Respondents'!CA64","v":-2.0000000000000004E-2},{"$f":"'All Respondents'!CB65-'All Respondents'!CB64","v":0.03},{"$f":"'All Respondents'!CC65-'All Respondents'!CC64","v":-3.0000000000000027E-2},{"$f":"'All Respondents'!CD65-'All Respondents'!CD64","v":2.0000000000000018E-2},{"$f":"'All Respondents'!CE65-'All Respondents'!CE64","v":0.03},{"$f":"'All Respondents'!CF65-'All Respondents'!CF64","v":-8.0000000000000016E-2},{"$f":"'All Respondents'!CG65-'All Respondents'!CG64","v":-3.0000000000000006E-2},{"$f":"'All Respondents'!CH65-'All Respondents'!CH64","v":0},{"$f":"'All Respondents'!CI65-'All Respondents'!CI64","v":-4.0000000000000008E-2},{"$f":"'All Respondents'!CJ65-'All Respondents'!CJ64","v":8.9999999999999969E-2},{"$f":"'All Respondents'!CK65-'All Respondents'!CK64","v":-9.999999999999995E-3},{"$f":"'All Respondents'!CL65-'All Respondents'!CL64","v":-9.999999999999995E-3},{"$f":"'All Respondents'!CM65-'All Respondents'!CM64","v":-1.999999999999999E-2},{"$f":"'All Respondents'!CN65-'All Respondents'!CN64","v":1.000000000000012E-2},{"$f":"'All Respondents'!CO65-'All Respondents'!CO64","v":-4.9999999999999989E-2},{"$f":"'All Respondents'!CP65-'All Respondents'!CP64","v":6.0000000000000053E-2},{"$f":"'All Respondents'!CQ65-'All Respondents'!CQ64","v":3.0000000000000138E-2},{"$f":"'All Respondents'!CR65-'All Respondents'!CR64","v":1.0000000000000009E-2},{"$f":"'All Respondents'!CS65-'All Respondents'!CS64","v":9.9999999999999811E-3},{"$f":"'All Respondents'!CT65-'All Respondents'!CT64","v":-1.999999999999999E-2},{"$f":"'All Respondents'!CU65-'All Respondents'!CU64","v":-9.999999999999995E-3},{"$f":"'All Respondents'!CV65-'All Respondents'!CV64","v":0},{"$f":"'All Respondents'!CW65-'All Respondents'!CW64","v":3.9999999999999925E-2},{"$f":"'All Respondents'!CX65-'All Respondents'!CX64","v":-1.0000000000000009E-2},{"$f":"'All Respondents'!CY65-'All Respondents'!CY64","v":-2.0000000000000004E-2},{"$f":"'All Respondents'!CZ65-'All Respondents'!CZ64","v":-0.01},{"$f":"'All Respondents'!DA65-'All Respondents'!DA64","v":-0.01},{"$f":"'All Respondents'!DB65-'All Respondents'!DB64","v":0.03},{"$f":"'All Respondents'!DC65-'All Respondents'!DC64","v":-2.0000000000000018E-2},{"$f":"'All Respondents'!DD65-'All Respondents'!DD64","v":0},{"$f":"'All Respondents'!DE65-'All Respondents'!DE64","v":0},{"$f":"'All Respondents'!DF65-'All Respondents'!DF64","v":1.0000000000000009E-2},{"$f":"'All Respondents'!DG65-'All Respondents'!DG64","v":2.0000000000000018E-2},{"$f":"'All Respondents'!DH65-'All Respondents'!DH64","v":3.0000000000000027E-2},{"$f":"'All Respondents'!DI65-'All Respondents'!DI64","v":-2.0000000000000018E-2},{"$f":"'All Respondents'!DJ65-'All Respondents'!DJ64","v":-9.999999999999995E-3},{"$f":"'All Respondents'!DK65-'All Respondents'!DK64","v":0},{"$f":"'All Respondents'!DL65-'All Respondents'!DL64","v":-9.999999999999995E-3}]
["Aug 15 - Sep 15",{"$f":"'All Respondents'!B66-'All Respondents'!B65","v":3},{"$f":"'All Respondents'!D66-'All Respondents'!D65","v":3.8000000000000114},{"$f":"'All Respondents'!E66-'All Respondents'!E65","v":-1.9999999999999962E-2},{"$f":"'All Respondents'!F66-'All Respondents'!F65","v":0},{"$f":"'All Respondents'!G66-'All Respondents'!G65","v":3.999999999999998E-2},{"$f":"'All Respondents'!H66-'All Respondents'!H65","v":-2.0000000000000018E-2},{"$f":"'All Respondents'!I66-'All Respondents'!I65","v":4.1299999999999989E-2},{"$f":"'All Respondents'!J66-'All Respondents'!J65","v":4.1999999999999954E-3},{"$f":"'All Respondents'!K66-'All Respondents'!K65","v":4.0330000000000019E-3},{"$f":"'All Respondents'!L66-'All Respondents'!L65","v":1.0000000000000009E-2},{"$f":"'All Respondents'!M66-'All Respondents'!M65","v":0},{"$f":"'All Respondents'!N66-'All Respondents'!N65","v":-3.0000000000000027E-2},{"$f":"'All Respondents'!O66-'All Respondents'!O65","v":-9.9999999999999534E-3},null,{"$f":"'All Respondents'!Q66-'All Respondents'!Q65","v":-1.1999999999999997E-3},{"$f":"'All Respondents'!R66-'All Respondents'!R65","v":0},{"$f":"'All Respondents'!S66-'All Respondents'!S65","v":9.9999999999999534E-3},{"$f":"'All Respondents'!T66-'All Respondents'!T65","v":1.0000000000000009E-2},{"$f":"'All Respondents'!U66-'All Respondents'!U65","v":-1.999999999999999E-2},{"$f":"'All Respondents'!V66-'All Respondents'!V65","v":0},{"$f":"'All Respondents'!W66-'All Respondents'!W65","v":-1.9999999999999962E-2},{"$f":"'All Respondents'!X66-'All Respondents'!X65","v":2.9999999999999971E-2},{"$f":"'All Respondents'!Y66-'All Respondents'!Y65","v":1.999999999999999E-2},{"$f":"'All Respondents'!Z66-'All Respondents'!Z65","v":-2.0000000000000018E-2},{"$f":"'All Respondents'!AA66-'All Respondents'!AA65","v":-0.06},{"$f":"'All Respondents'!AB66-'All Respondents'!AB65","v":9.9999999999999985E-3},{"$f":"'All Respondents'!AC66-'All Respondents'!AC65","v":4.0000000000000008E-2},{"$f":"'All Respondents'!AD66-'All Respondents'!AD65","v":4.0000000000000036E-2},{"$f":"'All Respondents'!AE66-'All Respondents'!AE65","v":9.999999999999995E-3},{"$f":"'All Respondents'!AF66-'All Respondents'!AF65","v":-3.9999999999999994E-2},{"$f":"'All Respondents'!AG66-'All Respondents'!AG65","v":8.0000000000000016E-2},{"$f":"'All Respondents'!AH66-'All Respondents'!AH65","v":-0.11000000000000004},{"$f":"'All Respondents'!AI66-'All Respondents'!AI65","v":0.03},{"$f":"'All Respondents'!AJ66-'All Respondents'!AJ65","v":2.0000000000000018E-2},{"$f":"'All Respondents'!AK66-'All Respondents'!AK65","v":5.0000000000000044E-2},{"$f":"'All Respondents'!AL66-'All Respondents'!AL65","v":-7.0000000000000007E-2},{"$f":"'All Respondents'!AM66-'All Respondents'!AM65","v":-9.999999999999995E-3},{"$f":"'All Respondents'!AN66-'All Respondents'!AN65","v":-8.0000000000000016E-2},{"$f":"'All Respondents'!AO66-'All Respondents'!AO65","v":0.13000000000000006},{"$f":"'All Respondents'!AP66-'All Respondents'!AP65","v":1.999999999999999E-2},{"$f":"'All Respondents'!AQ66-'All Respondents'!AQ65","v":1.0000000000000009E-2},{"$f":"'All Respondents'!AR66-'All Respondents'!AR65","v":-2.0000000000000018E-2},{"$f":"'All Respondents'!AS66-'All Respondents'!AS65","v":-9.999999999999995E-3},{"$f":"'All Respondents'!AT66-'All Respondents'!AT65","v":2.0000000000000018E-2},{"$f":"'All Respondents'!AU66-'All Respondents'!AU65","v":9.0000000000000024E-2},{"$f":"'All Respondents'!AV66-'All Respondents'!AV65","v":1.0000000000000002E-2},{"$f":"'All Respondents'!AW66-'All Respondents'!AW65","v":-5.0000000000000017E-2},{"$f":"'All Respondents'!AX66-'All Respondents'!AX65","v":-0.03},{"$f":"'All Respondents'!AY66-'All Respondents'!AY65","v":-1.0000000000000009E-2},{"$f":"'All Respondents'!AZ66-'All Respondents'!AZ65","v":-1.0000000000000009E-2},{"$f":"'All Respondents'!BA66-'All Respondents'!BA65","v":0.02},{"$f":"'All Respondents'!BB66-'All Respondents'!BB65","v":0},{"$f":"'All Respondents'!BC66-'All Respondents'!BC65","v":-3.0000000000000027E-2},{"$f":"'All Respondents'!BD66-'All Respondents'!BD65","v":3.2130000000000006E-3},{"$f":"'All Respondents'!BE66-'All Respondents'!BE65","v":2.0000000000000018E-2},{"$f":"'All Respondents'!BF66-'All Respondents'!BF65","v":-2.0000000000000018E-2},{"$f":"'All Respondents'!BG66-'All Respondents'!BG65","v":4.0000000000000036E-2},{"$f":"'All Respondents'!BH66-'All Respondents'!BH65","v":2.9999999999999971E-2},{"$f":"'All Respondents'!BI66-'All Respondents'!BI65","v":-1.0000000000000009E-2},{"$f":"'All Respondents'!BJ66-'All Respondents'!BJ65","v":3.999999999999998E-2},{"$f":"'All Respondents'!BK66-'All Respondents'!BK65","v":0.03},{"$f":"'All Respondents'!BL66-'All Respondents'!BL65","v":1.0000000000000009E-2},{"$f":"'All Respondents'!BM66-'All Respondents'!BM65","v":3.999999999999998E-2},{"$f":"'All Respondents'!BN66-'All Respondents'!BN65","v":-2.0000000000000018E-2},{"$f":"'All Respondents'!BO66-'All Respondents'!BO65","v":-1.0000000000000009E-2},{"$f":"'All Respondents'!BP66-'All Respondents'!BP65","v":0},{"$f":"'All Respondents'!BQ66-'All Respondents'!BQ65","v":-1.0000000000000009E-2},{"$f":"'All Respondents'!BR66-'All Respondents'!BR65","v":4.9999999999999989E-2},{"$f":"'All Respondents'!BS66-'All Respondents'!BS65","v":4.0000000000000036E-2},{"$f":"'All Respondents'!BT66-'All Respondents'!BT65","v":1.0000000000000009E-2},{"$f":"'All Respondents'!BU66-'All Respondents'!BU65","v":-6.0000000000000053E-2},{"$f":"'All Respondents'!BV66-'All Respondents'!BV65","v":3.0000000000000027E-2},{"$f":"'All Respondents'!BW66-'All Respondents'!BW65","v":3.999999999999998E-2},{"$f":"'All Respondents'!BX66-'All Respondents'!BX65","v":-5.0000000000000044E-2},{"$f":"'All Respondents'!BY66-'All Respondents'!BY65","v":-9.0000000000000024E-2},{"$f":"'All Respondents'!BZ66-'All Respondents'!BZ65","v":-1.999999999999999E-2},{"$f":"'All Respondents'!CA66-'All Respondents'!CA65","v":9.999999999999995E-3},{"$f":"'All Respondents'!CB66-'All Respondents'!CB65","v":-1.0000000000000009E-2},{"$f":"'All Respondents'!CC66-'All Respondents'!CC65","v":-1.0000000000000009E-2},{"$f":"'All Respondents'!CD66-'All Respondents'!CD65","v":-3.0000000000000013E-2},{"$f":"'All Respondents'!CE66-'All Respondents'!CE65","v":1.0000000000000009E-2},{"$f":"'All Respondents'!CF66-'All Respondents'!CF65","v":1.0000000000000009E-2},{"$f":"'All Respondents'!CG66-'All Respondents'!CG65","v":1.9999999999999997E-2},{"$f":"'All Respondents'!CH66-'All Respondents'!CH65","v":-1.999999999999999E-2},{"$f":"'All Respondents'!CI66-'All Respondents'!CI65","v":0},{"$f":"'All Respondents'!CJ66-'All Respondents'!CJ65","v":-1.0000000000000009E-2},{"$f":"'All Respondents'!CK66-'All Respondents'!CK65","v":9.999999999999995E-3},{"$f":"'All Respondents'!CL66-'All Respondents'!CL65","v":-2.0000000000000004E-2},{"$f":"'All Respondents'!CM66-'All Respondents'!CM65","v":-1.0000000000000009E-2},{"$f":"'All Respondents'!CN66-'All Respondents'!CN65","v":1.0000000000000009E-2},{"$f":"'All Respondents'!CO66-'All Respondents'!CO65","v":0},{"$f":"'All Respondents'!CP66-'All Respondents'!CP65","v":1.0000000000000009E-2},{"$f":"'All Respondents'!CQ66-'All Respondents'!CQ65","v":2.0000000000000018E-2},{"$f":"'All Respondents'!CR66-'All Respondents'!CR65","v":1.0000000000000009E-2},{"$f":"'All Respondents'!CS66-'All Respondents'!CS65","v":-3.9999999999999994E-2},{"$f":"'All Respondents'!CT66-'All Respondents'!CT65","v":3.999999999999998E-2},{"$f":"'All Respondents'!CU66-'All Respondents'!CU65","v":0},{"$f":"'All Respondents'!CV66-'All Respondents'!CV65","v":-9.9999999999999811E-3},{"$f":"'All Respondents'!CW66-'All Respondents'!CW65","v":-3.9999999999999925E-2},{"$f":"'All Respondents'!CX66-'All Respondents'!CX65","v":0.03},{"$f":"'All Respondents'!CY66-'All Respondents'!CY65","v":-9.9999999999999985E-3},{"$f":"'All Respondents'!CZ66-'All Respondents'!CZ65","v":0.01},{"$f":"'All Respondents'!DA66-'All Respondents'!DA65","v":0.02},{"$f":"'All Respondents'!DB66-'All Respondents'!DB65","v":-0.03},{"$f":"'All Respondents'!DC66-'All Respondents'!DC65","v":2.0000000000000018E-2},{"$f":"'All Respondents'!DD66-'All Respondents'!DD65","v":0},{"$f":"'All Respondents'!DE66-'All Respondents'!DE65","v":0},{"$f":"'All Respondents'!DF66-'All Respondents'!DF65","v":5.0000000000000044E-2},{"$f":"'All Respondents'!DG66-'All Respondents'!DG65","v":-0.03},{"$f":"'All Respondents'!DH66-'All Respondents'!DH65","v":2.0000000000000018E-2},{"$f":"'All Respondents'!DI66-'All Respondents'!DI65","v":-9.9999999999999811E-3},{"$f":"'All Respondents'!DJ66-'All Respondents'!DJ65","v":-2.0000000000000004E-2},{"$f":"'All Respondents'!DK66-'All Respondents'!DK65","v":0},{"$f":"'All Respondents'!DL66-'All Respondents'!DL65","v":-2.0000000000000004E-2}]
["Sep 15 - Oct 15",{"$f":"'All Respondents'!B67-'All Respondents'!B66","v":-0.59999999999999432},{"$f":"'All Respondents'!D67-'All Respondents'!D66","v":-1.6000000000000085},{"$f":"'All Respondents'!E67-'All Respondents'!E66","v":1.0000000000000009E-2},{"$f":"'All Respondents'!F67-'All Respondents'!F66","v":-9.999999999999995E-3},{"$f":"'All Respondents'!G67-'All Respondents'!G66","v":-1.9999999999999962E-2},{"$f":"'All Respondents'!H67-'All Respondents'!H66","v":2.0000000000000018E-2},{"$f":"'All Respondents'!I67-'All Respondents'!I66","v":-1.0999999999999996E-2},{"$f":"'All Respondents'!J67-'All Respondents'!J66","v":-1.4399999999999996E-2},{"$f":"'All Respondents'!K67-'All Respondents'!K66","v":-5.9369999999999978E-3},{"$f":"'All Respondents'!L67-'All Respondents'!L66","v":-4.0000000000000036E-2},{"$f":"'All Respondents'!M67-'All Respondents'!M66","v":0},{"$f":"'All Respondents'!N67-'All Respondents'!N66","v":7.0000000000000007E-2},{"$f":"'All Respondents'!O67-'All Respondents'!O66","v":3.999999999999998E-2},null,{"$f":"'All Respondents'!Q67-'All Respondents'!Q66","v":-1.0000000000000286E-4},{"$f":"'All Respondents'!R67-'All Respondents'!R66","v":0},{"$f":"'All Respondents'!S67-'All Respondents'!S66","v":-1.9999999999999962E-2},{"$f":"'All Respondents'!T67-'All Respondents'!T66","v":-2.0000000000000018E-2},{"$f":"'All Respondents'!U67-'All Respondents'!U66","v":0},{"$f":"'All Respondents'!V67-'All Respondents'!V66","v":0},{"$f":"'All Respondents'!W67-'All Respondents'!W66","v":0},{"$f":"'All Respondents'!X67-'All Respondents'!X66","v":-2.0000000000000018E-2},{"$f":"'All Respondents'!Y67-'All Respondents'!Y66","v":1.0000000000000009E-2},{"$f":"'All Respondents'!Z67-'All Respondents'!Z66","v":-9.9999999999999534E-3},{"$f":"'All Respondents'!AA67-'All Respondents'!AA66","v":1.999999999999999E-2},{"$f":"'All Respondents'!AB67-'All Respondents'!AB66","v":0},{"$f":"'All Respondents'!AC67-'All Respondents'!AC66","v":-2.0000000000000004E-2},{"$f":"'All Respondents'!AD67-'All Respondents'!AD66","v":-5.0000000000000044E-2},{"$f":"'All Respondents'!AE67-'All Respondents'!AE66","v":0},{"$f":"'All Respondents'!AF67-'All Respondents'!AF66","v":3.9999999999999994E-2},{"$f":"'All Respondents'!AG67-'All Respondents'!AG66","v":-6.0000000000000012E-2},{"$f":"'All Respondents'!AH67-'All Respondents'!AH66","v":7.0000000000000007E-2},{"$f":"'All Respondents'!AI67-'All Respondents'!AI66","v":1.0000000000000009E-2},{"$f":"'All Respondents'!AJ67-'All Respondents'!AJ66","v":-2.0000000000000018E-2},{"$f":"'All Respondents'!AK67-'All Respondents'!AK66","v":-1.0000000000000009E-2},{"$f":"'All Respondents'!AL67-'All Respondents'!AL66","v":2.9999999999999971E-2},{"$f":"'All Respondents'!AM67-'All Respondents'!AM66","v":1.999999999999999E-2},{"$f":"'All Respondents'!AN67-'All Respondents'!AN66","v":4.9999999999999989E-2},{"$f":"'All Respondents'!AO67-'All Respondents'!AO66","v":-0.06},{"$f":"'All Respondents'!AP67-'All Respondents'!AP66","v":-4.0000000000000008E-2},{"$f":"'All Respondents'!AQ67-'All Respondents'!AQ66","v":-9.0000000000000024E-2},{"$f":"'All Respondents'!AR67-'All Respondents'!AR66","v":2.0000000000000018E-2},{"$f":"'All Respondents'!AS67-'All Respondents'!AS66","v":0.03},{"$f":"'All Respondents'!AT67-'All Respondents'!AT66","v":0.03},{"$f":"'All Respondents'!AU67-'All Respondents'!AU66","v":-2.0000000000000018E-2},{"$f":"'All Respondents'!AV67-'All Respondents'!AV66","v":2.0000000000000004E-2},{"$f":"'All Respondents'!AW67-'All Respondents'!AW66","v":0},{"$f":"'All Respondents'!AX67-'All Respondents'!AX66","v":0.03},{"$f":"'All Respondents'!AY67-'All Respondents'!AY66","v":-2.0000000000000018E-2},{"$f":"'All Respondents'!AZ67-'All Respondents'!AZ66","v":3.9999999999999925E-2},{"$f":"'All Respondents'!BA67-'All Respondents'!BA66","v":0},{"$f":"'All Respondents'!BB67-'All Respondents'!BB66","v":-2.9999999999999971E-2},{"$f":"'All Respondents'!BC67-'All Respondents'!BC66","v":3.9999999999999925E-2},{"$f":"'All Respondents'!BD67-'All Respondents'!BD66","v":-1.4500000000000138E-3},{"$f":"'All Respondents'!BE67-'All Respondents'!BE66","v":-4.0000000000000036E-2},{"$f":"'All Respondents'!BF67-'All Respondents'!BF66","v":2.0000000000000018E-2},{"$f":"'All Respondents'!BG67-'All Respondents'!BG66","v":-6.0000000000000053E-2},{"$f":"'All Respondents'!BH67-'All Respondents'!BH66","v":2.0000000000000018E-2},{"$f":"'All Respondents'!BI67-'All Respondents'!BI66","v":-1.9999999999999907E-2},{"$f":"'All Respondents'!BJ67-'All Respondents'!BJ66","v":3.9999999999999925E-2},{"$f":"'All Respondents'!BK67-'All Respondents'!BK66","v":-9.9999999999999811E-3},{"$f":"'All Respondents'!BL67-'All Respondents'!BL66","v":1.0000000000000009E-2},{"$f":"'All Respondents'!BM67-'All Respondents'!BM66","v":0},{"$f":"'All Respondents'!BN67-'All Respondents'!BN66","v":1.0000000000000009E-2},{"$f":"'All Respondents'!BO67-'All Respondents'!BO66","v":-9.999999999999995E-3},{"$f":"'All Respondents'!BP67-'All Respondents'!BP66","v":0},{"$f":"'All Respondents'!BQ67-'All Respondents'!BQ66","v":-1.0000000000000009E-2},{"$f":"'All Respondents'!BR67-'All Respondents'!BR66","v":1.0000000000000064E-2},{"$f":"'All Respondents'!BS67-'All Respondents'!BS66","v":-4.0000000000000036E-2},{"$f":"'All Respondents'!BT67-'All Respondents'!BT66","v":0},{"$f":"'All Respondents'!BU67-'All Respondents'!BU66","v":2.0000000000000018E-2},{"$f":"'All Respondents'!BV67-'All Respondents'!BV66","v":-4.0000000000000036E-2},{"$f":"'All Respondents'!BW67-'All Respondents'!BW66","v":0},{"$f":"'All Respondents'!BX67-'All Respondents'!BX66","v":-1.0000000000000009E-2},{"$f":"'All Respondents'!BY67-'All Respondents'!BY66","v":-1.0000000000000009E-2},{"$f":"'All Respondents'!BZ67-'All Respondents'!BZ66","v":9.9999999999999811E-3},{"$f":"'All Respondents'!CA67-'All Respondents'!CA66","v":0},{"$f":"'All Respondents'!CB67-'All Respondents'!CB66","v":1.0000000000000009E-2},{"$f":"'All Respondents'!CC67-'All Respondents'!CC66","v":-2.0000000000000018E-2},{"$f":"'All Respondents'!CD67-'All Respondents'!CD66","v":3.9999999999999994E-2},{"$f":"'All Respondents'!CE67-'All Respondents'!CE66","v":-4.0000000000000008E-2},{"$f":"'All Respondents'!CF67-'All Respondents'!CF66","v":-2.0000000000000018E-2},{"$f":"'All Respondents'!CG67-'All Respondents'!CG66","v":-1.9999999999999997E-2},{"$f":"'All Respondents'!CH67-'All Respondents'!CH66","v":9.999999999999995E-3},{"$f":"'All Respondents'!CI67-'All Respondents'!CI66","v":4.0000000000000008E-2},{"$f":"'All Respondents'!CJ67-'All Respondents'!CJ66","v":-4.9999999999999933E-2},{"$f":"'All Respondents'!CK67-'All Respondents'!CK66","v":-1.9999999999999997E-2},{"$f":"'All Respondents'!CL67-'All Respondents'!CL66","v":1.0000000000000009E-2},{"$f":"'All Respondents'!CM67-'All Respondents'!CM66","v":-9.9999999999999811E-3},{"$f":"'All Respondents'!CN67-'All Respondents'!CN66","v":9.9999999999998979E-3},{"$f":"'All Respondents'!CO67-'All Respondents'!CO66","v":6.9999999999999979E-2},{"$f":"'All Respondents'!CP67-'All Respondents'!CP66","v":-6.0000000000000053E-2},{"$f":"'All Respondents'!CQ67-'All Respondents'!CQ66","v":1.9999999999999907E-2},{"$f":"'All Respondents'!CR67-'All Respondents'!CR66","v":-1.0000000000000009E-2},{"$f":"'All Respondents'!CS67-'All Respondents'!CS66","v":9.999999999999995E-3},{"$f":"'All Respondents'!CT67-'All Respondents'!CT66","v":1.0000000000000009E-2},{"$f":"'All Respondents'!CU67-'All Respondents'!CU66","v":-2.0000000000000004E-2},{"$f":"'All Respondents'!CV67-'All Respondents'!CV66","v":0},{"$f":"'All Respondents'!CW67-'All Respondents'!CW66","v":2.0000000000000018E-2},{"$f":"'All Respondents'!CX67-'All Respondents'!CX66","v":-0.03},{"$f":"'All Respondents'!CY67-'All Respondents'!CY66","v":0.02},{"$f":"'All Respondents'!CZ67-'All Respondents'!CZ66","v":-0.01},{"$f":"'All Respondents'!DA67-'All Respondents'!DA66","v":-0.01},{"$f":"'All Respondents'!DB67-'All Respondents'!DB66","v":0},{"$f":"'All Respondents'!DC67-'All Respondents'!DC66","v":1.0000000000000009E-2},{"$f":"'All Respondents'!DD67-'All Respondents'!DD66","v":1.999999999999999E-2},{"$f":"'All Respondents'!DE67-'All Respondents'!DE66","v":-2.0000000000000018E-2},{"$f":"'All Respondents'!DF67-'All Respondents'!DF66","v":-1.0000000000000009E-2},{"$f":"'All Respondents'!DG67-'All Respondents'!DG66","v":9.9999999999999811E-3},{"$f":"'All Respondents'!DH67-'All Respondents'!DH66","v":0},{"$f":"'All Respondents'!DI67-'All Respondents'!DI66","v":-1.0000000000000009E-2},{"$f":"'All Respondents'!DJ67-'All Respondents'!DJ66","v":-9.999999999999995E-3},{"$f":"'All Respondents'!DK67-'All Respondents'!DK66","v":-2.0000000000000004E-2},{"$f":"'All Respondents'!DL67-'All Respondents'!DL66","v":1.0000000000000002E-2},{"$f":"'All Respondents'!DM67-'All Respondents'!DM66","v":343868.73},{"$f":"'All Respondents'!DN67-'All Respondents'!DN66","v":189607.77},{"$f":"'All Respondents'!DO67-'All Respondents'!DO66","v":0.2},{"$f":"'All Respondents'!DP67-'All Respondents'!DP66","v":0.31},{"$f":"'All Respondents'!DQ67-'All Respondents'!DQ66","v":0.21},{"$f":"'All Respondents'!DR67-'All Respondents'!DR66","v":0.05},{"$f":"'All Respondents'!DS67-'All Respondents'!DS66","v":7.0000000000000007E-2}]
["Oct 15 - Nov 15",{"$f":"'All Respondents'!B68-'All Respondents'!B67","v":-2.4000000000000057},{"$f":"'All Respondents'!D68-'All Respondents'!D67","v":-2.3999999999999915},{"$f":"'All Respondents'!E68-'All Respondents'!E67","v":-2.0000000000000018E-2},{"$f":"'All Respondents'!F68-'All Respondents'!F67","v":-2.0000000000000004E-2},{"$f":"'All Respondents'!G68-'All Respondents'!G67","v":4.9999999999999989E-2},{"$f":"'All Respondents'!H68-'All Respondents'!H67","v":0},{"$f":"'All Respondents'!I68-'All Respondents'!I67","v":3.5000000000000031E-3},{"$f":"'All Respondents'!J68-'All Respondents'!J67","v":-4.4000000000000011E-3},{"$f":"'All Respondents'!K68-'All Respondents'!K67","v":-1.399999999999995E-3},{"$f":"'All Respondents'!L68-'All Respondents'!L67","v":2.0000000000000018E-2},{"$f":"'All Respondents'!M68-'All Respondents'!M67","v":0},{"$f":"'All Respondents'!N68-'All Respondents'!N67","v":-3.0000000000000027E-2},{"$f":"'All Respondents'!O68-'All Respondents'!O67","v":-2.0000000000000018E-2},null,{"$f":"'All Respondents'!Q68-'All Respondents'!Q67","v":-3.9999999999999758E-4},{"$f":"'All Respondents'!R68-'All Respondents'!R67","v":-1.0000000000000009E-2},{"$f":"'All Respondents'!S68-'All Respondents'!S67","v":2.9999999999999971E-2},{"$f":"'All Respondents'!T68-'All Respondents'!T67","v":2.0000000000000018E-2},{"$f":"'All Respondents'!U68-'All Respondents'!U67","v":1.0000000000000009E-2},{"$f":"'All Respondents'!V68-'All Respondents'!V67","v":0},{"$f":"'All Respondents'!W68-'All Respondents'!W67","v":1.0000000000000009E-2},{"$f":"'All Respondents'!X68-'All Respondents'!X67","v":1.0000000000000009E-2},{"$f":"'All Respondents'!Y68-'All Respondents'!Y67","v":0},{"$f":"'All Respondents'!Z68-'All Respondents'!Z67","v":1.9999999999999962E-2},{"$f":"'All Respondents'!AA68-'All Respondents'!AA67","v":-4.0000000000000008E-2},{"$f":"'All Respondents'!AB68-'All Respondents'!AB67","v":1.0000000000000002E-2},{"$f":"'All Respondents'!AC68-'All Respondents'!AC67","v":9.999999999999995E-3},{"$f":"'All Respondents'!AD68-'All Respondents'!AD67","v":-1.9999999999999962E-2},{"$f":"'All Respondents'!AE68-'All Respondents'!AE67","v":-2.0000000000000004E-2},{"$f":"'All Respondents'!AF68-'All Respondents'!AF67","v":-9.999999999999995E-3},{"$f":"'All Respondents'!AG68-'All Respondents'!AG67","v":3.9999999999999994E-2},{"$f":"'All Respondents'!AH68-'All Respondents'!AH67","v":0},{"$f":"'All Respondents'!AI68-'All Respondents'!AI67","v":0},{"$f":"'All Respondents'!AJ68-'All Respondents'!AJ67","v":-2.9999999999999971E-2},{"$f":"'All Respondents'!AK68-'All Respondents'!AK67","v":-2.9999999999999971E-2},{"$f":"'All Respondents'!AL68-'All Respondents'!AL67","v":2.0000000000000018E-2},{"$f":"'All Respondents'!AM68-'All Respondents'!AM67","v":1.0000000000000009E-2},{"$f":"'All Respondents'!AN68-'All Respondents'!AN67","v":3.0000000000000027E-2},{"$f":"'All Respondents'!AO68-'All Respondents'!AO67","v":-0.06},{"$f":"'All Respondents'!AP68-'All Respondents'!AP67","v":8.0000000000000016E-2},{"$f":"'All Respondents'!AQ68-'All Respondents'!AQ67","v":1.0000000000000009E-2},{"$f":"'All Respondents'!AR68-'All Respondents'!AR67","v":-4.0000000000000008E-2},{"$f":"'All Respondents'!AS68-'All Respondents'!AS67","v":-2.0000000000000004E-2},{"$f":"'All Respondents'!AT68-'All Respondents'!AT67","v":0},{"$f":"'All Respondents'!AU68-'All Respondents'!AU67","v":-1.0000000000000009E-2},{"$f":"'All Respondents'!AV68-'All Respondents'!AV67","v":0},{"$f":"'All Respondents'!AW68-'All Respondents'!AW67","v":4.0000000000000008E-2},{"$f":"'All Respondents'!AX68-'All Respondents'!AX67","v":0.03},{"$f":"'All Respondents'!AY68-'All Respondents'!AY67","v":-0.09},{"$f":"'All Respondents'!AZ68-'All Respondents'!AZ67","v":-4.9999999999999933E-2},{"$f":"'All Respondents'!BA68-'All Respondents'!BA67","v":-1.0000000000000002E-2},{"$f":"'All Respondents'!BB68-'All Respondents'!BB67","v":4.9999999999999989E-2},{"$f":"'All Respondents'!BC68-'All Respondents'!BC67","v":-3.9999999999999925E-2},{"$f":"'All Respondents'!BD68-'All Respondents'!BD67","v":1.465000000000008E-3},{"$f":"'All Respondents'!BE68-'All Respondents'!BE67","v":4.0000000000000036E-2},{"$f":"'All Respondents'!BF68-'All Respondents'!BF67","v":-2.0000000000000018E-2},{"$f":"'All Respondents'!BG68-'All Respondents'!BG67","v":6.0000000000000053E-2},{"$f":"'All Respondents'!BH68-'All Respondents'!BH67","v":0},{"$f":"'All Respondents'!BI68-'All Respondents'!BI67","v":1.0000000000000009E-2},{"$f":"'All Respondents'!BJ68-'All Respondents'!BJ67","v":-1.0000000000000009E-2},{"$f":"'All Respondents'!BK68-'All Respondents'!BK67","v":-1.0000000000000009E-2},{"$f":"'All Respondents'!BL68-'All Respondents'!BL67","v":0},{"$f":"'All Respondents'!BM68-'All Respondents'!BM67","v":-1.0000000000000009E-2},{"$f":"'All Respondents'!BN68-'All Respondents'!BN67","v":1.0000000000000009E-2},{"$f":"'All Respondents'!BO68-'All Respondents'!BO67","v":9.999999999999995E-3},{"$f":"'All Respondents'!BP68-'All Respondents'!BP67","v":-1.0000000000000002E-2},{"$f":"'All Respondents'!BQ68-'All Respondents'!BQ67","v":0},{"$f":"'All Respondents'!BR68-'All Respondents'!BR67","v":-1.0000000000000009E-2},{"$f":"'All Respondents'!BS68-'All Respondents'!BS67","v":-0.03},{"$f":"'All Respondents'!BT68-'All Respondents'!BT67","v":1.999999999999999E-2},{"$f":"'All Respondents'!BU68-'All Respondents'!BU67","v":3.0000000000000027E-2},{"$f":"'All Respondents'!BV68-'All Respondents'!BV67","v":-4.9999999999999989E-2},{"$f":"'All Respondents'!BW68-'All Respondents'!BW67","v":-1.9999999999999962E-2},{"$f":"'All Respondents'!BX68-'All Respondents'!BX67","v":3.0000000000000027E-2},{"$f":"'All Respondents'!BY68-'All Respondents'!BY67","v":4.9999999999999989E-2},{"$f":"'All Respondents'!BZ68-'All Respondents'!BZ67","v":-0.03},{"$f":"'All Respondents'!CA68-'All Respondents'!CA67","v":0},{"$f":"'All Respondents'!CB68-'All Respondents'!CB67","v":-3.0000000000000027E-2},{"$f":"'All Respondents'!CC68-'All Respondents'!CC67","v":3.0000000000000027E-2},{"$f":"'All Respondents'!CD68-'All Respondents'!CD67","v":-1.999999999999999E-2},{"$f":"'All Respondents'!CE68-'All Respondents'!CE67","v":-9.9999999999999811E-3},{"$f":"'All Respondents'!CF68-'All Respondents'!CF67","v":0.06},{"$f":"'All Respondents'!CG68-'All Respondents'!CG67","v":0},{"$f":"'All Respondents'!CH68-'All Respondents'!CH67","v":9.999999999999995E-3},{"$f":"'All Respondents'!CI68-'All Respondents'!CI67","v":9.9999999999999811E-3},{"$f":"'All Respondents'!CJ68-'All Respondents'!CJ67","v":0},{"$f":"'All Respondents'!CK68-'All Respondents'!CK67","v":-1.0000000000000002E-2},{"$f":"'All Respondents'!CL68-'All Respondents'!CL67","v":1.999999999999999E-2},{"$f":"'All Respondents'!CM68-'All Respondents'!CM67","v":9.9999999999999811E-3},{"$f":"'All Respondents'!CN68-'All Respondents'!CN67","v":-1.0000000000000009E-2},{"$f":"'All Respondents'!CO68-'All Respondents'!CO67","v":-9.9999999999999811E-3},{"$f":"'All Respondents'!CP68-'All Respondents'!CP67","v":0},{"$f":"'All Respondents'!CQ68-'All Respondents'!CQ67","v":-2.0000000000000018E-2},{"$f":"'All Respondents'!CR68-'All Respondents'!CR67","v":-1.0000000000000009E-2},{"$f":"'All Respondents'!CS68-'All Respondents'!CS67","v":0.03},{"$f":"'All Respondents'!CT68-'All Respondents'!CT67","v":-4.9999999999999989E-2},{"$f":"'All Respondents'!CU68-'All Respondents'!CU67","v":2.0000000000000004E-2},{"$f":"'All Respondents'!CV68-'All Respondents'!CV67","v":0},{"$f":"'All Respondents'!CW68-'All Respondents'!CW67","v":-1.0000000000000009E-2},{"$f":"'All Respondents'!CX68-'All Respondents'!CX67","v":2.0000000000000018E-2},{"$f":"'All Respondents'!CY68-'All Respondents'!CY67","v":-1.0000000000000002E-2},{"$f":"'All Respondents'!CZ68-'All Respondents'!CZ67","v":0},{"$f":"'All Respondents'!DA68-'All Respondents'!DA67","v":-0.01},{"$f":"'All Respondents'!DB68-'All Respondents'!DB67","v":0},{"$f":"'All Respondents'!DC68-'All Respondents'!DC67","v":0},{"$f":"'All Respondents'!DD68-'All Respondents'!DD67","v":2.0000000000000018E-2},{"$f":"'All Respondents'!DE68-'All Respondents'!DE67","v":-3.0000000000000027E-2},{"$f":"'All Respondents'!DF68-'All Respondents'!DF67","v":0},{"$f":"'All Respondents'!DG68-'All Respondents'!DG67","v":0},{"$f":"'All Respondents'!DH68-'All Respondents'!DH67","v":0},{"$f":"'All Respondents'!DI68-'All Respondents'!DI67","v":1.0000000000000009E-2},{"$f":"'All Respondents'!DJ68-'All Respondents'!DJ67","v":0},{"$f":"'All Respondents'!DK68-'All Respondents'!DK67","v":1.0000000000000002E-2},{"$f":"'All Respondents'!DL68-'All Respondents'!DL67","v":-1.0000000000000002E-2},{"$f":"'All Respondents'!DM68-'All Respondents'!DM67","v":7269.7200000000303},{"$f":"'All Respondents'!DN68-'All Respondents'!DN67","v":30392.23000000001},{"$f":"'All Respondents'!DO68-'All Respondents'!DO67","v":-5.0000000000000017E-2},{"$f":"'All Respondents'!DP68-'All Respondents'!DP67","v":-2.0000000000000018E-2},{"$f":"'All Respondents'!DQ68-'All Respondents'!DQ67","v":2.0000000000000018E-2},{"$f":"'All Respondents'!DR68-'All Respondents'!DR67","v":0.03},{"$f":"'All Respondents'!DS68-'All Respondents'!DS67","v":0}]
["Nov 15 - Dec 15",{"$f":"'All Respondents'!B69-'All Respondents'!B68","v":2.4000000000000057},{"$f":"'All Respondents'!D69-'All Respondents'!D68","v":3.5999999999999943},{"$f":"'All Respondents'!E69-'All Respondents'!E68","v":3.999999999999998E-2},{"$f":"'All Respondents'!F69-'All Respondents'!F68","v":2.0000000000000004E-2},{"$f":"'All Respondents'!G69-'All Respondents'!G68","v":-0.06},{"$f":"'All Respondents'!H69-'All Respondents'!H68","v":1.9999999999999962E-2},{"$f":"'All Respondents'!I69-'All Respondents'!I68","v":-3.4000000000000002E-3},{"$f":"'All Respondents'!J69-'All Respondents'!J68","v":4.4000000000000011E-3},{"$f":"'All Respondents'!K69-'All Respondents'!K68","v":2.7779999999999958E-3},{"$f":"'All Respondents'!L69-'All Respondents'!L68","v":3.0000000000000027E-2},{"$f":"'All Respondents'!M69-'All Respondents'!M68","v":-1.0000000000000002E-2},{"$f":"'All Respondents'!N69-'All Respondents'!N68","v":0},{"$f":"'All Respondents'!O69-'All Respondents'!O68","v":-3.999999999999998E-2},null,{"$f":"'All Respondents'!Q69-'All Respondents'!Q68","v":2.0000000000000018E-3},{"$f":"'All Respondents'!R69-'All Respondents'!R68","v":1.0000000000000009E-2},{"$f":"'All Respondents'!S69-'All Respondents'!S68","v":-1.9999999999999962E-2},{"$f":"'All Respondents'!T69-'All Respondents'!T68","v":-1.0000000000000009E-2},{"$f":"'All Respondents'!U69-'All Respondents'!U68","v":-2.0000000000000018E-2},{"$f":"'All Respondents'!V69-'All Respondents'!V68","v":1.0000000000000009E-2},{"$f":"'All Respondents'!W69-'All Respondents'!W68","v":-1.0000000000000009E-2},{"$f":"'All Respondents'!X69-'All Respondents'!X68","v":0},{"$f":"'All Respondents'!Y69-'All Respondents'!Y68","v":0},{"$f":"'All Respondents'!Z69-'All Respondents'!Z68","v":-3.999999999999998E-2},{"$f":"'All Respondents'!AA69-'All Respondents'!AA68","v":5.0000000000000017E-2},{"$f":"'All Respondents'!AB69-'All Respondents'!AB68","v":0},{"$f":"'All Respondents'!AC69-'All Respondents'!AC68","v":0},{"$f":"'All Respondents'!AD69-'All Respondents'!AD68","v":-1.0000000000000009E-2},{"$f":"'All Respondents'!AE69-'All Respondents'!AE68","v":0},{"$f":"'All Respondents'!AF69-'All Respondents'!AF68","v":0},{"$f":"'All Respondents'!AG69-'All Respondents'!AG68","v":-3.9999999999999994E-2},{"$f":"'All Respondents'!AH69-'All Respondents'!AH68","v":2.0000000000000018E-2},{"$f":"'All Respondents'!AI69-'All Respondents'!AI68","v":-2.0000000000000018E-2},{"$f":"'All Respondents'!AJ69-'All Respondents'!AJ68","v":2.9999999999999971E-2},{"$f":"'All Respondents'!AK69-'All Respondents'!AK68","v":9.9999999999999534E-3},{"$f":"'All Respondents'!AL69-'All Respondents'!AL68","v":-2.0000000000000018E-2},{"$f":"'All Respondents'!AM69-'All Respondents'!AM68","v":-1.0000000000000009E-2},{"$f":"'All Respondents'!AN69-'All Respondents'!AN68","v":-3.0000000000000027E-2},{"$f":"'All Respondents'!AO69-'All Respondents'!AO68","v":3.999999999999998E-2},{"$f":"'All Respondents'!AP69-'All Respondents'!AP68","v":-0.12},{"$f":"'All Respondents'!AQ69-'All Respondents'!AQ68","v":4.9999999999999989E-2},{"$f":"'All Respondents'!AR69-'All Respondents'!AR68","v":4.0000000000000008E-2},{"$f":"'All Respondents'!AS69-'All Respondents'!AS68","v":2.0000000000000004E-2},{"$f":"'All Respondents'!AT69-'All Respondents'!AT68","v":9.9999999999999811E-3},{"$f":"'All Respondents'!AU69-'All Respondents'!AU68","v":4.0000000000000036E-2},{"$f":"'All Respondents'!AV69-'All Respondents'!AV68","v":-3.0000000000000006E-2},{"$f":"'All Respondents'!AW69-'All Respondents'!AW68","v":-1.999999999999999E-2},{"$f":"'All Respondents'!AX69-'All Respondents'!AX68","v":-0.06},{"$f":"'All Respondents'!AY69-'All Respondents'!AY68","v":5.0000000000000017E-2},{"$f":"'All Respondents'!AZ69-'All Respondents'!AZ68","v":0},{"$f":"'All Respondents'!BA69-'All Respondents'!BA68","v":0},{"$f":"'All Respondents'!BB69-'All Respondents'!BB68","v":-3.0000000000000027E-2},{"$f":"'All Respondents'!BC69-'All Respondents'!BC68","v":0},{"$f":"'All Respondents'!BD69-'All Respondents'!BD68","v":-5.8059999999999987E-3},{"$f":"'All Respondents'!BE69-'All Respondents'!BE68","v":-4.0000000000000036E-2},{"$f":"'All Respondents'!BF69-'All Respondents'!BF68","v":4.0000000000000036E-2},{"$f":"'All Respondents'!BG69-'All Respondents'!BG68","v":-8.0000000000000071E-2},{"$f":"'All Respondents'!BH69-'All Respondents'!BH68","v":4.9999999999999989E-2},{"$f":"'All Respondents'!BI69-'All Respondents'!BI68","v":-7.0000000000000062E-2},{"$f":"'All Respondents'!BJ69-'All Respondents'!BJ68","v":0.12000000000000005},{"$f":"'All Respondents'!BK69-'All Respondents'!BK68","v":1.999999999999999E-2},{"$f":"'All Respondents'!BL69-'All Respondents'!BL68","v":0},{"$f":"'All Respondents'!BM69-'All Respondents'!BM68","v":1.9999999999999962E-2},{"$f":"'All Respondents'!BN69-'All Respondents'!BN68","v":-2.0000000000000018E-2},{"$f":"'All Respondents'!BO69-'All Respondents'!BO68","v":-0.03},{"$f":"'All Respondents'!BP69-'All Respondents'!BP68","v":1.0000000000000002E-2},{"$f":"'All Respondents'!BQ69-'All Respondents'!BQ68","v":-1.999999999999999E-2},{"$f":"'All Respondents'!BR69-'All Respondents'!BR68","v":3.9999999999999925E-2},{"$f":"'All Respondents'!BS69-'All Respondents'!BS68","v":6.0000000000000026E-2},{"$f":"'All Respondents'!BT69-'All Respondents'!BT68","v":-0.03},{"$f":"'All Respondents'!BU69-'All Respondents'!BU68","v":-3.0000000000000027E-2},{"$f":"'All Respondents'!BV69-'All Respondents'!BV68","v":9.0000000000000024E-2},{"$f":"'All Respondents'!BW69-'All Respondents'!BW68","v":1.0000000000000009E-2},{"$f":"'All Respondents'!BX69-'All Respondents'!BX68","v":-1.0000000000000009E-2},{"$f":"'All Respondents'!BY69-'All Respondents'!BY68","v":-2.0000000000000018E-2},{"$f":"'All Respondents'!BZ69-'All Respondents'!BZ68","v":0},{"$f":"'All Respondents'!CA69-'All Respondents'!CA68","v":0},{"$f":"'All Respondents'!CB69-'All Respondents'!CB68","v":0},{"$f":"'All Respondents'!CC69-'All Respondents'!CC68","v":2.0000000000000018E-2},{"$f":"'All Respondents'!CD69-'All Respondents'!CD68","v":-2.0000000000000004E-2},{"$f":"'All Respondents'!CE69-'All Respondents'!CE68","v":0.06},{"$f":"'All Respondents'!CF69-'All Respondents'!CF68","v":-1.9999999999999962E-2},{"$f":"'All Respondents'!CG69-'All Respondents'!CG68","v":1.0000000000000002E-2},{"$f":"'All Respondents'!CH69-'All Respondents'!CH68","v":-9.999999999999995E-3},{"$f":"'All Respondents'!CI69-'All Respondents'!CI68","v":-0.03},{"$f":"'All Respondents'!CJ69-'All Respondents'!CJ68","v":2.0000000000000018E-2},{"$f":"'All Respondents'!CK69-'All Respondents'!CK68","v":2.0000000000000004E-2},{"$f":"'All Respondents'!CL69-'All Respondents'!CL68","v":-3.9999999999999994E-2},{"$f":"'All Respondents'!CM69-'All Respondents'!CM68","v":-1.999999999999999E-2},{"$f":"'All Respondents'!CN69-'All Respondents'!CN68","v":1.0000000000000009E-2},{"$f":"'All Respondents'!CO69-'All Respondents'!CO68","v":-2.0000000000000018E-2},{"$f":"'All Respondents'!CP69-'All Respondents'!CP68","v":3.0000000000000027E-2},{"$f":"'All Respondents'!CQ69-'All Respondents'!CQ68","v":3.0000000000000027E-2},{"$f":"'All Respondents'!CR69-'All Respondents'!CR68","v":1.0000000000000009E-2},{"$f":"'All Respondents'!CS69-'All Respondents'!CS68","v":-1.999999999999999E-2},{"$f":"'All Respondents'!CT69-'All Respondents'!CT68","v":0},{"$f":"'All Respondents'!CU69-'All Respondents'!CU68","v":-9.999999999999995E-3},{"$f":"'All Respondents'!CV69-'All Respondents'!CV68","v":0},{"$f":"'All Respondents'!CW69-'All Respondents'!CW68","v":-2.0000000000000018E-2},{"$f":"'All Respondents'!CX69-'All Respondents'!CX68","v":-0.03},{"$f":"'All Respondents'!CY69-'All Respondents'!CY68","v":0.03},{"$f":"'All Respondents'!CZ69-'All Respondents'!CZ68","v":0.02},{"$f":"'All Respondents'!DA69-'All Respondents'!DA68","v":0.01},{"$f":"'All Respondents'!DB69-'All Respondents'!DB68","v":0},{"$f":"'All Respondents'!DC69-'All Respondents'!DC68","v":0},{"$f":"'All Respondents'!DD69-'All Respondents'!DD68","v":0},{"$f":"'All Respondents'!DE69-'All Respondents'!DE68","v":-1.0000000000000009E-2},{"$f":"'All Respondents'!DF69-'All Respondents'!DF68","v":0},{"$f":"'All Respondents'!DG69-'All Respondents'!DG68","v":-1.999999999999999E-2},{"$f":"'All Respondents'!DH69-'All Respondents'!DH68","v":-2.0000000000000018E-2},{"$f":"'All Respondents'!DI69-'All Respondents'!DI68","v":-1.0000000000000009E-2},{"$f":"'All Respondents'!DJ69-'All Respondents'!DJ68","v":3.9999999999999994E-2},{"$f":"'All Respondents'!DK69-'All Respondents'!DK68","v":1.0000000000000002E-2},{"$f":"'All Respondents'!DL69-'All Respondents'!DL68","v":0.03},{"$f":"'All Respondents'!DM69-'All Respondents'!DM68","v":8784.0199999999604},{"$f":"'All Respondents'!DN69-'All Respondents'!DN68","v":-20000},{"$f":"'All Respondents'!DO69-'All Respondents'!DO68","v":-9.9999999999999811E-3},{"$f":"'All Respondents'!DP69-'All Respondents'!DP68","v":4.0000000000000036E-2},{"$f":"'All Respondents'!DQ69-'All Respondents'!DQ68","v":0},{"$f":"'All Respondents'!DR69-'All Respondents'!DR68","v":-0.03},{"$f":"'All Respondents'!DS69-'All Respondents'!DS68","v":0}]
["Dec 15 - Jan 16",{"$f":"'All Respondents'!B70-'All Respondents'!B69","v":-1.7000000000000028},{"$f":"'All Respondents'!D70-'All Respondents'!D69","v":-2},{"$f":"'All Respondents'!E70-'All Respondents'!E69","v":-2.9999999999999971E-2},{"$f":"'All Respondents'!F70-'All Respondents'!F69","v":0},{"$f":"'All Respondents'!G70-'All Respondents'!G69","v":2.9999999999999971E-2},{"$f":"'All Respondents'!H70-'All Respondents'!H69","v":-2.9999999999999971E-2},{"$f":"'All Respondents'!I70-'All Respondents'!I69","v":-1.9299999999999998E-2},{"$f":"'All Respondents'!J70-'All Respondents'!J69","v":-1.0000000000000286E-4},{"$f":"'All Respondents'!K70-'All Respondents'!K69","v":-3.6440000000000049E-3},{"$f":"'All Respondents'!L70-'All Respondents'!L69","v":9.9999999999998979E-3},{"$f":"'All Respondents'!M70-'All Respondents'!M69","v":1.0000000000000002E-2},{"$f":"'All Respondents'!N70-'All Respondents'!N69","v":-4.9999999999999989E-2},{"$f":"'All Respondents'!O70-'All Respondents'!O69","v":0},null,{"$f":"'All Respondents'!Q70-'All Respondents'!Q69","v":2.8999999999999998E-3},{"$f":"'All Respondents'!R70-'All Respondents'!R69","v":-0.03},{"$f":"'All Respondents'!S70-'All Respondents'!S69","v":9.9999999999999534E-3},{"$f":"'All Respondents'!T70-'All Respondents'!T69","v":-2.0000000000000018E-2},{"$f":"'All Respondents'!U70-'All Respondents'!U69","v":0.03},{"$f":"'All Respondents'!V70-'All Respondents'!V69","v":-1.0000000000000009E-2},{"$f":"'All Respondents'!W70-'All Respondents'!W69","v":1.9999999999999962E-2},{"$f":"'All Respondents'!X70-'All Respondents'!X69","v":-3.999999999999998E-2},{"$f":"'All Respondents'!Y70-'All Respondents'!Y69","v":-4.0000000000000008E-2},{"$f":"'All Respondents'!Z70-'All Respondents'!Z69","v":2.9999999999999971E-2},{"$f":"'All Respondents'!AA70-'All Respondents'!AA69","v":0},{"$f":"'All Respondents'!AB70-'All Respondents'!AB69","v":0},{"$f":"'All Respondents'!AC70-'All Respondents'!AC69","v":2.0000000000000018E-2},{"$f":"'All Respondents'!AD70-'All Respondents'!AD69","v":7.0000000000000007E-2},{"$f":"'All Respondents'!AE70-'All Respondents'!AE69","v":0.03},{"$f":"'All Respondents'!AF70-'All Respondents'!AF69","v":0},{"$f":"'All Respondents'!AG70-'All Respondents'!AG69","v":-9.999999999999995E-3},{"$f":"'All Respondents'!AH70-'All Respondents'!AH69","v":-0.06},{"$f":"'All Respondents'!AI70-'All Respondents'!AI69","v":-1.999999999999999E-2},{"$f":"'All Respondents'!AJ70-'All Respondents'!AJ69","v":3.0000000000000027E-2},{"$f":"'All Respondents'!AK70-'All Respondents'!AK69","v":1.0000000000000009E-2},{"$f":"'All Respondents'!AL70-'All Respondents'!AL69","v":3.0000000000000027E-2},{"$f":"'All Respondents'!AM70-'All Respondents'!AM69","v":-0.03},{"$f":"'All Respondents'!AN70-'All Respondents'!AN69","v":0},{"$f":"'All Respondents'!AO70-'All Respondents'!AO69","v":9.9999999999999534E-3},{"$f":"'All Respondents'!AP70-'All Respondents'!AP69","v":7.9999999999999988E-2},{"$f":"'All Respondents'!AQ70-'All Respondents'!AQ69","v":-1.0000000000000009E-2},{"$f":"'All Respondents'!AR70-'All Respondents'!AR69","v":-1.0000000000000009E-2},{"$f":"'All Respondents'!AS70-'All Respondents'!AS69","v":-0.03},{"$f":"'All Respondents'!AT70-'All Respondents'!AT69","v":-4.9999999999999989E-2},{"$f":"'All Respondents'!AU70-'All Respondents'!AU69","v":9.9999999999999534E-3},{"$f":"'All Respondents'!AV70-'All Respondents'!AV69","v":1.9999999999999997E-2},{"$f":"'All Respondents'!AW70-'All Respondents'!AW69","v":-0.03},{"$f":"'All Respondents'!AX70-'All Respondents'!AX69","v":-9.999999999999995E-3},{"$f":"'All Respondents'!AY70-'All Respondents'!AY69","v":3.999999999999998E-2},{"$f":"'All Respondents'!AZ70-'All Respondents'!AZ69","v":-1.0000000000000009E-2},{"$f":"'All Respondents'!BA70-'All Respondents'!BA69","v":0},{"$f":"'All Respondents'!BB70-'All Respondents'!BB69","v":4.0000000000000036E-2},{"$f":"'All Respondents'!BC70-'All Respondents'!BC69","v":-1.0000000000000009E-2},{"$f":"'All Respondents'!BD70-'All Respondents'!BD69","v":2.5729999999999989E-3},{"$f":"'All Respondents'!BE70-'All Respondents'!BE69","v":5.0000000000000044E-2},{"$f":"'All Respondents'!BF70-'All Respondents'!BF69","v":-4.0000000000000036E-2},{"$f":"'All Respondents'!BG70-'All Respondents'!BG69","v":9.000000000000008E-2},{"$f":"'All Respondents'!BH70-'All Respondents'!BH69","v":-3.999999999999998E-2},{"$f":"'All Respondents'!BI70-'All Respondents'!BI69","v":3.0000000000000027E-2},{"$f":"'All Respondents'!BJ70-'All Respondents'!BJ69","v":-7.0000000000000007E-2},{"$f":"'All Respondents'!BK70-'All Respondents'!BK69","v":-9.9999999999999811E-3},{"$f":"'All Respondents'!BL70-'All Respondents'!BL69","v":9.9999999999999534E-3},{"$f":"'All Respondents'!BM70-'All Respondents'!BM69","v":0},{"$f":"'All Respondents'!BN70-'All Respondents'!BN69","v":0},{"$f":"'All Respondents'!BO70-'All Respondents'!BO69","v":2.0000000000000004E-2},{"$f":"'All Respondents'!BP70-'All Respondents'!BP69","v":0},{"$f":"'All Respondents'!BQ70-'All Respondents'!BQ69","v":1.999999999999999E-2},{"$f":"'All Respondents'!BR70-'All Respondents'!BR69","v":-2.0000000000000018E-2},{"$f":"'All Respondents'!BS70-'All Respondents'!BS69","v":-1.0000000000000009E-2},{"$f":"'All Respondents'!BT70-'All Respondents'!BT69","v":2.0000000000000018E-2},{"$f":"'All Respondents'!BU70-'All Respondents'!BU69","v":-1.0000000000000009E-2},{"$f":"'All Respondents'!BV70-'All Respondents'!BV69","v":-3.0000000000000027E-2},{"$f":"'All Respondents'!BW70-'All Respondents'!BW69","v":-0.06},{"$f":"'All Respondents'!BX70-'All Respondents'!BX69","v":4.0000000000000036E-2},{"$f":"'All Respondents'!BY70-'All Respondents'!BY69","v":0.10000000000000003},{"$f":"'All Respondents'!BZ70-'All Respondents'!BZ69","v":0},{"$f":"'All Respondents'!CA70-'All Respondents'!CA69","v":-0.03},{"$f":"'All Respondents'!CB70-'All Respondents'!CB69","v":-0.03},{"$f":"'All Respondents'!CC70-'All Respondents'!CC69","v":1.0000000000000009E-2},{"$f":"'All Respondents'!CD70-'All Respondents'!CD69","v":0},{"$f":"'All Respondents'!CE70-'All Respondents'!CE69","v":-4.0000000000000008E-2},{"$f":"'All Respondents'!CF70-'All Respondents'!CF69","v":4.9999999999999989E-2},{"$f":"'All Respondents'!CG70-'All Respondents'!CG69","v":0},{"$f":"'All Respondents'!CH70-'All Respondents'!CH69","v":-9.999999999999995E-3},{"$f":"'All Respondents'!CI70-'All Respondents'!CI69","v":-9.9999999999999811E-3},{"$f":"'All Respondents'!CJ70-'All Respondents'!CJ69","v":2.9999999999999916E-2},{"$f":"'All Respondents'!CK70-'All Respondents'!CK69","v":0},{"$f":"'All Respondents'!CL70-'All Respondents'!CL69","v":9.999999999999995E-3},{"$f":"'All Respondents'!CM70-'All Respondents'!CM69","v":1.0000000000000009E-2},{"$f":"'All Respondents'!CN70-'All Respondents'!CN69","v":0},{"$f":"'All Respondents'!CO70-'All Respondents'!CO69","v":-0.03},{"$f":"'All Respondents'!CP70-'All Respondents'!CP69","v":3.0000000000000027E-2},{"$f":"'All Respondents'!CQ70-'All Respondents'!CQ69","v":-9.9999999999998979E-3},{"$f":"'All Respondents'!CR70-'All Respondents'!CR69","v":1.0000000000000009E-2},{"$f":"'All Respondents'!CS70-'All Respondents'!CS69","v":-1.0000000000000009E-2},{"$f":"'All Respondents'!CT70-'All Respondents'!CT69","v":1.999999999999999E-2},{"$f":"'All Respondents'!CU70-'All Respondents'!CU69","v":9.999999999999995E-3},{"$f":"'All Respondents'!CV70-'All Respondents'!CV69","v":-2.0000000000000018E-2},{"$f":"'All Respondents'!CW70-'All Respondents'!CW69","v":1.0000000000000009E-2},{"$f":"'All Respondents'!CX70-'All Respondents'!CX69","v":3.999999999999998E-2},{"$f":"'All Respondents'!CY70-'All Respondents'!CY69","v":-0.03},{"$f":"'All Respondents'!CZ70-'All Respondents'!CZ69","v":-0.02},{"$f":"'All Respondents'!DA70-'All Respondents'!DA69","v":0},{"$f":"'All Respondents'!DB70-'All Respondents'!DB69","v":4.9999999999999989E-2},{"$f":"'All Respondents'!DC70-'All Respondents'!DC69","v":-6.9999999999999951E-2},{"$f":"'All Respondents'!DD70-'All Respondents'!DD69","v":9.9999999999999811E-3},{"$f":"'All Respondents'!DE70-'All Respondents'!DE69","v":0},{"$f":"'All Respondents'!DF70-'All Respondents'!DF69","v":0},{"$f":"'All Respondents'!DG70-'All Respondents'!DG69","v":-1.999999999999999E-2},{"$f":"'All Respondents'!DH70-'All Respondents'!DH69","v":-2.0000000000000018E-2},{"$f":"'All Respondents'!DI70-'All Respondents'!DI69","v":1.999999999999999E-2},{"$f":"'All Respondents'!DJ70-'All Respondents'!DJ69","v":-9.999999999999995E-3},{"$f":"'All Respondents'!DK70-'All Respondents'!DK69","v":0.03},{"$f":"'All Respondents'!DL70-'All Respondents'!DL69","v":-3.9999999999999994E-2},{"$f":"'All Respondents'!DM70-'All Respondents'!DM69","v":-49190.579999999958},{"$f":"'All Respondents'!DN70-'All Respondents'!DN69","v":0},{"$f":"'All Respondents'!DO70-'All Respondents'!DO69","v":1.999999999999999E-2},{"$f":"'All Respondents'!DP70-'All Respondents'!DP69","v":1.0000000000000009E-2},{"$f":"'All Respondents'!DQ70-'All Respondents'!DQ69","v":9.9999999999999811E-3},{"$f":"'All Respondents'!DR70-'All Respondents'!DR69","v":2.0000000000000004E-2},{"$f":"'All Respondents'!DS70-'All Respondents'!DS69","v":-2.0000000000000004E-2}]
["Jan 16 - Feb 16",{"$f":"'All Respondents'!B71-'All Respondents'!B70","v":1.2000000000000028},{"$f":"'All Respondents'!D71-'All Respondents'!D70","v":1},{"$f":"'All Respondents'!E71-'All Respondents'!E70","v":-1.0000000000000009E-2},{"$f":"'All Respondents'!F71-'All Respondents'!F70","v":0.03},{"$f":"'All Respondents'!G71-'All Respondents'!G70","v":-9.9999999999999534E-3},{"$f":"'All Respondents'!H71-'All Respondents'!H70","v":-3.999999999999998E-2},{"$f":"'All Respondents'!I71-'All Respondents'!I70","v":8.3999999999999908E-3},{"$f":"'All Respondents'!J71-'All Respondents'!J70","v":-5.2999999999999992E-3},{"$f":"'All Respondents'!K71-'All Respondents'!K70","v":-5.2119999999999979E-3},{"$f":"'All Respondents'!L71-'All Respondents'!L70","v":-1.9999999999999907E-2},{"$f":"'All Respondents'!M71-'All Respondents'!M70","v":0},{"$f":"'All Respondents'!N71-'All Respondents'!N70","v":0.06},{"$f":"'All Respondents'!O71-'All Respondents'!O70","v":1.9999999999999907E-2},null,{"$f":"'All Respondents'!Q71-'All Respondents'!Q70","v":-4.7000000000000028E-3},{"$f":"'All Respondents'!R71-'All Respondents'!R70","v":0.03},{"$f":"'All Respondents'!S71-'All Respondents'!S70","v":-9.9999999999999534E-3},{"$f":"'All Respondents'!T71-'All Respondents'!T70","v":2.0000000000000018E-2},{"$f":"'All Respondents'!U71-'All Respondents'!U70","v":-1.999999999999999E-2},{"$f":"'All Respondents'!V71-'All Respondents'!V70","v":0},{"$f":"'All Respondents'!W71-'All Respondents'!W70","v":-1.9999999999999962E-2},{"$f":"'All Respondents'!X71-'All Respondents'!X70","v":3.999999999999998E-2},{"$f":"'All Respondents'!Y71-'All Respondents'!Y70","v":1.0000000000000009E-2},{"$f":"'All Respondents'!Z71-'All Respondents'!Z70","v":3.0000000000000027E-2},{"$f":"'All Respondents'!AA71-'All Respondents'!AA70","v":-1.0000000000000009E-2},{"$f":"'All Respondents'!AB71-'All Respondents'!AB70","v":-0.02},{"$f":"'All Respondents'!AC71-'All Respondents'!AC70","v":-4.0000000000000008E-2},{"$f":"'All Respondents'!AD71-'All Respondents'!AD70","v":1.0000000000000009E-2},{"$f":"'All Respondents'!AE71-'All Respondents'!AE70","v":-1.999999999999999E-2},{"$f":"'All Respondents'!AF71-'All Respondents'!AF70","v":0},{"$f":"'All Respondents'!AG71-'All Respondents'!AG70","v":1.999999999999999E-2},{"$f":"'All Respondents'!AH71-'All Respondents'!AH70","v":0},{"$f":"'All Respondents'!AI71-'All Respondents'!AI70","v":4.0000000000000008E-2},{"$f":"'All Respondents'!AJ71-'All Respondents'!AJ70","v":-4.0000000000000036E-2},{"$f":"'All Respondents'!AK71-'All Respondents'!AK70","v":0},{"$f":"'All Respondents'!AL71-'All Respondents'!AL70","v":2.0000000000000018E-2},{"$f":"'All Respondents'!AM71-'All Respondents'!AM70","v":0},{"$f":"'All Respondents'!AN71-'All Respondents'!AN70","v":2.0000000000000018E-2},{"$f":"'All Respondents'!AO71-'All Respondents'!AO70","v":-2.0000000000000018E-2},{"$f":"'All Respondents'!AP71-'All Respondents'!AP70","v":-0.06},{"$f":"'All Respondents'!AQ71-'All Respondents'!AQ70","v":-1.0000000000000009E-2},{"$f":"'All Respondents'!AR71-'All Respondents'!AR70","v":0.03},{"$f":"'All Respondents'!AS71-'All Respondents'!AS70","v":2.0000000000000004E-2},{"$f":"'All Respondents'!AT71-'All Respondents'!AT70","v":4.0000000000000008E-2},{"$f":"'All Respondents'!AU71-'All Respondents'!AU70","v":-3.999999999999998E-2},{"$f":"'All Respondents'!AV71-'All Respondents'!AV70","v":-9.999999999999995E-3},{"$f":"'All Respondents'!AW71-'All Respondents'!AW70","v":1.999999999999999E-2},{"$f":"'All Respondents'!AX71-'All Respondents'!AX70","v":0.05},{"$f":"'All Respondents'!AY71-'All Respondents'!AY70","v":-3.999999999999998E-2},{"$f":"'All Respondents'!AZ71-'All Respondents'!AZ70","v":0},{"$f":"'All Respondents'!BA71-'All Respondents'!BA70","v":0},{"$f":"'All Respondents'!BB71-'All Respondents'!BB70","v":-1.0000000000000009E-2},{"$f":"'All Respondents'!BC71-'All Respondents'!BC70","v":0},{"$f":"'All Respondents'!BD71-'All Respondents'!BD70","v":-7.0150000000000004E-3},{"$f":"'All Respondents'!BE71-'All Respondents'!BE70","v":-5.0000000000000044E-2},{"$f":"'All Respondents'!BF71-'All Respondents'!BF70","v":2.0000000000000018E-2},{"$f":"'All Respondents'!BG71-'All Respondents'!BG70","v":-7.0000000000000062E-2},{"$f":"'All Respondents'!BH71-'All Respondents'!BH70","v":-1.0000000000000009E-2},{"$f":"'All Respondents'!BI71-'All Respondents'!BI70","v":4.0000000000000036E-2},{"$f":"'All Respondents'!BJ71-'All Respondents'!BJ70","v":-5.0000000000000044E-2},{"$f":"'All Respondents'!BK71-'All Respondents'!BK70","v":-1.0000000000000009E-2},{"$f":"'All Respondents'!BL71-'All Respondents'!BL70","v":1.0000000000000009E-2},{"$f":"'All Respondents'!BM71-'All Respondents'!BM70","v":0},{"$f":"'All Respondents'!BN71-'All Respondents'!BN70","v":-9.9999999999999534E-3},{"$f":"'All Respondents'!BO71-'All Respondents'!BO70","v":9.999999999999995E-3},{"$f":"'All Respondents'!BP71-'All Respondents'!BP70","v":0},{"$f":"'All Respondents'!BQ71-'All Respondents'!BQ70","v":1.0000000000000009E-2},{"$f":"'All Respondents'!BR71-'All Respondents'!BR70","v":-1.0000000000000009E-2},{"$f":"'All Respondents'!BS71-'All Respondents'!BS70","v":1.0000000000000009E-2},{"$f":"'All Respondents'!BT71-'All Respondents'!BT70","v":-2.0000000000000018E-2},{"$f":"'All Respondents'!BU71-'All Respondents'!BU70","v":1.0000000000000009E-2},{"$f":"'All Respondents'!BV71-'All Respondents'!BV70","v":3.0000000000000027E-2},{"$f":"'All Respondents'!BW71-'All Respondents'!BW70","v":2.9999999999999971E-2},{"$f":"'All Respondents'!BX71-'All Respondents'!BX70","v":-1.0000000000000009E-2},{"$f":"'All Respondents'!BY71-'All Respondents'!BY70","v":-3.999999999999998E-2},{"$f":"'All Respondents'!BZ71-'All Respondents'!BZ70","v":2.0000000000000018E-2},{"$f":"'All Respondents'!CA71-'All Respondents'!CA70","v":-1.9999999999999997E-2},{"$f":"'All Respondents'!CB71-'All Respondents'!CB70","v":0},{"$f":"'All Respondents'!CC71-'All Respondents'!CC70","v":-2.0000000000000018E-2},{"$f":"'All Respondents'!CD71-'All Respondents'!CD70","v":0},{"$f":"'All Respondents'!CE71-'All Respondents'!CE70","v":1.0000000000000009E-2},{"$f":"'All Respondents'!CF71-'All Respondents'!CF70","v":-3.0000000000000027E-2},{"$f":"'All Respondents'!CG71-'All Respondents'!CG70","v":-2.0000000000000004E-2},{"$f":"'All Respondents'!CH71-'All Respondents'!CH70","v":0},{"$f":"'All Respondents'!CI71-'All Respondents'!CI70","v":0},{"$f":"'All Respondents'!CJ71-'All Respondents'!CJ70","v":1.0000000000000009E-2},{"$f":"'All Respondents'!CK71-'All Respondents'!CK70","v":-2.0000000000000004E-2},{"$f":"'All Respondents'!CL71-'All Respondents'!CL70","v":0},{"$f":"'All Respondents'!CM71-'All Respondents'!CM70","v":-2.0000000000000018E-2},{"$f":"'All Respondents'!CN71-'All Respondents'!CN70","v":1.9999999999999796E-2},{"$f":"'All Respondents'!CO71-'All Respondents'!CO70","v":0},{"$f":"'All Respondents'!CP71-'All Respondents'!CP70","v":1.9999999999999907E-2},{"$f":"'All Respondents'!CQ71-'All Respondents'!CQ70","v":3.9999999999999813E-2},{"$f":"'All Respondents'!CR71-'All Respondents'!CR70","v":-5.0000000000000044E-2},{"$f":"'All Respondents'!CS71-'All Respondents'!CS70","v":5.0000000000000017E-2},{"$f":"'All Respondents'!CT71-'All Respondents'!CT70","v":-1.999999999999999E-2},{"$f":"'All Respondents'!CU71-'All Respondents'!CU70","v":2.0000000000000004E-2},{"$f":"'All Respondents'!CV71-'All Respondents'!CV70","v":0},{"$f":"'All Respondents'!CW71-'All Respondents'!CW70","v":2.0000000000000018E-2},{"$f":"'All Respondents'!CX71-'All Respondents'!CX70","v":-0.03},{"$f":"'All Respondents'!CY71-'All Respondents'!CY70","v":1.0000000000000002E-2},{"$f":"'All Respondents'!CZ71-'All Respondents'!CZ70","v":0.01},{"$f":"'All Respondents'!DA71-'All Respondents'!DA70","v":0},{"$f":"'All Respondents'!DB71-'All Respondents'!DB70","v":-1.999999999999999E-2},{"$f":"'All Respondents'!DC71-'All Respondents'!DC70","v":2.0000000000000018E-2},{"$f":"'All Respondents'!DD71-'All Respondents'!DD70","v":-9.9999999999999811E-3},{"$f":"'All Respondents'!DE71-'All Respondents'!DE70","v":1.0000000000000009E-2},{"$f":"'All Respondents'!DF71-'All Respondents'!DF70","v":2.0000000000000018E-2},{"$f":"'All Respondents'!DG71-'All Respondents'!DG70","v":0},{"$f":"'All Respondents'!DH71-'All Respondents'!DH70","v":2.0000000000000018E-2},{"$f":"'All Respondents'!DI71-'All Respondents'!DI70","v":1.0000000000000009E-2},{"$f":"'All Respondents'!DJ71-'All Respondents'!DJ70","v":-0.03},{"$f":"'All Respondents'!DK71-'All Respondents'!DK70","v":-0.04},{"$f":"'All Respondents'!DL71-'All Respondents'!DL70","v":9.9999999999999985E-3},{"$f":"'All Respondents'!DM71-'All Respondents'!DM70","v":38721.669999999984},{"$f":"'All Respondents'!DN71-'All Respondents'!DN70","v":0},{"$f":"'All Respondents'!DO71-'All Respondents'!DO70","v":1.0000000000000009E-2},{"$f":"'All Respondents'!DP71-'All Respondents'!DP70","v":-5.0000000000000044E-2},{"$f":"'All Respondents'!DQ71-'All Respondents'!DQ70","v":-1.999999999999999E-2},{"$f":"'All Respondents'!DR71-'All Respondents'!DR70","v":-1.0000000000000009E-2},{"$f":"'All Respondents'!DS71-'All Respondents'!DS70","v":2.0000000000000004E-2}]
["Feb 16 - Mar 16",{"$f":"'All Respondents'!B72-'All Respondents'!B71","v":-2.5},{"$f":"'All Respondents'!D72-'All Respondents'!D71","v":-4},{"$f":"'All Respondents'!E72-'All Respondents'!E71","v":0},{"$f":"'All Respondents'!F72-'All Respondents'!F71","v":-9.999999999999995E-3},{"$f":"'All Respondents'!G72-'All Respondents'!G71","v":0},{"$f":"'All Respondents'!H72-'All Respondents'!H71","v":9.9999999999999534E-3},{"$f":"'All Respondents'!I72-'All Respondents'!I71","v":1.3000000000000095E-3},{"$f":"'All Respondents'!J72-'All Respondents'!J71","v":3.1999999999999945E-3},{"$f":"'All Respondents'!K72-'All Respondents'!K71","v":2.4939999999999997E-3},{"$f":"'All Respondents'!L72-'All Respondents'!L71","v":-4.0000000000000036E-2},{"$f":"'All Respondents'!M72-'All Respondents'!M71","v":9.999999999999995E-3},{"$f":"'All Respondents'!N72-'All Respondents'!N71","v":1.0000000000000009E-2},{"$f":"'All Respondents'!O72-'All Respondents'!O71","v":4.9999999999999989E-2},null,{"$f":"'All Respondents'!Q72-'All Respondents'!Q71","v":-2.9999999999999472E-4},{"$f":"'All Respondents'!R72-'All Respondents'!R71","v":-4.0000000000000008E-2},{"$f":"'All Respondents'!S72-'All Respondents'!S71","v":3.999999999999998E-2},{"$f":"'All Respondents'!T72-'All Respondents'!T71","v":0},{"$f":"'All Respondents'!U72-'All Respondents'!U71","v":1.999999999999999E-2},{"$f":"'All Respondents'!V72-'All Respondents'!V71","v":0},{"$f":"'All Respondents'!W72-'All Respondents'!W71","v":1.9999999999999962E-2},{"$f":"'All Respondents'!X72-'All Respondents'!X71","v":-1.9999999999999962E-2},{"$f":"'All Respondents'!Y72-'All Respondents'!Y71","v":4.9999999999999989E-2},{"$f":"'All Respondents'!Z72-'All Respondents'!Z71","v":-0.06},{"$f":"'All Respondents'!AA72-'All Respondents'!AA71","v":-0.03},{"$f":"'All Respondents'!AB72-'All Respondents'!AB71","v":3.0000000000000002E-2},{"$f":"'All Respondents'!AC72-'All Respondents'!AC71","v":0},{"$f":"'All Respondents'!AD72-'All Respondents'!AD71","v":-2.0000000000000018E-2},{"$f":"'All Respondents'!AE72-'All Respondents'!AE71","v":-1.0000000000000009E-2},{"$f":"'All Respondents'!AF72-'All Respondents'!AF71","v":2.0000000000000004E-2},{"$f":"'All Respondents'!AG72-'All Respondents'!AG71","v":-4.9999999999999989E-2},{"$f":"'All Respondents'!AH72-'All Respondents'!AH71","v":8.0000000000000016E-2},{"$f":"'All Respondents'!AI72-'All Respondents'!AI71","v":-3.0000000000000013E-2},{"$f":"'All Respondents'!AJ72-'All Respondents'!AJ71","v":-1.9999999999999962E-2},{"$f":"'All Respondents'!AK72-'All Respondents'!AK71","v":-4.9999999999999989E-2},{"$f":"'All Respondents'!AL72-'All Respondents'!AL71","v":9.9999999999999534E-3},{"$f":"'All Respondents'!AM72-'All Respondents'!AM71","v":2.0000000000000004E-2},{"$f":"'All Respondents'!AN72-'All Respondents'!AN71","v":2.9999999999999916E-2},{"$f":"'All Respondents'!AO72-'All Respondents'!AO71","v":-7.9999999999999905E-2},{"$f":"'All Respondents'!AP72-'All Respondents'!AP71","v":7.0000000000000007E-2},{"$f":"'All Respondents'!AQ72-'All Respondents'!AQ71","v":-1.9999999999999962E-2},{"$f":"'All Respondents'!AR72-'All Respondents'!AR71","v":-4.0000000000000008E-2},{"$f":"'All Respondents'!AS72-'All Respondents'!AS71","v":9.999999999999995E-3},{"$f":"'All Respondents'!AT72-'All Respondents'!AT71","v":-4.0000000000000008E-2},{"$f":"'All Respondents'!AU72-'All Respondents'!AU71","v":2.0000000000000018E-2},{"$f":"'All Respondents'!AV72-'All Respondents'!AV71","v":-2.0000000000000004E-2},{"$f":"'All Respondents'!AW72-'All Respondents'!AW71","v":-1.0000000000000009E-2},{"$f":"'All Respondents'!AX72-'All Respondents'!AX71","v":-1.0000000000000009E-2},{"$f":"'All Respondents'!AY72-'All Respondents'!AY71","v":1.9999999999999962E-2},{"$f":"'All Respondents'!AZ72-'All Respondents'!AZ71","v":2.0000000000000018E-2},{"$f":"'All Respondents'!BA72-'All Respondents'!BA71","v":1.0000000000000002E-2},{"$f":"'All Respondents'!BB72-'All Respondents'!BB71","v":-2.0000000000000018E-2},{"$f":"'All Respondents'!BC72-'All Respondents'!BC71","v":1.0000000000000009E-2},{"$f":"'All Respondents'!BD72-'All Respondents'!BD71","v":6.5849999999999936E-3},{"$f":"'All Respondents'!BE72-'All Respondents'!BE71","v":2.0000000000000018E-2},{"$f":"'All Respondents'!BF72-'All Respondents'!BF71","v":-2.0000000000000018E-2},{"$f":"'All Respondents'!BG72-'All Respondents'!BG71","v":4.0000000000000036E-2},{"$f":"'All Respondents'!BH72-'All Respondents'!BH71","v":-3.999999999999998E-2},{"$f":"'All Respondents'!BI72-'All Respondents'!BI71","v":1.9999999999999907E-2},{"$f":"'All Respondents'!BJ72-'All Respondents'!BJ71","v":-5.9999999999999887E-2},{"$f":"'All Respondents'!BK72-'All Respondents'!BK71","v":-1.0000000000000009E-2},{"$f":"'All Respondents'!BL72-'All Respondents'!BL71","v":-2.9999999999999971E-2},{"$f":"'All Respondents'!BM72-'All Respondents'!BM71","v":-3.9999999999999925E-2},{"$f":"'All Respondents'!BN72-'All Respondents'!BN71","v":0.06},{"$f":"'All Respondents'!BO72-'All Respondents'!BO71","v":-1.999999999999999E-2},{"$f":"'All Respondents'!BP72-'All Respondents'!BP71","v":0},{"$f":"'All Respondents'!BQ72-'All Respondents'!BQ71","v":-1.999999999999999E-2},{"$f":"'All Respondents'!BR72-'All Respondents'!BR71","v":-1.9999999999999907E-2},{"$f":"'All Respondents'!BS72-'All Respondents'!BS71","v":-3.0000000000000027E-2},{"$f":"'All Respondents'!BT72-'All Respondents'!BT71","v":1.0000000000000009E-2},{"$f":"'All Respondents'!BU72-'All Respondents'!BU71","v":1.0000000000000009E-2},{"$f":"'All Respondents'!BV72-'All Respondents'!BV71","v":-4.0000000000000036E-2},{"$f":"'All Respondents'!BW72-'All Respondents'!BW71","v":3.0000000000000027E-2},{"$f":"'All Respondents'!BX72-'All Respondents'!BX71","v":-3.0000000000000027E-2},{"$f":"'All Respondents'!BY72-'All Respondents'!BY71","v":-6.0000000000000053E-2},{"$f":"'All Respondents'!BZ72-'All Respondents'!BZ71","v":-1.0000000000000009E-2},{"$f":"'All Respondents'!CA72-'All Respondents'!CA71","v":1.9999999999999997E-2},{"$f":"'All Respondents'!CB72-'All Respondents'!CB71","v":9.9999999999999811E-3},{"$f":"'All Respondents'!CC72-'All Respondents'!CC71","v":-1.9999999999999907E-2},{"$f":"'All Respondents'!CD72-'All Respondents'!CD71","v":3.0000000000000013E-2},{"$f":"'All Respondents'!CE72-'All Respondents'!CE71","v":0},{"$f":"'All Respondents'!CF72-'All Respondents'!CF71","v":-4.9999999999999989E-2},{"$f":"'All Respondents'!CG72-'All Respondents'!CG71","v":2.0000000000000004E-2},{"$f":"'All Respondents'!CH72-'All Respondents'!CH71","v":1.999999999999999E-2},{"$f":"'All Respondents'!CI72-'All Respondents'!CI71","v":0},{"$f":"'All Respondents'!CJ72-'All Respondents'!CJ71","v":-2.0000000000000018E-2},{"$f":"'All Respondents'!CK72-'All Respondents'!CK71","v":0.03},{"$f":"'All Respondents'!CL72-'All Respondents'!CL71","v":1.0000000000000009E-2},{"$f":"'All Respondents'!CM72-'All Respondents'!CM71","v":4.0000000000000008E-2},{"$f":"'All Respondents'!CN72-'All Respondents'!CN71","v":-2.9999999999999805E-2},{"$f":"'All Respondents'!CO72-'All Respondents'!CO71","v":0},{"$f":"'All Respondents'!CP72-'All Respondents'!CP71","v":-2.9999999999999916E-2},{"$f":"'All Respondents'!CQ72-'All Respondents'!CQ71","v":-6.999999999999984E-2},{"$f":"'All Respondents'!CR72-'All Respondents'!CR71","v":0},{"$f":"'All Respondents'!CS72-'All Respondents'!CS71","v":-2.0000000000000018E-2},{"$f":"'All Respondents'!CT72-'All Respondents'!CT71","v":1.999999999999999E-2},{"$f":"'All Respondents'!CU72-'All Respondents'!CU71","v":-4.0000000000000008E-2},{"$f":"'All Respondents'!CV72-'All Respondents'!CV71","v":1.0000000000000009E-2},{"$f":"'All Respondents'!CW72-'All Respondents'!CW71","v":-2.0000000000000018E-2},{"$f":"'All Respondents'!CX72-'All Respondents'!CX71","v":2.0000000000000018E-2},{"$f":"'All Respondents'!CY72-'All Respondents'!CY71","v":-0.02},{"$f":"'All Respondents'!CZ72-'All Respondents'!CZ71","v":0},{"$f":"'All Respondents'!DA72-'All Respondents'!DA71","v":0.01},{"$f":"'All Respondents'!DB72-'All Respondents'!DB71","v":-1.0000000000000009E-2},{"$f":"'All Respondents'!DC72-'All Respondents'!DC71","v":1.0000000000000009E-2},{"$f":"'All Respondents'!DD72-'All Respondents'!DD71","v":-0.03},{"$f":"'All Respondents'!DE72-'All Respondents'!DE71","v":2.0000000000000018E-2},{"$f":"'All Respondents'!DF72-'All Respondents'!DF71","v":-2.0000000000000018E-2},{"$f":"'All Respondents'!DG72-'All Respondents'!DG71","v":0.03},{"$f":"'All Respondents'!DH72-'All Respondents'!DH71","v":1.0000000000000009E-2},{"$f":"'All Respondents'!DI72-'All Respondents'!DI71","v":-0.05},{"$f":"'All Respondents'!DJ72-'All Respondents'!DJ71","v":1.999999999999999E-2},{"$f":"'All Respondents'!DK72-'All Respondents'!DK71","v":0},{"$f":"'All Respondents'!DL72-'All Respondents'!DL71","v":2.0000000000000004E-2},{"$f":"'All Respondents'!DM72-'All Respondents'!DM71","v":1306.5900000000256},{"$f":"'All Respondents'!DN72-'All Respondents'!DN71","v":0},{"$f":"'All Respondents'!DO72-'All Respondents'!DO71","v":-2.0000000000000018E-2},{"$f":"'All Respondents'!DP72-'All Respondents'!DP71","v":3.0000000000000027E-2},{"$f":"'All Respondents'!DQ72-'All Respondents'!DQ71","v":-1.0000000000000009E-2},{"$f":"'All Respondents'!DR72-'All Respondents'!DR71","v":0},{"$f":"'All Respondents'!DS72-'All Respondents'!DS71","v":0}]
["Mar 16 - Apr 16",{"$f":"'All Respondents'!B73-'All Respondents'!B72","v":3.5},{"$f":"'All Respondents'!D73-'All Respondents'!D72","v":4.4000000000000057},{"$f":"'All Respondents'!E73-'All Respondents'!E72","v":2.0000000000000018E-2},{"$f":"'All Respondents'!F73-'All Respondents'!F72","v":-1.0000000000000009E-2},{"$f":"'All Respondents'!G73-'All Respondents'!G72","v":-3.0000000000000027E-2},{"$f":"'All Respondents'!H73-'All Respondents'!H72","v":3.0000000000000027E-2},{"$f":"'All Respondents'!I73-'All Respondents'!I72","v":-5.2000000000000102E-3},{"$f":"'All Respondents'!J73-'All Respondents'!J72","v":-4.0999999999999995E-3},{"$f":"'All Respondents'!K73-'All Respondents'!K72","v":-8.4999999999991332E-5},{"$f":"'All Respondents'!L73-'All Respondents'!L72","v":-1.0000000000000009E-2},{"$f":"'All Respondents'!M73-'All Respondents'!M72","v":-1.9999999999999997E-2},{"$f":"'All Respondents'!N73-'All Respondents'!N72","v":-1.0000000000000009E-2},{"$f":"'All Respondents'!O73-'All Respondents'!O72","v":-1.0000000000000009E-2},null,{"$f":"'All Respondents'!Q73-'All Respondents'!Q72","v":-4.0000000000000452E-4},{"$f":"'All Respondents'!R73-'All Respondents'!R72","v":1.0000000000000009E-2},{"$f":"'All Respondents'!S73-'All Respondents'!S72","v":-3.0000000000000027E-2},{"$f":"'All Respondents'!T73-'All Respondents'!T72","v":-2.0000000000000018E-2},{"$f":"'All Respondents'!U73-'All Respondents'!U72","v":1.0000000000000009E-2},{"$f":"'All Respondents'!V73-'All Respondents'!V72","v":0},{"$f":"'All Respondents'!W73-'All Respondents'!W72","v":1.0000000000000009E-2},{"$f":"'All Respondents'!X73-'All Respondents'!X72","v":-3.0000000000000027E-2},{"$f":"'All Respondents'!Y73-'All Respondents'!Y72","v":-4.9999999999999989E-2},{"$f":"'All Respondents'!Z73-'All Respondents'!Z72","v":2.0000000000000018E-2},{"$f":"'All Respondents'!AA73-'All Respondents'!AA72","v":4.9999999999999989E-2},{"$f":"'All Respondents'!AB73-'All Respondents'!AB72","v":-1.0000000000000002E-2},{"$f":"'All Respondents'!AC73-'All Respondents'!AC72","v":1.999999999999999E-2},{"$f":"'All Respondents'!AD73-'All Respondents'!AD72","v":-1.0000000000000009E-2},{"$f":"'All Respondents'!AE73-'All Respondents'!AE72","v":-1.9999999999999997E-2},{"$f":"'All Respondents'!AF73-'All Respondents'!AF72","v":-3.0000000000000006E-2},{"$f":"'All Respondents'!AG73-'All Respondents'!AG72","v":7.0000000000000007E-2},{"$f":"'All Respondents'!AH73-'All Respondents'!AH72","v":-5.0000000000000044E-2},{"$f":"'All Respondents'!AI73-'All Respondents'!AI72","v":3.9999999999999994E-2},{"$f":"'All Respondents'!AJ73-'All Respondents'!AJ72","v":2.9999999999999971E-2},{"$f":"'All Respondents'!AK73-'All Respondents'!AK72","v":7.0000000000000007E-2},{"$f":"'All Respondents'!AL73-'All Respondents'!AL72","v":-6.9999999999999951E-2},{"$f":"'All Respondents'!AM73-'All Respondents'!AM72","v":-2.0000000000000004E-2},{"$f":"'All Respondents'!AN73-'All Respondents'!AN72","v":-8.9999999999999969E-2},{"$f":"'All Respondents'!AO73-'All Respondents'!AO72","v":0.15999999999999998},{"$f":"'All Respondents'!AP73-'All Respondents'!AP72","v":-4.0000000000000008E-2},{"$f":"'All Respondents'!AQ73-'All Respondents'!AQ72","v":1.9999999999999962E-2},{"$f":"'All Respondents'!AR73-'All Respondents'!AR72","v":0.03},{"$f":"'All Respondents'!AS73-'All Respondents'!AS72","v":-3.9999999999999994E-2},{"$f":"'All Respondents'!AT73-'All Respondents'!AT72","v":0.06},{"$f":"'All Respondents'!AU73-'All Respondents'!AU72","v":-7.0000000000000007E-2},{"$f":"'All Respondents'!AV73-'All Respondents'!AV72","v":2.0000000000000004E-2},{"$f":"'All Respondents'!AW73-'All Respondents'!AW72","v":-0.03},{"$f":"'All Respondents'!AX73-'All Respondents'!AX72","v":7.0000000000000007E-2},{"$f":"'All Respondents'!AY73-'All Respondents'!AY72","v":3.0000000000000027E-2},{"$f":"'All Respondents'!AZ73-'All Respondents'!AZ72","v":2.0000000000000018E-2},{"$f":"'All Respondents'!BA73-'All Respondents'!BA72","v":0},{"$f":"'All Respondents'!BB73-'All Respondents'!BB72","v":-2.0000000000000018E-2},{"$f":"'All Respondents'!BC73-'All Respondents'!BC72","v":2.0000000000000018E-2},{"$f":"'All Respondents'!BD73-'All Respondents'!BD72","v":-4.4739999999999919E-3},{"$f":"'All Respondents'!BE73-'All Respondents'!BE72","v":-2.0000000000000018E-2},{"$f":"'All Respondents'!BF73-'All Respondents'!BF72","v":3.0000000000000027E-2},{"$f":"'All Respondents'!BG73-'All Respondents'!BG72","v":-5.0000000000000044E-2},{"$f":"'All Respondents'!BH73-'All Respondents'!BH72","v":4.9999999999999989E-2},{"$f":"'All Respondents'!BI73-'All Respondents'!BI72","v":-5.9999999999999942E-2},{"$f":"'All Respondents'!BJ73-'All Respondents'!BJ72","v":0.10999999999999993},{"$f":"'All Respondents'!BK73-'All Respondents'!BK72","v":2.0000000000000018E-2},{"$f":"'All Respondents'!BL73-'All Respondents'!BL72","v":0},{"$f":"'All Respondents'!BM73-'All Respondents'!BM72","v":2.0000000000000018E-2},{"$f":"'All Respondents'!BN73-'All Respondents'!BN72","v":-0.06},{"$f":"'All Respondents'!BO73-'All Respondents'!BO72","v":1.999999999999999E-2},{"$f":"'All Respondents'!BP73-'All Respondents'!BP72","v":0},{"$f":"'All Respondents'!BQ73-'All Respondents'!BQ72","v":1.999999999999999E-2},{"$f":"'All Respondents'!BR73-'All Respondents'!BR72","v":0},{"$f":"'All Respondents'!BS73-'All Respondents'!BS72","v":0},{"$f":"'All Respondents'!BT73-'All Respondents'!BT72","v":0},{"$f":"'All Respondents'!BU73-'All Respondents'!BU72","v":0},{"$f":"'All Respondents'!BV73-'All Respondents'!BV72","v":0},{"$f":"'All Respondents'!BW73-'All Respondents'!BW72","v":-2.0000000000000018E-2},{"$f":"'All Respondents'!BX73-'All Respondents'!BX72","v":2.0000000000000018E-2},{"$f":"'All Respondents'!BY73-'All Respondents'!BY72","v":4.0000000000000036E-2},{"$f":"'All Respondents'!BZ73-'All Respondents'!BZ72","v":0},{"$f":"'All Respondents'!CA73-'All Respondents'!CA72","v":0.03},{"$f":"'All Respondents'!CB73-'All Respondents'!CB72","v":0.03},{"$f":"'All Respondents'!CC73-'All Respondents'!CC72","v":-2.0000000000000018E-2},{"$f":"'All Respondents'!CD73-'All Respondents'!CD72","v":-2.0000000000000018E-2},{"$f":"'All Respondents'!CE73-'All Respondents'!CE72","v":-7.0000000000000007E-2},{"$f":"'All Respondents'!CF73-'All Respondents'!CF72","v":7.0000000000000007E-2},{"$f":"'All Respondents'!CG73-'All Respondents'!CG72","v":-2.0000000000000004E-2},{"$f":"'All Respondents'!CH73-'All Respondents'!CH72","v":0},{"$f":"'All Respondents'!CI73-'All Respondents'!CI72","v":9.9999999999999811E-3},{"$f":"'All Respondents'!CJ73-'All Respondents'!CJ72","v":1.0000000000000009E-2},{"$f":"'All Respondents'!CK73-'All Respondents'!CK72","v":-0.03},{"$f":"'All Respondents'!CL73-'All Respondents'!CL72","v":0},{"$f":"'All Respondents'!CM73-'All Respondents'!CM72","v":-0.03},{"$f":"'All Respondents'!CN73-'All Respondents'!CN72","v":3.0000000000000027E-2},{"$f":"'All Respondents'!CO73-'All Respondents'!CO72","v":2.0000000000000018E-2},{"$f":"'All Respondents'!CP73-'All Respondents'!CP72","v":1.0000000000000009E-2},{"$f":"'All Respondents'!CQ73-'All Respondents'!CQ72","v":6.0000000000000053E-2},{"$f":"'All Respondents'!CR73-'All Respondents'!CR72","v":1.0000000000000009E-2},{"$f":"'All Respondents'!CS73-'All Respondents'!CS72","v":-9.9999999999999811E-3},{"$f":"'All Respondents'!CT73-'All Respondents'!CT72","v":-1.0000000000000009E-2},{"$f":"'All Respondents'!CU73-'All Respondents'!CU72","v":1.0000000000000009E-2},{"$f":"'All Respondents'!CV73-'All Respondents'!CV72","v":-1.0000000000000009E-2},{"$f":"'All Respondents'!CW73-'All Respondents'!CW72","v":-2.0000000000000018E-2},{"$f":"'All Respondents'!CX73-'All Respondents'!CX72","v":3.999999999999998E-2},{"$f":"'All Respondents'!CY73-'All Respondents'!CY72","v":0},{"$f":"'All Respondents'!CZ73-'All Respondents'!CZ72","v":-0.01},{"$f":"'All Respondents'!DA73-'All Respondents'!DA72","v":-0.01},{"$f":"'All Respondents'!DB73-'All Respondents'!DB72","v":0.03},{"$f":"'All Respondents'!DC73-'All Respondents'!DC72","v":-4.0000000000000036E-2},{"$f":"'All Respondents'!DD73-'All Respondents'!DD72","v":0.03},{"$f":"'All Respondents'!DE73-'All Respondents'!DE72","v":-2.0000000000000018E-2},{"$f":"'All Respondents'!DF73-'All Respondents'!DF72","v":3.0000000000000027E-2},{"$f":"'All Respondents'!DG73-'All Respondents'!DG72","v":-0.03},{"$f":"'All Respondents'!DH73-'All Respondents'!DH72","v":0},{"$f":"'All Respondents'!DI73-'All Respondents'!DI72","v":2.0000000000000004E-2},{"$f":"'All Respondents'!DJ73-'All Respondents'!DJ72","v":1.0000000000000009E-2},{"$f":"'All Respondents'!DK73-'All Respondents'!DK72","v":1.0000000000000002E-2},{"$f":"'All Respondents'!DL73-'All Respondents'!DL72","v":0},{"$f":"'All Respondents'!DM73-'All Respondents'!DM72","v":-78163.69},{"$f":"'All Respondents'!DN73-'All Respondents'!DN72","v":0},{"$f":"'All Respondents'!DO73-'All Respondents'!DO72","v":-9.9999999999999811E-3},{"$f":"'All Respondents'!DP73-'All Respondents'!DP72","v":3.999999999999998E-2},{"$f":"'All Respondents'!DQ73-'All Respondents'!DQ72","v":4.0000000000000008E-2},{"$f":"'All Respondents'!DR73-'All Respondents'!DR72","v":-9.999999999999995E-3},{"$f":"'All Respondents'!DS73-'All Respondents'!DS72","v":-2.0000000000000004E-2}]
["Apr 16 - May 16",{"$f":"'All Respondents'!B74-'All Respondents'!B73","v":1.5999999999999943},{"$f":"'All Respondents'!D74-'All Respondents'!D73","v":1.3999999999999915},{"$f":"'All Respondents'!E74-'All Respondents'!E73","v":1.9999999999999962E-2},{"$f":"'All Respondents'!F74-'All Respondents'!F73","v":-0.03},{"$f":"'All Respondents'!G74-'All Respondents'!G73","v":2.0000000000000018E-2},{"$f":"'All Respondents'!H74-'All Respondents'!H73","v":4.9999999999999989E-2},{"$f":"'All Respondents'!I74-'All Respondents'!I73","v":9.6000000000000113E-3},{"$f":"'All Respondents'!J74-'All Respondents'!J73","v":-7.9999999999999516E-4},{"$f":"'All Respondents'!K74-'All Respondents'!K73","v":4.4209999999999909E-3},{"$f":"'All Respondents'!L74-'All Respondents'!L73","v":-2.0000000000000018E-2},{"$f":"'All Respondents'!M74-'All Respondents'!M73","v":1.0000000000000002E-2},{"$f":"'All Respondents'!N74-'All Respondents'!N73","v":4.0000000000000036E-2},{"$f":"'All Respondents'!O74-'All Respondents'!O73","v":3.0000000000000027E-2},null,{"$f":"'All Respondents'!Q74-'All Respondents'!Q73","v":-5.0000000000000044E-4},{"$f":"'All Respondents'!R74-'All Respondents'!R73","v":0},{"$f":"'All Respondents'!S74-'All Respondents'!S73","v":-9.9999999999999534E-3},{"$f":"'All Respondents'!T74-'All Respondents'!T73","v":-9.9999999999998979E-3},{"$f":"'All Respondents'!U74-'All Respondents'!U73","v":-1.999999999999999E-2},{"$f":"'All Respondents'!V74-'All Respondents'!V73","v":2.0000000000000004E-2},{"$f":"'All Respondents'!W74-'All Respondents'!W73","v":0},{"$f":"'All Respondents'!X74-'All Respondents'!X73","v":-9.9999999999998979E-3},{"$f":"'All Respondents'!Y74-'All Respondents'!Y73","v":4.9999999999999989E-2},{"$f":"'All Respondents'!Z74-'All Respondents'!Z73","v":-4.0000000000000036E-2},{"$f":"'All Respondents'!AA74-'All Respondents'!AA73","v":-1.999999999999999E-2},{"$f":"'All Respondents'!AB74-'All Respondents'!AB73","v":-0.02},{"$f":"'All Respondents'!AC74-'All Respondents'!AC73","v":1.0000000000000009E-2},{"$f":"'All Respondents'!AD74-'All Respondents'!AD73","v":-1.0000000000000009E-2},{"$f":"'All Respondents'!AE74-'All Respondents'!AE73","v":1.9999999999999997E-2},{"$f":"'All Respondents'!AF74-'All Respondents'!AF73","v":7.0000000000000007E-2},{"$f":"'All Respondents'!AG74-'All Respondents'!AG73","v":9.9999999999999811E-3},{"$f":"'All Respondents'!AH74-'All Respondents'!AH73","v":-4.9999999999999989E-2},{"$f":"'All Respondents'!AI74-'All Respondents'!AI73","v":0},{"$f":"'All Respondents'!AJ74-'All Respondents'!AJ73","v":0},{"$f":"'All Respondents'!AK74-'All Respondents'!AK73","v":0},{"$f":"'All Respondents'!AL74-'All Respondents'!AL73","v":0},{"$f":"'All Respondents'!AM74-'All Respondents'!AM73","v":2.0000000000000004E-2},{"$f":"'All Respondents'!AN74-'All Respondents'!AN73","v":2.0000000000000018E-2},{"$f":"'All Respondents'!AO74-'All Respondents'!AO73","v":-2.0000000000000018E-2},{"$f":"'All Respondents'!AP74-'All Respondents'!AP73","v":1.999999999999999E-2},{"$f":"'All Respondents'!AQ74-'All Respondents'!AQ73","v":-9.9999999999999534E-3},{"$f":"'All Respondents'!AR74-'All Respondents'!AR73","v":1.0000000000000009E-2},{"$f":"'All Respondents'!AS74-'All Respondents'!AS73","v":-2.0000000000000004E-2},{"$f":"'All Respondents'!AT74-'All Respondents'!AT73","v":-1.999999999999999E-2},{"$f":"'All Respondents'!AU74-'All Respondents'!AU73","v":0.03},{"$f":"'All Respondents'!AV74-'All Respondents'!AV73","v":9.999999999999995E-3},{"$f":"'All Respondents'!AW74-'All Respondents'!AW73","v":0.03},{"$f":"'All Respondents'!AX74-'All Respondents'!AX73","v":-4.0000000000000008E-2},{"$f":"'All Respondents'!AY74-'All Respondents'!AY73","v":-3.0000000000000027E-2},{"$f":"'All Respondents'!AZ74-'All Respondents'!AZ73","v":-2.0000000000000018E-2},{"$f":"'All Respondents'!BA74-'All Respondents'!BA73","v":0},{"$f":"'All Respondents'!BB74-'All Respondents'!BB73","v":0},{"$f":"'All Respondents'!BC74-'All Respondents'!BC73","v":-2.0000000000000018E-2},{"$f":"'All Respondents'!BD74-'All Respondents'!BD73","v":1.0840000000000016E-3},{"$f":"'All Respondents'!BE74-'All Respondents'!BE73","v":0},{"$f":"'All Respondents'!BF74-'All Respondents'!BF73","v":-2.0000000000000018E-2},{"$f":"'All Respondents'!BG74-'All Respondents'!BG73","v":2.0000000000000018E-2},{"$f":"'All Respondents'!BH74-'All Respondents'!BH73","v":-2.0000000000000018E-2},{"$f":"'All Respondents'!BI74-'All Respondents'!BI73","v":5.9999999999999942E-2},{"$f":"'All Respondents'!BJ74-'All Respondents'!BJ73","v":-7.999999999999996E-2},{"$f":"'All Respondents'!BK74-'All Respondents'!BK73","v":-0.03},{"$f":"'All Respondents'!BL74-'All Respondents'!BL73","v":1.9999999999999962E-2},{"$f":"'All Respondents'!BM74-'All Respondents'!BM73","v":-1.0000000000000064E-2},{"$f":"'All Respondents'!BN74-'All Respondents'!BN73","v":1.9999999999999962E-2},{"$f":"'All Respondents'!BO74-'All Respondents'!BO73","v":-9.999999999999995E-3},{"$f":"'All Respondents'!BP74-'All Respondents'!BP73","v":0},{"$f":"'All Respondents'!BQ74-'All Respondents'!BQ73","v":-1.0000000000000009E-2},{"$f":"'All Respondents'!BR74-'All Respondents'!BR73","v":0},{"$f":"'All Respondents'!BS74-'All Respondents'!BS73","v":3.0000000000000027E-2},{"$f":"'All Respondents'!BT74-'All Respondents'!BT73","v":-4.0000000000000008E-2},{"$f":"'All Respondents'!BU74-'All Respondents'!BU73","v":1.0000000000000009E-2},{"$f":"'All Respondents'!BV74-'All Respondents'!BV73","v":7.0000000000000034E-2},{"$f":"'All Respondents'!BW74-'All Respondents'!BW73","v":-1.0000000000000009E-2},{"$f":"'All Respondents'!BX74-'All Respondents'!BX73","v":2.0000000000000018E-2},{"$f":"'All Respondents'!BY74-'All Respondents'!BY73","v":3.0000000000000027E-2},{"$f":"'All Respondents'!BZ74-'All Respondents'!BZ73","v":-1.0000000000000009E-2},{"$f":"'All Respondents'!CA74-'All Respondents'!CA73","v":-1.999999999999999E-2},{"$f":"'All Respondents'!CB74-'All Respondents'!CB73","v":-0.03},{"$f":"'All Respondents'!CC74-'All Respondents'!CC73","v":9.9999999999998979E-3},{"$f":"'All Respondents'!CD74-'All Respondents'!CD73","v":-0.03},{"$f":"'All Respondents'!CE74-'All Respondents'!CE73","v":7.0000000000000007E-2},{"$f":"'All Respondents'!CF74-'All Respondents'!CF73","v":-3.0000000000000027E-2},{"$f":"'All Respondents'!CG74-'All Respondents'!CG73","v":2.0000000000000004E-2},{"$f":"'All Respondents'!CH74-'All Respondents'!CH73","v":-9.999999999999995E-3},{"$f":"'All Respondents'!CI74-'All Respondents'!CI73","v":2.0000000000000018E-2},{"$f":"'All Respondents'!CJ74-'All Respondents'!CJ73","v":-3.9999999999999925E-2},{"$f":"'All Respondents'!CK74-'All Respondents'!CK73","v":1.0000000000000002E-2},{"$f":"'All Respondents'!CL74-'All Respondents'!CL73","v":0},{"$f":"'All Respondents'!CM74-'All Respondents'!CM73","v":1.0000000000000009E-2},{"$f":"'All Respondents'!CN74-'All Respondents'!CN73","v":-1.000000000000012E-2},{"$f":"'All Respondents'!CO74-'All Respondents'!CO73","v":1.999999999999999E-2},{"$f":"'All Respondents'!CP74-'All Respondents'!CP73","v":-3.0000000000000027E-2},{"$f":"'All Respondents'!CQ74-'All Respondents'!CQ73","v":-2.0000000000000129E-2},{"$f":"'All Respondents'!CR74-'All Respondents'!CR73","v":4.0000000000000036E-2},{"$f":"'All Respondents'!CS74-'All Respondents'!CS73","v":-3.0000000000000013E-2},{"$f":"'All Respondents'!CT74-'All Respondents'!CT73","v":1.0000000000000009E-2},{"$f":"'All Respondents'!CU74-'All Respondents'!CU73","v":1.999999999999999E-2},{"$f":"'All Respondents'!CV74-'All Respondents'!CV73","v":-9.999999999999995E-3},{"$f":"'All Respondents'!CW74-'All Respondents'!CW73","v":5.9999999999999942E-2},{"$f":"'All Respondents'!CX74-'All Respondents'!CX73","v":-4.9999999999999989E-2},{"$f":"'All Respondents'!CY74-'All Respondents'!CY73","v":0},{"$f":"'All Respondents'!CZ74-'All Respondents'!CZ73","v":0},{"$f":"'All Respondents'!DA74-'All Respondents'!DA73","v":-0.01},{"$f":"'All Respondents'!DB74-'All Respondents'!DB73","v":2.0000000000000018E-2},{"$f":"'All Respondents'!DC74-'All Respondents'!DC73","v":0},{"$f":"'All Respondents'!DD74-'All Respondents'!DD73","v":9.9999999999999811E-3},{"$f":"'All Respondents'!DE74-'All Respondents'!DE73","v":0},{"$f":"'All Respondents'!DF74-'All Respondents'!DF73","v":0},{"$f":"'All Respondents'!DG74-'All Respondents'!DG73","v":9.9999999999999811E-3},{"$f":"'All Respondents'!DH74-'All Respondents'!DH73","v":1.0000000000000009E-2},{"$f":"'All Respondents'!DI74-'All Respondents'!DI73","v":1.999999999999999E-2},{"$f":"'All Respondents'!DJ74-'All Respondents'!DJ73","v":-4.0000000000000008E-2},{"$f":"'All Respondents'!DK74-'All Respondents'!DK73","v":-2.0000000000000004E-2},{"$f":"'All Respondents'!DL74-'All Respondents'!DL73","v":-2.0000000000000004E-2},{"$f":"'All Respondents'!DM74-'All Respondents'!DM73","v":47255.579999999958},{"$f":"'All Respondents'!DN74-'All Respondents'!DN73","v":0},{"$f":"'All Respondents'!DO74-'All Respondents'!DO73","v":0},{"$f":"'All Respondents'!DP74-'All Respondents'!DP73","v":-4.9999999999999989E-2},{"$f":"'All Respondents'!DQ74-'All Respondents'!DQ73","v":-0.03},{"$f":"'All Respondents'!DR74-'All Respondents'!DR73","v":0},{"$f":"'All Respondents'!DS74-'All Respondents'!DS73","v":0}]
["May 16 - Jun 16",{"$f":"'All Respondents'!B75-'All Respondents'!B74","v":-2.0999999999999943},{"$f":"'All Respondents'!D75-'All Respondents'!D74","v":-3},{"$f":"'All Respondents'!E75-'All Respondents'!E74","v":-0.06},{"$f":"'All Respondents'!F75-'All Respondents'!F74","v":0.03},{"$f":"'All Respondents'!G75-'All Respondents'!G74","v":1.9999999999999962E-2},{"$f":"'All Respondents'!H75-'All Respondents'!H74","v":-9.0000000000000024E-2},{"$f":"'All Respondents'!I75-'All Respondents'!I74","v":2.5999999999999912E-3},{"$f":"'All Respondents'!J75-'All Respondents'!J74","v":4.2000000000000023E-3},{"$f":"'All Respondents'!K75-'All Respondents'!K74","v":-4.3829999999999945E-3},{"$f":"'All Respondents'!L75-'All Respondents'!L74","v":-1.9999999999999962E-2},{"$f":"'All Respondents'!M75-'All Respondents'!M74","v":0},{"$f":"'All Respondents'!N75-'All Respondents'!N74","v":0},{"$f":"'All Respondents'!O75-'All Respondents'!O74","v":1.9999999999999962E-2},null,{"$f":"'All Respondents'!Q75-'All Respondents'!Q74","v":5.0000000000000044E-4},{"$f":"'All Respondents'!R75-'All Respondents'!R74","v":3.999999999999998E-2},{"$f":"'All Respondents'!S75-'All Respondents'!S74","v":-3.0000000000000027E-2},{"$f":"'All Respondents'!T75-'All Respondents'!T74","v":9.9999999999998979E-3},{"$f":"'All Respondents'!U75-'All Respondents'!U74","v":9.9999999999999811E-3},{"$f":"'All Respondents'!V75-'All Respondents'!V74","v":-0.03},{"$f":"'All Respondents'!W75-'All Respondents'!W74","v":-2.0000000000000018E-2},{"$f":"'All Respondents'!X75-'All Respondents'!X74","v":2.9999999999999916E-2},{"$f":"'All Respondents'!Y75-'All Respondents'!Y74","v":-7.9999999999999988E-2},{"$f":"'All Respondents'!Z75-'All Respondents'!Z74","v":8.0000000000000016E-2},{"$f":"'All Respondents'!AA75-'All Respondents'!AA74","v":0},{"$f":"'All Respondents'!AB75-'All Respondents'!AB74","v":0.02},{"$f":"'All Respondents'!AC75-'All Respondents'!AC74","v":-1.0000000000000009E-2},{"$f":"'All Respondents'!AD75-'All Respondents'!AD74","v":2.0000000000000018E-2},{"$f":"'All Respondents'!AE75-'All Respondents'!AE74","v":0.05},{"$f":"'All Respondents'!AF75-'All Respondents'!AF74","v":-9.999999999999995E-3},{"$f":"'All Respondents'!AG75-'All Respondents'!AG74","v":-3.9999999999999994E-2},{"$f":"'All Respondents'!AH75-'All Respondents'!AH74","v":-1.0000000000000009E-2},{"$f":"'All Respondents'!AI75-'All Respondents'!AI74","v":5.0000000000000017E-2},{"$f":"'All Respondents'!AJ75-'All Respondents'!AJ74","v":-2.9999999999999971E-2},{"$f":"'All Respondents'!AK75-'All Respondents'!AK74","v":2.0000000000000018E-2},{"$f":"'All Respondents'!AL75-'All Respondents'!AL74","v":-2.0000000000000018E-2},{"$f":"'All Respondents'!AM75-'All Respondents'!AM74","v":-9.999999999999995E-3},{"$f":"'All Respondents'!AN75-'All Respondents'!AN74","v":-3.0000000000000027E-2},{"$f":"'All Respondents'!AO75-'All Respondents'!AO74","v":5.0000000000000044E-2},{"$f":"'All Respondents'!AP75-'All Respondents'!AP74","v":-9.9999999999999811E-3},{"$f":"'All Respondents'!AQ75-'All Respondents'!AQ74","v":9.9999999999999534E-3},{"$f":"'All Respondents'!AR75-'All Respondents'!AR74","v":-1.0000000000000009E-2},{"$f":"'All Respondents'!AS75-'All Respondents'!AS74","v":0.05},{"$f":"'All Respondents'!AT75-'All Respondents'!AT74","v":-1.0000000000000009E-2},{"$f":"'All Respondents'!AU75-'All Respondents'!AU74","v":1.999999999999999E-2},{"$f":"'All Respondents'!AV75-'All Respondents'!AV74","v":0},{"$f":"'All Respondents'!AW75-'All Respondents'!AW74","v":-0.03},{"$f":"'All Respondents'!AX75-'All Respondents'!AX74","v":-1.999999999999999E-2},{"$f":"'All Respondents'!AY75-'All Respondents'!AY74","v":5.0000000000000044E-2},{"$f":"'All Respondents'!AZ75-'All Respondents'!AZ74","v":0},{"$f":"'All Respondents'!BA75-'All Respondents'!BA74","v":1.0000000000000002E-2},{"$f":"'All Respondents'!BB75-'All Respondents'!BB74","v":0},{"$f":"'All Respondents'!BC75-'All Respondents'!BC74","v":-9.9999999999999534E-3},{"$f":"'All Respondents'!BD75-'All Respondents'!BD74","v":-4.2699999999999683E-4},{"$f":"'All Respondents'!BE75-'All Respondents'!BE74","v":0},{"$f":"'All Respondents'!BF75-'All Respondents'!BF74","v":1.0000000000000009E-2},{"$f":"'All Respondents'!BG75-'All Respondents'!BG74","v":-1.0000000000000009E-2},{"$f":"'All Respondents'!BH75-'All Respondents'!BH74","v":-2.9999999999999971E-2},{"$f":"'All Respondents'!BI75-'All Respondents'!BI74","v":1.0000000000000009E-2},{"$f":"'All Respondents'!BJ75-'All Respondents'!BJ74","v":-3.999999999999998E-2},{"$f":"'All Respondents'!BK75-'All Respondents'!BK74","v":0},{"$f":"'All Respondents'!BL75-'All Respondents'!BL74","v":2.0000000000000018E-2},{"$f":"'All Respondents'!BM75-'All Respondents'!BM74","v":2.0000000000000018E-2},{"$f":"'All Respondents'!BN75-'All Respondents'!BN74","v":1.0000000000000009E-2},{"$f":"'All Respondents'!BO75-'All Respondents'!BO74","v":-2.0000000000000004E-2},{"$f":"'All Respondents'!BP75-'All Respondents'!BP74","v":-1.0000000000000002E-2},{"$f":"'All Respondents'!BQ75-'All Respondents'!BQ74","v":-0.03},{"$f":"'All Respondents'!BR75-'All Respondents'!BR74","v":4.9999999999999989E-2},{"$f":"'All Respondents'!BS75-'All Respondents'!BS74","v":-5.0000000000000017E-2},{"$f":"'All Respondents'!BT75-'All Respondents'!BT74","v":5.0000000000000017E-2},{"$f":"'All Respondents'!BU75-'All Respondents'!BU74","v":0},{"$f":"'All Respondents'!BV75-'All Respondents'!BV74","v":-0.10000000000000003},{"$f":"'All Respondents'!BW75-'All Respondents'!BW74","v":0},{"$f":"'All Respondents'!BX75-'All Respondents'!BX74","v":-1.0000000000000009E-2},{"$f":"'All Respondents'!BY75-'All Respondents'!BY74","v":-1.0000000000000009E-2},{"$f":"'All Respondents'!BZ75-'All Respondents'!BZ74","v":0.06},{"$f":"'All Respondents'!CA75-'All Respondents'!CA74","v":0},{"$f":"'All Respondents'!CB75-'All Respondents'!CB74","v":6.0000000000000026E-2},{"$f":"'All Respondents'!CC75-'All Respondents'!CC74","v":-3.9999999999999925E-2},{"$f":"'All Respondents'!CD75-'All Respondents'!CD74","v":0},{"$f":"'All Respondents'!CE75-'All Respondents'!CE74","v":-6.0000000000000012E-2},{"$f":"'All Respondents'!CF75-'All Respondents'!CF74","v":2.0000000000000018E-2},{"$f":"'All Respondents'!CG75-'All Respondents'!CG74","v":-1.0000000000000002E-2},{"$f":"'All Respondents'!CH75-'All Respondents'!CH74","v":9.999999999999995E-3},{"$f":"'All Respondents'!CI75-'All Respondents'!CI74","v":-1.0000000000000009E-2},{"$f":"'All Respondents'!CJ75-'All Respondents'!CJ74","v":0},{"$f":"'All Respondents'!CK75-'All Respondents'!CK74","v":0},{"$f":"'All Respondents'!CL75-'All Respondents'!CL74","v":1.999999999999999E-2},{"$f":"'All Respondents'!CM75-'All Respondents'!CM74","v":1.999999999999999E-2},{"$f":"'All Respondents'!CN75-'All Respondents'!CN74","v":-2.0000000000000018E-2},{"$f":"'All Respondents'!CO75-'All Respondents'!CO74","v":0},{"$f":"'All Respondents'!CP75-'All Respondents'!CP74","v":-2.0000000000000018E-2},{"$f":"'All Respondents'!CQ75-'All Respondents'!CQ74","v":-4.0000000000000036E-2},{"$f":"'All Respondents'!CR75-'All Respondents'!CR74","v":0},{"$f":"'All Respondents'!CS75-'All Respondents'!CS74","v":3.0000000000000013E-2},{"$f":"'All Respondents'!CT75-'All Respondents'!CT74","v":-1.999999999999999E-2},{"$f":"'All Respondents'!CU75-'All Respondents'!CU74","v":-9.999999999999995E-3},{"$f":"'All Respondents'!CV75-'All Respondents'!CV74","v":9.999999999999995E-3},{"$f":"'All Respondents'!CW75-'All Respondents'!CW74","v":-3.9999999999999925E-2},{"$f":"'All Respondents'!CX75-'All Respondents'!CX74","v":-1.0000000000000009E-2},{"$f":"'All Respondents'!CY75-'All Respondents'!CY74","v":0.02},{"$f":"'All Respondents'!CZ75-'All Respondents'!CZ74","v":0.01},{"$f":"'All Respondents'!DA75-'All Respondents'!DA74","v":0.01},{"$f":"'All Respondents'!DB75-'All Respondents'!DB74","v":-5.0000000000000017E-2},{"$f":"'All Respondents'!DC75-'All Respondents'!DC74","v":4.0000000000000036E-2},{"$f":"'All Respondents'!DD75-'All Respondents'!DD74","v":-3.999999999999998E-2},{"$f":"'All Respondents'!DE75-'All Respondents'!DE74","v":3.0000000000000027E-2},{"$f":"'All Respondents'!DF75-'All Respondents'!DF74","v":0},{"$f":"'All Respondents'!DG75-'All Respondents'!DG74","v":0},{"$f":"'All Respondents'!DH75-'All Respondents'!DH74","v":0},{"$f":"'All Respondents'!DI75-'All Respondents'!DI74","v":-0.03},{"$f":"'All Respondents'!DJ75-'All Respondents'!DJ74","v":0.03},{"$f":"'All Respondents'!DK75-'All Respondents'!DK74","v":2.0000000000000004E-2},{"$f":"'All Respondents'!DL75-'All Respondents'!DL74","v":1.0000000000000002E-2},{"$f":"'All Respondents'!DM75-'All Respondents'!DM74","v":-55483.19},{"$f":"'All Respondents'!DN75-'All Respondents'!DN74","v":-20000},{"$f":"'All Respondents'!DO75-'All Respondents'!DO74","v":0.06},{"$f":"'All Respondents'!DP75-'All Respondents'!DP74","v":1.0000000000000009E-2},{"$f":"'All Respondents'!DQ75-'All Respondents'!DQ74","v":-1.0000000000000009E-2},{"$f":"'All Respondents'!DR75-'All Respondents'!DR74","v":0},{"$f":"'All Respondents'!DS75-'All Respondents'!DS74","v":-1.0000000000000002E-2}]
["Jun 16 - Jul 16",{"$f":"'All Respondents'!B76-'All Respondents'!B75","v":3.2999999999999972},{"$f":"'All Respondents'!D76-'All Respondents'!D75","v":3},{"$f":"'All Respondents'!E76-'All Respondents'!E75","v":7.0000000000000007E-2},{"$f":"'All Respondents'!F76-'All Respondents'!F75","v":-9.999999999999995E-3},{"$f":"'All Respondents'!G76-'All Respondents'!G75","v":-4.9999999999999989E-2},{"$f":"'All Respondents'!H76-'All Respondents'!H75","v":8.0000000000000016E-2},{"$f":"'All Respondents'!I76-'All Respondents'!I75","v":-2.5599999999999998E-2},{"$f":"'All Respondents'!J76-'All Respondents'!J75","v":-4.4000000000000081E-3},{"$f":"'All Respondents'!K76-'All Respondents'!K75","v":1.2610000000000017E-3},{"$f":"'All Respondents'!L76-'All Respondents'!L75","v":-3.0000000000000027E-2},{"$f":"'All Respondents'!M76-'All Respondents'!M75","v":2.0000000000000004E-2},{"$f":"'All Respondents'!N76-'All Respondents'!N75","v":2.9999999999999971E-2},{"$f":"'All Respondents'!O76-'All Respondents'!O75","v":5.0000000000000044E-2},null,{"$f":"'All Respondents'!Q76-'All Respondents'!Q75","v":-1.8999999999999989E-3},{"$f":"'All Respondents'!R76-'All Respondents'!R75","v":0},{"$f":"'All Respondents'!S76-'All Respondents'!S75","v":2.0000000000000018E-2},{"$f":"'All Respondents'!T76-'All Respondents'!T75","v":2.0000000000000018E-2},{"$f":"'All Respondents'!U76-'All Respondents'!U75","v":1.0000000000000009E-2},{"$f":"'All Respondents'!V76-'All Respondents'!V75","v":0},{"$f":"'All Respondents'!W76-'All Respondents'!W75","v":1.0000000000000009E-2},{"$f":"'All Respondents'!X76-'All Respondents'!X75","v":1.0000000000000009E-2},{"$f":"'All Respondents'!Y76-'All Respondents'!Y75","v":4.0000000000000008E-2},{"$f":"'All Respondents'!Z76-'All Respondents'!Z75","v":-3.0000000000000027E-2},{"$f":"'All Respondents'!AA76-'All Respondents'!AA75","v":1.999999999999999E-2},{"$f":"'All Respondents'!AB76-'All Respondents'!AB75","v":-1.0000000000000002E-2},{"$f":"'All Respondents'!AC76-'All Respondents'!AC75","v":-0.03},{"$f":"'All Respondents'!AD76-'All Respondents'!AD75","v":2.0000000000000018E-2},{"$f":"'All Respondents'!AE76-'All Respondents'!AE75","v":-0.06},{"$f":"'All Respondents'!AF76-'All Respondents'!AF75","v":-0.05},{"$f":"'All Respondents'!AG76-'All Respondents'!AG75","v":0},{"$f":"'All Respondents'!AH76-'All Respondents'!AH75","v":7.0000000000000007E-2},{"$f":"'All Respondents'!AI76-'All Respondents'!AI75","v":-0.03},{"$f":"'All Respondents'!AJ76-'All Respondents'!AJ75","v":4.9999999999999989E-2},{"$f":"'All Respondents'!AK76-'All Respondents'!AK75","v":2.0000000000000018E-2},{"$f":"'All Respondents'!AL76-'All Respondents'!AL75","v":1.0000000000000009E-2},{"$f":"'All Respondents'!AM76-'All Respondents'!AM75","v":-1.0000000000000009E-2},{"$f":"'All Respondents'!AN76-'All Respondents'!AN75","v":0},{"$f":"'All Respondents'!AO76-'All Respondents'!AO75","v":2.0000000000000018E-2},{"$f":"'All Respondents'!AP76-'All Respondents'!AP75","v":0.03},{"$f":"'All Respondents'!AQ76-'All Respondents'!AQ75","v":2.0000000000000018E-2},{"$f":"'All Respondents'!AR76-'All Respondents'!AR75","v":-0.03},{"$f":"'All Respondents'!AS76-'All Respondents'!AS75","v":9.999999999999995E-3},{"$f":"'All Respondents'!AT76-'All Respondents'!AT75","v":-0.03},{"$f":"'All Respondents'!AU76-'All Respondents'!AU75","v":-4.9999999999999989E-2},{"$f":"'All Respondents'!AV76-'All Respondents'!AV75","v":0},{"$f":"'All Respondents'!AW76-'All Respondents'!AW75","v":0},{"$f":"'All Respondents'!AX76-'All Respondents'!AX75","v":4.0000000000000008E-2},{"$f":"'All Respondents'!AY76-'All Respondents'!AY75","v":-5.0000000000000044E-2},{"$f":"'All Respondents'!AZ76-'All Respondents'!AZ75","v":3.9999999999999925E-2},{"$f":"'All Respondents'!BA76-'All Respondents'!BA75","v":-1.0000000000000002E-2},{"$f":"'All Respondents'!BB76-'All Respondents'!BB75","v":-1.9999999999999962E-2},{"$f":"'All Respondents'!BC76-'All Respondents'!BC75","v":4.9999999999999878E-2},{"$f":"'All Respondents'!BD76-'All Respondents'!BD75","v":4.0549999999999822E-3},{"$f":"'All Respondents'!BE76-'All Respondents'!BE75","v":4.0000000000000036E-2},{"$f":"'All Respondents'!BF76-'All Respondents'!BF75","v":-4.9999999999999989E-2},{"$f":"'All Respondents'!BG76-'All Respondents'!BG75","v":9.0000000000000024E-2},{"$f":"'All Respondents'!BH76-'All Respondents'!BH75","v":0},{"$f":"'All Respondents'!BI76-'All Respondents'!BI75","v":0},{"$f":"'All Respondents'!BJ76-'All Respondents'!BJ75","v":0},{"$f":"'All Respondents'!BK76-'All Respondents'!BK75","v":0.03},{"$f":"'All Respondents'!BL76-'All Respondents'!BL75","v":-3.999999999999998E-2},{"$f":"'All Respondents'!BM76-'All Respondents'!BM75","v":-9.9999999999999534E-3},{"$f":"'All Respondents'!BN76-'All Respondents'!BN75","v":-2.0000000000000018E-2},{"$f":"'All Respondents'!BO76-'All Respondents'!BO75","v":0.03},{"$f":"'All Respondents'!BP76-'All Respondents'!BP75","v":1.0000000000000002E-2},{"$f":"'All Respondents'!BQ76-'All Respondents'!BQ75","v":4.0000000000000008E-2},{"$f":"'All Respondents'!BR76-'All Respondents'!BR75","v":-4.9999999999999933E-2},{"$f":"'All Respondents'!BS76-'All Respondents'!BS75","v":0},{"$f":"'All Respondents'!BT76-'All Respondents'!BT75","v":-3.0000000000000013E-2},{"$f":"'All Respondents'!BU76-'All Respondents'!BU75","v":2.0000000000000018E-2},{"$f":"'All Respondents'!BV76-'All Respondents'!BV75","v":3.0000000000000013E-2},{"$f":"'All Respondents'!BW76-'All Respondents'!BW75","v":2.0000000000000018E-2},{"$f":"'All Respondents'!BX76-'All Respondents'!BX75","v":-2.0000000000000018E-2},{"$f":"'All Respondents'!BY76-'All Respondents'!BY75","v":-4.0000000000000036E-2},{"$f":"'All Respondents'!BZ76-'All Respondents'!BZ75","v":-4.9999999999999989E-2},{"$f":"'All Respondents'!CA76-'All Respondents'!CA75","v":1.999999999999999E-2},{"$f":"'All Respondents'!CB76-'All Respondents'!CB75","v":-3.0000000000000027E-2},{"$f":"'All Respondents'!CC76-'All Respondents'!CC75","v":3.9999999999999925E-2},{"$f":"'All Respondents'!CD76-'All Respondents'!CD75","v":2.0000000000000004E-2},{"$f":"'All Respondents'!CE76-'All Respondents'!CE75","v":3.9999999999999994E-2},{"$f":"'All Respondents'!CF76-'All Respondents'!CF75","v":-2.0000000000000018E-2},{"$f":"'All Respondents'!CG76-'All Respondents'!CG75","v":1.0000000000000002E-2},{"$f":"'All Respondents'!CH76-'All Respondents'!CH75","v":0},{"$f":"'All Respondents'!CI76-'All Respondents'!CI75","v":0},{"$f":"'All Respondents'!CJ76-'All Respondents'!CJ75","v":0},{"$f":"'All Respondents'!CK76-'All Respondents'!CK75","v":1.0000000000000002E-2},{"$f":"'All Respondents'!CL76-'All Respondents'!CL75","v":-9.999999999999995E-3},{"$f":"'All Respondents'!CM76-'All Respondents'!CM75","v":0},{"$f":"'All Respondents'!CN76-'All Respondents'!CN75","v":1.0000000000000009E-2},{"$f":"'All Respondents'!CO76-'All Respondents'!CO75","v":-1.0000000000000009E-2},{"$f":"'All Respondents'!CP76-'All Respondents'!CP75","v":2.0000000000000018E-2},{"$f":"'All Respondents'!CQ76-'All Respondents'!CQ75","v":1.0000000000000009E-2},{"$f":"'All Respondents'!CR76-'All Respondents'!CR75","v":-4.0000000000000036E-2},{"$f":"'All Respondents'!CS76-'All Respondents'!CS75","v":-1.0000000000000009E-2},{"$f":"'All Respondents'!CT76-'All Respondents'!CT75","v":0},{"$f":"'All Respondents'!CU76-'All Respondents'!CU75","v":0},{"$f":"'All Respondents'!CV76-'All Respondents'!CV75","v":0},{"$f":"'All Respondents'!CW76-'All Respondents'!CW75","v":4.9999999999999933E-2},{"$f":"'All Respondents'!CX76-'All Respondents'!CX75","v":-0.03},{"$f":"'All Respondents'!CY76-'All Respondents'!CY75","v":0},{"$f":"'All Respondents'!CZ76-'All Respondents'!CZ75","v":0},{"$f":"'All Respondents'!DA76-'All Respondents'!DA75","v":-0.01},{"$f":"'All Respondents'!DB76-'All Respondents'!DB75","v":2.0000000000000018E-2},{"$f":"'All Respondents'!DC76-'All Respondents'!DC75","v":-1.0000000000000009E-2},{"$f":"'All Respondents'!DD76-'All Respondents'!DD75","v":9.9999999999999811E-3},{"$f":"'All Respondents'!DE76-'All Respondents'!DE75","v":0},{"$f":"'All Respondents'!DF76-'All Respondents'!DF75","v":-5.0000000000000044E-2},{"$f":"'All Respondents'!DG76-'All Respondents'!DG75","v":0.03},{"$f":"'All Respondents'!DH76-'All Respondents'!DH75","v":-2.0000000000000018E-2},{"$f":"'All Respondents'!DI76-'All Respondents'!DI75","v":1.0000000000000009E-2},{"$f":"'All Respondents'!DJ76-'All Respondents'!DJ75","v":0},{"$f":"'All Respondents'!DK76-'All Respondents'!DK75","v":0},{"$f":"'All Respondents'!DL76-'All Respondents'!DL75","v":0},{"$f":"'All Respondents'!DM76-'All Respondents'!DM75","v":86860.530000000028},{"$f":"'All Respondents'!DN76-'All Respondents'!DN75","v":32460.299999999988},{"$f":"'All Respondents'!DO76-'All Respondents'!DO75","v":-0.1},{"$f":"'All Respondents'!DP76-'All Respondents'!DP75","v":2.0000000000000018E-2},{"$f":"'All Respondents'!DQ76-'All Respondents'!DQ75","v":4.0000000000000008E-2},{"$f":"'All Respondents'!DR76-'All Respondents'!DR75","v":9.999999999999995E-3},{"$f":"'All Respondents'!DS76-'All Respondents'!DS75","v":1.0000000000000002E-2}]
["Jul 16 - Aug 16",{"$f":"'All Respondents'!B77-'All Respondents'!B76","v":-1.5},{"$f":"'All Respondents'!D77-'All Respondents'!D76","v":-1.3999999999999915},{"$f":"'All Respondents'!E77-'All Respondents'!E76","v":-0.06},{"$f":"'All Respondents'!F77-'All Respondents'!F76","v":0},{"$f":"'All Respondents'!G77-'All Respondents'!G76","v":4.0000000000000036E-2},{"$f":"'All Respondents'!H77-'All Respondents'!H76","v":-0.06},{"$f":"'All Respondents'!I77-'All Respondents'!I76","v":1.8799999999999997E-2},{"$f":"'All Respondents'!J77-'All Respondents'!J76","v":5.3000000000000061E-3},{"$f":"'All Respondents'!K77-'All Respondents'!K76","v":1.1099999999999652E-4},{"$f":"'All Respondents'!L77-'All Respondents'!L76","v":1.0000000000000009E-2},{"$f":"'All Respondents'!M77-'All Respondents'!M76","v":-1.0000000000000009E-2},{"$f":"'All Respondents'!N77-'All Respondents'!N76","v":-2.9999999999999971E-2},{"$f":"'All Respondents'!O77-'All Respondents'!O76","v":-2.0000000000000018E-2},null,{"$f":"'All Respondents'!Q77-'All Respondents'!Q76","v":1.3000000000000025E-3},{"$f":"'All Respondents'!R77-'All Respondents'!R76","v":-9.9999999999999811E-3},{"$f":"'All Respondents'!S77-'All Respondents'!S76","v":1.0000000000000009E-2},{"$f":"'All Respondents'!T77-'All Respondents'!T76","v":0},{"$f":"'All Respondents'!U77-'All Respondents'!U76","v":-1.999999999999999E-2},{"$f":"'All Respondents'!V77-'All Respondents'!V76","v":9.999999999999995E-3},{"$f":"'All Respondents'!W77-'All Respondents'!W76","v":-9.9999999999999534E-3},{"$f":"'All Respondents'!X77-'All Respondents'!X76","v":9.9999999999999534E-3},{"$f":"'All Respondents'!Y77-'All Respondents'!Y76","v":9.9999999999999811E-3},{"$f":"'All Respondents'!Z77-'All Respondents'!Z76","v":1.0000000000000009E-2},{"$f":"'All Respondents'!AA77-'All Respondents'!AA76","v":-1.999999999999999E-2},{"$f":"'All Respondents'!AB77-'All Respondents'!AB76","v":-9.9999999999999985E-3},{"$f":"'All Respondents'!AC77-'All Respondents'!AC76","v":1.0000000000000009E-2},{"$f":"'All Respondents'!AD77-'All Respondents'!AD76","v":-4.0000000000000036E-2},{"$f":"'All Respondents'!AE77-'All Respondents'!AE76","v":2.0000000000000004E-2},{"$f":"'All Respondents'!AF77-'All Respondents'!AF76","v":-3.0000000000000002E-2},{"$f":"'All Respondents'!AG77-'All Respondents'!AG76","v":6.0000000000000012E-2},{"$f":"'All Respondents'!AH77-'All Respondents'!AH76","v":-2.9999999999999971E-2},{"$f":"'All Respondents'!AI77-'All Respondents'!AI76","v":0},{"$f":"'All Respondents'!AJ77-'All Respondents'!AJ76","v":-3.0000000000000027E-2},{"$f":"'All Respondents'!AK77-'All Respondents'!AK76","v":-3.0000000000000027E-2},{"$f":"'All Respondents'!AL77-'All Respondents'!AL76","v":0},{"$f":"'All Respondents'!AM77-'All Respondents'!AM76","v":2.0000000000000004E-2},{"$f":"'All Respondents'!AN77-'All Respondents'!AN76","v":2.0000000000000018E-2},{"$f":"'All Respondents'!AO77-'All Respondents'!AO76","v":-5.0000000000000044E-2},{"$f":"'All Respondents'!AP77-'All Respondents'!AP76","v":1.999999999999999E-2},{"$f":"'All Respondents'!AQ77-'All Respondents'!AQ76","v":-4.9999999999999989E-2},{"$f":"'All Respondents'!AR77-'All Respondents'!AR76","v":0},{"$f":"'All Respondents'!AS77-'All Respondents'!AS76","v":-9.999999999999995E-3},{"$f":"'All Respondents'!AT77-'All Respondents'!AT76","v":1.0000000000000009E-2},{"$f":"'All Respondents'!AU77-'All Respondents'!AU76","v":0},{"$f":"'All Respondents'!AV77-'All Respondents'!AV76","v":0.03},{"$f":"'All Respondents'!AW77-'All Respondents'!AW76","v":4.0000000000000008E-2},{"$f":"'All Respondents'!AX77-'All Respondents'!AX76","v":-2.0000000000000018E-2},{"$f":"'All Respondents'!AY77-'All Respondents'!AY76","v":2.0000000000000018E-2},{"$f":"'All Respondents'!AZ77-'All Respondents'!AZ76","v":-2.9999999999999916E-2},{"$f":"'All Respondents'!BA77-'All Respondents'!BA76","v":0},{"$f":"'All Respondents'!BB77-'All Respondents'!BB76","v":1.0000000000000009E-2},{"$f":"'All Respondents'!BC77-'All Respondents'!BC76","v":-2.9999999999999916E-2},{"$f":"'All Respondents'!BD77-'All Respondents'!BD76","v":-4.599999999999882E-4},{"$f":"'All Respondents'!BE77-'All Respondents'!BE76","v":-2.0000000000000018E-2},{"$f":"'All Respondents'!BF77-'All Respondents'!BF76","v":2.9999999999999971E-2},{"$f":"'All Respondents'!BG77-'All Respondents'!BG76","v":-4.9999999999999989E-2},{"$f":"'All Respondents'!BH77-'All Respondents'!BH76","v":4.9999999999999989E-2},{"$f":"'All Respondents'!BI77-'All Respondents'!BI76","v":-6.9999999999999951E-2},{"$f":"'All Respondents'!BJ77-'All Respondents'!BJ76","v":0.11999999999999994},{"$f":"'All Respondents'!BK77-'All Respondents'!BK76","v":1.999999999999999E-2},{"$f":"'All Respondents'!BL77-'All Respondents'!BL76","v":1.0000000000000009E-2},{"$f":"'All Respondents'!BM77-'All Respondents'!BM76","v":2.9999999999999971E-2},{"$f":"'All Respondents'!BN77-'All Respondents'!BN76","v":-3.999999999999998E-2},{"$f":"'All Respondents'!BO77-'All Respondents'!BO76","v":-9.999999999999995E-3},{"$f":"'All Respondents'!BP77-'All Respondents'!BP76","v":0},{"$f":"'All Respondents'!BQ77-'All Respondents'!BQ76","v":-1.0000000000000009E-2},{"$f":"'All Respondents'!BR77-'All Respondents'!BR76","v":3.999999999999998E-2},{"$f":"'All Respondents'!BS77-'All Respondents'!BS76","v":1.0000000000000009E-2},{"$f":"'All Respondents'!BT77-'All Respondents'!BT76","v":2.0000000000000004E-2},{"$f":"'All Respondents'!BU77-'All Respondents'!BU76","v":-3.0000000000000027E-2},{"$f":"'All Respondents'!BV77-'All Respondents'!BV76","v":-9.999999999999995E-3},{"$f":"'All Respondents'!BW77-'All Respondents'!BW76","v":-2.0000000000000018E-2},{"$f":"'All Respondents'!BX77-'All Respondents'!BX76","v":2.0000000000000018E-2},{"$f":"'All Respondents'!BY77-'All Respondents'!BY76","v":4.0000000000000036E-2},{"$f":"'All Respondents'!BZ77-'All Respondents'!BZ76","v":0},{"$f":"'All Respondents'!CA77-'All Respondents'!CA76","v":0},{"$f":"'All Respondents'!CB77-'All Respondents'!CB76","v":0},{"$f":"'All Respondents'!CC77-'All Respondents'!CC76","v":1.0000000000000009E-2},{"$f":"'All Respondents'!CD77-'All Respondents'!CD76","v":9.999999999999995E-3},{"$f":"'All Respondents'!CE77-'All Respondents'!CE76","v":0},{"$f":"'All Respondents'!CF77-'All Respondents'!CF76","v":0},{"$f":"'All Respondents'!CG77-'All Respondents'!CG76","v":0},{"$f":"'All Respondents'!CH77-'All Respondents'!CH76","v":-0.03},{"$f":"'All Respondents'!CI77-'All Respondents'!CI76","v":1.999999999999999E-2},{"$f":"'All Respondents'!CJ77-'All Respondents'!CJ76","v":1.9999999999999907E-2},{"$f":"'All Respondents'!CK77-'All Respondents'!CK76","v":0},{"$f":"'All Respondents'!CL77-'All Respondents'!CL76","v":-0.03},{"$f":"'All Respondents'!CM77-'All Respondents'!CM76","v":-0.03},{"$f":"'All Respondents'!CN77-'All Respondents'!CN76","v":1.0000000000000009E-2},{"$f":"'All Respondents'!CO77-'All Respondents'!CO76","v":2.0000000000000018E-2},{"$f":"'All Respondents'!CP77-'All Respondents'!CP76","v":-1.0000000000000009E-2},{"$f":"'All Respondents'!CQ77-'All Respondents'!CQ76","v":4.0000000000000036E-2},{"$f":"'All Respondents'!CR77-'All Respondents'!CR76","v":1.0000000000000009E-2},{"$f":"'All Respondents'!CS77-'All Respondents'!CS76","v":0},{"$f":"'All Respondents'!CT77-'All Respondents'!CT76","v":-1.0000000000000009E-2},{"$f":"'All Respondents'!CU77-'All Respondents'!CU76","v":-2.0000000000000004E-2},{"$f":"'All Respondents'!CV77-'All Respondents'!CV76","v":0.03},{"$f":"'All Respondents'!CW77-'All Respondents'!CW76","v":-1.0000000000000009E-2},{"$f":"'All Respondents'!CX77-'All Respondents'!CX76","v":2.0000000000000018E-2},{"$f":"'All Respondents'!CY77-'All Respondents'!CY76","v":-0.02},{"$f":"'All Respondents'!CZ77-'All Respondents'!CZ76","v":-0.01},{"$f":"'All Respondents'!DA77-'All Respondents'!DA76","v":0.01},{"$f":"'All Respondents'!DB77-'All Respondents'!DB76","v":9.9999999999999811E-3},{"$f":"'All Respondents'!DC77-'All Respondents'!DC76","v":-1.0000000000000009E-2},{"$f":"'All Respondents'!DD77-'All Respondents'!DD76","v":0.03},{"$f":"'All Respondents'!DE77-'All Respondents'!DE76","v":-4.0000000000000036E-2},{"$f":"'All Respondents'!DF77-'All Respondents'!DF76","v":6.0000000000000053E-2},{"$f":"'All Respondents'!DG77-'All Respondents'!DG76","v":-0.03},{"$f":"'All Respondents'!DH77-'All Respondents'!DH76","v":3.0000000000000027E-2},{"$f":"'All Respondents'!DI77-'All Respondents'!DI76","v":1.0000000000000009E-2},{"$f":"'All Respondents'!DJ77-'All Respondents'!DJ76","v":-3.9999999999999994E-2},{"$f":"'All Respondents'!DK77-'All Respondents'!DK76","v":-3.0000000000000002E-2},{"$f":"'All Respondents'!DL77-'All Respondents'!DL76","v":-1.0000000000000002E-2},{"$f":"'All Respondents'!DM77-'All Respondents'!DM76","v":-18964.549999999988},{"$f":"'All Respondents'!DN77-'All Respondents'!DN76","v":7539.7000000000116},{"$f":"'All Respondents'!DO77-'All Respondents'!DO76","v":1.999999999999999E-2},{"$f":"'All Respondents'!DP77-'All Respondents'!DP76","v":-2.0000000000000018E-2},{"$f":"'All Respondents'!DQ77-'All Respondents'!DQ76","v":0},{"$f":"'All Respondents'!DR77-'All Respondents'!DR76","v":1.0000000000000009E-2},{"$f":"'All Respondents'!DS77-'All Respondents'!DS76","v":9.999999999999995E-3}]
["Aug 16 - Sep 16",{"$f":"'All Respondents'!B78-'All Respondents'!B77","v":-2.2000000000000028},{"$f":"'All Respondents'!D78-'All Respondents'!D77","v":-1.4000000000000057},{"$f":"'All Respondents'!E78-'All Respondents'!E77","v":0},{"$f":"'All Respondents'!F78-'All Respondents'!F77","v":9.999999999999995E-3},{"$f":"'All Respondents'!G78-'All Respondents'!G77","v":-2.0000000000000018E-2},{"$f":"'All Respondents'!H78-'All Respondents'!H77","v":-1.0000000000000009E-2},{"$f":"'All Respondents'!I78-'All Respondents'!I77","v":-1.3999999999999985E-3},{"$f":"'All Respondents'!J78-'All Respondents'!J77","v":-6.0000000000000331E-4},{"$f":"'All Respondents'!K78-'All Respondents'!K77","v":-1.3250000000000033E-3},{"$f":"'All Respondents'!L78-'All Respondents'!L77","v":4.9999999999999989E-2},{"$f":"'All Respondents'!M78-'All Respondents'!M77","v":-9.999999999999995E-3},{"$f":"'All Respondents'!N78-'All Respondents'!N77","v":-4.0000000000000036E-2},{"$f":"'All Respondents'!O78-'All Respondents'!O77","v":-0.06},null,{"$f":"'All Respondents'!Q78-'All Respondents'!Q77","v":-1.0000000000000286E-4},{"$f":"'All Respondents'!R78-'All Respondents'!R77","v":0},{"$f":"'All Respondents'!S78-'All Respondents'!S77","v":-3.0000000000000027E-2},{"$f":"'All Respondents'!T78-'All Respondents'!T77","v":-3.0000000000000027E-2},{"$f":"'All Respondents'!U78-'All Respondents'!U77","v":9.9999999999999811E-3},{"$f":"'All Respondents'!V78-'All Respondents'!V77","v":1.0000000000000009E-2},{"$f":"'All Respondents'!W78-'All Respondents'!W77","v":1.9999999999999962E-2},{"$f":"'All Respondents'!X78-'All Respondents'!X77","v":-4.9999999999999989E-2},{"$f":"'All Respondents'!Y78-'All Respondents'!Y77","v":-3.999999999999998E-2},{"$f":"'All Respondents'!Z78-'All Respondents'!Z77","v":1.0000000000000009E-2},{"$f":"'All Respondents'!AA78-'All Respondents'!AA77","v":-1.0000000000000009E-2},{"$f":"'All Respondents'!AB78-'All Respondents'!AB77","v":3.9999999999999994E-2},{"$f":"'All Respondents'!AC78-'All Respondents'!AC77","v":9.999999999999995E-3},{"$f":"'All Respondents'!AD78-'All Respondents'!AD77","v":3.0000000000000027E-2},{"$f":"'All Respondents'!AE78-'All Respondents'!AE77","v":-3.0000000000000006E-2},{"$f":"'All Respondents'!AF78-'All Respondents'!AF77","v":0.02},{"$f":"'All Respondents'!AG78-'All Respondents'!AG77","v":9.9999999999999811E-3},{"$f":"'All Respondents'!AH78-'All Respondents'!AH77","v":1.9999999999999962E-2},{"$f":"'All Respondents'!AI78-'All Respondents'!AI77","v":-1.0000000000000009E-2},{"$f":"'All Respondents'!AJ78-'All Respondents'!AJ77","v":1.0000000000000009E-2},{"$f":"'All Respondents'!AK78-'All Respondents'!AK77","v":0},{"$f":"'All Respondents'!AL78-'All Respondents'!AL77","v":1.9999999999999962E-2},{"$f":"'All Respondents'!AM78-'All Respondents'!AM77","v":-2.0000000000000004E-2},{"$f":"'All Respondents'!AN78-'All Respondents'!AN77","v":0},{"$f":"'All Respondents'!AO78-'All Respondents'!AO77","v":0},{"$f":"'All Respondents'!AP78-'All Respondents'!AP77","v":0},{"$f":"'All Respondents'!AQ78-'All Respondents'!AQ77","v":2.0000000000000018E-2},{"$f":"'All Respondents'!AR78-'All Respondents'!AR77","v":-9.999999999999995E-3},{"$f":"'All Respondents'!AS78-'All Respondents'!AS77","v":-1.0000000000000009E-2},{"$f":"'All Respondents'!AT78-'All Respondents'!AT77","v":1.999999999999999E-2},{"$f":"'All Respondents'!AU78-'All Respondents'!AU77","v":-2.0000000000000018E-2},{"$f":"'All Respondents'!AV78-'All Respondents'!AV77","v":-1.999999999999999E-2},{"$f":"'All Respondents'!AW78-'All Respondents'!AW77","v":0.03},{"$f":"'All Respondents'!AX78-'All Respondents'!AX77","v":2.0000000000000018E-2},{"$f":"'All Respondents'!AY78-'All Respondents'!AY77","v":1.0000000000000009E-2},{"$f":"'All Respondents'!AZ78-'All Respondents'!AZ77","v":-1.0000000000000009E-2},{"$f":"'All Respondents'!BA78-'All Respondents'!BA77","v":-1.0000000000000002E-2},{"$f":"'All Respondents'!BB78-'All Respondents'!BB77","v":1.9999999999999962E-2},{"$f":"'All Respondents'!BC78-'All Respondents'!BC77","v":0},{"$f":"'All Respondents'!BD78-'All Respondents'!BD77","v":-1.6299999999999995E-3},{"$f":"'All Respondents'!BE78-'All Respondents'!BE77","v":-1.0000000000000009E-2},{"$f":"'All Respondents'!BF78-'All Respondents'!BF77","v":2.0000000000000018E-2},{"$f":"'All Respondents'!BG78-'All Respondents'!BG77","v":-3.0000000000000027E-2},{"$f":"'All Respondents'!BH78-'All Respondents'!BH77","v":-3.0000000000000027E-2},{"$f":"'All Respondents'!BI78-'All Respondents'!BI77","v":4.9999999999999933E-2},{"$f":"'All Respondents'!BJ78-'All Respondents'!BJ77","v":-7.999999999999996E-2},{"$f":"'All Respondents'!BK78-'All Respondents'!BK77","v":-4.0000000000000008E-2},{"$f":"'All Respondents'!BL78-'All Respondents'!BL77","v":-2.0000000000000018E-2},{"$f":"'All Respondents'!BM78-'All Respondents'!BM77","v":-0.06},{"$f":"'All Respondents'!BN78-'All Respondents'!BN77","v":8.0000000000000016E-2},{"$f":"'All Respondents'!BO78-'All Respondents'!BO77","v":-9.999999999999995E-3},{"$f":"'All Respondents'!BP78-'All Respondents'!BP77","v":0},{"$f":"'All Respondents'!BQ78-'All Respondents'!BQ77","v":-9.9999999999999811E-3},{"$f":"'All Respondents'!BR78-'All Respondents'!BR77","v":-4.9999999999999989E-2},{"$f":"'All Respondents'!BS78-'All Respondents'!BS77","v":1.999999999999999E-2},{"$f":"'All Respondents'!BT78-'All Respondents'!BT77","v":0},{"$f":"'All Respondents'!BU78-'All Respondents'!BU77","v":0},{"$f":"'All Respondents'!BV78-'All Respondents'!BV77","v":1.999999999999999E-2},{"$f":"'All Respondents'!BW78-'All Respondents'!BW77","v":2.0000000000000018E-2},{"$f":"'All Respondents'!BX78-'All Respondents'!BX77","v":-2.0000000000000018E-2},{"$f":"'All Respondents'!BY78-'All Respondents'!BY77","v":-4.0000000000000036E-2},{"$f":"'All Respondents'!BZ78-'All Respondents'!BZ77","v":0.03},{"$f":"'All Respondents'!CA78-'All Respondents'!CA77","v":-3.9999999999999994E-2},{"$f":"'All Respondents'!CB78-'All Respondents'!CB77","v":-1.0000000000000009E-2},{"$f":"'All Respondents'!CC78-'All Respondents'!CC77","v":-3.9999999999999925E-2},{"$f":"'All Respondents'!CD78-'All Respondents'!CD77","v":2.0000000000000018E-2},{"$f":"'All Respondents'!CE78-'All Respondents'!CE77","v":-1.999999999999999E-2},{"$f":"'All Respondents'!CF78-'All Respondents'!CF77","v":-3.999999999999998E-2},{"$f":"'All Respondents'!CG78-'All Respondents'!CG77","v":0},{"$f":"'All Respondents'!CH78-'All Respondents'!CH77","v":2.0000000000000004E-2},{"$f":"'All Respondents'!CI78-'All Respondents'!CI77","v":0},{"$f":"'All Respondents'!CJ78-'All Respondents'!CJ77","v":-3.9999999999999925E-2},{"$f":"'All Respondents'!CK78-'All Respondents'!CK77","v":9.999999999999995E-3},{"$f":"'All Respondents'!CL78-'All Respondents'!CL77","v":9.999999999999995E-3},{"$f":"'All Respondents'!CM78-'All Respondents'!CM77","v":1.999999999999999E-2},{"$f":"'All Respondents'!CN78-'All Respondents'!CN77","v":-1.0000000000000009E-2},{"$f":"'All Respondents'!CO78-'All Respondents'!CO77","v":9.9999999999999811E-3},{"$f":"'All Respondents'!CP78-'All Respondents'!CP77","v":-2.0000000000000018E-2},{"$f":"'All Respondents'!CQ78-'All Respondents'!CQ77","v":-3.0000000000000027E-2},{"$f":"'All Respondents'!CR78-'All Respondents'!CR77","v":2.0000000000000018E-2},{"$f":"'All Respondents'!CS78-'All Respondents'!CS77","v":1.0000000000000009E-2},{"$f":"'All Respondents'!CT78-'All Respondents'!CT77","v":-1.0000000000000009E-2},{"$f":"'All Respondents'!CU78-'All Respondents'!CU77","v":2.0000000000000004E-2},{"$f":"'All Respondents'!CV78-'All Respondents'!CV77","v":-0.03},{"$f":"'All Respondents'!CW78-'All Respondents'!CW77","v":1.0000000000000009E-2},{"$f":"'All Respondents'!CX78-'All Respondents'!CX77","v":-1.0000000000000009E-2},{"$f":"'All Respondents'!CY78-'All Respondents'!CY77","v":9.9999999999999985E-3},{"$f":"'All Respondents'!CZ78-'All Respondents'!CZ77","v":0},{"$f":"'All Respondents'!DA78-'All Respondents'!DA77","v":-0.01},{"$f":"'All Respondents'!DB78-'All Respondents'!DB77","v":-9.9999999999999811E-3},{"$f":"'All Respondents'!DC78-'All Respondents'!DC77","v":1.0000000000000009E-2},{"$f":"'All Respondents'!DD78-'All Respondents'!DD77","v":-1.999999999999999E-2},{"$f":"'All Respondents'!DE78-'All Respondents'!DE77","v":1.0000000000000009E-2},{"$f":"'All Respondents'!DF78-'All Respondents'!DF77","v":-6.0000000000000053E-2},{"$f":"'All Respondents'!DG78-'All Respondents'!DG77","v":1.0000000000000009E-2},{"$f":"'All Respondents'!DH78-'All Respondents'!DH77","v":-5.0000000000000044E-2},{"$f":"'All Respondents'!DI78-'All Respondents'!DI77","v":1.999999999999999E-2},{"$f":"'All Respondents'!DJ78-'All Respondents'!DJ77","v":2.0000000000000004E-2},{"$f":"'All Respondents'!DK78-'All Respondents'!DK77","v":0.02},{"$f":"'All Respondents'!DL78-'All Respondents'!DL77","v":0},{"$f":"'All Respondents'!DM78-'All Respondents'!DM77","v":97589.159999999974},{"$f":"'All Respondents'!DN78-'All Respondents'!DN77","v":-20000},{"$f":"'All Respondents'!DO78-'All Respondents'!DO77","v":0.03},{"$f":"'All Respondents'!DP78-'All Respondents'!DP77","v":-1.0000000000000009E-2},{"$f":"'All Respondents'!DQ78-'All Respondents'!DQ77","v":-4.9999999999999989E-2},{"$f":"'All Respondents'!DR78-'All Respondents'!DR77","v":-1.0000000000000009E-2},{"$f":"'All Respondents'!DS78-'All Respondents'!DS77","v":2.0000000000000004E-2}]
["Sep 16 - Oct 16",{"$f":"'All Respondents'!B79-'All Respondents'!B78","v":-1.0999999999999943},{"$f":"'All Respondents'!D79-'All Respondents'!D78","v":-1.2000000000000028},{"$f":"'All Respondents'!E79-'All Respondents'!E78","v":-2.0000000000000018E-2},{"$f":"'All Respondents'!F79-'All Respondents'!F78","v":1.0000000000000009E-2},{"$f":"'All Respondents'!G79-'All Respondents'!G78","v":2.0000000000000018E-2},{"$f":"'All Respondents'!H79-'All Respondents'!H78","v":-3.0000000000000027E-2},{"$f":"'All Respondents'!I79-'All Respondents'!I78","v":-6.4999999999999919E-3},{"$f":"'All Respondents'!J79-'All Respondents'!J78","v":5.6999999999999967E-3},{"$f":"'All Respondents'!K79-'All Respondents'!K78","v":-5.8599999999999625E-4},{"$f":"'All Respondents'!L79-'All Respondents'!L78","v":1.0000000000000009E-2},{"$f":"'All Respondents'!M79-'All Respondents'!M78","v":0},{"$f":"'All Respondents'!N79-'All Respondents'!N78","v":0},{"$f":"'All Respondents'!O79-'All Respondents'!O78","v":-1.0000000000000009E-2},null,{"$f":"'All Respondents'!Q79-'All Respondents'!Q78","v":-9.9999999999995925E-5},{"$f":"'All Respondents'!R79-'All Respondents'!R78","v":-2.0000000000000018E-2},{"$f":"'All Respondents'!S79-'All Respondents'!S78","v":2.0000000000000018E-2},{"$f":"'All Respondents'!T79-'All Respondents'!T78","v":0},{"$f":"'All Respondents'!U79-'All Respondents'!U78","v":-9.9999999999999811E-3},{"$f":"'All Respondents'!V79-'All Respondents'!V78","v":-1.0000000000000009E-2},{"$f":"'All Respondents'!W79-'All Respondents'!W78","v":-1.9999999999999962E-2},{"$f":"'All Respondents'!X79-'All Respondents'!X78","v":1.9999999999999962E-2},{"$f":"'All Respondents'!Y79-'All Respondents'!Y78","v":0},{"$f":"'All Respondents'!Z79-'All Respondents'!Z78","v":-2.0000000000000018E-2},{"$f":"'All Respondents'!AA79-'All Respondents'!AA78","v":0.03},{"$f":"'All Respondents'!AB79-'All Respondents'!AB78","v":-0.03},{"$f":"'All Respondents'!AC79-'All Respondents'!AC78","v":9.999999999999995E-3},{"$f":"'All Respondents'!AD79-'All Respondents'!AD78","v":2.9999999999999971E-2},{"$f":"'All Respondents'!AE79-'All Respondents'!AE78","v":0},{"$f":"'All Respondents'!AF79-'All Respondents'!AF78","v":0},{"$f":"'All Respondents'!AG79-'All Respondents'!AG78","v":-7.9999999999999988E-2},{"$f":"'All Respondents'!AH79-'All Respondents'!AH78","v":0},{"$f":"'All Respondents'!AI79-'All Respondents'!AI78","v":1.0000000000000009E-2},{"$f":"'All Respondents'!AJ79-'All Respondents'!AJ78","v":1.0000000000000009E-2},{"$f":"'All Respondents'!AK79-'All Respondents'!AK78","v":2.0000000000000018E-2},{"$f":"'All Respondents'!AL79-'All Respondents'!AL78","v":-3.999999999999998E-2},{"$f":"'All Respondents'!AM79-'All Respondents'!AM78","v":2.0000000000000004E-2},{"$f":"'All Respondents'!AN79-'All Respondents'!AN78","v":-2.0000000000000018E-2},{"$f":"'All Respondents'!AO79-'All Respondents'!AO78","v":4.0000000000000036E-2},{"$f":"'All Respondents'!AP79-'All Respondents'!AP78","v":-1.999999999999999E-2},{"$f":"'All Respondents'!AQ79-'All Respondents'!AQ78","v":-1.0000000000000009E-2},{"$f":"'All Respondents'!AR79-'All Respondents'!AR78","v":3.0000000000000013E-2},{"$f":"'All Respondents'!AS79-'All Respondents'!AS78","v":0},{"$f":"'All Respondents'!AT79-'All Respondents'!AT78","v":-1.0000000000000009E-2},{"$f":"'All Respondents'!AU79-'All Respondents'!AU78","v":2.0000000000000018E-2},{"$f":"'All Respondents'!AV79-'All Respondents'!AV78","v":-2.0000000000000004E-2},{"$f":"'All Respondents'!AW79-'All Respondents'!AW78","v":-0.03},{"$f":"'All Respondents'!AX79-'All Respondents'!AX78","v":-1.0000000000000009E-2},{"$f":"'All Respondents'!AY79-'All Respondents'!AY78","v":0},{"$f":"'All Respondents'!AZ79-'All Respondents'!AZ78","v":0},{"$f":"'All Respondents'!BA79-'All Respondents'!BA78","v":1.0000000000000002E-2},{"$f":"'All Respondents'!BB79-'All Respondents'!BB78","v":-1.9999999999999962E-2},{"$f":"'All Respondents'!BC79-'All Respondents'!BC78","v":-1.0000000000000009E-2},{"$f":"'All Respondents'!BD79-'All Respondents'!BD78","v":8.7600000000000872E-4},{"$f":"'All Respondents'!BE79-'All Respondents'!BE78","v":3.0000000000000027E-2},{"$f":"'All Respondents'!BF79-'All Respondents'!BF78","v":-1.0000000000000009E-2},{"$f":"'All Respondents'!BG79-'All Respondents'!BG78","v":4.0000000000000036E-2},{"$f":"'All Respondents'!BH79-'All Respondents'!BH78","v":1.0000000000000009E-2},{"$f":"'All Respondents'!BI79-'All Respondents'!BI78","v":-9.9999999999998979E-3},{"$f":"'All Respondents'!BJ79-'All Respondents'!BJ78","v":1.9999999999999907E-2},{"$f":"'All Respondents'!BK79-'All Respondents'!BK78","v":0.03},{"$f":"'All Respondents'!BL79-'All Respondents'!BL78","v":0},{"$f":"'All Respondents'!BM79-'All Respondents'!BM78","v":2.9999999999999971E-2},{"$f":"'All Respondents'!BN79-'All Respondents'!BN78","v":-0.06},{"$f":"'All Respondents'!BO79-'All Respondents'!BO78","v":-1.0000000000000009E-2},{"$f":"'All Respondents'!BP79-'All Respondents'!BP78","v":0},{"$f":"'All Respondents'!BQ79-'All Respondents'!BQ78","v":-1.0000000000000009E-2},{"$f":"'All Respondents'!BR79-'All Respondents'!BR78","v":3.9999999999999925E-2},{"$f":"'All Respondents'!BS79-'All Respondents'!BS78","v":-4.9999999999999989E-2},{"$f":"'All Respondents'!BT79-'All Respondents'!BT78","v":0.03},{"$f":"'All Respondents'!BU79-'All Respondents'!BU78","v":1.0000000000000009E-2},{"$f":"'All Respondents'!BV79-'All Respondents'!BV78","v":-7.9999999999999988E-2},{"$f":"'All Respondents'!BW79-'All Respondents'!BW78","v":1.0000000000000009E-2},{"$f":"'All Respondents'!BX79-'All Respondents'!BX78","v":0},{"$f":"'All Respondents'!BY79-'All Respondents'!BY78","v":-1.0000000000000009E-2},{"$f":"'All Respondents'!BZ79-'All Respondents'!BZ78","v":-4.9999999999999989E-2},{"$f":"'All Respondents'!CA79-'All Respondents'!CA78","v":0},{"$f":"'All Respondents'!CB79-'All Respondents'!CB78","v":-4.9999999999999989E-2},{"$f":"'All Respondents'!CC79-'All Respondents'!CC78","v":7.999999999999996E-2},{"$f":"'All Respondents'!CD79-'All Respondents'!CD78","v":-3.0000000000000013E-2},{"$f":"'All Respondents'!CE79-'All Respondents'!CE78","v":1.999999999999999E-2},{"$f":"'All Respondents'!CF79-'All Respondents'!CF78","v":9.0000000000000024E-2},{"$f":"'All Respondents'!CG79-'All Respondents'!CG78","v":9.999999999999995E-3},{"$f":"'All Respondents'!CH79-'All Respondents'!CH78","v":0},{"$f":"'All Respondents'!CI79-'All Respondents'!CI78","v":-4.9999999999999989E-2},{"$f":"'All Respondents'!CJ79-'All Respondents'!CJ78","v":4.9999999999999933E-2},{"$f":"'All Respondents'!CK79-'All Respondents'!CK78","v":-1.9999999999999997E-2},{"$f":"'All Respondents'!CL79-'All Respondents'!CL78","v":2.0000000000000004E-2},{"$f":"'All Respondents'!CM79-'All Respondents'!CM78","v":0},{"$f":"'All Respondents'!CN79-'All Respondents'!CN78","v":-9.9999999999998979E-3},{"$f":"'All Respondents'!CO79-'All Respondents'!CO78","v":-6.9999999999999979E-2},{"$f":"'All Respondents'!CP79-'All Respondents'!CP78","v":6.0000000000000053E-2},{"$f":"'All Respondents'!CQ79-'All Respondents'!CQ78","v":-9.9999999999998979E-3},{"$f":"'All Respondents'!CR79-'All Respondents'!CR78","v":-2.0000000000000018E-2},{"$f":"'All Respondents'!CS79-'All Respondents'!CS78","v":-2.0000000000000018E-2},{"$f":"'All Respondents'!CT79-'All Respondents'!CT78","v":5.0000000000000017E-2},{"$f":"'All Respondents'!CU79-'All Respondents'!CU78","v":0},{"$f":"'All Respondents'!CV79-'All Respondents'!CV78","v":0},{"$f":"'All Respondents'!CW79-'All Respondents'!CW78","v":-4.9999999999999933E-2},{"$f":"'All Respondents'!CX79-'All Respondents'!CX78","v":4.9999999999999989E-2},{"$f":"'All Respondents'!CY79-'All Respondents'!CY78","v":0},{"$f":"'All Respondents'!CZ79-'All Respondents'!CZ78","v":0.01},{"$f":"'All Respondents'!DA79-'All Respondents'!DA78","v":0},{"$f":"'All Respondents'!DB79-'All Respondents'!DB78","v":-2.0000000000000018E-2},{"$f":"'All Respondents'!DC79-'All Respondents'!DC78","v":2.9999999999999916E-2},{"$f":"'All Respondents'!DD79-'All Respondents'!DD78","v":1.0000000000000009E-2},{"$f":"'All Respondents'!DE79-'All Respondents'!DE78","v":1.0000000000000009E-2},{"$f":"'All Respondents'!DF79-'All Respondents'!DF78","v":1.0000000000000009E-2},{"$f":"'All Respondents'!DG79-'All Respondents'!DG78","v":1.0000000000000009E-2},{"$f":"'All Respondents'!DH79-'All Respondents'!DH78","v":2.0000000000000018E-2},{"$f":"'All Respondents'!DI79-'All Respondents'!DI78","v":-0.03},{"$f":"'All Respondents'!DJ79-'All Respondents'!DJ78","v":9.999999999999995E-3},{"$f":"'All Respondents'!DK79-'All Respondents'!DK78","v":0},{"$f":"'All Respondents'!DL79-'All Respondents'!DL78","v":1.0000000000000002E-2},{"$f":"'All Respondents'!DM79-'All Respondents'!DM78","v":11575.450000000012},{"$f":"'All Respondents'!DN79-'All Respondents'!DN78","v":23275.98000000001},{"$f":"'All Respondents'!DO79-'All Respondents'!DO78","v":-0.03},{"$f":"'All Respondents'!DP79-'All Respondents'!DP78","v":3.0000000000000027E-2},{"$f":"'All Respondents'!DQ79-'All Respondents'!DQ78","v":1.999999999999999E-2},{"$f":"'All Respondents'!DR79-'All Respondents'!DR78","v":0},{"$f":"'All Respondents'!DS79-'All Respondents'!DS78","v":2.0000000000000004E-2}]
["Oct 16 - Nov 16",{"$f":"'All Respondents'!B80-'All Respondents'!B79","v":-0.5},{"$f":"'All Respondents'!D80-'All Respondents'!D79","v":0.60000000000000853},{"$f":"'All Respondents'!E80-'All Respondents'!E79","v":2.0000000000000018E-2},{"$f":"'All Respondents'!F80-'All Respondents'!F79","v":-2.0000000000000004E-2},{"$f":"'All Respondents'!G80-'All Respondents'!G79","v":0},{"$f":"'All Respondents'!H80-'All Respondents'!H79","v":4.0000000000000036E-2},{"$f":"'All Respondents'!I80-'All Respondents'!I79","v":5.8999999999999886E-3},{"$f":"'All Respondents'!J80-'All Respondents'!J79","v":6.1999999999999972E-3},{"$f":"'All Respondents'!K80-'All Respondents'!K79","v":6.6100000000000013E-3},{"$f":"'All Respondents'!L80-'All Respondents'!L79","v":5.0000000000000044E-2},{"$f":"'All Respondents'!M80-'All Respondents'!M79","v":-1.0000000000000002E-2},{"$f":"'All Respondents'!N80-'All Respondents'!N79","v":-4.9999999999999989E-2},{"$f":"'All Respondents'!O80-'All Respondents'!O79","v":-0.06},null,{"$f":"'All Respondents'!Q80-'All Respondents'!Q79","v":7.9999999999999516E-4},{"$f":"'All Respondents'!R80-'All Respondents'!R79","v":1.0000000000000009E-2},{"$f":"'All Respondents'!S80-'All Respondents'!S79","v":-1.0000000000000009E-2},{"$f":"'All Respondents'!T80-'All Respondents'!T79","v":0},{"$f":"'All Respondents'!U80-'All Respondents'!U79","v":0},{"$f":"'All Respondents'!V80-'All Respondents'!V79","v":1.0000000000000009E-2},{"$f":"'All Respondents'!W80-'All Respondents'!W79","v":1.0000000000000009E-2},{"$f":"'All Respondents'!X80-'All Respondents'!X79","v":-1.0000000000000009E-2},{"$f":"'All Respondents'!Y80-'All Respondents'!Y79","v":0},{"$f":"'All Respondents'!Z80-'All Respondents'!Z79","v":2.0000000000000018E-2},{"$f":"'All Respondents'!AA80-'All Respondents'!AA79","v":-1.999999999999999E-2},{"$f":"'All Respondents'!AB80-'All Respondents'!AB79","v":0},{"$f":"'All Respondents'!AC80-'All Respondents'!AC79","v":-1.999999999999999E-2},{"$f":"'All Respondents'!AD80-'All Respondents'!AD79","v":-1.9999999999999962E-2},{"$f":"'All Respondents'!AE80-'All Respondents'!AE79","v":1.9999999999999997E-2},{"$f":"'All Respondents'!AF80-'All Respondents'!AF79","v":-1.0000000000000002E-2},{"$f":"'All Respondents'!AG80-'All Respondents'!AG79","v":1.999999999999999E-2},{"$f":"'All Respondents'!AH80-'All Respondents'!AH79","v":-0.06},{"$f":"'All Respondents'!AI80-'All Respondents'!AI79","v":-4.0000000000000008E-2},{"$f":"'All Respondents'!AJ80-'All Respondents'!AJ79","v":0},{"$f":"'All Respondents'!AK80-'All Respondents'!AK79","v":-4.0000000000000036E-2},{"$f":"'All Respondents'!AL80-'All Respondents'!AL79","v":3.0000000000000027E-2},{"$f":"'All Respondents'!AM80-'All Respondents'!AM79","v":-9.999999999999995E-3},{"$f":"'All Respondents'!AN80-'All Respondents'!AN79","v":2.0000000000000018E-2},{"$f":"'All Respondents'!AO80-'All Respondents'!AO79","v":-6.0000000000000053E-2},{"$f":"'All Respondents'!AP80-'All Respondents'!AP79","v":-0.03},{"$f":"'All Respondents'!AQ80-'All Respondents'!AQ79","v":1.9999999999999962E-2},{"$f":"'All Respondents'!AR80-'All Respondents'!AR79","v":0.03},{"$f":"'All Respondents'!AS80-'All Respondents'!AS79","v":-9.999999999999995E-3},{"$f":"'All Respondents'!AT80-'All Respondents'!AT79","v":-3.999999999999998E-2},{"$f":"'All Respondents'!AU80-'All Respondents'!AU79","v":9.9999999999999811E-3},{"$f":"'All Respondents'!AV80-'All Respondents'!AV79","v":-1.0000000000000002E-2},{"$f":"'All Respondents'!AW80-'All Respondents'!AW79","v":-0.03},{"$f":"'All Respondents'!AX80-'All Respondents'!AX79","v":-1.999999999999999E-2},{"$f":"'All Respondents'!AY80-'All Respondents'!AY79","v":0.06},{"$f":"'All Respondents'!AZ80-'All Respondents'!AZ79","v":-2.0000000000000018E-2},{"$f":"'All Respondents'!BA80-'All Respondents'!BA79","v":-1.0000000000000002E-2},{"$f":"'All Respondents'!BB80-'All Respondents'!BB79","v":2.9999999999999971E-2},{"$f":"'All Respondents'!BC80-'All Respondents'!BC79","v":-1.0000000000000009E-2},{"$f":"'All Respondents'!BD80-'All Respondents'!BD79","v":2.7759999999999938E-3},{"$f":"'All Respondents'!BE80-'All Respondents'!BE79","v":0},{"$f":"'All Respondents'!BF80-'All Respondents'!BF79","v":-2.9999999999999971E-2},{"$f":"'All Respondents'!BG80-'All Respondents'!BG79","v":2.9999999999999971E-2},{"$f":"'All Respondents'!BH80-'All Respondents'!BH79","v":-1.9999999999999962E-2},{"$f":"'All Respondents'!BI80-'All Respondents'!BI79","v":9.9999999999998979E-3},{"$f":"'All Respondents'!BJ80-'All Respondents'!BJ79","v":-2.999999999999986E-2},{"$f":"'All Respondents'!BK80-'All Respondents'!BK79","v":0},{"$f":"'All Respondents'!BL80-'All Respondents'!BL79","v":2.9999999999999971E-2},{"$f":"'All Respondents'!BM80-'All Respondents'!BM79","v":2.9999999999999971E-2},{"$f":"'All Respondents'!BN80-'All Respondents'!BN79","v":0},{"$f":"'All Respondents'!BO80-'All Respondents'!BO79","v":1.0000000000000009E-2},{"$f":"'All Respondents'!BP80-'All Respondents'!BP79","v":0},{"$f":"'All Respondents'!BQ80-'All Respondents'!BQ79","v":1.0000000000000009E-2},{"$f":"'All Respondents'!BR80-'All Respondents'!BR79","v":2.0000000000000018E-2},{"$f":"'All Respondents'!BS80-'All Respondents'!BS79","v":4.9999999999999989E-2},{"$f":"'All Respondents'!BT80-'All Respondents'!BT79","v":-0.06},{"$f":"'All Respondents'!BU80-'All Respondents'!BU79","v":2.0000000000000018E-2},{"$f":"'All Respondents'!BV80-'All Respondents'!BV79","v":0.10999999999999999},{"$f":"'All Respondents'!BW80-'All Respondents'!BW79","v":-2.0000000000000018E-2},{"$f":"'All Respondents'!BX80-'All Respondents'!BX79","v":2.0000000000000018E-2},{"$f":"'All Respondents'!BY80-'All Respondents'!BY79","v":4.0000000000000036E-2},{"$f":"'All Respondents'!BZ80-'All Respondents'!BZ79","v":-1.0000000000000009E-2},{"$f":"'All Respondents'!CA80-'All Respondents'!CA79","v":0},{"$f":"'All Respondents'!CB80-'All Respondents'!CB79","v":-1.0000000000000009E-2},{"$f":"'All Respondents'!CC80-'All Respondents'!CC79","v":3.0000000000000027E-2},{"$f":"'All Respondents'!CD80-'All Respondents'!CD79","v":2.0000000000000004E-2},{"$f":"'All Respondents'!CE80-'All Respondents'!CE79","v":0},{"$f":"'All Respondents'!CF80-'All Respondents'!CF79","v":9.9999999999999534E-3},{"$f":"'All Respondents'!CG80-'All Respondents'!CG79","v":-9.999999999999995E-3},{"$f":"'All Respondents'!CH80-'All Respondents'!CH79","v":2.0000000000000004E-2},{"$f":"'All Respondents'!CI80-'All Respondents'!CI79","v":1.0000000000000009E-2},{"$f":"'All Respondents'!CJ80-'All Respondents'!CJ79","v":-1.9999999999999907E-2},{"$f":"'All Respondents'!CK80-'All Respondents'!CK79","v":1.0000000000000002E-2},{"$f":"'All Respondents'!CL80-'All Respondents'!CL79","v":9.999999999999995E-3},{"$f":"'All Respondents'!CM80-'All Respondents'!CM79","v":1.999999999999999E-2},{"$f":"'All Respondents'!CN80-'All Respondents'!CN79","v":-3.0000000000000027E-2},{"$f":"'All Respondents'!CO80-'All Respondents'!CO79","v":1.999999999999999E-2},{"$f":"'All Respondents'!CP80-'All Respondents'!CP79","v":-5.0000000000000044E-2},{"$f":"'All Respondents'!CQ80-'All Respondents'!CQ79","v":-4.9999999999999933E-2},{"$f":"'All Respondents'!CR80-'All Respondents'!CR79","v":2.0000000000000018E-2},{"$f":"'All Respondents'!CS80-'All Respondents'!CS79","v":1.0000000000000009E-2},{"$f":"'All Respondents'!CT80-'All Respondents'!CT79","v":-4.0000000000000008E-2},{"$f":"'All Respondents'!CU80-'All Respondents'!CU79","v":0},{"$f":"'All Respondents'!CV80-'All Respondents'!CV79","v":0},{"$f":"'All Respondents'!CW80-'All Respondents'!CW79","v":3.9999999999999925E-2},{"$f":"'All Respondents'!CX80-'All Respondents'!CX79","v":-3.999999999999998E-2},{"$f":"'All Respondents'!CY80-'All Respondents'!CY79","v":0},{"$f":"'All Respondents'!CZ80-'All Respondents'!CZ79","v":-0.01},{"$f":"'All Respondents'!DA80-'All Respondents'!DA79","v":0},{"$f":"'All Respondents'!DB80-'All Respondents'!DB79","v":-1.999999999999999E-2},{"$f":"'All Respondents'!DC80-'All Respondents'!DC79","v":3.0000000000000027E-2},{"$f":"'All Respondents'!DD80-'All Respondents'!DD79","v":-1.0000000000000009E-2},{"$f":"'All Respondents'!DE80-'All Respondents'!DE79","v":1.0000000000000009E-2},{"$f":"'All Respondents'!DF80-'All Respondents'!DF79","v":5.9999999999999942E-2},{"$f":"'All Respondents'!DG80-'All Respondents'!DG79","v":9.9999999999999811E-3},{"$f":"'All Respondents'!DH80-'All Respondents'!DH79","v":6.9999999999999951E-2},{"$f":"'All Respondents'!DI80-'All Respondents'!DI79","v":-4.0000000000000008E-2},{"$f":"'All Respondents'!DJ80-'All Respondents'!DJ79","v":0},{"$f":"'All Respondents'!DK80-'All Respondents'!DK79","v":0},{"$f":"'All Respondents'!DL80-'All Respondents'!DL79","v":0},{"$f":"'All Respondents'!DM80-'All Respondents'!DM79","v":-68485.94},{"$f":"'All Respondents'!DN80-'All Respondents'!DN79","v":1724.0199999999895},{"$f":"'All Respondents'!DO80-'All Respondents'!DO79","v":1.0000000000000009E-2},{"$f":"'All Respondents'!DP80-'All Respondents'!DP79","v":-4.0000000000000036E-2},{"$f":"'All Respondents'!DQ80-'All Respondents'!DQ79","v":-1.0000000000000009E-2},{"$f":"'All Respondents'!DR80-'All Respondents'!DR79","v":1.0000000000000009E-2},{"$f":"'All Respondents'!DS80-'All Respondents'!DS79","v":-2.0000000000000004E-2}]
["Nov 16 - Dec 16",{"$f":"'All Respondents'!B81-'All Respondents'!B80","v":-0.5},{"$f":"'All Respondents'!D81-'All Respondents'!D80","v":0.19999999999998863},{"$f":"'All Respondents'!E81-'All Respondents'!E80","v":3.0000000000000027E-2},{"$f":"'All Respondents'!F81-'All Respondents'!F80","v":0.03},{"$f":"'All Respondents'!G81-'All Respondents'!G80","v":-4.0000000000000036E-2},{"$f":"'All Respondents'!H81-'All Respondents'!H80","v":0},{"$f":"'All Respondents'!I81-'All Respondents'!I80","v":5.5000000000000049E-3},{"$f":"'All Respondents'!J81-'All Respondents'!J80","v":-9.7999999999999893E-3},{"$f":"'All Respondents'!K81-'All Respondents'!K80","v":-4.4519999999999976E-3},{"$f":"'All Respondents'!L81-'All Respondents'!L80","v":4.9999999999999933E-2},{"$f":"'All Respondents'!M81-'All Respondents'!M80","v":1.0000000000000002E-2},{"$f":"'All Respondents'!N81-'All Respondents'!N80","v":-4.9999999999999989E-2},{"$f":"'All Respondents'!O81-'All Respondents'!O80","v":-3.9999999999999925E-2},null,{"$f":"'All Respondents'!Q81-'All Respondents'!Q80","v":7.4000000000000038E-3},{"$f":"'All Respondents'!R81-'All Respondents'!R80","v":0},{"$f":"'All Respondents'!S81-'All Respondents'!S80","v":2.0000000000000018E-2},{"$f":"'All Respondents'!T81-'All Respondents'!T80","v":2.0000000000000018E-2},{"$f":"'All Respondents'!U81-'All Respondents'!U80","v":0},{"$f":"'All Respondents'!V81-'All Respondents'!V80","v":0},{"$f":"'All Respondents'!W81-'All Respondents'!W80","v":0},{"$f":"'All Respondents'!X81-'All Respondents'!X80","v":2.0000000000000018E-2},{"$f":"'All Respondents'!Y81-'All Respondents'!Y80","v":9.9999999999999811E-3},{"$f":"'All Respondents'!Z81-'All Respondents'!Z80","v":2.0000000000000018E-2},{"$f":"'All Respondents'!AA81-'All Respondents'!AA80","v":-1.999999999999999E-2},{"$f":"'All Respondents'!AB81-'All Respondents'!AB80","v":0},{"$f":"'All Respondents'!AC81-'All Respondents'!AC80","v":1.999999999999999E-2},{"$f":"'All Respondents'!AD81-'All Respondents'!AD80","v":0},{"$f":"'All Respondents'!AE81-'All Respondents'!AE80","v":-9.999999999999995E-3},{"$f":"'All Respondents'!AF81-'All Respondents'!AF80","v":2.0000000000000004E-2},{"$f":"'All Respondents'!AG81-'All Respondents'!AG80","v":4.0000000000000008E-2},{"$f":"'All Respondents'!AH81-'All Respondents'!AH80","v":-2.9999999999999971E-2},{"$f":"'All Respondents'!AI81-'All Respondents'!AI80","v":4.0000000000000008E-2},{"$f":"'All Respondents'!AJ81-'All Respondents'!AJ80","v":-3.999999999999998E-2},{"$f":"'All Respondents'!AK81-'All Respondents'!AK80","v":0},{"$f":"'All Respondents'!AL81-'All Respondents'!AL80","v":0},{"$f":"'All Respondents'!AM81-'All Respondents'!AM80","v":0},{"$f":"'All Respondents'!AN81-'All Respondents'!AN80","v":0},{"$f":"'All Respondents'!AO81-'All Respondents'!AO80","v":0},{"$f":"'All Respondents'!AP81-'All Respondents'!AP80","v":4.9999999999999989E-2},{"$f":"'All Respondents'!AQ81-'All Respondents'!AQ80","v":-6.9999999999999979E-2},{"$f":"'All Respondents'!AR81-'All Respondents'!AR80","v":-0.03},{"$f":"'All Respondents'!AS81-'All Respondents'!AS80","v":-9.999999999999995E-3},{"$f":"'All Respondents'!AT81-'All Respondents'!AT80","v":0.06},{"$f":"'All Respondents'!AU81-'All Respondents'!AU80","v":1.0000000000000009E-2},{"$f":"'All Respondents'!AV81-'All Respondents'!AV80","v":1.0000000000000002E-2},{"$f":"'All Respondents'!AW81-'All Respondents'!AW80","v":1.999999999999999E-2},{"$f":"'All Respondents'!AX81-'All Respondents'!AX80","v":0.03},{"$f":"'All Respondents'!AY81-'All Respondents'!AY80","v":-9.0000000000000024E-2},{"$f":"'All Respondents'!AZ81-'All Respondents'!AZ80","v":2.0000000000000018E-2},{"$f":"'All Respondents'!BA81-'All Respondents'!BA80","v":2.0000000000000004E-2},{"$f":"'All Respondents'!BB81-'All Respondents'!BB80","v":-1.0000000000000009E-2},{"$f":"'All Respondents'!BC81-'All Respondents'!BC80","v":0},{"$f":"'All Respondents'!BD81-'All Respondents'!BD80","v":-4.1969999999999993E-3},{"$f":"'All Respondents'!BE81-'All Respondents'!BE80","v":1.0000000000000009E-2},{"$f":"'All Respondents'!BF81-'All Respondents'!BF80","v":1.0000000000000009E-2},{"$f":"'All Respondents'!BG81-'All Respondents'!BG80","v":0},{"$f":"'All Respondents'!BH81-'All Respondents'!BH80","v":8.9999999999999969E-2},{"$f":"'All Respondents'!BI81-'All Respondents'!BI80","v":-0.11999999999999994},{"$f":"'All Respondents'!BJ81-'All Respondents'!BJ80","v":0.20999999999999991},{"$f":"'All Respondents'!BK81-'All Respondents'!BK80","v":-9.9999999999999811E-3},{"$f":"'All Respondents'!BL81-'All Respondents'!BL80","v":2.0000000000000018E-2},{"$f":"'All Respondents'!BM81-'All Respondents'!BM80","v":1.0000000000000009E-2},{"$f":"'All Respondents'!BN81-'All Respondents'!BN80","v":1.9999999999999962E-2},{"$f":"'All Respondents'!BO81-'All Respondents'!BO80","v":-1.0000000000000009E-2},{"$f":"'All Respondents'!BP81-'All Respondents'!BP80","v":-1.0000000000000002E-2},{"$f":"'All Respondents'!BQ81-'All Respondents'!BQ80","v":-2.0000000000000018E-2},{"$f":"'All Respondents'!BR81-'All Respondents'!BR80","v":3.0000000000000027E-2},{"$f":"'All Respondents'!BS81-'All Respondents'!BS80","v":-0.03},{"$f":"'All Respondents'!BT81-'All Respondents'!BT80","v":1.999999999999999E-2},{"$f":"'All Respondents'!BU81-'All Respondents'!BU80","v":1.0000000000000009E-2},{"$f":"'All Respondents'!BV81-'All Respondents'!BV80","v":-4.9999999999999989E-2},{"$f":"'All Respondents'!BW81-'All Respondents'!BW80","v":-3.0000000000000027E-2},{"$f":"'All Respondents'!BX81-'All Respondents'!BX80","v":2.0000000000000018E-2},{"$f":"'All Respondents'!BY81-'All Respondents'!BY80","v":5.0000000000000044E-2},{"$f":"'All Respondents'!BZ81-'All Respondents'!BZ80","v":-1.0000000000000009E-2},{"$f":"'All Respondents'!CA81-'All Respondents'!CA80","v":0},{"$f":"'All Respondents'!CB81-'All Respondents'!CB80","v":-1.0000000000000009E-2},{"$f":"'All Respondents'!CC81-'All Respondents'!CC80","v":2.0000000000000018E-2},{"$f":"'All Respondents'!CD81-'All Respondents'!CD80","v":-1.0000000000000009E-2},{"$f":"'All Respondents'!CE81-'All Respondents'!CE80","v":0},{"$f":"'All Respondents'!CF81-'All Respondents'!CF80","v":3.0000000000000027E-2},{"$f":"'All Respondents'!CG81-'All Respondents'!CG80","v":-1.0000000000000002E-2},{"$f":"'All Respondents'!CH81-'All Respondents'!CH80","v":-1.0000000000000009E-2},{"$f":"'All Respondents'!CI81-'All Respondents'!CI80","v":-2.0000000000000018E-2},{"$f":"'All Respondents'!CJ81-'All Respondents'!CJ80","v":3.9999999999999925E-2},{"$f":"'All Respondents'!CK81-'All Respondents'!CK80","v":-1.0000000000000002E-2},{"$f":"'All Respondents'!CL81-'All Respondents'!CL80","v":0},{"$f":"'All Respondents'!CM81-'All Respondents'!CM80","v":-9.9999999999999811E-3},{"$f":"'All Respondents'!CN81-'All Respondents'!CN80","v":2.9999999999999916E-2},{"$f":"'All Respondents'!CO81-'All Respondents'!CO80","v":-4.0000000000000008E-2},{"$f":"'All Respondents'!CP81-'All Respondents'!CP80","v":6.9999999999999951E-2},{"$f":"'All Respondents'!CQ81-'All Respondents'!CQ80","v":3.9999999999999813E-2},{"$f":"'All Respondents'!CR81-'All Respondents'!CR80","v":7.0000000000000007E-2},{"$f":"'All Respondents'!CS81-'All Respondents'!CS80","v":-1.0000000000000009E-2},{"$f":"'All Respondents'!CT81-'All Respondents'!CT80","v":1.0000000000000009E-2},{"$f":"'All Respondents'!CU81-'All Respondents'!CU80","v":-9.999999999999995E-3},{"$f":"'All Respondents'!CV81-'All Respondents'!CV80","v":-9.999999999999995E-3},{"$f":"'All Respondents'!CW81-'All Respondents'!CW80","v":-1.9999999999999907E-2},{"$f":"'All Respondents'!CX81-'All Respondents'!CX80","v":3.999999999999998E-2},{"$f":"'All Respondents'!CY81-'All Respondents'!CY80","v":-9.9999999999999985E-3},{"$f":"'All Respondents'!CZ81-'All Respondents'!CZ80","v":0},{"$f":"'All Respondents'!DA81-'All Respondents'!DA80","v":0.01},{"$f":"'All Respondents'!DB81-'All Respondents'!DB80","v":1.999999999999999E-2},{"$f":"'All Respondents'!DC81-'All Respondents'!DC80","v":-3.0000000000000027E-2},{"$f":"'All Respondents'!DD81-'All Respondents'!DD80","v":1.999999999999999E-2},{"$f":"'All Respondents'!DE81-'All Respondents'!DE80","v":-3.0000000000000027E-2},{"$f":"'All Respondents'!DF81-'All Respondents'!DF80","v":2.0000000000000018E-2},{"$f":"'All Respondents'!DG81-'All Respondents'!DG80","v":-1.999999999999999E-2},{"$f":"'All Respondents'!DH81-'All Respondents'!DH80","v":0},{"$f":"'All Respondents'!DI81-'All Respondents'!DI80","v":0.03},{"$f":"'All Respondents'!DJ81-'All Respondents'!DJ80","v":-0.03},{"$f":"'All Respondents'!DK81-'All Respondents'!DK80","v":-0.02},{"$f":"'All Respondents'!DL81-'All Respondents'!DL80","v":-1.0000000000000002E-2},{"$f":"'All Respondents'!DM81-'All Respondents'!DM80","v":42389.159999999974},{"$f":"'All Respondents'!DN81-'All Respondents'!DN80","v":25000},{"$f":"'All Respondents'!DO81-'All Respondents'!DO80","v":-1.0000000000000009E-2},{"$f":"'All Respondents'!DP81-'All Respondents'!DP80","v":-1.9999999999999962E-2},{"$f":"'All Respondents'!DQ81-'All Respondents'!DQ80","v":4.0000000000000008E-2},{"$f":"'All Respondents'!DR81-'All Respondents'!DR80","v":-1.0000000000000009E-2},{"$f":"'All Respondents'!DS81-'All Respondents'!DS80","v":9.999999999999995E-3}]
["Dec 16 - Jan 17",{"$f":"'All Respondents'!B82-'All Respondents'!B81","v":2},{"$f":"'All Respondents'!D82-'All Respondents'!D81","v":2.4000000000000057},{"$f":"'All Respondents'!E82-'All Respondents'!E81","v":3.999999999999998E-2},{"$f":"'All Respondents'!F82-'All Respondents'!F81","v":-0.03},{"$f":"'All Respondents'!G82-'All Respondents'!G81","v":-1.0000000000000009E-2},{"$f":"'All Respondents'!H82-'All Respondents'!H81","v":6.9999999999999951E-2},{"$f":"'All Respondents'!I82-'All Respondents'!I81","v":7.5000000000000067E-3},{"$f":"'All Respondents'!J82-'All Respondents'!J81","v":8.3000000000000018E-3},{"$f":"'All Respondents'!K82-'All Respondents'!K81","v":1.0187999999999999E-2},{"$f":"'All Respondents'!L82-'All Respondents'!L81","v":1.0000000000000009E-2},{"$f":"'All Respondents'!M82-'All Respondents'!M81","v":9.999999999999995E-3},{"$f":"'All Respondents'!N82-'All Respondents'!N81","v":0},{"$f":"'All Respondents'!O82-'All Respondents'!O81","v":0},null,{"$f":"'All Respondents'!Q82-'All Respondents'!Q81","v":3.9999999999999758E-4},{"$f":"'All Respondents'!R82-'All Respondents'!R81","v":0},{"$f":"'All Respondents'!S82-'All Respondents'!S81","v":-2.0000000000000018E-2},{"$f":"'All Respondents'!T82-'All Respondents'!T81","v":-2.0000000000000018E-2},{"$f":"'All Respondents'!U82-'All Respondents'!U81","v":1.999999999999999E-2},{"$f":"'All Respondents'!V82-'All Respondents'!V81","v":-1.0000000000000009E-2},{"$f":"'All Respondents'!W82-'All Respondents'!W81","v":9.9999999999999534E-3},{"$f":"'All Respondents'!X82-'All Respondents'!X81","v":-2.9999999999999971E-2},{"$f":"'All Respondents'!Y82-'All Respondents'!Y81","v":-9.9999999999999811E-3},{"$f":"'All Respondents'!Z82-'All Respondents'!Z81","v":-8.0000000000000016E-2},{"$f":"'All Respondents'!AA82-'All Respondents'!AA81","v":9.9999999999999811E-3},{"$f":"'All Respondents'!AB82-'All Respondents'!AB81","v":0.03},{"$f":"'All Respondents'!AC82-'All Respondents'!AC81","v":0.03},{"$f":"'All Respondents'!AD82-'All Respondents'!AD81","v":1.9999999999999962E-2},{"$f":"'All Respondents'!AE82-'All Respondents'!AE81","v":9.999999999999995E-3},{"$f":"'All Respondents'!AF82-'All Respondents'!AF81","v":-1.0000000000000002E-2},{"$f":"'All Respondents'!AG82-'All Respondents'!AG81","v":-0.03},{"$f":"'All Respondents'!AH82-'All Respondents'!AH81","v":4.9999999999999989E-2},{"$f":"'All Respondents'!AI82-'All Respondents'!AI81","v":0},{"$f":"'All Respondents'!AJ82-'All Respondents'!AJ81","v":9.9999999999999534E-3},{"$f":"'All Respondents'!AK82-'All Respondents'!AK81","v":1.0000000000000009E-2},{"$f":"'All Respondents'!AL82-'All Respondents'!AL81","v":-1.0000000000000009E-2},{"$f":"'All Respondents'!AM82-'All Respondents'!AM81","v":0},{"$f":"'All Respondents'!AN82-'All Respondents'!AN81","v":-1.0000000000000009E-2},{"$f":"'All Respondents'!AO82-'All Respondents'!AO81","v":2.0000000000000018E-2},{"$f":"'All Respondents'!AP82-'All Respondents'!AP81","v":-1.999999999999999E-2},{"$f":"'All Respondents'!AQ82-'All Respondents'!AQ81","v":6.0000000000000026E-2},{"$f":"'All Respondents'!AR82-'All Respondents'!AR81","v":-3.0000000000000013E-2},{"$f":"'All Respondents'!AS82-'All Respondents'!AS81","v":0.03},{"$f":"'All Respondents'!AT82-'All Respondents'!AT81","v":-0.03},{"$f":"'All Respondents'!AU82-'All Respondents'!AU81","v":-1.999999999999999E-2},{"$f":"'All Respondents'!AV82-'All Respondents'!AV81","v":-1.0000000000000002E-2},{"$f":"'All Respondents'!AW82-'All Respondents'!AW81","v":1.0000000000000009E-2},{"$f":"'All Respondents'!AX82-'All Respondents'!AX81","v":-0.03},{"$f":"'All Respondents'!AY82-'All Respondents'!AY81","v":2.0000000000000018E-2},{"$f":"'All Respondents'!AZ82-'All Respondents'!AZ81","v":0},{"$f":"'All Respondents'!BA82-'All Respondents'!BA81","v":-1.0000000000000002E-2},{"$f":"'All Respondents'!BB82-'All Respondents'!BB81","v":1.0000000000000009E-2},{"$f":"'All Respondents'!BC82-'All Respondents'!BC81","v":9.9999999999999534E-3},{"$f":"'All Respondents'!BD82-'All Respondents'!BD81","v":5.0010000000000054E-3},{"$f":"'All Respondents'!BE82-'All Respondents'!BE81","v":-4.0000000000000036E-2},{"$f":"'All Respondents'!BF82-'All Respondents'!BF81","v":1.9999999999999962E-2},{"$f":"'All Respondents'!BG82-'All Respondents'!BG81","v":-0.06},{"$f":"'All Respondents'!BH82-'All Respondents'!BH81","v":3.0000000000000027E-2},{"$f":"'All Respondents'!BI82-'All Respondents'!BI81","v":-3.0000000000000027E-2},{"$f":"'All Respondents'!BJ82-'All Respondents'!BJ81","v":6.0000000000000053E-2},{"$f":"'All Respondents'!BK82-'All Respondents'!BK81","v":0.03},{"$f":"'All Respondents'!BL82-'All Respondents'!BL81","v":0},{"$f":"'All Respondents'!BM82-'All Respondents'!BM81","v":3.0000000000000027E-2},{"$f":"'All Respondents'!BN82-'All Respondents'!BN81","v":-0.06},{"$f":"'All Respondents'!BO82-'All Respondents'!BO81","v":2.0000000000000004E-2},{"$f":"'All Respondents'!BP82-'All Respondents'!BP81","v":1.0000000000000002E-2},{"$f":"'All Respondents'!BQ82-'All Respondents'!BQ81","v":0.03},{"$f":"'All Respondents'!BR82-'All Respondents'!BR81","v":0},{"$f":"'All Respondents'!BS82-'All Respondents'!BS81","v":4.0000000000000008E-2},{"$f":"'All Respondents'!BT82-'All Respondents'!BT81","v":-9.999999999999995E-3},{"$f":"'All Respondents'!BU82-'All Respondents'!BU81","v":-5.0000000000000044E-2},{"$f":"'All Respondents'!BV82-'All Respondents'!BV81","v":5.0000000000000017E-2},{"$f":"'All Respondents'!BW82-'All Respondents'!BW81","v":5.0000000000000044E-2},{"$f":"'All Respondents'!BX82-'All Respondents'!BX81","v":-6.0000000000000053E-2},{"$f":"'All Respondents'!BY82-'All Respondents'!BY81","v":-0.1100000000000001},{"$f":"'All Respondents'!BZ82-'All Respondents'!BZ81","v":7.0000000000000007E-2},{"$f":"'All Respondents'!CA82-'All Respondents'!CA81","v":0.03},{"$f":"'All Respondents'!CB82-'All Respondents'!CB81","v":0.10000000000000003},{"$f":"'All Respondents'!CC82-'All Respondents'!CC81","v":-0.10999999999999999},{"$f":"'All Respondents'!CD82-'All Respondents'!CD81","v":-1.999999999999999E-2},{"$f":"'All Respondents'!CE82-'All Respondents'!CE81","v":-3.9999999999999994E-2},{"$f":"'All Respondents'!CF82-'All Respondents'!CF81","v":-4.9999999999999989E-2},{"$f":"'All Respondents'!CG82-'All Respondents'!CG81","v":0},{"$f":"'All Respondents'!CH82-'All Respondents'!CH81","v":-9.999999999999995E-3},{"$f":"'All Respondents'!CI82-'All Respondents'!CI81","v":2.0000000000000018E-2},{"$f":"'All Respondents'!CJ82-'All Respondents'!CJ81","v":-1.0000000000000009E-2},{"$f":"'All Respondents'!CK82-'All Respondents'!CK81","v":0},{"$f":"'All Respondents'!CL82-'All Respondents'!CL81","v":-9.999999999999995E-3},{"$f":"'All Respondents'!CM82-'All Respondents'!CM81","v":-1.0000000000000009E-2},{"$f":"'All Respondents'!CN82-'All Respondents'!CN81","v":0},{"$f":"'All Respondents'!CO82-'All Respondents'!CO81","v":2.0000000000000018E-2},{"$f":"'All Respondents'!CP82-'All Respondents'!CP81","v":-1.9999999999999907E-2},{"$f":"'All Respondents'!CQ82-'All Respondents'!CQ81","v":1.000000000000012E-2},{"$f":"'All Respondents'!CR82-'All Respondents'!CR81","v":-5.0000000000000044E-2},{"$f":"'All Respondents'!CS82-'All Respondents'!CS81","v":0.03},{"$f":"'All Respondents'!CT82-'All Respondents'!CT81","v":0},{"$f":"'All Respondents'!CU82-'All Respondents'!CU81","v":0},{"$f":"'All Respondents'!CV82-'All Respondents'!CV81","v":9.999999999999995E-3},{"$f":"'All Respondents'!CW82-'All Respondents'!CW81","v":0},{"$f":"'All Respondents'!CX82-'All Respondents'!CX81","v":-9.9999999999999811E-3},{"$f":"'All Respondents'!CY82-'All Respondents'!CY81","v":0},{"$f":"'All Respondents'!CZ82-'All Respondents'!CZ81","v":0.01},{"$f":"'All Respondents'!DA82-'All Respondents'!DA81","v":-0.01},{"$f":"'All Respondents'!DB82-'All Respondents'!DB81","v":-9.9999999999999811E-3},{"$f":"'All Respondents'!DC82-'All Respondents'!DC81","v":0},{"$f":"'All Respondents'!DD82-'All Respondents'!DD81","v":-9.9999999999999811E-3},{"$f":"'All Respondents'!DE82-'All Respondents'!DE81","v":1.0000000000000009E-2},{"$f":"'All Respondents'!DF82-'All Respondents'!DF81","v":-2.9999999999999916E-2},{"$f":"'All Respondents'!DG82-'All Respondents'!DG81","v":-1.0000000000000009E-2},{"$f":"'All Respondents'!DH82-'All Respondents'!DH81","v":-3.9999999999999925E-2},{"$f":"'All Respondents'!DI82-'All Respondents'!DI81","v":1.0000000000000009E-2},{"$f":"'All Respondents'!DJ82-'All Respondents'!DJ81","v":9.999999999999995E-3},{"$f":"'All Respondents'!DK82-'All Respondents'!DK81","v":9.9999999999999985E-3},{"$f":"'All Respondents'!DL82-'All Respondents'!DL81","v":0},{"$f":"'All Respondents'!DM82-'All Respondents'!DM81","v":-91710.62},{"$f":"'All Respondents'!DN82-'All Respondents'!DN81","v":-25000},{"$f":"'All Respondents'!DO82-'All Respondents'!DO81","v":0.03},{"$f":"'All Respondents'!DP82-'All Respondents'!DP81","v":1.9999999999999962E-2},{"$f":"'All Respondents'!DQ82-'All Respondents'!DQ81","v":0},{"$f":"'All Respondents'!DR82-'All Respondents'!DR81","v":2.0000000000000004E-2},{"$f":"'All Respondents'!DS82-'All Respondents'!DS81","v":-1.999999999999999E-2}]
["Jan 17 - Feb 17",{"$f":"'All Respondents'!B83-'All Respondents'!B82","v":5.5999999999999943},{"$f":"'All Respondents'!D83-'All Respondents'!D82","v":6.7999999999999972},{"$f":"'All Respondents'!E83-'All Respondents'!E82","v":3.0000000000000027E-2},{"$f":"'All Respondents'!F83-'All Respondents'!F82","v":0},{"$f":"'All Respondents'!G83-'All Respondents'!G82","v":-2.9999999999999971E-2},{"$f":"'All Respondents'!H83-'All Respondents'!H82","v":3.0000000000000027E-2},{"$f":"'All Respondents'!I83-'All Respondents'!I82","v":-1.2000000000000066E-3},{"$f":"'All Respondents'!J83-'All Respondents'!J82","v":-3.5000000000000031E-3},{"$f":"'All Respondents'!K83-'All Respondents'!K82","v":3.3800000000000496E-4},{"$f":"'All Respondents'!L83-'All Respondents'!L82","v":0},{"$f":"'All Respondents'!M83-'All Respondents'!M82","v":0},{"$f":"'All Respondents'!N83-'All Respondents'!N82","v":2.0000000000000018E-2},{"$f":"'All Respondents'!O83-'All Respondents'!O82","v":0},null,{"$f":"'All Respondents'!Q83-'All Respondents'!Q82","v":-1.5000000000000013E-3},{"$f":"'All Respondents'!R83-'All Respondents'!R82","v":1.999999999999999E-2},{"$f":"'All Respondents'!S83-'All Respondents'!S82","v":3.999999999999998E-2},{"$f":"'All Respondents'!T83-'All Respondents'!T82","v":5.9999999999999942E-2},{"$f":"'All Respondents'!U83-'All Respondents'!U82","v":-4.0000000000000008E-2},{"$f":"'All Respondents'!V83-'All Respondents'!V82","v":-9.999999999999995E-3},{"$f":"'All Respondents'!W83-'All Respondents'!W82","v":-4.9999999999999989E-2},{"$f":"'All Respondents'!X83-'All Respondents'!X82","v":0.10999999999999993},{"$f":"'All Respondents'!Y83-'All Respondents'!Y82","v":9.9999999999999811E-3},{"$f":"'All Respondents'!Z83-'All Respondents'!Z82","v":3.0000000000000027E-2},{"$f":"'All Respondents'!AA83-'All Respondents'!AA82","v":-9.9999999999999811E-3},{"$f":"'All Respondents'!AB83-'All Respondents'!AB82","v":-1.9999999999999997E-2},{"$f":"'All Respondents'!AC83-'All Respondents'!AC82","v":0},{"$f":"'All Respondents'!AD83-'All Respondents'!AD82","v":-3.999999999999998E-2},{"$f":"'All Respondents'!AE83-'All Respondents'!AE82","v":7.0000000000000007E-2},{"$f":"'All Respondents'!AF83-'All Respondents'!AF82","v":0},{"$f":"'All Respondents'!AG83-'All Respondents'!AG82","v":-0.03},{"$f":"'All Respondents'!AH83-'All Respondents'!AH82","v":-0.1},{"$f":"'All Respondents'!AI83-'All Respondents'!AI82","v":0},{"$f":"'All Respondents'!AJ83-'All Respondents'!AJ82","v":4.0000000000000036E-2},{"$f":"'All Respondents'!AK83-'All Respondents'!AK82","v":4.0000000000000036E-2},{"$f":"'All Respondents'!AL83-'All Respondents'!AL82","v":-1.0000000000000009E-2},{"$f":"'All Respondents'!AM83-'All Respondents'!AM82","v":-2.0000000000000004E-2},{"$f":"'All Respondents'!AN83-'All Respondents'!AN82","v":-2.9999999999999971E-2},{"$f":"'All Respondents'!AO83-'All Respondents'!AO82","v":7.0000000000000007E-2},{"$f":"'All Respondents'!AP83-'All Respondents'!AP82","v":0},{"$f":"'All Respondents'!AQ83-'All Respondents'!AQ82","v":-4.0000000000000036E-2},{"$f":"'All Respondents'!AR83-'All Respondents'!AR82","v":3.0000000000000013E-2},{"$f":"'All Respondents'!AS83-'All Respondents'!AS82","v":0},{"$f":"'All Respondents'!AT83-'All Respondents'!AT82","v":-1.0000000000000009E-2},{"$f":"'All Respondents'!AU83-'All Respondents'!AU82","v":4.9999999999999989E-2},{"$f":"'All Respondents'!AV83-'All Respondents'!AV82","v":1.0000000000000002E-2},{"$f":"'All Respondents'!AW83-'All Respondents'!AW82","v":1.999999999999999E-2},{"$f":"'All Respondents'!AX83-'All Respondents'!AX82","v":-2.0000000000000018E-2},{"$f":"'All Respondents'!AY83-'All Respondents'!AY82","v":-0.09},{"$f":"'All Respondents'!AZ83-'All Respondents'!AZ82","v":2.0000000000000018E-2},{"$f":"'All Respondents'!BA83-'All Respondents'!BA82","v":-1.0000000000000002E-2},{"$f":"'All Respondents'!BB83-'All Respondents'!BB82","v":-2.0000000000000018E-2},{"$f":"'All Respondents'!BC83-'All Respondents'!BC82","v":3.0000000000000027E-2},{"$f":"'All Respondents'!BD83-'All Respondents'!BD82","v":-4.164000000000001E-3},{"$f":"'All Respondents'!BE83-'All Respondents'!BE82","v":2.0000000000000018E-2},{"$f":"'All Respondents'!BF83-'All Respondents'!BF82","v":-1.0000000000000009E-2},{"$f":"'All Respondents'!BG83-'All Respondents'!BG82","v":3.0000000000000027E-2},{"$f":"'All Respondents'!BH83-'All Respondents'!BH82","v":1.9999999999999962E-2},{"$f":"'All Respondents'!BI83-'All Respondents'!BI82","v":-7.0000000000000007E-2},{"$f":"'All Respondents'!BJ83-'All Respondents'!BJ82","v":8.9999999999999969E-2},{"$f":"'All Respondents'!BK83-'All Respondents'!BK82","v":0.03},{"$f":"'All Respondents'!BL83-'All Respondents'!BL82","v":-2.0000000000000018E-2},{"$f":"'All Respondents'!BM83-'All Respondents'!BM82","v":1.0000000000000009E-2},{"$f":"'All Respondents'!BN83-'All Respondents'!BN82","v":2.0000000000000018E-2},{"$f":"'All Respondents'!BO83-'All Respondents'!BO82","v":-0.04},{"$f":"'All Respondents'!BP83-'All Respondents'!BP82","v":-1.0000000000000002E-2},{"$f":"'All Respondents'!BQ83-'All Respondents'!BQ82","v":-4.9999999999999989E-2},{"$f":"'All Respondents'!BR83-'All Respondents'!BR82","v":0.06},{"$f":"'All Respondents'!BS83-'All Respondents'!BS82","v":2.0000000000000018E-2},{"$f":"'All Respondents'!BT83-'All Respondents'!BT82","v":-2.0000000000000004E-2},{"$f":"'All Respondents'!BU83-'All Respondents'!BU82","v":1.0000000000000009E-2},{"$f":"'All Respondents'!BV83-'All Respondents'!BV82","v":4.0000000000000008E-2},{"$f":"'All Respondents'!BW83-'All Respondents'!BW82","v":-0.06},{"$f":"'All Respondents'!BX83-'All Respondents'!BX82","v":6.0000000000000053E-2},{"$f":"'All Respondents'!BY83-'All Respondents'!BY82","v":0.12000000000000005},{"$f":"'All Respondents'!BZ83-'All Respondents'!BZ82","v":-0.06},{"$f":"'All Respondents'!CA83-'All Respondents'!CA82","v":-9.999999999999995E-3},{"$f":"'All Respondents'!CB83-'All Respondents'!CB82","v":-7.0000000000000007E-2},{"$f":"'All Respondents'!CC83-'All Respondents'!CC82","v":4.0000000000000036E-2},{"$f":"'All Respondents'!CD83-'All Respondents'!CD82","v":0},{"$f":"'All Respondents'!CE83-'All Respondents'!CE82","v":3.0000000000000013E-2},{"$f":"'All Respondents'!CF83-'All Respondents'!CF82","v":1.0000000000000009E-2},{"$f":"'All Respondents'!CG83-'All Respondents'!CG82","v":-1.0000000000000002E-2},{"$f":"'All Respondents'!CH83-'All Respondents'!CH82","v":-2.0000000000000004E-2},{"$f":"'All Respondents'!CI83-'All Respondents'!CI82","v":0.03},{"$f":"'All Respondents'!CJ83-'All Respondents'!CJ82","v":1.0000000000000009E-2},{"$f":"'All Respondents'!CK83-'All Respondents'!CK82","v":-1.0000000000000002E-2},{"$f":"'All Respondents'!CL83-'All Respondents'!CL82","v":-0.03},{"$f":"'All Respondents'!CM83-'All Respondents'!CM82","v":-3.9999999999999994E-2},{"$f":"'All Respondents'!CN83-'All Respondents'!CN82","v":4.9999999999999933E-2},{"$f":"'All Respondents'!CO83-'All Respondents'!CO82","v":4.9999999999999989E-2},{"$f":"'All Respondents'!CP83-'All Respondents'!CP82","v":0},{"$f":"'All Respondents'!CQ83-'All Respondents'!CQ82","v":8.9999999999999969E-2},{"$f":"'All Respondents'!CR83-'All Respondents'!CR82","v":1.0000000000000009E-2},{"$f":"'All Respondents'!CS83-'All Respondents'!CS82","v":-9.9999999999999811E-3},{"$f":"'All Respondents'!CT83-'All Respondents'!CT82","v":0},{"$f":"'All Respondents'!CU83-'All Respondents'!CU82","v":-1.0000000000000009E-2},{"$f":"'All Respondents'!CV83-'All Respondents'!CV82","v":0},{"$f":"'All Respondents'!CW83-'All Respondents'!CW82","v":1.0000000000000009E-2},{"$f":"'All Respondents'!CX83-'All Respondents'!CX82","v":-4.0000000000000008E-2},{"$f":"'All Respondents'!CY83-'All Respondents'!CY82","v":3.0000000000000002E-2},{"$f":"'All Respondents'!CZ83-'All Respondents'!CZ82","v":-0.01},{"$f":"'All Respondents'!DA83-'All Respondents'!DA82","v":0.01},{"$f":"'All Respondents'!DB83-'All Respondents'!DB82","v":9.9999999999999811E-3},{"$f":"'All Respondents'!DC83-'All Respondents'!DC82","v":-1.0000000000000009E-2},{"$f":"'All Respondents'!DD83-'All Respondents'!DD82","v":-1.0000000000000009E-2},{"$f":"'All Respondents'!DE83-'All Respondents'!DE82","v":1.0000000000000009E-2},{"$f":"'All Respondents'!DF83-'All Respondents'!DF82","v":-1.0000000000000009E-2},{"$f":"'All Respondents'!DG83-'All Respondents'!DG82","v":0.03},{"$f":"'All Respondents'!DH83-'All Respondents'!DH82","v":2.0000000000000018E-2},{"$f":"'All Respondents'!DI83-'All Respondents'!DI82","v":-1.0000000000000009E-2},{"$f":"'All Respondents'!DJ83-'All Respondents'!DJ82","v":-9.999999999999995E-3},{"$f":"'All Respondents'!DK83-'All Respondents'!DK82","v":1.0000000000000002E-2},{"$f":"'All Respondents'!DL83-'All Respondents'!DL82","v":-1.9999999999999997E-2},{"$f":"'All Respondents'!DM83-'All Respondents'!DM82","v":84781.72000000003},{"$f":"'All Respondents'!DN83-'All Respondents'!DN82","v":14956.720000000001},{"$f":"'All Respondents'!DO83-'All Respondents'!DO82","v":-0.06},{"$f":"'All Respondents'!DP83-'All Respondents'!DP82","v":4.9999999999999989E-2},{"$f":"'All Respondents'!DQ83-'All Respondents'!DQ82","v":-1.999999999999999E-2},{"$f":"'All Respondents'!DR83-'All Respondents'!DR82","v":0},{"$f":"'All Respondents'!DS83-'All Respondents'!DS82","v":1.999999999999999E-2}]
["Feb 17 - Mar 17",{"$f":"'All Respondents'!B84-'All Respondents'!B83","v":-3.7999999999999972},{"$f":"'All Respondents'!D84-'All Respondents'!D83","v":-3.5999999999999943},{"$f":"'All Respondents'!E84-'All Respondents'!E83","v":-2.0000000000000018E-2},{"$f":"'All Respondents'!F84-'All Respondents'!F83","v":-9.999999999999995E-3},{"$f":"'All Respondents'!G84-'All Respondents'!G83","v":2.9999999999999971E-2},{"$f":"'All Respondents'!H84-'All Respondents'!H83","v":-1.0000000000000009E-2},{"$f":"'All Respondents'!I84-'All Respondents'!I83","v":6.0999999999999943E-3},{"$f":"'All Respondents'!J84-'All Respondents'!J83","v":-4.1000000000000064E-3},{"$f":"'All Respondents'!K84-'All Respondents'!K83","v":-2.2770000000000047E-3},{"$f":"'All Respondents'!L84-'All Respondents'!L83","v":3.0000000000000027E-2},{"$f":"'All Respondents'!M84-'All Respondents'!M83","v":-1.9999999999999997E-2},{"$f":"'All Respondents'!N84-'All Respondents'!N83","v":-3.0000000000000027E-2},{"$f":"'All Respondents'!O84-'All Respondents'!O83","v":-4.9999999999999933E-2},null,{"$f":"'All Respondents'!Q84-'All Respondents'!Q83","v":2.2000000000000006E-3},{"$f":"'All Respondents'!R84-'All Respondents'!R83","v":-1.999999999999999E-2},{"$f":"'All Respondents'!S84-'All Respondents'!S83","v":-3.999999999999998E-2},{"$f":"'All Respondents'!T84-'All Respondents'!T83","v":-5.9999999999999942E-2},{"$f":"'All Respondents'!U84-'All Respondents'!U83","v":2.0000000000000018E-2},{"$f":"'All Respondents'!V84-'All Respondents'!V83","v":2.0000000000000004E-2},{"$f":"'All Respondents'!W84-'All Respondents'!W83","v":4.0000000000000036E-2},{"$f":"'All Respondents'!X84-'All Respondents'!X83","v":-9.9999999999999978E-2},{"$f":"'All Respondents'!Y84-'All Respondents'!Y83","v":-9.9999999999999811E-3},{"$f":"'All Respondents'!Z84-'All Respondents'!Z83","v":-5.0000000000000044E-2},{"$f":"'All Respondents'!AA84-'All Respondents'!AA83","v":-1.0000000000000009E-2},{"$f":"'All Respondents'!AB84-'All Respondents'!AB83","v":3.0000000000000006E-2},{"$f":"'All Respondents'!AC84-'All Respondents'!AC83","v":2.0000000000000018E-2},{"$f":"'All Respondents'!AD84-'All Respondents'!AD83","v":7.0000000000000007E-2},{"$f":"'All Respondents'!AE84-'All Respondents'!AE83","v":-4.0000000000000008E-2},{"$f":"'All Respondents'!AF84-'All Respondents'!AF83","v":1.0000000000000002E-2},{"$f":"'All Respondents'!AG84-'All Respondents'!AG83","v":1.999999999999999E-2},{"$f":"'All Respondents'!AH84-'All Respondents'!AH83","v":0.03},{"$f":"'All Respondents'!AI84-'All Respondents'!AI83","v":3.999999999999998E-2},{"$f":"'All Respondents'!AJ84-'All Respondents'!AJ83","v":0},{"$f":"'All Respondents'!AK84-'All Respondents'!AK83","v":3.9999999999999925E-2},{"$f":"'All Respondents'!AL84-'All Respondents'!AL83","v":-5.0000000000000017E-2},{"$f":"'All Respondents'!AM84-'All Respondents'!AM83","v":0},{"$f":"'All Respondents'!AN84-'All Respondents'!AN83","v":-5.0000000000000044E-2},{"$f":"'All Respondents'!AO84-'All Respondents'!AO83","v":8.9999999999999969E-2},{"$f":"'All Respondents'!AP84-'All Respondents'!AP83","v":9.9999999999999811E-3},{"$f":"'All Respondents'!AQ84-'All Respondents'!AQ83","v":-9.9999999999999811E-3},{"$f":"'All Respondents'!AR84-'All Respondents'!AR83","v":0},{"$f":"'All Respondents'!AS84-'All Respondents'!AS83","v":0},{"$f":"'All Respondents'!AT84-'All Respondents'!AT83","v":4.9999999999999989E-2},{"$f":"'All Respondents'!AU84-'All Respondents'!AU83","v":-0.1},{"$f":"'All Respondents'!AV84-'All Respondents'!AV83","v":6.9999999999999993E-2},{"$f":"'All Respondents'!AW84-'All Respondents'!AW83","v":-1.999999999999999E-2},{"$f":"'All Respondents'!AX84-'All Respondents'!AX83","v":4.0000000000000008E-2},{"$f":"'All Respondents'!AY84-'All Respondents'!AY83","v":4.0000000000000008E-2},{"$f":"'All Respondents'!AZ84-'All Respondents'!AZ83","v":9.9999999999998979E-3},{"$f":"'All Respondents'!BA84-'All Respondents'!BA83","v":0},{"$f":"'All Respondents'!BB84-'All Respondents'!BB83","v":1.0000000000000009E-2},{"$f":"'All Respondents'!BC84-'All Respondents'!BC83","v":9.9999999999998979E-3},{"$f":"'All Respondents'!BD84-'All Respondents'!BD83","v":2.8699999999999906E-3},{"$f":"'All Respondents'!BE84-'All Respondents'!BE83","v":-1.0000000000000009E-2},{"$f":"'All Respondents'!BF84-'All Respondents'!BF83","v":1.0000000000000009E-2},{"$f":"'All Respondents'!BG84-'All Respondents'!BG83","v":-2.0000000000000018E-2},{"$f":"'All Respondents'!BH84-'All Respondents'!BH83","v":-1.0000000000000009E-2},{"$f":"'All Respondents'!BI84-'All Respondents'!BI83","v":0.06},{"$f":"'All Respondents'!BJ84-'All Respondents'!BJ83","v":-7.0000000000000007E-2},{"$f":"'All Respondents'!BK84-'All Respondents'!BK83","v":-4.0000000000000008E-2},{"$f":"'All Respondents'!BL84-'All Respondents'!BL83","v":1.0000000000000009E-2},{"$f":"'All Respondents'!BM84-'All Respondents'!BM83","v":-3.0000000000000027E-2},{"$f":"'All Respondents'!BN84-'All Respondents'!BN83","v":1.0000000000000009E-2},{"$f":"'All Respondents'!BO84-'All Respondents'!BO83","v":1.9999999999999997E-2},{"$f":"'All Respondents'!BP84-'All Respondents'!BP83","v":1.0000000000000002E-2},{"$f":"'All Respondents'!BQ84-'All Respondents'!BQ83","v":0.03},{"$f":"'All Respondents'!BR84-'All Respondents'!BR83","v":-0.06},{"$f":"'All Respondents'!BS84-'All Respondents'!BS83","v":-5.0000000000000017E-2},{"$f":"'All Respondents'!BT84-'All Respondents'!BT83","v":0.03},{"$f":"'All Respondents'!BU84-'All Respondents'!BU83","v":2.0000000000000018E-2},{"$f":"'All Respondents'!BV84-'All Respondents'!BV83","v":-8.0000000000000016E-2},{"$f":"'All Respondents'!BW84-'All Respondents'!BW83","v":2.9999999999999971E-2},{"$f":"'All Respondents'!BX84-'All Respondents'!BX83","v":-2.0000000000000018E-2},{"$f":"'All Respondents'!BY84-'All Respondents'!BY83","v":-4.9999999999999989E-2},{"$f":"'All Respondents'!BZ84-'All Respondents'!BZ83","v":0},{"$f":"'All Respondents'!CA84-'All Respondents'!CA83","v":-2.0000000000000004E-2},{"$f":"'All Respondents'!CB84-'All Respondents'!CB83","v":-2.0000000000000018E-2},{"$f":"'All Respondents'!CC84-'All Respondents'!CC83","v":3.9999999999999925E-2},{"$f":"'All Respondents'!CD84-'All Respondents'!CD83","v":9.999999999999995E-3},{"$f":"'All Respondents'!CE84-'All Respondents'!CE83","v":0.03},{"$f":"'All Respondents'!CF84-'All Respondents'!CF83","v":0},{"$f":"'All Respondents'!CG84-'All Respondents'!CG83","v":2.0000000000000004E-2},{"$f":"'All Respondents'!CH84-'All Respondents'!CH83","v":2.0000000000000004E-2},{"$f":"'All Respondents'!CI84-'All Respondents'!CI83","v":-4.0000000000000008E-2},{"$f":"'All Respondents'!CJ84-'All Respondents'!CJ83","v":0},{"$f":"'All Respondents'!CK84-'All Respondents'!CK83","v":2.0000000000000004E-2},{"$f":"'All Respondents'!CL84-'All Respondents'!CL83","v":2.0000000000000004E-2},{"$f":"'All Respondents'!CM84-'All Respondents'!CM83","v":4.0000000000000022E-2},{"$f":"'All Respondents'!CN84-'All Respondents'!CN83","v":-3.9999999999999925E-2},{"$f":"'All Respondents'!CO84-'All Respondents'!CO83","v":-0.03},{"$f":"'All Respondents'!CP84-'All Respondents'!CP83","v":-1.0000000000000009E-2},{"$f":"'All Respondents'!CQ84-'All Respondents'!CQ83","v":-7.999999999999996E-2},{"$f":"'All Respondents'!CR84-'All Respondents'!CR83","v":-1.9999999999999962E-2},{"$f":"'All Respondents'!CS84-'All Respondents'!CS83","v":0},{"$f":"'All Respondents'!CT84-'All Respondents'!CT83","v":-3.0000000000000013E-2},{"$f":"'All Respondents'!CU84-'All Respondents'!CU83","v":2.0000000000000004E-2},{"$f":"'All Respondents'!CV84-'All Respondents'!CV83","v":0},{"$f":"'All Respondents'!CW84-'All Respondents'!CW83","v":0},{"$f":"'All Respondents'!CX84-'All Respondents'!CX83","v":1.999999999999999E-2},{"$f":"'All Respondents'!CY84-'All Respondents'!CY83","v":-2.0000000000000004E-2},{"$f":"'All Respondents'!CZ84-'All Respondents'!CZ83","v":0},{"$f":"'All Respondents'!DA84-'All Respondents'!DA83","v":-0.01},{"$f":"'All Respondents'!DB84-'All Respondents'!DB83","v":2.0000000000000018E-2},{"$f":"'All Respondents'!DC84-'All Respondents'!DC83","v":-1.9999999999999907E-2},{"$f":"'All Respondents'!DD84-'All Respondents'!DD83","v":-1.999999999999999E-2},{"$f":"'All Respondents'!DE84-'All Respondents'!DE83","v":1.0000000000000009E-2},{"$f":"'All Respondents'!DF84-'All Respondents'!DF83","v":-4.0000000000000036E-2},{"$f":"'All Respondents'!DG84-'All Respondents'!DG83","v":2.0000000000000018E-2},{"$f":"'All Respondents'!DH84-'All Respondents'!DH83","v":-2.0000000000000018E-2},{"$f":"'All Respondents'!DI84-'All Respondents'!DI83","v":1.0000000000000009E-2},{"$f":"'All Respondents'!DJ84-'All Respondents'!DJ83","v":2.0000000000000004E-2},{"$f":"'All Respondents'!DK84-'All Respondents'!DK83","v":-1.0000000000000002E-2},{"$f":"'All Respondents'!DL84-'All Respondents'!DL83","v":0.03},{"$f":"'All Respondents'!DM84-'All Respondents'!DM83","v":-7591.5},{"$f":"'All Respondents'!DN84-'All Respondents'!DN83","v":43.279999999998836},{"$f":"'All Respondents'!DO84-'All Respondents'!DO83","v":1.0000000000000009E-2},{"$f":"'All Respondents'!DP84-'All Respondents'!DP83","v":-3.999999999999998E-2},{"$f":"'All Respondents'!DQ84-'All Respondents'!DQ83","v":1.999999999999999E-2},{"$f":"'All Respondents'!DR84-'All Respondents'!DR83","v":-9.999999999999995E-3},{"$f":"'All Respondents'!DS84-'All Respondents'!DS83","v":0}]
["Mar 17 - Apr 17",{"$f":"'All Respondents'!B85-'All Respondents'!B84","v":2.2000000000000028},{"$f":"'All Respondents'!D85-'All Respondents'!D84","v":2},{"$f":"'All Respondents'!E85-'All Respondents'!E84","v":2.0000000000000018E-2},{"$f":"'All Respondents'!F85-'All Respondents'!F84","v":9.999999999999995E-3},{"$f":"'All Respondents'!G85-'All Respondents'!G84","v":-4.9999999999999989E-2},{"$f":"'All Respondents'!H85-'All Respondents'!H84","v":1.0000000000000009E-2},{"$f":"'All Respondents'!I85-'All Respondents'!I84","v":9.3000000000000027E-3},{"$f":"'All Respondents'!J85-'All Respondents'!J84","v":-2.1999999999999936E-3},{"$f":"'All Respondents'!K85-'All Respondents'!K84","v":1.6999999999999654E-4},{"$f":"'All Respondents'!L85-'All Respondents'!L84","v":-2.0000000000000018E-2},{"$f":"'All Respondents'!M85-'All Respondents'!M84","v":1.0000000000000002E-2},{"$f":"'All Respondents'!N85-'All Respondents'!N84","v":1.0000000000000009E-2},{"$f":"'All Respondents'!O85-'All Respondents'!O84","v":3.0000000000000027E-2},null,{"$f":"'All Respondents'!Q85-'All Respondents'!Q84","v":-3.9999999999999758E-4},{"$f":"'All Respondents'!R85-'All Respondents'!R84","v":0},{"$f":"'All Respondents'!S85-'All Respondents'!S84","v":2.0000000000000018E-2},{"$f":"'All Respondents'!T85-'All Respondents'!T84","v":2.0000000000000018E-2},{"$f":"'All Respondents'!U85-'All Respondents'!U84","v":-1.0000000000000009E-2},{"$f":"'All Respondents'!V85-'All Respondents'!V84","v":-2.0000000000000004E-2},{"$f":"'All Respondents'!W85-'All Respondents'!W84","v":-3.0000000000000027E-2},{"$f":"'All Respondents'!X85-'All Respondents'!X84","v":5.0000000000000044E-2},{"$f":"'All Respondents'!Y85-'All Respondents'!Y84","v":9.9999999999999811E-3},{"$f":"'All Respondents'!Z85-'All Respondents'!Z84","v":1.0000000000000009E-2},{"$f":"'All Respondents'!AA85-'All Respondents'!AA84","v":1.999999999999999E-2},{"$f":"'All Respondents'!AB85-'All Respondents'!AB84","v":-2.0000000000000004E-2},{"$f":"'All Respondents'!AC85-'All Respondents'!AC84","v":-4.0000000000000008E-2},{"$f":"'All Respondents'!AD85-'All Respondents'!AD84","v":-4.0000000000000036E-2},{"$f":"'All Respondents'!AE85-'All Respondents'!AE84","v":0.03},{"$f":"'All Respondents'!AF85-'All Respondents'!AF84","v":2.0000000000000004E-2},{"$f":"'All Respondents'!AG85-'All Respondents'!AG84","v":-1.999999999999999E-2},{"$f":"'All Respondents'!AH85-'All Respondents'!AH84","v":0},{"$f":"'All Respondents'!AI85-'All Respondents'!AI84","v":-0.03},{"$f":"'All Respondents'!AJ85-'All Respondents'!AJ84","v":0},{"$f":"'All Respondents'!AK85-'All Respondents'!AK84","v":-2.9999999999999916E-2},{"$f":"'All Respondents'!AL85-'All Respondents'!AL84","v":0.03},{"$f":"'All Respondents'!AM85-'All Respondents'!AM84","v":-9.999999999999995E-3},{"$f":"'All Respondents'!AN85-'All Respondents'!AN84","v":2.0000000000000018E-2},{"$f":"'All Respondents'!AO85-'All Respondents'!AO84","v":-4.9999999999999933E-2},{"$f":"'All Respondents'!AP85-'All Respondents'!AP84","v":2.0000000000000018E-2},{"$f":"'All Respondents'!AQ85-'All Respondents'!AQ84","v":-2.0000000000000018E-2},{"$f":"'All Respondents'!AR85-'All Respondents'!AR84","v":-1.0000000000000009E-2},{"$f":"'All Respondents'!AS85-'All Respondents'!AS84","v":-1.0000000000000009E-2},{"$f":"'All Respondents'!AT85-'All Respondents'!AT84","v":-3.999999999999998E-2},{"$f":"'All Respondents'!AU85-'All Respondents'!AU84","v":7.0000000000000007E-2},{"$f":"'All Respondents'!AV85-'All Respondents'!AV84","v":-4.9999999999999989E-2},{"$f":"'All Respondents'!AW85-'All Respondents'!AW84","v":0.03},{"$f":"'All Respondents'!AX85-'All Respondents'!AX84","v":-0.05},{"$f":"'All Respondents'!AY85-'All Respondents'!AY84","v":0},{"$f":"'All Respondents'!AZ85-'All Respondents'!AZ84","v":-4.9999999999999933E-2},{"$f":"'All Respondents'!BA85-'All Respondents'!BA84","v":0},{"$f":"'All Respondents'!BB85-'All Respondents'!BB84","v":2.0000000000000018E-2},{"$f":"'All Respondents'!BC85-'All Respondents'!BC84","v":-4.9999999999999933E-2},{"$f":"'All Respondents'!BD85-'All Respondents'!BD84","v":-1.5140000000000015E-3},{"$f":"'All Respondents'!BE85-'All Respondents'!BE84","v":2.0000000000000018E-2},{"$f":"'All Respondents'!BF85-'All Respondents'!BF84","v":-1.9999999999999962E-2},{"$f":"'All Respondents'!BG85-'All Respondents'!BG84","v":3.999999999999998E-2},{"$f":"'All Respondents'!BH85-'All Respondents'!BH84","v":-9.9999999999999534E-3},{"$f":"'All Respondents'!BI85-'All Respondents'!BI84","v":-1.9999999999999962E-2},{"$f":"'All Respondents'!BJ85-'All Respondents'!BJ84","v":1.0000000000000009E-2},{"$f":"'All Respondents'!BK85-'All Respondents'!BK84","v":-1.999999999999999E-2},{"$f":"'All Respondents'!BL85-'All Respondents'!BL84","v":0},{"$f":"'All Respondents'!BM85-'All Respondents'!BM84","v":-2.0000000000000018E-2},{"$f":"'All Respondents'!BN85-'All Respondents'!BN84","v":2.0000000000000018E-2},{"$f":"'All Respondents'!BO85-'All Respondents'!BO84","v":1.0000000000000009E-2},{"$f":"'All Respondents'!BP85-'All Respondents'!BP84","v":-1.0000000000000002E-2},{"$f":"'All Respondents'!BQ85-'All Respondents'!BQ84","v":0},{"$f":"'All Respondents'!BR85-'All Respondents'!BR84","v":-2.0000000000000018E-2},{"$f":"'All Respondents'!BS85-'All Respondents'!BS84","v":1.999999999999999E-2},{"$f":"'All Respondents'!BT85-'All Respondents'!BT84","v":0},{"$f":"'All Respondents'!BU85-'All Respondents'!BU84","v":0},{"$f":"'All Respondents'!BV85-'All Respondents'!BV84","v":1.999999999999999E-2},{"$f":"'All Respondents'!BW85-'All Respondents'!BW84","v":-3.999999999999998E-2},{"$f":"'All Respondents'!BX85-'All Respondents'!BX84","v":2.9999999999999916E-2},{"$f":"'All Respondents'!BY85-'All Respondents'!BY84","v":6.9999999999999896E-2},{"$f":"'All Respondents'!BZ85-'All Respondents'!BZ84","v":0.03},{"$f":"'All Respondents'!CA85-'All Respondents'!CA84","v":0},{"$f":"'All Respondents'!CB85-'All Respondents'!CB84","v":3.0000000000000027E-2},{"$f":"'All Respondents'!CC85-'All Respondents'!CC84","v":-4.0000000000000036E-2},{"$f":"'All Respondents'!CD85-'All Respondents'!CD84","v":9.999999999999995E-3},{"$f":"'All Respondents'!CE85-'All Respondents'!CE84","v":-2.0000000000000018E-2},{"$f":"'All Respondents'!CF85-'All Respondents'!CF84","v":-3.0000000000000027E-2},{"$f":"'All Respondents'!CG85-'All Respondents'!CG84","v":-1.0000000000000002E-2},{"$f":"'All Respondents'!CH85-'All Respondents'!CH84","v":-9.999999999999995E-3},{"$f":"'All Respondents'!CI85-'All Respondents'!CI84","v":1.999999999999999E-2},{"$f":"'All Respondents'!CJ85-'All Respondents'!CJ84","v":1.0000000000000009E-2},{"$f":"'All Respondents'!CK85-'All Respondents'!CK84","v":-1.0000000000000002E-2},{"$f":"'All Respondents'!CL85-'All Respondents'!CL84","v":-0.03},{"$f":"'All Respondents'!CM85-'All Respondents'!CM84","v":-4.0000000000000008E-2},{"$f":"'All Respondents'!CN85-'All Respondents'!CN84","v":3.0000000000000027E-2},{"$f":"'All Respondents'!CO85-'All Respondents'!CO84","v":1.0000000000000009E-2},{"$f":"'All Respondents'!CP85-'All Respondents'!CP84","v":2.0000000000000018E-2},{"$f":"'All Respondents'!CQ85-'All Respondents'!CQ84","v":7.0000000000000062E-2},{"$f":"'All Respondents'!CR85-'All Respondents'!CR84","v":-3.0000000000000027E-2},{"$f":"'All Respondents'!CS85-'All Respondents'!CS84","v":-1.0000000000000009E-2},{"$f":"'All Respondents'!CT85-'All Respondents'!CT84","v":0.05},{"$f":"'All Respondents'!CU85-'All Respondents'!CU84","v":-0.03},{"$f":"'All Respondents'!CV85-'All Respondents'!CV84","v":2.0000000000000018E-2},{"$f":"'All Respondents'!CW85-'All Respondents'!CW84","v":-5.0000000000000044E-2},{"$f":"'All Respondents'!CX85-'All Respondents'!CX84","v":4.0000000000000008E-2},{"$f":"'All Respondents'!CY85-'All Respondents'!CY84","v":0},{"$f":"'All Respondents'!CZ85-'All Respondents'!CZ84","v":0.02},{"$f":"'All Respondents'!DA85-'All Respondents'!DA84","v":0},{"$f":"'All Respondents'!DB85-'All Respondents'!DB84","v":-0.03},{"$f":"'All Respondents'!DC85-'All Respondents'!DC84","v":1.9999999999999907E-2},{"$f":"'All Respondents'!DD85-'All Respondents'!DD84","v":9.9999999999999811E-3},{"$f":"'All Respondents'!DE85-'All Respondents'!DE84","v":1.0000000000000009E-2},{"$f":"'All Respondents'!DF85-'All Respondents'!DF84","v":5.9999999999999942E-2},{"$f":"'All Respondents'!DG85-'All Respondents'!DG84","v":-4.0000000000000008E-2},{"$f":"'All Respondents'!DH85-'All Respondents'!DH84","v":1.9999999999999907E-2},{"$f":"'All Respondents'!DI85-'All Respondents'!DI84","v":0.03},{"$f":"'All Respondents'!DJ85-'All Respondents'!DJ84","v":-3.0000000000000006E-2},{"$f":"'All Respondents'!DK85-'All Respondents'!DK84","v":-9.9999999999999985E-3},{"$f":"'All Respondents'!DL85-'All Respondents'!DL84","v":-0.02},{"$f":"'All Respondents'!DM85-'All Respondents'!DM84","v":111254.02999999997},{"$f":"'All Respondents'!DN85-'All Respondents'!DN84","v":10000},{"$f":"'All Respondents'!DO85-'All Respondents'!DO84","v":0},{"$f":"'All Respondents'!DP85-'All Respondents'!DP84","v":-1.0000000000000009E-2},{"$f":"'All Respondents'!DQ85-'All Respondents'!DQ84","v":1.0000000000000009E-2},{"$f":"'All Respondents'!DR85-'All Respondents'!DR84","v":1.999999999999999E-2},{"$f":"'All Respondents'!DS85-'All Respondents'!DS84","v":2.0000000000000004E-2}]
["Apr 17 - May 17",{"$f":"'All Respondents'!B86-'All Respondents'!B85","v":-0.5},{"$f":"'All Respondents'!D86-'All Respondents'!D85","v":-1.6000000000000085},{"$f":"'All Respondents'!E86-'All Respondents'!E85","v":-5.0000000000000044E-2},{"$f":"'All Respondents'!F86-'All Respondents'!F85","v":0},{"$f":"'All Respondents'!G86-'All Respondents'!G85","v":9.0000000000000024E-2},{"$f":"'All Respondents'!H86-'All Respondents'!H85","v":-5.0000000000000044E-2},{"$f":"'All Respondents'!I86-'All Respondents'!I85","v":-2.8299999999999992E-2},{"$f":"'All Respondents'!J86-'All Respondents'!J85","v":2.7999999999999969E-3},{"$f":"'All Respondents'!K86-'All Respondents'!K85","v":-4.2450000000000022E-3},{"$f":"'All Respondents'!L86-'All Respondents'!L85","v":-5.9999999999999942E-2},{"$f":"'All Respondents'!M86-'All Respondents'!M85","v":-1.0000000000000002E-2},{"$f":"'All Respondents'!N86-'All Respondents'!N85","v":7.0000000000000007E-2},{"$f":"'All Respondents'!O86-'All Respondents'!O85","v":4.9999999999999933E-2},null,{"$f":"'All Respondents'!Q86-'All Respondents'!Q85","v":-3.0999999999999986E-3},{"$f":"'All Respondents'!R86-'All Respondents'!R85","v":0},{"$f":"'All Respondents'!S86-'All Respondents'!S85","v":-2.0000000000000018E-2},{"$f":"'All Respondents'!T86-'All Respondents'!T85","v":-2.0000000000000018E-2},{"$f":"'All Respondents'!U86-'All Respondents'!U85","v":4.0000000000000008E-2},{"$f":"'All Respondents'!V86-'All Respondents'!V85","v":2.0000000000000004E-2},{"$f":"'All Respondents'!W86-'All Respondents'!W85","v":0.06},{"$f":"'All Respondents'!X86-'All Respondents'!X85","v":-8.0000000000000016E-2},{"$f":"'All Respondents'!Y86-'All Respondents'!Y85","v":-1.999999999999999E-2},{"$f":"'All Respondents'!Z86-'All Respondents'!Z85","v":-1.0000000000000009E-2},{"$f":"'All Respondents'!AA86-'All Respondents'!AA85","v":1.0000000000000009E-2},{"$f":"'All Respondents'!AB86-'All Respondents'!AB85","v":-1.0000000000000002E-2},{"$f":"'All Respondents'!AC86-'All Respondents'!AC85","v":4.0000000000000008E-2},{"$f":"'All Respondents'!AD86-'All Respondents'!AD85","v":2.0000000000000018E-2},{"$f":"'All Respondents'!AE86-'All Respondents'!AE85","v":-0.06},{"$f":"'All Respondents'!AF86-'All Respondents'!AF85","v":-1.0000000000000009E-2},{"$f":"'All Respondents'!AG86-'All Respondents'!AG85","v":4.0000000000000008E-2},{"$f":"'All Respondents'!AH86-'All Respondents'!AH85","v":4.9999999999999989E-2},{"$f":"'All Respondents'!AI86-'All Respondents'!AI85","v":4.0000000000000008E-2},{"$f":"'All Respondents'!AJ86-'All Respondents'!AJ85","v":0},{"$f":"'All Respondents'!AK86-'All Respondents'!AK85","v":3.9999999999999925E-2},{"$f":"'All Respondents'!AL86-'All Respondents'!AL85","v":-1.999999999999999E-2},{"$f":"'All Respondents'!AM86-'All Respondents'!AM85","v":0},{"$f":"'All Respondents'!AN86-'All Respondents'!AN85","v":-1.9999999999999962E-2},{"$f":"'All Respondents'!AO86-'All Respondents'!AO85","v":5.9999999999999887E-2},{"$f":"'All Respondents'!AP86-'All Respondents'!AP85","v":-0.03},{"$f":"'All Respondents'!AQ86-'All Respondents'!AQ85","v":-1.999999999999999E-2},{"$f":"'All Respondents'!AR86-'All Respondents'!AR85","v":0.03},{"$f":"'All Respondents'!AS86-'All Respondents'!AS85","v":0},{"$f":"'All Respondents'!AT86-'All Respondents'!AT85","v":3.999999999999998E-2},{"$f":"'All Respondents'!AU86-'All Respondents'!AU85","v":-4.0000000000000008E-2},{"$f":"'All Respondents'!AV86-'All Respondents'!AV85","v":0},{"$f":"'All Respondents'!AW86-'All Respondents'!AW85","v":-4.0000000000000008E-2},{"$f":"'All Respondents'!AX86-'All Respondents'!AX85","v":0.08},{"$f":"'All Respondents'!AY86-'All Respondents'!AY85","v":3.999999999999998E-2},{"$f":"'All Respondents'!AZ86-'All Respondents'!AZ85","v":4.9999999999999933E-2},{"$f":"'All Respondents'!BA86-'All Respondents'!BA85","v":1.0000000000000002E-2},{"$f":"'All Respondents'!BB86-'All Respondents'!BB85","v":-3.999999999999998E-2},{"$f":"'All Respondents'!BC86-'All Respondents'!BC85","v":3.9999999999999925E-2},{"$f":"'All Respondents'!BD86-'All Respondents'!BD85","v":-2.2339999999999999E-3},{"$f":"'All Respondents'!BE86-'All Respondents'!BE85","v":1.0000000000000009E-2},{"$f":"'All Respondents'!BF86-'All Respondents'!BF85","v":-1.0000000000000009E-2},{"$f":"'All Respondents'!BG86-'All Respondents'!BG85","v":2.0000000000000018E-2},{"$f":"'All Respondents'!BH86-'All Respondents'!BH85","v":9.9999999999999534E-3},{"$f":"'All Respondents'!BI86-'All Respondents'!BI85","v":1.0000000000000009E-2},{"$f":"'All Respondents'!BJ86-'All Respondents'!BJ85","v":0},{"$f":"'All Respondents'!BK86-'All Respondents'!BK85","v":3.999999999999998E-2},{"$f":"'All Respondents'!BL86-'All Respondents'!BL85","v":-1.9999999999999962E-2},{"$f":"'All Respondents'!BM86-'All Respondents'!BM85","v":2.0000000000000018E-2},{"$f":"'All Respondents'!BN86-'All Respondents'!BN85","v":-2.0000000000000018E-2},{"$f":"'All Respondents'!BO86-'All Respondents'!BO85","v":9.999999999999995E-3},{"$f":"'All Respondents'!BP86-'All Respondents'!BP85","v":0},{"$f":"'All Respondents'!BQ86-'All Respondents'!BQ85","v":9.999999999999995E-3},{"$f":"'All Respondents'!BR86-'All Respondents'!BR85","v":1.0000000000000009E-2},{"$f":"'All Respondents'!BS86-'All Respondents'!BS85","v":3.0000000000000027E-2},{"$f":"'All Respondents'!BT86-'All Respondents'!BT85","v":-1.999999999999999E-2},{"$f":"'All Respondents'!BU86-'All Respondents'!BU85","v":-2.0000000000000018E-2},{"$f":"'All Respondents'!BV86-'All Respondents'!BV85","v":5.0000000000000017E-2},{"$f":"'All Respondents'!BW86-'All Respondents'!BW85","v":2.9999999999999971E-2},{"$f":"'All Respondents'!BX86-'All Respondents'!BX85","v":-1.9999999999999907E-2},{"$f":"'All Respondents'!BY86-'All Respondents'!BY85","v":-4.9999999999999878E-2},{"$f":"'All Respondents'!BZ86-'All Respondents'!BZ85","v":0},{"$f":"'All Respondents'!CA86-'All Respondents'!CA85","v":2.0000000000000004E-2},{"$f":"'All Respondents'!CB86-'All Respondents'!CB85","v":1.999999999999999E-2},{"$f":"'All Respondents'!CC86-'All Respondents'!CC85","v":4.0000000000000036E-2},{"$f":"'All Respondents'!CD86-'All Respondents'!CD85","v":-1.999999999999999E-2},{"$f":"'All Respondents'!CE86-'All Respondents'!CE85","v":0},{"$f":"'All Respondents'!CF86-'All Respondents'!CF85","v":0.06},{"$f":"'All Respondents'!CG86-'All Respondents'!CG85","v":0},{"$f":"'All Respondents'!CH86-'All Respondents'!CH85","v":0},{"$f":"'All Respondents'!CI86-'All Respondents'!CI85","v":-3.9999999999999994E-2},{"$f":"'All Respondents'!CJ86-'All Respondents'!CJ85","v":3.0000000000000027E-2},{"$f":"'All Respondents'!CK86-'All Respondents'!CK85","v":1.0000000000000002E-2},{"$f":"'All Respondents'!CL86-'All Respondents'!CL85","v":1.999999999999999E-2},{"$f":"'All Respondents'!CM86-'All Respondents'!CM85","v":0.03},{"$f":"'All Respondents'!CN86-'All Respondents'!CN85","v":-3.0000000000000138E-2},{"$f":"'All Respondents'!CO86-'All Respondents'!CO85","v":-0.06},{"$f":"'All Respondents'!CP86-'All Respondents'!CP85","v":2.9999999999999916E-2},{"$f":"'All Respondents'!CQ86-'All Respondents'!CQ85","v":-6.0000000000000164E-2},{"$f":"'All Respondents'!CR86-'All Respondents'!CR85","v":2.0000000000000018E-2},{"$f":"'All Respondents'!CS86-'All Respondents'!CS85","v":0},{"$f":"'All Respondents'!CT86-'All Respondents'!CT85","v":-1.999999999999999E-2},{"$f":"'All Respondents'!CU86-'All Respondents'!CU85","v":0.03},{"$f":"'All Respondents'!CV86-'All Respondents'!CV85","v":0.03},{"$f":"'All Respondents'!CW86-'All Respondents'!CW85","v":5.9999999999999942E-2},{"$f":"'All Respondents'!CX86-'All Respondents'!CX85","v":-4.9999999999999989E-2},{"$f":"'All Respondents'!CY86-'All Respondents'!CY85","v":0},{"$f":"'All Respondents'!CZ86-'All Respondents'!CZ85","v":-0.01},{"$f":"'All Respondents'!DA86-'All Respondents'!DA85","v":0},{"$f":"'All Respondents'!DB86-'All Respondents'!DB85","v":4.9999999999999989E-2},{"$f":"'All Respondents'!DC86-'All Respondents'!DC85","v":-3.9999999999999925E-2},{"$f":"'All Respondents'!DD86-'All Respondents'!DD85","v":2.0000000000000018E-2},{"$f":"'All Respondents'!DE86-'All Respondents'!DE85","v":-3.0000000000000027E-2},{"$f":"'All Respondents'!DF86-'All Respondents'!DF85","v":-9.9999999999998979E-3},{"$f":"'All Respondents'!DG86-'All Respondents'!DG85","v":1.0000000000000009E-2},{"$f":"'All Respondents'!DH86-'All Respondents'!DH85","v":0},{"$f":"'All Respondents'!DI86-'All Respondents'!DI85","v":-0.03},{"$f":"'All Respondents'!DJ86-'All Respondents'!DJ85","v":3.0000000000000006E-2},{"$f":"'All Respondents'!DK86-'All Respondents'!DK85","v":9.9999999999999985E-3},{"$f":"'All Respondents'!DL86-'All Respondents'!DL85","v":0.02},{"$f":"'All Respondents'!DM86-'All Respondents'!DM85","v":-135963.97999999998},{"$f":"'All Respondents'!DN86-'All Respondents'!DN85","v":-10000},{"$f":"'All Respondents'!DO86-'All Respondents'!DO85","v":0.03},{"$f":"'All Respondents'!DP86-'All Respondents'!DP85","v":1.0000000000000009E-2},{"$f":"'All Respondents'!DQ86-'All Respondents'!DQ85","v":-0.06},{"$f":"'All Respondents'!DR86-'All Respondents'!DR85","v":0.03},{"$f":"'All Respondents'!DS86-'All Respondents'!DS85","v":-9.999999999999995E-3}]
["May 17 - Jun 17",{"$f":"'All Respondents'!B87-'All Respondents'!B86","v":2.0999999999999943},{"$f":"'All Respondents'!D87-'All Respondents'!D86","v":2},{"$f":"'All Respondents'!E87-'All Respondents'!E86","v":6.0000000000000053E-2},{"$f":"'All Respondents'!F87-'All Respondents'!F86","v":0},{"$f":"'All Respondents'!G87-'All Respondents'!G86","v":-8.0000000000000016E-2},{"$f":"'All Respondents'!H87-'All Respondents'!H86","v":6.0000000000000053E-2},{"$f":"'All Respondents'!I87-'All Respondents'!I86","v":9.7000000000000003E-3},{"$f":"'All Respondents'!J87-'All Respondents'!J86","v":6.0000000000000053E-3},{"$f":"'All Respondents'!K87-'All Respondents'!K86","v":8.1740000000000007E-3},{"$f":"'All Respondents'!L87-'All Respondents'!L86","v":9.9999999999998979E-3},{"$f":"'All Respondents'!M87-'All Respondents'!M86","v":0.04},{"$f":"'All Respondents'!N87-'All Respondents'!N86","v":-0.06},{"$f":"'All Respondents'!O87-'All Respondents'!O86","v":3.0000000000000082E-2},null,{"$f":"'All Respondents'!Q87-'All Respondents'!Q86","v":5.9999999999999637E-4},{"$f":"'All Respondents'!R87-'All Respondents'!R86","v":0},{"$f":"'All Respondents'!S87-'All Respondents'!S86","v":2.0000000000000018E-2},{"$f":"'All Respondents'!T87-'All Respondents'!T86","v":2.0000000000000018E-2},{"$f":"'All Respondents'!U87-'All Respondents'!U86","v":-1.0000000000000009E-2},{"$f":"'All Respondents'!V87-'All Respondents'!V86","v":0},{"$f":"'All Respondents'!W87-'All Respondents'!W86","v":-1.0000000000000009E-2},{"$f":"'All Respondents'!X87-'All Respondents'!X86","v":3.0000000000000027E-2},{"$f":"'All Respondents'!Y87-'All Respondents'!Y86","v":-1.0000000000000009E-2},{"$f":"'All Respondents'!Z87-'All Respondents'!Z86","v":1.0000000000000009E-2},{"$f":"'All Respondents'!AA87-'All Respondents'!AA86","v":1.999999999999999E-2},{"$f":"'All Respondents'!AB87-'All Respondents'!AB86","v":1.9999999999999997E-2},{"$f":"'All Respondents'!AC87-'All Respondents'!AC86","v":-1.0000000000000009E-2},{"$f":"'All Respondents'!AD87-'All Respondents'!AD86","v":4.9999999999999989E-2},{"$f":"'All Respondents'!AE87-'All Respondents'!AE86","v":0},{"$f":"'All Respondents'!AF87-'All Respondents'!AF86","v":4.0000000000000008E-2},{"$f":"'All Respondents'!AG87-'All Respondents'!AG86","v":-4.0000000000000008E-2},{"$f":"'All Respondents'!AH87-'All Respondents'!AH86","v":-5.999999999999997E-2},{"$f":"'All Respondents'!AI87-'All Respondents'!AI86","v":1.0000000000000009E-2},{"$f":"'All Respondents'!AJ87-'All Respondents'!AJ86","v":1.9999999999999962E-2},{"$f":"'All Respondents'!AK87-'All Respondents'!AK86","v":3.0000000000000027E-2},{"$f":"'All Respondents'!AL87-'All Respondents'!AL86","v":-1.999999999999999E-2},{"$f":"'All Respondents'!AM87-'All Respondents'!AM86","v":-2.0000000000000004E-2},{"$f":"'All Respondents'!AN87-'All Respondents'!AN86","v":-4.0000000000000036E-2},{"$f":"'All Respondents'!AO87-'All Respondents'!AO86","v":7.0000000000000062E-2},{"$f":"'All Respondents'!AP87-'All Respondents'!AP86","v":9.9999999999999811E-3},{"$f":"'All Respondents'!AQ87-'All Respondents'!AQ86","v":4.0000000000000008E-2},{"$f":"'All Respondents'!AR87-'All Respondents'!AR86","v":1.0000000000000009E-2},{"$f":"'All Respondents'!AS87-'All Respondents'!AS86","v":-1.999999999999999E-2},{"$f":"'All Respondents'!AT87-'All Respondents'!AT86","v":-3.999999999999998E-2},{"$f":"'All Respondents'!AU87-'All Respondents'!AU86","v":2.0000000000000018E-2},{"$f":"'All Respondents'!AV87-'All Respondents'!AV86","v":0},{"$f":"'All Respondents'!AW87-'All Respondents'!AW86","v":4.0000000000000008E-2},{"$f":"'All Respondents'!AX87-'All Respondents'!AX86","v":-0.06},{"$f":"'All Respondents'!AY87-'All Respondents'!AY86","v":-7.9999999999999988E-2},{"$f":"'All Respondents'!AZ87-'All Respondents'!AZ86","v":1.0000000000000009E-2},{"$f":"'All Respondents'!BA87-'All Respondents'!BA86","v":0},{"$f":"'All Respondents'!BB87-'All Respondents'!BB86","v":-2.0000000000000018E-2},{"$f":"'All Respondents'!BC87-'All Respondents'!BC86","v":1.0000000000000009E-2},{"$f":"'All Respondents'!BD87-'All Respondents'!BD86","v":1.0895999999999996E-2},{"$f":"'All Respondents'!BE87-'All Respondents'!BE86","v":-1.0000000000000009E-2},{"$f":"'All Respondents'!BF87-'All Respondents'!BF86","v":1.0000000000000009E-2},{"$f":"'All Respondents'!BG87-'All Respondents'!BG86","v":-2.0000000000000018E-2},{"$f":"'All Respondents'!BH87-'All Respondents'!BH86","v":3.0000000000000027E-2},{"$f":"'All Respondents'!BI87-'All Respondents'!BI86","v":-4.0000000000000036E-2},{"$f":"'All Respondents'!BJ87-'All Respondents'!BJ86","v":7.0000000000000062E-2},{"$f":"'All Respondents'!BK87-'All Respondents'!BK86","v":1.0000000000000009E-2},{"$f":"'All Respondents'!BL87-'All Respondents'!BL86","v":-1.0000000000000009E-2},{"$f":"'All Respondents'!BM87-'All Respondents'!BM86","v":0},{"$f":"'All Respondents'!BN87-'All Respondents'!BN86","v":-1.0000000000000009E-2},{"$f":"'All Respondents'!BO87-'All Respondents'!BO86","v":0},{"$f":"'All Respondents'!BP87-'All Respondents'!BP86","v":1.0000000000000002E-2},{"$f":"'All Respondents'!BQ87-'All Respondents'!BQ86","v":9.999999999999995E-3},{"$f":"'All Respondents'!BR87-'All Respondents'!BR86","v":-1.0000000000000009E-2},{"$f":"'All Respondents'!BS87-'All Respondents'!BS86","v":0},{"$f":"'All Respondents'!BT87-'All Respondents'!BT86","v":9.999999999999995E-3},{"$f":"'All Respondents'!BU87-'All Respondents'!BU86","v":-3.0000000000000027E-2},{"$f":"'All Respondents'!BV87-'All Respondents'!BV86","v":-9.9999999999999811E-3},{"$f":"'All Respondents'!BW87-'All Respondents'!BW86","v":-4.9999999999999989E-2},{"$f":"'All Respondents'!BX87-'All Respondents'!BX86","v":3.9999999999999925E-2},{"$f":"'All Respondents'!BY87-'All Respondents'!BY86","v":8.9999999999999913E-2},{"$f":"'All Respondents'!BZ87-'All Respondents'!BZ86","v":0},{"$f":"'All Respondents'!CA87-'All Respondents'!CA86","v":1.999999999999999E-2},{"$f":"'All Respondents'!CB87-'All Respondents'!CB86","v":1.999999999999999E-2},{"$f":"'All Respondents'!CC87-'All Respondents'!CC86","v":-5.9999999999999942E-2},{"$f":"'All Respondents'!CD87-'All Respondents'!CD86","v":-1.0000000000000009E-2},{"$f":"'All Respondents'!CE87-'All Respondents'!CE86","v":-9.9999999999999811E-3},{"$f":"'All Respondents'!CF87-'All Respondents'!CF86","v":-3.999999999999998E-2},{"$f":"'All Respondents'!CG87-'All Respondents'!CG86","v":0},{"$f":"'All Respondents'!CH87-'All Respondents'!CH86","v":0.03},{"$f":"'All Respondents'!CI87-'All Respondents'!CI86","v":2.0000000000000004E-2},{"$f":"'All Respondents'!CJ87-'All Respondents'!CJ86","v":-4.0000000000000036E-2},{"$f":"'All Respondents'!CK87-'All Respondents'!CK86","v":-2.0000000000000004E-2},{"$f":"'All Respondents'!CL87-'All Respondents'!CL86","v":5.0000000000000017E-2},{"$f":"'All Respondents'!CM87-'All Respondents'!CM86","v":0.03},{"$f":"'All Respondents'!CN87-'All Respondents'!CN86","v":-1.9999999999999907E-2},{"$f":"'All Respondents'!CO87-'All Respondents'!CO86","v":0.03},{"$f":"'All Respondents'!CP87-'All Respondents'!CP86","v":-4.9999999999999933E-2},{"$f":"'All Respondents'!CQ87-'All Respondents'!CQ86","v":-4.9999999999999933E-2},{"$f":"'All Respondents'!CR87-'All Respondents'!CR86","v":0},{"$f":"'All Respondents'!CS87-'All Respondents'!CS86","v":0},{"$f":"'All Respondents'!CT87-'All Respondents'!CT86","v":-3.0000000000000013E-2},{"$f":"'All Respondents'!CU87-'All Respondents'!CU86","v":2.0000000000000004E-2},{"$f":"'All Respondents'!CV87-'All Respondents'!CV86","v":-2.0000000000000018E-2},{"$f":"'All Respondents'!CW87-'All Respondents'!CW86","v":-9.9999999999998979E-3},{"$f":"'All Respondents'!CX87-'All Respondents'!CX86","v":9.9999999999999811E-3},{"$f":"'All Respondents'!CY87-'All Respondents'!CY86","v":0},{"$f":"'All Respondents'!CZ87-'All Respondents'!CZ86","v":-0.01},{"$f":"'All Respondents'!DA87-'All Respondents'!DA86","v":0.01},{"$f":"'All Respondents'!DB87-'All Respondents'!DB86","v":-1.999999999999999E-2},{"$f":"'All Respondents'!DC87-'All Respondents'!DC86","v":2.0000000000000018E-2},{"$f":"'All Respondents'!DD87-'All Respondents'!DD86","v":-0.03},{"$f":"'All Respondents'!DE87-'All Respondents'!DE86","v":3.0000000000000027E-2},{"$f":"'All Respondents'!DF87-'All Respondents'!DF86","v":0},{"$f":"'All Respondents'!DG87-'All Respondents'!DG86","v":9.9999999999999811E-3},{"$f":"'All Respondents'!DH87-'All Respondents'!DH86","v":1.0000000000000009E-2},{"$f":"'All Respondents'!DI87-'All Respondents'!DI86","v":-1.0000000000000009E-2},{"$f":"'All Respondents'!DJ87-'All Respondents'!DJ86","v":-2.0000000000000004E-2},{"$f":"'All Respondents'!DK87-'All Respondents'!DK86","v":-9.9999999999999985E-3},{"$f":"'All Respondents'!DL87-'All Respondents'!DL86","v":-1.0000000000000002E-2},{"$f":"'All Respondents'!DM87-'All Respondents'!DM86","v":-21122.210000000021},{"$f":"'All Respondents'!DN87-'All Respondents'!DN86","v":-10000},{"$f":"'All Respondents'!DO87-'All Respondents'!DO86","v":-2.0000000000000004E-2},{"$f":"'All Respondents'!DP87-'All Respondents'!DP86","v":1.0000000000000009E-2},{"$f":"'All Respondents'!DQ87-'All Respondents'!DQ86","v":0.03},{"$f":"'All Respondents'!DR87-'All Respondents'!DR86","v":-0.03},{"$f":"'All Respondents'!DS87-'All Respondents'!DS86","v":-1.0000000000000009E-2}]
["Jun 17 - Jul 17",{"$f":"'All Respondents'!B88-'All Respondents'!B87","v":-1.5},{"$f":"'All Respondents'!D88-'All Respondents'!D87","v":-1.7999999999999972},{"$f":"'All Respondents'!E88-'All Respondents'!E87","v":-1.0000000000000009E-2},{"$f":"'All Respondents'!F88-'All Respondents'!F87","v":-2.0000000000000004E-2},{"$f":"'All Respondents'!G88-'All Respondents'!G87","v":3.999999999999998E-2},{"$f":"'All Respondents'!H88-'All Respondents'!H87","v":1.0000000000000009E-2},{"$f":"'All Respondents'!I88-'All Respondents'!I87","v":-3.4000000000000002E-3},{"$f":"'All Respondents'!J88-'All Respondents'!J87","v":5.5999999999999939E-3},{"$f":"'All Respondents'!K88-'All Respondents'!K87","v":3.7610000000000074E-3},{"$f":"'All Respondents'!L88-'All Respondents'!L87","v":-1.9999999999999907E-2},{"$f":"'All Respondents'!M88-'All Respondents'!M87","v":-2.0000000000000004E-2},{"$f":"'All Respondents'!N88-'All Respondents'!N87","v":4.9999999999999989E-2},{"$f":"'All Respondents'!O88-'All Respondents'!O87","v":0},null,{"$f":"'All Respondents'!Q88-'All Respondents'!Q87","v":6.4999999999999988E-3},{"$f":"'All Respondents'!R88-'All Respondents'!R87","v":0},{"$f":"'All Respondents'!S88-'All Respondents'!S87","v":-5.0000000000000044E-2},{"$f":"'All Respondents'!T88-'All Respondents'!T87","v":-5.0000000000000044E-2},{"$f":"'All Respondents'!U88-'All Respondents'!U87","v":1.999999999999999E-2},{"$f":"'All Respondents'!V88-'All Respondents'!V87","v":0},{"$f":"'All Respondents'!W88-'All Respondents'!W87","v":1.9999999999999962E-2},{"$f":"'All Respondents'!X88-'All Respondents'!X87","v":-7.0000000000000007E-2},{"$f":"'All Respondents'!Y88-'All Respondents'!Y87","v":2.0000000000000018E-2},{"$f":"'All Respondents'!Z88-'All Respondents'!Z87","v":-3.999999999999998E-2},{"$f":"'All Respondents'!AA88-'All Respondents'!AA87","v":0.03},{"$f":"'All Respondents'!AB88-'All Respondents'!AB87","v":-9.999999999999995E-3},{"$f":"'All Respondents'!AC88-'All Respondents'!AC87","v":0},{"$f":"'All Respondents'!AD88-'All Respondents'!AD87","v":2.0000000000000018E-2},{"$f":"'All Respondents'!AE88-'All Respondents'!AE87","v":0.03},{"$f":"'All Respondents'!AF88-'All Respondents'!AF87","v":-2.0000000000000004E-2},{"$f":"'All Respondents'!AG88-'All Respondents'!AG87","v":-2.0000000000000004E-2},{"$f":"'All Respondents'!AH88-'All Respondents'!AH87","v":-1.0000000000000009E-2},{"$f":"'All Respondents'!AI88-'All Respondents'!AI87","v":9.9999999999999811E-3},{"$f":"'All Respondents'!AJ88-'All Respondents'!AJ87","v":-6.9999999999999951E-2},{"$f":"'All Respondents'!AK88-'All Respondents'!AK87","v":-5.9999999999999942E-2},{"$f":"'All Respondents'!AL88-'All Respondents'!AL87","v":1.999999999999999E-2},{"$f":"'All Respondents'!AM88-'All Respondents'!AM87","v":0.03},{"$f":"'All Respondents'!AN88-'All Respondents'!AN87","v":4.9999999999999989E-2},{"$f":"'All Respondents'!AO88-'All Respondents'!AO87","v":-0.10999999999999993},{"$f":"'All Respondents'!AP88-'All Respondents'!AP87","v":3.0000000000000027E-2},{"$f":"'All Respondents'!AQ88-'All Respondents'!AQ87","v":-0.03},{"$f":"'All Respondents'!AR88-'All Respondents'!AR87","v":9.9999999999999811E-3},{"$f":"'All Respondents'!AS88-'All Respondents'!AS87","v":9.999999999999995E-3},{"$f":"'All Respondents'!AT88-'All Respondents'!AT87","v":9.9999999999999811E-3},{"$f":"'All Respondents'!AU88-'All Respondents'!AU87","v":-5.0000000000000017E-2},{"$f":"'All Respondents'!AV88-'All Respondents'!AV87","v":-1.0000000000000009E-2},{"$f":"'All Respondents'!AW88-'All Respondents'!AW87","v":-1.999999999999999E-2},{"$f":"'All Respondents'!AX88-'All Respondents'!AX87","v":7.0000000000000007E-2},{"$f":"'All Respondents'!AY88-'All Respondents'!AY87","v":7.9999999999999988E-2},{"$f":"'All Respondents'!AZ88-'All Respondents'!AZ87","v":-1.0000000000000009E-2},{"$f":"'All Respondents'!BA88-'All Respondents'!BA87","v":-1.0000000000000002E-2},{"$f":"'All Respondents'!BB88-'All Respondents'!BB87","v":2.0000000000000018E-2},{"$f":"'All Respondents'!BC88-'All Respondents'!BC87","v":0},{"$f":"'All Respondents'!BD88-'All Respondents'!BD87","v":4.5100000000000695E-4},{"$f":"'All Respondents'!BE88-'All Respondents'!BE87","v":-2.0000000000000018E-2},{"$f":"'All Respondents'!BF88-'All Respondents'!BF87","v":1.9999999999999962E-2},{"$f":"'All Respondents'!BG88-'All Respondents'!BG87","v":-3.999999999999998E-2},{"$f":"'All Respondents'!BH88-'All Respondents'!BH87","v":-3.999999999999998E-2},{"$f":"'All Respondents'!BI88-'All Respondents'!BI87","v":3.0000000000000027E-2},{"$f":"'All Respondents'!BJ88-'All Respondents'!BJ87","v":-7.0000000000000007E-2},{"$f":"'All Respondents'!BK88-'All Respondents'!BK87","v":-0.06},{"$f":"'All Respondents'!BL88-'All Respondents'!BL87","v":2.9999999999999971E-2},{"$f":"'All Respondents'!BM88-'All Respondents'!BM87","v":-3.0000000000000027E-2},{"$f":"'All Respondents'!BN88-'All Respondents'!BN87","v":2.0000000000000018E-2},{"$f":"'All Respondents'!BO88-'All Respondents'!BO87","v":0},{"$f":"'All Respondents'!BP88-'All Respondents'!BP87","v":1.0000000000000002E-2},{"$f":"'All Respondents'!BQ88-'All Respondents'!BQ87","v":1.0000000000000009E-2},{"$f":"'All Respondents'!BR88-'All Respondents'!BR87","v":-4.0000000000000036E-2},{"$f":"'All Respondents'!BS88-'All Respondents'!BS87","v":-1.0000000000000009E-2},{"$f":"'All Respondents'!BT88-'All Respondents'!BT87","v":0},{"$f":"'All Respondents'!BU88-'All Respondents'!BU87","v":3.0000000000000027E-2},{"$f":"'All Respondents'!BV88-'All Respondents'!BV87","v":-1.0000000000000009E-2},{"$f":"'All Respondents'!BW88-'All Respondents'!BW87","v":4.9999999999999989E-2},{"$f":"'All Respondents'!BX88-'All Respondents'!BX87","v":-5.9999999999999942E-2},{"$f":"'All Respondents'!BY88-'All Respondents'!BY87","v":-0.10999999999999993},{"$f":"'All Respondents'!BZ88-'All Respondents'!BZ87","v":4.9999999999999989E-2},{"$f":"'All Respondents'!CA88-'All Respondents'!CA87","v":-1.999999999999999E-2},{"$f":"'All Respondents'!CB88-'All Respondents'!CB87","v":3.0000000000000027E-2},{"$f":"'All Respondents'!CC88-'All Respondents'!CC87","v":-3.0000000000000027E-2},{"$f":"'All Respondents'!CD88-'All Respondents'!CD87","v":0},{"$f":"'All Respondents'!CE88-'All Respondents'!CE87","v":4.9999999999999989E-2},{"$f":"'All Respondents'!CF88-'All Respondents'!CF87","v":-8.0000000000000016E-2},{"$f":"'All Respondents'!CG88-'All Respondents'!CG87","v":-1.0000000000000002E-2},{"$f":"'All Respondents'!CH88-'All Respondents'!CH87","v":-0.03},{"$f":"'All Respondents'!CI88-'All Respondents'!CI87","v":0},{"$f":"'All Respondents'!CJ88-'All Respondents'!CJ87","v":2.0000000000000018E-2},{"$f":"'All Respondents'!CK88-'All Respondents'!CK87","v":-9.9999999999999985E-3},{"$f":"'All Respondents'!CL88-'All Respondents'!CL87","v":-4.0000000000000008E-2},{"$f":"'All Respondents'!CM88-'All Respondents'!CM87","v":-0.05},{"$f":"'All Respondents'!CN88-'All Respondents'!CN87","v":3.9999999999999925E-2},{"$f":"'All Respondents'!CO88-'All Respondents'!CO87","v":-1.0000000000000009E-2},{"$f":"'All Respondents'!CP88-'All Respondents'!CP87","v":4.9999999999999933E-2},{"$f":"'All Respondents'!CQ88-'All Respondents'!CQ87","v":8.9999999999999969E-2},{"$f":"'All Respondents'!CR88-'All Respondents'!CR87","v":1.0000000000000009E-2},{"$f":"'All Respondents'!CS88-'All Respondents'!CS87","v":-2.0000000000000004E-2},{"$f":"'All Respondents'!CT88-'All Respondents'!CT87","v":0.05},{"$f":"'All Respondents'!CU88-'All Respondents'!CU87","v":-2.0000000000000004E-2},{"$f":"'All Respondents'!CV88-'All Respondents'!CV87","v":-0.03},{"$f":"'All Respondents'!CW88-'All Respondents'!CW87","v":1.9999999999999907E-2},{"$f":"'All Respondents'!CX88-'All Respondents'!CX87","v":-9.9999999999999811E-3},{"$f":"'All Respondents'!CY88-'All Respondents'!CY87","v":-9.9999999999999985E-3},{"$f":"'All Respondents'!CZ88-'All Respondents'!CZ87","v":0},{"$f":"'All Respondents'!DA88-'All Respondents'!DA87","v":0},{"$f":"'All Respondents'!DB88-'All Respondents'!DB87","v":-1.0000000000000009E-2},{"$f":"'All Respondents'!DC88-'All Respondents'!DC87","v":-1.0000000000000009E-2},{"$f":"'All Respondents'!DD88-'All Respondents'!DD87","v":0},{"$f":"'All Respondents'!DE88-'All Respondents'!DE87","v":-1.0000000000000009E-2},{"$f":"'All Respondents'!DF88-'All Respondents'!DF87","v":1.9999999999999907E-2},{"$f":"'All Respondents'!DG88-'All Respondents'!DG87","v":-3.999999999999998E-2},{"$f":"'All Respondents'!DH88-'All Respondents'!DH87","v":-2.0000000000000018E-2},{"$f":"'All Respondents'!DI88-'All Respondents'!DI87","v":-9.999999999999995E-3},{"$f":"'All Respondents'!DJ88-'All Respondents'!DJ87","v":0.03},{"$f":"'All Respondents'!DK88-'All Respondents'!DK87","v":0.02},{"$f":"'All Respondents'!DL88-'All Respondents'!DL87","v":1.0000000000000002E-2},{"$f":"'All Respondents'!DM88-'All Respondents'!DM87","v":61592.369999999995},{"$f":"'All Respondents'!DN88-'All Respondents'!DN87","v":-15000},{"$f":"'All Respondents'!DO88-'All Respondents'!DO87","v":9.999999999999995E-3},{"$f":"'All Respondents'!DP88-'All Respondents'!DP87","v":0},{"$f":"'All Respondents'!DQ88-'All Respondents'!DQ87","v":-2.0000000000000018E-2},{"$f":"'All Respondents'!DR88-'All Respondents'!DR87","v":-3.9999999999999994E-2},{"$f":"'All Respondents'!DS88-'All Respondents'!DS87","v":1.0000000000000009E-2}]
["Jul 17 - Aug 17",{"$f":"'All Respondents'!B89-'All Respondents'!B88","v":1.2000000000000028},{"$f":"'All Respondents'!D89-'All Respondents'!D88","v":0.60000000000000853},{"$f":"'All Respondents'!E89-'All Respondents'!E88","v":1.0000000000000009E-2},{"$f":"'All Respondents'!F89-'All Respondents'!F88","v":0},{"$f":"'All Respondents'!G89-'All Respondents'!G88","v":-1.9999999999999962E-2},{"$f":"'All Respondents'!H89-'All Respondents'!H88","v":1.0000000000000009E-2},{"$f":"'All Respondents'!I89-'All Respondents'!I88","v":1.2399999999999994E-2},{"$f":"'All Respondents'!J89-'All Respondents'!J88","v":-1.0700000000000001E-2},{"$f":"'All Respondents'!K89-'All Respondents'!K88","v":-4.2250000000000065E-3},{"$f":"'All Respondents'!L89-'All Respondents'!L88","v":-4.0000000000000036E-2},{"$f":"'All Respondents'!M89-'All Respondents'!M88","v":0},{"$f":"'All Respondents'!N89-'All Respondents'!N88","v":2.9999999999999971E-2},{"$f":"'All Respondents'!O89-'All Respondents'!O88","v":4.0000000000000036E-2},null,{"$f":"'All Respondents'!Q89-'All Respondents'!Q88","v":-1.0700000000000001E-2},{"$f":"'All Respondents'!R89-'All Respondents'!R88","v":-1.999999999999999E-2},{"$f":"'All Respondents'!S89-'All Respondents'!S88","v":0},{"$f":"'All Respondents'!T89-'All Respondents'!T88","v":-1.9999999999999907E-2},{"$f":"'All Respondents'!U89-'All Respondents'!U88","v":0},{"$f":"'All Respondents'!V89-'All Respondents'!V88","v":0.03},{"$f":"'All Respondents'!W89-'All Respondents'!W88","v":3.0000000000000027E-2},{"$f":"'All Respondents'!X89-'All Respondents'!X88","v":-4.9999999999999933E-2},{"$f":"'All Respondents'!Y89-'All Respondents'!Y88","v":-2.0000000000000018E-2},{"$f":"'All Respondents'!Z89-'All Respondents'!Z88","v":3.999999999999998E-2},{"$f":"'All Respondents'!AA89-'All Respondents'!AA88","v":-3.999999999999998E-2},{"$f":"'All Respondents'!AB89-'All Respondents'!AB88","v":0},{"$f":"'All Respondents'!AC89-'All Respondents'!AC88","v":-1.999999999999999E-2},{"$f":"'All Respondents'!AD89-'All Respondents'!AD88","v":0},{"$f":"'All Respondents'!AE89-'All Respondents'!AE88","v":0},{"$f":"'All Respondents'!AF89-'All Respondents'!AF88","v":2.0000000000000004E-2},{"$f":"'All Respondents'!AG89-'All Respondents'!AG88","v":0.03},{"$f":"'All Respondents'!AH89-'All Respondents'!AH88","v":-0.06},{"$f":"'All Respondents'!AI89-'All Respondents'!AI88","v":-1.999999999999999E-2},{"$f":"'All Respondents'!AJ89-'All Respondents'!AJ88","v":0.06},{"$f":"'All Respondents'!AK89-'All Respondents'!AK88","v":3.9999999999999925E-2},{"$f":"'All Respondents'!AL89-'All Respondents'!AL88","v":-0.03},{"$f":"'All Respondents'!AM89-'All Respondents'!AM88","v":-9.999999999999995E-3},{"$f":"'All Respondents'!AN89-'All Respondents'!AN88","v":-3.999999999999998E-2},{"$f":"'All Respondents'!AO89-'All Respondents'!AO88","v":7.9999999999999905E-2},{"$f":"'All Respondents'!AP89-'All Respondents'!AP88","v":3.999999999999998E-2},{"$f":"'All Respondents'!AQ89-'All Respondents'!AQ88","v":0},{"$f":"'All Respondents'!AR89-'All Respondents'!AR88","v":-0.03},{"$f":"'All Respondents'!AS89-'All Respondents'!AS88","v":3.9999999999999994E-2},{"$f":"'All Respondents'!AT89-'All Respondents'!AT88","v":-3.999999999999998E-2},{"$f":"'All Respondents'!AU89-'All Respondents'!AU88","v":-9.9999999999999811E-3},{"$f":"'All Respondents'!AV89-'All Respondents'!AV88","v":-9.999999999999995E-3},{"$f":"'All Respondents'!AW89-'All Respondents'!AW88","v":-2.0000000000000018E-2},{"$f":"'All Respondents'!AX89-'All Respondents'!AX88","v":-5.0000000000000017E-2},{"$f":"'All Respondents'!AY89-'All Respondents'!AY88","v":8.0000000000000016E-2},{"$f":"'All Respondents'!AZ89-'All Respondents'!AZ88","v":3.0000000000000027E-2},{"$f":"'All Respondents'!BA89-'All Respondents'!BA88","v":-9.9999999999999985E-3},{"$f":"'All Respondents'!BB89-'All Respondents'!BB88","v":0},{"$f":"'All Respondents'!BC89-'All Respondents'!BC88","v":4.0000000000000036E-2},{"$f":"'All Respondents'!BD89-'All Respondents'!BD88","v":-3.2750000000000071E-3},{"$f":"'All Respondents'!BE89-'All Respondents'!BE88","v":1.0000000000000009E-2},{"$f":"'All Respondents'!BF89-'All Respondents'!BF88","v":-1.0000000000000009E-2},{"$f":"'All Respondents'!BG89-'All Respondents'!BG88","v":2.0000000000000018E-2},{"$f":"'All Respondents'!BH89-'All Respondents'!BH88","v":2.9999999999999971E-2},{"$f":"'All Respondents'!BI89-'All Respondents'!BI88","v":-1.0000000000000009E-2},{"$f":"'All Respondents'!BJ89-'All Respondents'!BJ88","v":3.999999999999998E-2},{"$f":"'All Respondents'!BK89-'All Respondents'!BK88","v":4.0000000000000008E-2},{"$f":"'All Respondents'!BL89-'All Respondents'!BL88","v":-2.9999999999999971E-2},{"$f":"'All Respondents'!BM89-'All Respondents'!BM88","v":1.0000000000000064E-2},{"$f":"'All Respondents'!BN89-'All Respondents'!BN88","v":0},{"$f":"'All Respondents'!BO89-'All Respondents'!BO88","v":-9.999999999999995E-3},{"$f":"'All Respondents'!BP89-'All Respondents'!BP88","v":0},{"$f":"'All Respondents'!BQ89-'All Respondents'!BQ88","v":-9.999999999999995E-3},{"$f":"'All Respondents'!BR89-'All Respondents'!BR88","v":2.0000000000000073E-2},{"$f":"'All Respondents'!BS89-'All Respondents'!BS88","v":-1.0000000000000009E-2},{"$f":"'All Respondents'!BT89-'All Respondents'!BT88","v":-9.999999999999995E-3},{"$f":"'All Respondents'!BU89-'All Respondents'!BU88","v":1.0000000000000009E-2},{"$f":"'All Respondents'!BV89-'All Respondents'!BV88","v":0},{"$f":"'All Respondents'!BW89-'All Respondents'!BW88","v":0},{"$f":"'All Respondents'!BX89-'All Respondents'!BX88","v":2.0000000000000018E-2},{"$f":"'All Respondents'!BY89-'All Respondents'!BY88","v":2.0000000000000018E-2},{"$f":"'All Respondents'!BZ89-'All Respondents'!BZ88","v":-7.9999999999999988E-2},{"$f":"'All Respondents'!CA89-'All Respondents'!CA88","v":9.999999999999995E-3},{"$f":"'All Respondents'!CB89-'All Respondents'!CB88","v":-7.0000000000000007E-2},{"$f":"'All Respondents'!CC89-'All Respondents'!CC88","v":5.9999999999999942E-2},{"$f":"'All Respondents'!CD89-'All Respondents'!CD88","v":1.0000000000000009E-2},{"$f":"'All Respondents'!CE89-'All Respondents'!CE88","v":-7.0000000000000007E-2},{"$f":"'All Respondents'!CF89-'All Respondents'!CF88","v":0.12},{"$f":"'All Respondents'!CG89-'All Respondents'!CG88","v":0},{"$f":"'All Respondents'!CH89-'All Respondents'!CH88","v":9.999999999999995E-3},{"$f":"'All Respondents'!CI89-'All Respondents'!CI88","v":-2.0000000000000004E-2},{"$f":"'All Respondents'!CJ89-'All Respondents'!CJ88","v":1.0000000000000009E-2},{"$f":"'All Respondents'!CK89-'All Respondents'!CK88","v":9.9999999999999985E-3},{"$f":"'All Respondents'!CL89-'All Respondents'!CL88","v":0},{"$f":"'All Respondents'!CM89-'All Respondents'!CM88","v":9.999999999999995E-3},{"$f":"'All Respondents'!CN89-'All Respondents'!CN88","v":0},{"$f":"'All Respondents'!CO89-'All Respondents'!CO88","v":-1.0000000000000009E-2},{"$f":"'All Respondents'!CP89-'All Respondents'!CP88","v":1.0000000000000009E-2},{"$f":"'All Respondents'!CQ89-'All Respondents'!CQ88","v":-1.0000000000000009E-2},{"$f":"'All Respondents'!CR89-'All Respondents'!CR88","v":3.999999999999998E-2},{"$f":"'All Respondents'!CS89-'All Respondents'!CS88","v":0},{"$f":"'All Respondents'!CT89-'All Respondents'!CT88","v":1.0000000000000009E-2},{"$f":"'All Respondents'!CU89-'All Respondents'!CU88","v":-2.0000000000000004E-2},{"$f":"'All Respondents'!CV89-'All Respondents'!CV88","v":-9.999999999999995E-3},{"$f":"'All Respondents'!CW89-'All Respondents'!CW88","v":-2.9999999999999916E-2},{"$f":"'All Respondents'!CX89-'All Respondents'!CX88","v":9.9999999999999811E-3},{"$f":"'All Respondents'!CY89-'All Respondents'!CY88","v":0.02},{"$f":"'All Respondents'!CZ89-'All Respondents'!CZ88","v":0.01},{"$f":"'All Respondents'!DA89-'All Respondents'!DA88","v":0},{"$f":"'All Respondents'!DB89-'All Respondents'!DB88","v":0},{"$f":"'All Respondents'!DC89-'All Respondents'!DC88","v":1.0000000000000009E-2},{"$f":"'All Respondents'!DD89-'All Respondents'!DD88","v":9.9999999999999811E-3},{"$f":"'All Respondents'!DE89-'All Respondents'!DE88","v":0},{"$f":"'All Respondents'!DF89-'All Respondents'!DF88","v":-1.0000000000000009E-2},{"$f":"'All Respondents'!DG89-'All Respondents'!DG88","v":0.03},{"$f":"'All Respondents'!DH89-'All Respondents'!DH88","v":1.9999999999999907E-2},{"$f":"'All Respondents'!DI89-'All Respondents'!DI88","v":3.0000000000000013E-2},{"$f":"'All Respondents'!DJ89-'All Respondents'!DJ88","v":-0.04},{"$f":"'All Respondents'!DK89-'All Respondents'!DK88","v":-1.0000000000000002E-2},{"$f":"'All Respondents'!DL89-'All Respondents'!DL88","v":-0.03},{"$f":"'All Respondents'!DM89-'All Respondents'!DM88","v":-3991.289999999979},{"$f":"'All Respondents'!DN89-'All Respondents'!DN88","v":10442.25},{"$f":"'All Respondents'!DO89-'All Respondents'!DO88","v":-9.999999999999995E-3},{"$f":"'All Respondents'!DP89-'All Respondents'!DP88","v":-1.0000000000000009E-2},{"$f":"'All Respondents'!DQ89-'All Respondents'!DQ88","v":1.0000000000000009E-2},{"$f":"'All Respondents'!DR89-'All Respondents'!DR88","v":0.03},{"$f":"'All Respondents'!DS89-'All Respondents'!DS88","v":0}]
["Aug 17 - Sep 17",{"$f":"'All Respondents'!B90-'All Respondents'!B89","v":0.29999999999999716},{"$f":"'All Respondents'!D90-'All Respondents'!D89","v":0.79999999999999716},{"$f":"'All Respondents'!E90-'All Respondents'!E89","v":-4.0000000000000036E-2},{"$f":"'All Respondents'!F90-'All Respondents'!F89","v":4.0000000000000008E-2},{"$f":"'All Respondents'!G90-'All Respondents'!G89","v":1.0000000000000009E-2},{"$f":"'All Respondents'!H90-'All Respondents'!H89","v":-8.0000000000000016E-2},{"$f":"'All Respondents'!I90-'All Respondents'!I89","v":2.9999999999999472E-4},{"$f":"'All Respondents'!J90-'All Respondents'!J89","v":-8.9999999999999802E-4},{"$f":"'All Respondents'!K90-'All Respondents'!K89","v":-6.3679999999999987E-3},{"$f":"'All Respondents'!L90-'All Respondents'!L89","v":2.0000000000000018E-2},{"$f":"'All Respondents'!M90-'All Respondents'!M89","v":0},{"$f":"'All Respondents'!N90-'All Respondents'!N89","v":-9.9999999999999534E-3},{"$f":"'All Respondents'!O90-'All Respondents'!O89","v":-2.0000000000000018E-2},null,{"$f":"'All Respondents'!Q90-'All Respondents'!Q89","v":-1.4999999999999944E-3},{"$f":"'All Respondents'!R90-'All Respondents'!R89","v":0},{"$f":"'All Respondents'!S90-'All Respondents'!S89","v":4.0000000000000036E-2},{"$f":"'All Respondents'!T90-'All Respondents'!T89","v":4.0000000000000036E-2},{"$f":"'All Respondents'!U90-'All Respondents'!U89","v":-3.999999999999998E-2},{"$f":"'All Respondents'!V90-'All Respondents'!V89","v":-2.0000000000000004E-2},{"$f":"'All Respondents'!W90-'All Respondents'!W89","v":-0.06},{"$f":"'All Respondents'!X90-'All Respondents'!X89","v":0.10000000000000003},{"$f":"'All Respondents'!Y90-'All Respondents'!Y89","v":0},{"$f":"'All Respondents'!Z90-'All Respondents'!Z89","v":-3.999999999999998E-2},{"$f":"'All Respondents'!AA90-'All Respondents'!AA89","v":3.999999999999998E-2},{"$f":"'All Respondents'!AB90-'All Respondents'!AB89","v":0},{"$f":"'All Respondents'!AC90-'All Respondents'!AC89","v":1.999999999999999E-2},{"$f":"'All Respondents'!AD90-'All Respondents'!AD89","v":4.9999999999999989E-2},{"$f":"'All Respondents'!AE90-'All Respondents'!AE89","v":-0.06},{"$f":"'All Respondents'!AF90-'All Respondents'!AF89","v":-4.0000000000000008E-2},{"$f":"'All Respondents'!AG90-'All Respondents'!AG89","v":9.999999999999995E-3},{"$f":"'All Respondents'!AH90-'All Respondents'!AH89","v":7.0000000000000007E-2},{"$f":"'All Respondents'!AI90-'All Respondents'!AI89","v":1.0000000000000009E-2},{"$f":"'All Respondents'!AJ90-'All Respondents'!AJ89","v":9.9999999999999534E-3},{"$f":"'All Respondents'!AK90-'All Respondents'!AK89","v":2.0000000000000018E-2},{"$f":"'All Respondents'!AL90-'All Respondents'!AL89","v":-1.0000000000000009E-2},{"$f":"'All Respondents'!AM90-'All Respondents'!AM89","v":9.999999999999995E-3},{"$f":"'All Respondents'!AN90-'All Respondents'!AN89","v":0},{"$f":"'All Respondents'!AO90-'All Respondents'!AO89","v":2.0000000000000018E-2},{"$f":"'All Respondents'!AP90-'All Respondents'!AP89","v":-2.0000000000000018E-2},{"$f":"'All Respondents'!AQ90-'All Respondents'!AQ89","v":9.9999999999999811E-3},{"$f":"'All Respondents'!AR90-'All Respondents'!AR89","v":-9.9999999999999811E-3},{"$f":"'All Respondents'!AS90-'All Respondents'!AS89","v":-1.999999999999999E-2},{"$f":"'All Respondents'!AT90-'All Respondents'!AT89","v":0.03},{"$f":"'All Respondents'!AU90-'All Respondents'!AU89","v":7.9999999999999988E-2},{"$f":"'All Respondents'!AV90-'All Respondents'!AV89","v":9.999999999999995E-3},{"$f":"'All Respondents'!AW90-'All Respondents'!AW89","v":5.0000000000000017E-2},{"$f":"'All Respondents'!AX90-'All Respondents'!AX89","v":-0.03},{"$f":"'All Respondents'!AY90-'All Respondents'!AY89","v":-8.0000000000000016E-2},{"$f":"'All Respondents'!AZ90-'All Respondents'!AZ89","v":-3.0000000000000027E-2},{"$f":"'All Respondents'!BA90-'All Respondents'!BA89","v":9.9999999999999985E-3},{"$f":"'All Respondents'!BB90-'All Respondents'!BB89","v":9.9999999999999534E-3},{"$f":"'All Respondents'!BC90-'All Respondents'!BC89","v":-4.0000000000000036E-2},{"$f":"'All Respondents'!BD90-'All Respondents'!BD89","v":-1.8249999999999933E-3},{"$f":"'All Respondents'!BE90-'All Respondents'!BE89","v":1.0000000000000009E-2},{"$f":"'All Respondents'!BF90-'All Respondents'!BF89","v":-1.9999999999999962E-2},{"$f":"'All Respondents'!BG90-'All Respondents'!BG89","v":2.9999999999999971E-2},{"$f":"'All Respondents'!BH90-'All Respondents'!BH89","v":-2.0000000000000018E-2},{"$f":"'All Respondents'!BI90-'All Respondents'!BI89","v":2.9999999999999971E-2},{"$f":"'All Respondents'!BJ90-'All Respondents'!BJ89","v":-4.9999999999999989E-2},{"$f":"'All Respondents'!BK90-'All Respondents'!BK89","v":-5.0000000000000017E-2},{"$f":"'All Respondents'!BL90-'All Respondents'!BL89","v":7.999999999999996E-2},{"$f":"'All Respondents'!BM90-'All Respondents'!BM89","v":2.9999999999999971E-2},{"$f":"'All Respondents'!BN90-'All Respondents'!BN89","v":0},{"$f":"'All Respondents'!BO90-'All Respondents'!BO89","v":-2.0000000000000004E-2},{"$f":"'All Respondents'!BP90-'All Respondents'!BP89","v":-1.0000000000000002E-2},{"$f":"'All Respondents'!BQ90-'All Respondents'!BQ89","v":-3.0000000000000013E-2},{"$f":"'All Respondents'!BR90-'All Respondents'!BR89","v":0.06},{"$f":"'All Respondents'!BS90-'All Respondents'!BS89","v":1.0000000000000009E-2},{"$f":"'All Respondents'!BT90-'All Respondents'!BT89","v":1.999999999999999E-2},{"$f":"'All Respondents'!BU90-'All Respondents'!BU89","v":-2.0000000000000018E-2},{"$f":"'All Respondents'!BV90-'All Respondents'!BV89","v":-9.9999999999999811E-3},{"$f":"'All Respondents'!BW90-'All Respondents'!BW89","v":0},{"$f":"'All Respondents'!BX90-'All Respondents'!BX89","v":0},{"$f":"'All Respondents'!BY90-'All Respondents'!BY89","v":0},{"$f":"'All Respondents'!BZ90-'All Respondents'!BZ89","v":1.999999999999999E-2},{"$f":"'All Respondents'!CA90-'All Respondents'!CA89","v":2.0000000000000004E-2},{"$f":"'All Respondents'!CB90-'All Respondents'!CB89","v":3.999999999999998E-2},{"$f":"'All Respondents'!CC90-'All Respondents'!CC89","v":-4.0000000000000036E-2},{"$f":"'All Respondents'!CD90-'All Respondents'!CD89","v":9.999999999999995E-3},{"$f":"'All Respondents'!CE90-'All Respondents'!CE89","v":1.0000000000000009E-2},{"$f":"'All Respondents'!CF90-'All Respondents'!CF89","v":-0.06},{"$f":"'All Respondents'!CG90-'All Respondents'!CG89","v":1.0000000000000002E-2},{"$f":"'All Respondents'!CH90-'All Respondents'!CH89","v":-9.999999999999995E-3},{"$f":"'All Respondents'!CI90-'All Respondents'!CI89","v":3.9999999999999994E-2},{"$f":"'All Respondents'!CJ90-'All Respondents'!CJ89","v":-4.0000000000000036E-2},{"$f":"'All Respondents'!CK90-'All Respondents'!CK89","v":1.0000000000000002E-2},{"$f":"'All Respondents'!CL90-'All Respondents'!CL89","v":-2.0000000000000004E-2},{"$f":"'All Respondents'!CM90-'All Respondents'!CM89","v":-1.0000000000000009E-2},{"$f":"'All Respondents'!CN90-'All Respondents'!CN89","v":0},{"$f":"'All Respondents'!CO90-'All Respondents'!CO89","v":2.0000000000000018E-2},{"$f":"'All Respondents'!CP90-'All Respondents'!CP89","v":-2.0000000000000018E-2},{"$f":"'All Respondents'!CQ90-'All Respondents'!CQ89","v":1.0000000000000009E-2},{"$f":"'All Respondents'!CR90-'All Respondents'!CR89","v":-3.0000000000000027E-2},{"$f":"'All Respondents'!CS90-'All Respondents'!CS89","v":9.999999999999995E-3},{"$f":"'All Respondents'!CT90-'All Respondents'!CT89","v":-1.0000000000000009E-2},{"$f":"'All Respondents'!CU90-'All Respondents'!CU89","v":0},{"$f":"'All Respondents'!CV90-'All Respondents'!CV89","v":2.0000000000000004E-2},{"$f":"'All Respondents'!CW90-'All Respondents'!CW89","v":0},{"$f":"'All Respondents'!CX90-'All Respondents'!CX89","v":1.0000000000000009E-2},{"$f":"'All Respondents'!CY90-'All Respondents'!CY89","v":-0.02},{"$f":"'All Respondents'!CZ90-'All Respondents'!CZ89","v":-0.01},{"$f":"'All Respondents'!DA90-'All Respondents'!DA89","v":0},{"$f":"'All Respondents'!DB90-'All Respondents'!DB89","v":1.999999999999999E-2},{"$f":"'All Respondents'!DC90-'All Respondents'!DC89","v":-2.0000000000000018E-2},{"$f":"'All Respondents'!DD90-'All Respondents'!DD89","v":1.0000000000000009E-2},{"$f":"'All Respondents'!DE90-'All Respondents'!DE89","v":-1.0000000000000009E-2},{"$f":"'All Respondents'!DF90-'All Respondents'!DF89","v":4.0000000000000036E-2},{"$f":"'All Respondents'!DG90-'All Respondents'!DG89","v":-1.0000000000000009E-2},{"$f":"'All Respondents'!DH90-'All Respondents'!DH89","v":3.0000000000000027E-2},{"$f":"'All Respondents'!DI90-'All Respondents'!DI89","v":-4.0000000000000008E-2},{"$f":"'All Respondents'!DJ90-'All Respondents'!DJ89","v":1.0000000000000002E-2},{"$f":"'All Respondents'!DK90-'All Respondents'!DK89","v":-9.9999999999999985E-3},{"$f":"'All Respondents'!DL90-'All Respondents'!DL89","v":1.9999999999999997E-2},{"$f":"'All Respondents'!DM90-'All Respondents'!DM89","v":38893.75},{"$f":"'All Respondents'!DN90-'All Respondents'!DN89","v":14557.75},{"$f":"'All Respondents'!DO90-'All Respondents'!DO89","v":3.0000000000000013E-2},{"$f":"'All Respondents'!DP90-'All Respondents'!DP89","v":0},{"$f":"'All Respondents'!DQ90-'All Respondents'!DQ89","v":1.0000000000000009E-2},{"$f":"'All Respondents'!DR90-'All Respondents'!DR89","v":2.0000000000000004E-2},{"$f":"'All Respondents'!DS90-'All Respondents'!DS89","v":-1.0000000000000009E-2}]
["Sep 17 - Oct 17",{"$f":"'All Respondents'!B91-'All Respondents'!B90","v":-3.0999999999999943},{"$f":"'All Respondents'!D91-'All Respondents'!D90","v":-4},{"$f":"'All Respondents'!E91-'All Respondents'!E90","v":-2.0000000000000018E-2},{"$f":"'All Respondents'!F91-'All Respondents'!F90","v":-2.0000000000000004E-2},{"$f":"'All Respondents'!G91-'All Respondents'!G90","v":1.9999999999999962E-2},{"$f":"'All Respondents'!H91-'All Respondents'!H90","v":0},{"$f":"'All Respondents'!I91-'All Respondents'!I90","v":-1.9199999999999995E-2},{"$f":"'All Respondents'!J91-'All Respondents'!J90","v":-6.0000000000000053E-3},{"$f":"'All Respondents'!K91-'All Respondents'!K90","v":-4.2380000000000022E-3},{"$f":"'All Respondents'!L91-'All Respondents'!L90","v":-3.0000000000000027E-2},{"$f":"'All Respondents'!M91-'All Respondents'!M90","v":-1.9999999999999997E-2},{"$f":"'All Respondents'!N91-'All Respondents'!N90","v":1.9999999999999962E-2},{"$f":"'All Respondents'!O91-'All Respondents'!O90","v":1.0000000000000009E-2},null,{"$f":"'All Respondents'!Q91-'All Respondents'!Q90","v":9.9999999999999395E-4},{"$f":"'All Respondents'!R91-'All Respondents'!R90","v":9.9999999999999811E-3},{"$f":"'All Respondents'!S91-'All Respondents'!S90","v":-3.0000000000000027E-2},{"$f":"'All Respondents'!T91-'All Respondents'!T90","v":-2.0000000000000129E-2},{"$f":"'All Respondents'!U91-'All Respondents'!U90","v":0.03},{"$f":"'All Respondents'!V91-'All Respondents'!V90","v":9.999999999999995E-3},{"$f":"'All Respondents'!W91-'All Respondents'!W90","v":3.999999999999998E-2},{"$f":"'All Respondents'!X91-'All Respondents'!X90","v":-6.0000000000000109E-2},{"$f":"'All Respondents'!Y91-'All Respondents'!Y90","v":0},{"$f":"'All Respondents'!Z91-'All Respondents'!Z90","v":0},{"$f":"'All Respondents'!AA91-'All Respondents'!AA90","v":-0.06},{"$f":"'All Respondents'!AB91-'All Respondents'!AB90","v":0},{"$f":"'All Respondents'!AC91-'All Respondents'!AC90","v":7.9999999999999988E-2},{"$f":"'All Respondents'!AD91-'All Respondents'!AD90","v":-3.999999999999998E-2},{"$f":"'All Respondents'!AE91-'All Respondents'!AE90","v":0.03},{"$f":"'All Respondents'!AF91-'All Respondents'!AF90","v":1.0000000000000009E-2},{"$f":"'All Respondents'!AG91-'All Respondents'!AG90","v":-0.03},{"$f":"'All Respondents'!AH91-'All Respondents'!AH90","v":1.999999999999999E-2},{"$f":"'All Respondents'!AI91-'All Respondents'!AI90","v":-2.0000000000000018E-2},{"$f":"'All Respondents'!AJ91-'All Respondents'!AJ90","v":-9.9999999999999534E-3},{"$f":"'All Respondents'!AK91-'All Respondents'!AK90","v":-3.0000000000000027E-2},{"$f":"'All Respondents'!AL91-'All Respondents'!AL90","v":0.03},{"$f":"'All Respondents'!AM91-'All Respondents'!AM90","v":2.0000000000000004E-2},{"$f":"'All Respondents'!AN91-'All Respondents'!AN90","v":4.9999999999999989E-2},{"$f":"'All Respondents'!AO91-'All Respondents'!AO90","v":-8.0000000000000016E-2},{"$f":"'All Respondents'!AP91-'All Respondents'!AP90","v":-9.9999999999999534E-3},{"$f":"'All Respondents'!AQ91-'All Respondents'!AQ90","v":-1.999999999999999E-2},{"$f":"'All Respondents'!AR91-'All Respondents'!AR90","v":3.999999999999998E-2},{"$f":"'All Respondents'!AS91-'All Respondents'!AS90","v":-0.05},{"$f":"'All Respondents'!AT91-'All Respondents'!AT90","v":1.999999999999999E-2},{"$f":"'All Respondents'!AU91-'All Respondents'!AU90","v":-7.0000000000000007E-2},{"$f":"'All Respondents'!AV91-'All Respondents'!AV90","v":4.0000000000000008E-2},{"$f":"'All Respondents'!AW91-'All Respondents'!AW90","v":-0.09},{"$f":"'All Respondents'!AX91-'All Respondents'!AX90","v":2.0000000000000018E-2},{"$f":"'All Respondents'!AY91-'All Respondents'!AY90","v":4.0000000000000036E-2},{"$f":"'All Respondents'!AZ91-'All Respondents'!AZ90","v":1.0000000000000009E-2},{"$f":"'All Respondents'!BA91-'All Respondents'!BA90","v":0},{"$f":"'All Respondents'!BB91-'All Respondents'!BB90","v":-2.9999999999999971E-2},{"$f":"'All Respondents'!BC91-'All Respondents'!BC90","v":1.0000000000000009E-2},{"$f":"'All Respondents'!BD91-'All Respondents'!BD90","v":4.8300000000000426E-4},{"$f":"'All Respondents'!BE91-'All Respondents'!BE90","v":0},{"$f":"'All Respondents'!BF91-'All Respondents'!BF90","v":-2.0000000000000018E-2},{"$f":"'All Respondents'!BG91-'All Respondents'!BG90","v":2.0000000000000018E-2},{"$f":"'All Respondents'!BH91-'All Respondents'!BH90","v":1.0000000000000009E-2},{"$f":"'All Respondents'!BI91-'All Respondents'!BI90","v":-2.9999999999999971E-2},{"$f":"'All Respondents'!BJ91-'All Respondents'!BJ90","v":3.999999999999998E-2},{"$f":"'All Respondents'!BK91-'All Respondents'!BK90","v":0.03},{"$f":"'All Respondents'!BL91-'All Respondents'!BL90","v":-2.9999999999999971E-2},{"$f":"'All Respondents'!BM91-'All Respondents'!BM90","v":0},{"$f":"'All Respondents'!BN91-'All Respondents'!BN90","v":1.0000000000000009E-2},{"$f":"'All Respondents'!BO91-'All Respondents'!BO90","v":9.999999999999995E-3},{"$f":"'All Respondents'!BP91-'All Respondents'!BP90","v":-1.0000000000000002E-2},{"$f":"'All Respondents'!BQ91-'All Respondents'!BQ90","v":0},{"$f":"'All Respondents'!BR91-'All Respondents'!BR90","v":0},{"$f":"'All Respondents'!BS91-'All Respondents'!BS90","v":-2.0000000000000018E-2},{"$f":"'All Respondents'!BT91-'All Respondents'!BT90","v":-9.999999999999995E-3},{"$f":"'All Respondents'!BU91-'All Respondents'!BU90","v":2.0000000000000018E-2},{"$f":"'All Respondents'!BV91-'All Respondents'!BV90","v":-1.0000000000000009E-2},{"$f":"'All Respondents'!BW91-'All Respondents'!BW90","v":-2.9999999999999971E-2},{"$f":"'All Respondents'!BX91-'All Respondents'!BX90","v":3.9999999999999925E-2},{"$f":"'All Respondents'!BY91-'All Respondents'!BY90","v":6.9999999999999896E-2},{"$f":"'All Respondents'!BZ91-'All Respondents'!BZ90","v":1.0000000000000009E-2},{"$f":"'All Respondents'!CA91-'All Respondents'!CA90","v":-4.0000000000000008E-2},{"$f":"'All Respondents'!CB91-'All Respondents'!CB90","v":-0.03},{"$f":"'All Respondents'!CC91-'All Respondents'!CC90","v":2.0000000000000018E-2},{"$f":"'All Respondents'!CD91-'All Respondents'!CD90","v":3.0000000000000013E-2},{"$f":"'All Respondents'!CE91-'All Respondents'!CE90","v":-2.0000000000000004E-2},{"$f":"'All Respondents'!CF91-'All Respondents'!CF90","v":1.0000000000000009E-2},{"$f":"'All Respondents'!CG91-'All Respondents'!CG90","v":1.0000000000000002E-2},{"$f":"'All Respondents'!CH91-'All Respondents'!CH90","v":9.999999999999995E-3},{"$f":"'All Respondents'!CI91-'All Respondents'!CI90","v":0.03},{"$f":"'All Respondents'!CJ91-'All Respondents'!CJ90","v":-4.9999999999999933E-2},{"$f":"'All Respondents'!CK91-'All Respondents'!CK90","v":0},{"$f":"'All Respondents'!CL91-'All Respondents'!CL90","v":0.03},{"$f":"'All Respondents'!CM91-'All Respondents'!CM90","v":0.03},{"$f":"'All Respondents'!CN91-'All Respondents'!CN90","v":-2.0000000000000018E-2},{"$f":"'All Respondents'!CO91-'All Respondents'!CO90","v":6.9999999999999979E-2},{"$f":"'All Respondents'!CP91-'All Respondents'!CP90","v":-8.9999999999999969E-2},{"$f":"'All Respondents'!CQ91-'All Respondents'!CQ90","v":-5.0000000000000044E-2},{"$f":"'All Respondents'!CR91-'All Respondents'!CR90","v":1.0000000000000009E-2},{"$f":"'All Respondents'!CS91-'All Respondents'!CS90","v":0},{"$f":"'All Respondents'!CT91-'All Respondents'!CT90","v":-1.0000000000000009E-2},{"$f":"'All Respondents'!CU91-'All Respondents'!CU90","v":0},{"$f":"'All Respondents'!CV91-'All Respondents'!CV90","v":1.0000000000000009E-2},{"$f":"'All Respondents'!CW91-'All Respondents'!CW90","v":1.9999999999999907E-2},{"$f":"'All Respondents'!CX91-'All Respondents'!CX90","v":0},{"$f":"'All Respondents'!CY91-'All Respondents'!CY90","v":0},{"$f":"'All Respondents'!CZ91-'All Respondents'!CZ90","v":0},{"$f":"'All Respondents'!DA91-'All Respondents'!DA90","v":-0.01},{"$f":"'All Respondents'!DB91-'All Respondents'!DB90","v":-1.999999999999999E-2},{"$f":"'All Respondents'!DC91-'All Respondents'!DC90","v":3.0000000000000027E-2},{"$f":"'All Respondents'!DD91-'All Respondents'!DD90","v":-1.0000000000000009E-2},{"$f":"'All Respondents'!DE91-'All Respondents'!DE90","v":1.0000000000000009E-2},{"$f":"'All Respondents'!DF91-'All Respondents'!DF90","v":-1.0000000000000009E-2},{"$f":"'All Respondents'!DG91-'All Respondents'!DG90","v":-0.03},{"$f":"'All Respondents'!DH91-'All Respondents'!DH90","v":-3.9999999999999925E-2},{"$f":"'All Respondents'!DI91-'All Respondents'!DI90","v":0},{"$f":"'All Respondents'!DJ91-'All Respondents'!DJ90","v":2.0000000000000004E-2},{"$f":"'All Respondents'!DK91-'All Respondents'!DK90","v":3.0000000000000002E-2},{"$f":"'All Respondents'!DL91-'All Respondents'!DL90","v":-9.9999999999999985E-3},{"$f":"'All Respondents'!DM91-'All Respondents'!DM90","v":-44202.989999999991},{"$f":"'All Respondents'!DN91-'All Respondents'!DN90","v":-30722.239999999991},{"$f":"'All Respondents'!DO91-'All Respondents'!DO90","v":0},{"$f":"'All Respondents'!DP91-'All Respondents'!DP90","v":1.0000000000000009E-2},{"$f":"'All Respondents'!DQ91-'All Respondents'!DQ90","v":0},{"$f":"'All Respondents'!DR91-'All Respondents'!DR90","v":-4.0000000000000008E-2},{"$f":"'All Respondents'!DS91-'All Respondents'!DS90","v":-9.999999999999995E-3}]
["Oct 17 - Nov 17",{"$f":"'All Respondents'!B92-'All Respondents'!B91","v":2.5999999999999943},{"$f":"'All Respondents'!D92-'All Respondents'!D91","v":4.2000000000000028},{"$f":"'All Respondents'!E92-'All Respondents'!E91","v":5.0000000000000044E-2},{"$f":"'All Respondents'!F92-'All Respondents'!F91","v":-9.999999999999995E-3},{"$f":"'All Respondents'!G92-'All Respondents'!G91","v":-1.0000000000000009E-2},{"$f":"'All Respondents'!H92-'All Respondents'!H91","v":6.0000000000000053E-2},{"$f":"'All Respondents'!I92-'All Respondents'!I91","v":1.4700000000000005E-2},{"$f":"'All Respondents'!J92-'All Respondents'!J91","v":1.6800000000000009E-2},{"$f":"'All Respondents'!K92-'All Respondents'!K91","v":1.4072000000000005E-2},{"$f":"'All Respondents'!L92-'All Respondents'!L91","v":6.0000000000000053E-2},{"$f":"'All Respondents'!M92-'All Respondents'!M91","v":1.0000000000000002E-2},{"$f":"'All Respondents'!N92-'All Respondents'!N91","v":-2.9999999999999971E-2},{"$f":"'All Respondents'!O92-'All Respondents'!O91","v":-4.9999999999999989E-2},null,{"$f":"'All Respondents'!Q92-'All Respondents'!Q91","v":1.800000000000003E-3},{"$f":"'All Respondents'!R92-'All Respondents'!R91","v":1.0000000000000009E-2},{"$f":"'All Respondents'!S92-'All Respondents'!S91","v":3.0000000000000027E-2},{"$f":"'All Respondents'!T92-'All Respondents'!T91","v":4.0000000000000036E-2},{"$f":"'All Respondents'!U92-'All Respondents'!U91","v":-1.0000000000000009E-2},{"$f":"'All Respondents'!V92-'All Respondents'!V91","v":-1.999999999999999E-2},{"$f":"'All Respondents'!W92-'All Respondents'!W91","v":-2.9999999999999971E-2},{"$f":"'All Respondents'!X92-'All Respondents'!X91","v":7.0000000000000007E-2},{"$f":"'All Respondents'!Y92-'All Respondents'!Y91","v":2.0000000000000018E-2},{"$f":"'All Respondents'!Z92-'All Respondents'!Z91","v":-1.0000000000000009E-2},{"$f":"'All Respondents'!AA92-'All Respondents'!AA91","v":4.0000000000000008E-2},{"$f":"'All Respondents'!AB92-'All Respondents'!AB91","v":-1.0000000000000002E-2},{"$f":"'All Respondents'!AC92-'All Respondents'!AC91","v":-6.9999999999999979E-2},{"$f":"'All Respondents'!AD92-'All Respondents'!AD91","v":0},{"$f":"'All Respondents'!AE92-'All Respondents'!AE91","v":-9.999999999999995E-3},{"$f":"'All Respondents'!AF92-'All Respondents'!AF91","v":-2.0000000000000004E-2},{"$f":"'All Respondents'!AG92-'All Respondents'!AG91","v":7.0000000000000007E-2},{"$f":"'All Respondents'!AH92-'All Respondents'!AH91","v":-4.0000000000000008E-2},{"$f":"'All Respondents'!AI92-'All Respondents'!AI91","v":0},{"$f":"'All Respondents'!AJ92-'All Respondents'!AJ91","v":9.9999999999999534E-3},{"$f":"'All Respondents'!AK92-'All Respondents'!AK91","v":1.0000000000000009E-2},{"$f":"'All Respondents'!AL92-'All Respondents'!AL91","v":-1.999999999999999E-2},{"$f":"'All Respondents'!AM92-'All Respondents'!AM91","v":-1.0000000000000009E-2},{"$f":"'All Respondents'!AN92-'All Respondents'!AN91","v":-2.9999999999999971E-2},{"$f":"'All Respondents'!AO92-'All Respondents'!AO91","v":3.999999999999998E-2},{"$f":"'All Respondents'!AP92-'All Respondents'!AP91","v":-4.0000000000000036E-2},{"$f":"'All Respondents'!AQ92-'All Respondents'!AQ91","v":1.0000000000000009E-2},{"$f":"'All Respondents'!AR92-'All Respondents'!AR91","v":-9.9999999999999811E-3},{"$f":"'All Respondents'!AS92-'All Respondents'!AS91","v":0.03},{"$f":"'All Respondents'!AT92-'All Respondents'!AT91","v":0.03},{"$f":"'All Respondents'!AU92-'All Respondents'!AU91","v":4.0000000000000008E-2},{"$f":"'All Respondents'!AV92-'All Respondents'!AV91","v":9.999999999999995E-3},{"$f":"'All Respondents'!AW92-'All Respondents'!AW91","v":3.999999999999998E-2},{"$f":"'All Respondents'!AX92-'All Respondents'!AX91","v":-4.0000000000000008E-2},{"$f":"'All Respondents'!AY92-'All Respondents'!AY91","v":-2.0000000000000018E-2},{"$f":"'All Respondents'!AZ92-'All Respondents'!AZ91","v":2.0000000000000018E-2},{"$f":"'All Respondents'!BA92-'All Respondents'!BA91","v":-9.9999999999999985E-3},{"$f":"'All Respondents'!BB92-'All Respondents'!BB91","v":2.0000000000000018E-2},{"$f":"'All Respondents'!BC92-'All Respondents'!BC91","v":3.0000000000000027E-2},{"$f":"'All Respondents'!BD92-'All Respondents'!BD91","v":4.4419999999999946E-3},{"$f":"'All Respondents'!BE92-'All Respondents'!BE91","v":-2.0000000000000018E-2},{"$f":"'All Respondents'!BF92-'All Respondents'!BF91","v":4.9999999999999989E-2},{"$f":"'All Respondents'!BG92-'All Respondents'!BG91","v":-7.0000000000000007E-2},{"$f":"'All Respondents'!BH92-'All Respondents'!BH91","v":2.0000000000000018E-2},{"$f":"'All Respondents'!BI92-'All Respondents'!BI91","v":0},{"$f":"'All Respondents'!BJ92-'All Respondents'!BJ91","v":2.0000000000000018E-2},{"$f":"'All Respondents'!BK92-'All Respondents'!BK91","v":4.0000000000000008E-2},{"$f":"'All Respondents'!BL92-'All Respondents'!BL91","v":-3.999999999999998E-2},{"$f":"'All Respondents'!BM92-'All Respondents'!BM91","v":0},{"$f":"'All Respondents'!BN92-'All Respondents'!BN91","v":-3.0000000000000027E-2},{"$f":"'All Respondents'!BO92-'All Respondents'!BO91","v":2.0000000000000004E-2},{"$f":"'All Respondents'!BP92-'All Respondents'!BP91","v":0},{"$f":"'All Respondents'!BQ92-'All Respondents'!BQ91","v":2.0000000000000004E-2},{"$f":"'All Respondents'!BR92-'All Respondents'!BR91","v":-2.0000000000000018E-2},{"$f":"'All Respondents'!BS92-'All Respondents'!BS91","v":0},{"$f":"'All Respondents'!BT92-'All Respondents'!BT91","v":0},{"$f":"'All Respondents'!BU92-'All Respondents'!BU91","v":0},{"$f":"'All Respondents'!BV92-'All Respondents'!BV91","v":0},{"$f":"'All Respondents'!BW92-'All Respondents'!BW91","v":-1.0000000000000009E-2},{"$f":"'All Respondents'!BX92-'All Respondents'!BX91","v":0},{"$f":"'All Respondents'!BY92-'All Respondents'!BY91","v":1.0000000000000009E-2},{"$f":"'All Respondents'!BZ92-'All Respondents'!BZ91","v":-0.03},{"$f":"'All Respondents'!CA92-'All Respondents'!CA91","v":0},{"$f":"'All Respondents'!CB92-'All Respondents'!CB91","v":-0.03},{"$f":"'All Respondents'!CC92-'All Respondents'!CC91","v":4.0000000000000036E-2},{"$f":"'All Respondents'!CD92-'All Respondents'!CD91","v":0},{"$f":"'All Respondents'!CE92-'All Respondents'!CE91","v":3.0000000000000013E-2},{"$f":"'All Respondents'!CF92-'All Respondents'!CF91","v":1.0000000000000009E-2},{"$f":"'All Respondents'!CG92-'All Respondents'!CG91","v":-2.0000000000000004E-2},{"$f":"'All Respondents'!CH92-'All Respondents'!CH91","v":-9.999999999999995E-3},{"$f":"'All Respondents'!CI92-'All Respondents'!CI91","v":-0.03},{"$f":"'All Respondents'!CJ92-'All Respondents'!CJ91","v":3.9999999999999925E-2},{"$f":"'All Respondents'!CK92-'All Respondents'!CK91","v":0},{"$f":"'All Respondents'!CL92-'All Respondents'!CL91","v":-2.0000000000000004E-2},{"$f":"'All Respondents'!CM92-'All Respondents'!CM91","v":-1.999999999999999E-2},{"$f":"'All Respondents'!CN92-'All Respondents'!CN91","v":2.0000000000000018E-2},{"$f":"'All Respondents'!CO92-'All Respondents'!CO91","v":-0.03},{"$f":"'All Respondents'!CP92-'All Respondents'!CP91","v":5.0000000000000044E-2},{"$f":"'All Respondents'!CQ92-'All Respondents'!CQ91","v":4.0000000000000036E-2},{"$f":"'All Respondents'!CR92-'All Respondents'!CR91","v":0},{"$f":"'All Respondents'!CS92-'All Respondents'!CS91","v":1.0000000000000009E-2},{"$f":"'All Respondents'!CT92-'All Respondents'!CT91","v":1.0000000000000009E-2},{"$f":"'All Respondents'!CU92-'All Respondents'!CU91","v":0},{"$f":"'All Respondents'!CV92-'All Respondents'!CV91","v":-3.0000000000000013E-2},{"$f":"'All Respondents'!CW92-'All Respondents'!CW91","v":-1.9999999999999907E-2},{"$f":"'All Respondents'!CX92-'All Respondents'!CX91","v":1.0000000000000009E-2},{"$f":"'All Respondents'!CY92-'All Respondents'!CY91","v":0},{"$f":"'All Respondents'!CZ92-'All Respondents'!CZ91","v":0.01},{"$f":"'All Respondents'!DA92-'All Respondents'!DA91","v":0.01},{"$f":"'All Respondents'!DB92-'All Respondents'!DB91","v":0},{"$f":"'All Respondents'!DC92-'All Respondents'!DC91","v":9.9999999999998979E-3},{"$f":"'All Respondents'!DD92-'All Respondents'!DD91","v":2.0000000000000018E-2},{"$f":"'All Respondents'!DE92-'All Respondents'!DE91","v":-3.0000000000000027E-2},{"$f":"'All Respondents'!DF92-'All Respondents'!DF91","v":-4.9999999999999933E-2},{"$f":"'All Respondents'!DG92-'All Respondents'!DG91","v":0.06},{"$f":"'All Respondents'!DH92-'All Respondents'!DH91","v":1.0000000000000009E-2},{"$f":"'All Respondents'!DI92-'All Respondents'!DI91","v":9.999999999999995E-3},{"$f":"'All Respondents'!DJ92-'All Respondents'!DJ91","v":-2.0000000000000004E-2},{"$f":"'All Respondents'!DK92-'All Respondents'!DK91","v":-2.0000000000000004E-2},{"$f":"'All Respondents'!DL92-'All Respondents'!DL91","v":0},{"$f":"'All Respondents'!DM92-'All Respondents'!DM91","v":37903.219999999972},{"$f":"'All Respondents'!DN92-'All Respondents'!DN91","v":40722.239999999991},{"$f":"'All Respondents'!DO92-'All Respondents'!DO91","v":-3.0000000000000013E-2},{"$f":"'All Respondents'!DP92-'All Respondents'!DP91","v":-3.999999999999998E-2},{"$f":"'All Respondents'!DQ92-'All Respondents'!DQ91","v":0.03},{"$f":"'All Respondents'!DR92-'All Respondents'!DR91","v":2.0000000000000004E-2},{"$f":"'All Respondents'!DS92-'All Respondents'!DS91","v":9.999999999999995E-3}]
["Nov 17 - Dec 17",{"$f":"'All Respondents'!B93-'All Respondents'!B92","v":-2},{"$f":"'All Respondents'!D93-'All Respondents'!D92","v":-2.2000000000000028},{"$f":"'All Respondents'!E93-'All Respondents'!E92","v":-3.0000000000000027E-2},{"$f":"'All Respondents'!F93-'All Respondents'!F92","v":-1.0000000000000009E-2},{"$f":"'All Respondents'!G93-'All Respondents'!G92","v":2.0000000000000018E-2},{"$f":"'All Respondents'!H93-'All Respondents'!H92","v":-2.0000000000000018E-2},{"$f":"'All Respondents'!I93-'All Respondents'!I92","v":6.1999999999999972E-3},{"$f":"'All Respondents'!J93-'All Respondents'!J92","v":-5.6000000000000077E-3},{"$f":"'All Respondents'!K93-'All Respondents'!K92","v":-4.0040000000000006E-3},{"$f":"'All Respondents'!L93-'All Respondents'!L92","v":0},{"$f":"'All Respondents'!M93-'All Respondents'!M92","v":-1.0000000000000002E-2},{"$f":"'All Respondents'!N93-'All Respondents'!N92","v":-1.0000000000000009E-2},{"$f":"'All Respondents'!O93-'All Respondents'!O92","v":-1.0000000000000009E-2},null,{"$f":"'All Respondents'!Q93-'All Respondents'!Q92","v":-1.5000000000000013E-3},{"$f":"'All Respondents'!R93-'All Respondents'!R92","v":-1.999999999999999E-2},{"$f":"'All Respondents'!S93-'All Respondents'!S92","v":-1.0000000000000009E-2},{"$f":"'All Respondents'!T93-'All Respondents'!T92","v":-2.9999999999999916E-2},{"$f":"'All Respondents'!U93-'All Respondents'!U92","v":1.0000000000000009E-2},{"$f":"'All Respondents'!V93-'All Respondents'!V92","v":9.999999999999995E-3},{"$f":"'All Respondents'!W93-'All Respondents'!W92","v":2.0000000000000018E-2},{"$f":"'All Respondents'!X93-'All Respondents'!X92","v":-4.9999999999999933E-2},{"$f":"'All Respondents'!Y93-'All Respondents'!Y92","v":-3.0000000000000013E-2},{"$f":"'All Respondents'!Z93-'All Respondents'!Z92","v":1.0000000000000009E-2},{"$f":"'All Respondents'!AA93-'All Respondents'!AA92","v":-0.06},{"$f":"'All Respondents'!AB93-'All Respondents'!AB92","v":1.9999999999999997E-2},{"$f":"'All Respondents'!AC93-'All Respondents'!AC92","v":6.9999999999999979E-2},{"$f":"'All Respondents'!AD93-'All Respondents'!AD92","v":-4.0000000000000036E-2},{"$f":"'All Respondents'!AE93-'All Respondents'!AE92","v":9.999999999999995E-3},{"$f":"'All Respondents'!AF93-'All Respondents'!AF92","v":3.9999999999999994E-2},{"$f":"'All Respondents'!AG93-'All Respondents'!AG92","v":-7.0000000000000007E-2},{"$f":"'All Respondents'!AH93-'All Respondents'!AH92","v":1.0000000000000009E-2},{"$f":"'All Respondents'!AI93-'All Respondents'!AI92","v":0},{"$f":"'All Respondents'!AJ93-'All Respondents'!AJ92","v":0},{"$f":"'All Respondents'!AK93-'All Respondents'!AK92","v":0},{"$f":"'All Respondents'!AL93-'All Respondents'!AL92","v":1.0000000000000009E-2},{"$f":"'All Respondents'!AM93-'All Respondents'!AM92","v":-9.999999999999995E-3},{"$f":"'All Respondents'!AN93-'All Respondents'!AN92","v":0},{"$f":"'All Respondents'!AO93-'All Respondents'!AO92","v":0},{"$f":"'All Respondents'!AP93-'All Respondents'!AP92","v":2.0000000000000018E-2},{"$f":"'All Respondents'!AQ93-'All Respondents'!AQ92","v":0},{"$f":"'All Respondents'!AR93-'All Respondents'!AR92","v":-2.0000000000000018E-2},{"$f":"'All Respondents'!AS93-'All Respondents'!AS92","v":0},{"$f":"'All Respondents'!AT93-'All Respondents'!AT92","v":1.0000000000000009E-2},{"$f":"'All Respondents'!AU93-'All Respondents'!AU92","v":-4.0000000000000008E-2},{"$f":"'All Respondents'!AV93-'All Respondents'!AV92","v":-0.08},{"$f":"'All Respondents'!AW93-'All Respondents'!AW92","v":2.0000000000000018E-2},{"$f":"'All Respondents'!AX93-'All Respondents'!AX92","v":9.999999999999995E-3},{"$f":"'All Respondents'!AY93-'All Respondents'!AY92","v":-3.0000000000000027E-2},{"$f":"'All Respondents'!AZ93-'All Respondents'!AZ92","v":1.0000000000000009E-2},{"$f":"'All Respondents'!BA93-'All Respondents'!BA92","v":-0.01},{"$f":"'All Respondents'!BB93-'All Respondents'!BB92","v":-1.0000000000000009E-2},{"$f":"'All Respondents'!BC93-'All Respondents'!BC92","v":2.0000000000000018E-2},{"$f":"'All Respondents'!BD93-'All Respondents'!BD92","v":3.1670000000000101E-3},{"$f":"'All Respondents'!BE93-'All Respondents'!BE92","v":3.9999999999999925E-2},{"$f":"'All Respondents'!BF93-'All Respondents'!BF92","v":-2.9999999999999971E-2},{"$f":"'All Respondents'!BG93-'All Respondents'!BG92","v":6.9999999999999896E-2},{"$f":"'All Respondents'!BH93-'All Respondents'!BH92","v":2.0000000000000018E-2},{"$f":"'All Respondents'!BI93-'All Respondents'!BI92","v":2.9999999999999971E-2},{"$f":"'All Respondents'!BJ93-'All Respondents'!BJ92","v":-9.9999999999999534E-3},{"$f":"'All Respondents'!BK93-'All Respondents'!BK92","v":-0.03},{"$f":"'All Respondents'!BL93-'All Respondents'!BL92","v":1.9999999999999962E-2},{"$f":"'All Respondents'!BM93-'All Respondents'!BM92","v":-1.0000000000000009E-2},{"$f":"'All Respondents'!BN93-'All Respondents'!BN92","v":3.0000000000000027E-2},{"$f":"'All Respondents'!BO93-'All Respondents'!BO92","v":-9.999999999999995E-3},{"$f":"'All Respondents'!BP93-'All Respondents'!BP92","v":1.0000000000000002E-2},{"$f":"'All Respondents'!BQ93-'All Respondents'!BQ92","v":0},{"$f":"'All Respondents'!BR93-'All Respondents'!BR92","v":-1.0000000000000009E-2},{"$f":"'All Respondents'!BS93-'All Respondents'!BS92","v":1.0000000000000009E-2},{"$f":"'All Respondents'!BT93-'All Respondents'!BT92","v":-9.999999999999995E-3},{"$f":"'All Respondents'!BU93-'All Respondents'!BU92","v":0},{"$f":"'All Respondents'!BV93-'All Respondents'!BV92","v":1.999999999999999E-2},{"$f":"'All Respondents'!BW93-'All Respondents'!BW92","v":0.06},{"$f":"'All Respondents'!BX93-'All Respondents'!BX92","v":-6.9999999999999951E-2},{"$f":"'All Respondents'!BY93-'All Respondents'!BY92","v":-0.12999999999999995},{"$f":"'All Respondents'!BZ93-'All Respondents'!BZ92","v":-0.03},{"$f":"'All Respondents'!CA93-'All Respondents'!CA92","v":-9.999999999999995E-3},{"$f":"'All Respondents'!CB93-'All Respondents'!CB92","v":-3.999999999999998E-2},{"$f":"'All Respondents'!CC93-'All Respondents'!CC92","v":2.0000000000000018E-2},{"$f":"'All Respondents'!CD93-'All Respondents'!CD92","v":-1.0000000000000009E-2},{"$f":"'All Respondents'!CE93-'All Respondents'!CE92","v":0.03},{"$f":"'All Respondents'!CF93-'All Respondents'!CF92","v":0},{"$f":"'All Respondents'!CG93-'All Respondents'!CG92","v":0},{"$f":"'All Respondents'!CH93-'All Respondents'!CH92","v":0.03},{"$f":"'All Respondents'!CI93-'All Respondents'!CI92","v":0},{"$f":"'All Respondents'!CJ93-'All Respondents'!CJ92","v":-2.9999999999999916E-2},{"$f":"'All Respondents'!CK93-'All Respondents'!CK92","v":-1.0000000000000002E-2},{"$f":"'All Respondents'!CL93-'All Respondents'!CL92","v":0.03},{"$f":"'All Respondents'!CM93-'All Respondents'!CM92","v":1.999999999999999E-2},{"$f":"'All Respondents'!CN93-'All Respondents'!CN92","v":-3.9999999999999925E-2},{"$f":"'All Respondents'!CO93-'All Respondents'!CO92","v":-1.999999999999999E-2},{"$f":"'All Respondents'!CP93-'All Respondents'!CP92","v":-2.0000000000000018E-2},{"$f":"'All Respondents'!CQ93-'All Respondents'!CQ92","v":-5.9999999999999942E-2},{"$f":"'All Respondents'!CR93-'All Respondents'!CR92","v":0},{"$f":"'All Respondents'!CS93-'All Respondents'!CS92","v":-1.0000000000000009E-2},{"$f":"'All Respondents'!CT93-'All Respondents'!CT92","v":1.0000000000000009E-2},{"$f":"'All Respondents'!CU93-'All Respondents'!CU92","v":1.0000000000000009E-2},{"$f":"'All Respondents'!CV93-'All Respondents'!CV92","v":9.999999999999995E-3},{"$f":"'All Respondents'!CW93-'All Respondents'!CW92","v":0},{"$f":"'All Respondents'!CX93-'All Respondents'!CX92","v":-1.0000000000000009E-2},{"$f":"'All Respondents'!CY93-'All Respondents'!CY92","v":9.9999999999999985E-3},{"$f":"'All Respondents'!CZ93-'All Respondents'!CZ92","v":-0.01},{"$f":"'All Respondents'!DA93-'All Respondents'!DA92","v":0},{"$f":"'All Respondents'!DB93-'All Respondents'!DB92","v":-1.999999999999999E-2},{"$f":"'All Respondents'!DC93-'All Respondents'!DC92","v":1.0000000000000009E-2},{"$f":"'All Respondents'!DD93-'All Respondents'!DD92","v":-4.0000000000000008E-2},{"$f":"'All Respondents'!DE93-'All Respondents'!DE92","v":4.0000000000000036E-2},{"$f":"'All Respondents'!DF93-'All Respondents'!DF92","v":-5.0000000000000044E-2},{"$f":"'All Respondents'!DG93-'All Respondents'!DG92","v":1.0000000000000009E-2},{"$f":"'All Respondents'!DH93-'All Respondents'!DH92","v":-4.0000000000000036E-2},{"$f":"'All Respondents'!DI93-'All Respondents'!DI92","v":3.0000000000000013E-2},{"$f":"'All Respondents'!DJ93-'All Respondents'!DJ92","v":9.999999999999995E-3},{"$f":"'All Respondents'!DK93-'All Respondents'!DK92","v":0},{"$f":"'All Respondents'!DL93-'All Respondents'!DL92","v":9.9999999999999985E-3},{"$f":"'All Respondents'!DM93-'All Respondents'!DM92","v":49995.210000000021},{"$f":"'All Respondents'!DN93-'All Respondents'!DN92","v":0},{"$f":"'All Respondents'!DO93-'All Respondents'!DO92","v":0},{"$f":"'All Respondents'!DP93-'All Respondents'!DP92","v":9.9999999999999534E-3},{"$f":"'All Respondents'!DQ93-'All Respondents'!DQ92","v":-2.0000000000000018E-2},{"$f":"'All Respondents'!DR93-'All Respondents'!DR92","v":-9.999999999999995E-3},{"$f":"'All Respondents'!DS93-'All Respondents'!DS92","v":1.0000000000000009E-2}]
["Dec 17 - Jan 18",{"$f":"'All Respondents'!B94-'All Respondents'!B93","v":3.7000000000000028},{"$f":"'All Respondents'!D94-'All Respondents'!D93","v":4},{"$f":"'All Respondents'!E94-'All Respondents'!E93","v":7.999999999999996E-2},{"$f":"'All Respondents'!F94-'All Respondents'!F93","v":0},{"$f":"'All Respondents'!G94-'All Respondents'!G93","v":-0.06},{"$f":"'All Respondents'!H94-'All Respondents'!H93","v":8.0000000000000016E-2},{"$f":"'All Respondents'!I94-'All Respondents'!I93","v":-9.099999999999997E-3},{"$f":"'All Respondents'!J94-'All Respondents'!J93","v":-2.6999999999999941E-3},{"$f":"'All Respondents'!K94-'All Respondents'!K93","v":3.8479999999999903E-3},{"$f":"'All Respondents'!L94-'All Respondents'!L93","v":-1.0000000000000009E-2},{"$f":"'All Respondents'!M94-'All Respondents'!M93","v":1.0000000000000002E-2},{"$f":"'All Respondents'!N94-'All Respondents'!N93","v":0},{"$f":"'All Respondents'!O94-'All Respondents'!O93","v":2.0000000000000018E-2},null,{"$f":"'All Respondents'!Q94-'All Respondents'!Q93","v":8.000000000000021E-4},{"$f":"'All Respondents'!R94-'All Respondents'!R93","v":1.999999999999999E-2},{"$f":"'All Respondents'!S94-'All Respondents'!S93","v":-1.0000000000000009E-2},{"$f":"'All Respondents'!T94-'All Respondents'!T93","v":9.9999999999998979E-3},{"$f":"'All Respondents'!U94-'All Respondents'!U93","v":-1.0000000000000009E-2},{"$f":"'All Respondents'!V94-'All Respondents'!V93","v":-9.999999999999995E-3},{"$f":"'All Respondents'!W94-'All Respondents'!W93","v":-2.0000000000000018E-2},{"$f":"'All Respondents'!X94-'All Respondents'!X93","v":2.9999999999999916E-2},{"$f":"'All Respondents'!Y94-'All Respondents'!Y93","v":3.0000000000000013E-2},{"$f":"'All Respondents'!Z94-'All Respondents'!Z93","v":1.0000000000000009E-2},{"$f":"'All Respondents'!AA94-'All Respondents'!AA93","v":1.0000000000000009E-2},{"$f":"'All Respondents'!AB94-'All Respondents'!AB93","v":-9.999999999999995E-3},{"$f":"'All Respondents'!AC94-'All Respondents'!AC93","v":-0.03},{"$f":"'All Respondents'!AD94-'All Respondents'!AD93","v":3.0000000000000027E-2},{"$f":"'All Respondents'!AE94-'All Respondents'!AE93","v":2.0000000000000004E-2},{"$f":"'All Respondents'!AF94-'All Respondents'!AF93","v":-4.9999999999999996E-2},{"$f":"'All Respondents'!AG94-'All Respondents'!AG93","v":1.0000000000000009E-2},{"$f":"'All Respondents'!AH94-'All Respondents'!AH93","v":1.999999999999999E-2},{"$f":"'All Respondents'!AI94-'All Respondents'!AI93","v":5.0000000000000017E-2},{"$f":"'All Respondents'!AJ94-'All Respondents'!AJ93","v":-1.9999999999999962E-2},{"$f":"'All Respondents'!AK94-'All Respondents'!AK93","v":3.0000000000000027E-2},{"$f":"'All Respondents'!AL94-'All Respondents'!AL93","v":9.9999999999999811E-3},{"$f":"'All Respondents'!AM94-'All Respondents'!AM93","v":-2.0000000000000004E-2},{"$f":"'All Respondents'!AN94-'All Respondents'!AN93","v":-1.0000000000000009E-2},{"$f":"'All Respondents'!AO94-'All Respondents'!AO93","v":4.0000000000000036E-2},{"$f":"'All Respondents'!AP94-'All Respondents'!AP93","v":1.0000000000000009E-2},{"$f":"'All Respondents'!AQ94-'All Respondents'!AQ93","v":-5.0000000000000017E-2},{"$f":"'All Respondents'!AR94-'All Respondents'!AR93","v":0.03},{"$f":"'All Respondents'!AS94-'All Respondents'!AS93","v":-2.0000000000000004E-2},{"$f":"'All Respondents'!AT94-'All Respondents'!AT93","v":-1.0000000000000009E-2},{"$f":"'All Respondents'!AU94-'All Respondents'!AU93","v":0},{"$f":"'All Respondents'!AV94-'All Respondents'!AV93","v":0.1},{"$f":"'All Respondents'!AW94-'All Respondents'!AW93","v":-0.03},{"$f":"'All Respondents'!AX94-'All Respondents'!AX93","v":9.999999999999995E-3},{"$f":"'All Respondents'!AY94-'All Respondents'!AY93","v":-9.9999999999999534E-3},{"$f":"'All Respondents'!AZ94-'All Respondents'!AZ93","v":-2.0000000000000018E-2},{"$f":"'All Respondents'!BA94-'All Respondents'!BA93","v":0.03},{"$f":"'All Respondents'!BB94-'All Respondents'!BB93","v":-2.0000000000000018E-2},{"$f":"'All Respondents'!BC94-'All Respondents'!BC93","v":-5.0000000000000044E-2},{"$f":"'All Respondents'!BD94-'All Respondents'!BD93","v":-3.9130000000000206E-3},{"$f":"'All Respondents'!BE94-'All Respondents'!BE93","v":-1.9999999999999907E-2},{"$f":"'All Respondents'!BF94-'All Respondents'!BF93","v":1.0000000000000009E-2},{"$f":"'All Respondents'!BG94-'All Respondents'!BG93","v":-2.9999999999999916E-2},{"$f":"'All Respondents'!BH94-'All Respondents'!BH93","v":-2.0000000000000018E-2},{"$f":"'All Respondents'!BI94-'All Respondents'!BI93","v":-2.9999999999999971E-2},{"$f":"'All Respondents'!BJ94-'All Respondents'!BJ93","v":9.9999999999999534E-3},{"$f":"'All Respondents'!BK94-'All Respondents'!BK93","v":1.0000000000000009E-2},{"$f":"'All Respondents'!BL94-'All Respondents'!BL93","v":2.0000000000000018E-2},{"$f":"'All Respondents'!BM94-'All Respondents'!BM93","v":3.0000000000000027E-2},{"$f":"'All Respondents'!BN94-'All Respondents'!BN93","v":-4.0000000000000036E-2},{"$f":"'All Respondents'!BO94-'All Respondents'!BO93","v":0},{"$f":"'All Respondents'!BP94-'All Respondents'!BP93","v":-1.0000000000000002E-2},{"$f":"'All Respondents'!BQ94-'All Respondents'!BQ93","v":-1.0000000000000009E-2},{"$f":"'All Respondents'!BR94-'All Respondents'!BR93","v":4.0000000000000036E-2},{"$f":"'All Respondents'!BS94-'All Respondents'!BS93","v":1.0000000000000009E-2},{"$f":"'All Respondents'!BT94-'All Respondents'!BT93","v":9.999999999999995E-3},{"$f":"'All Respondents'!BU94-'All Respondents'!BU93","v":-2.0000000000000018E-2},{"$f":"'All Respondents'!BV94-'All Respondents'!BV93","v":0},{"$f":"'All Respondents'!BW94-'All Respondents'!BW93","v":-4.9999999999999989E-2},{"$f":"'All Respondents'!BX94-'All Respondents'!BX93","v":4.9999999999999933E-2},{"$f":"'All Respondents'!BY94-'All Respondents'!BY93","v":9.9999999999999922E-2},{"$f":"'All Respondents'!BZ94-'All Respondents'!BZ93","v":7.0000000000000007E-2},{"$f":"'All Respondents'!CA94-'All Respondents'!CA93","v":9.999999999999995E-3},{"$f":"'All Respondents'!CB94-'All Respondents'!CB93","v":7.9999999999999988E-2},{"$f":"'All Respondents'!CC94-'All Respondents'!CC93","v":-6.0000000000000053E-2},{"$f":"'All Respondents'!CD94-'All Respondents'!CD93","v":-0.05},{"$f":"'All Respondents'!CE94-'All Respondents'!CE93","v":0},{"$f":"'All Respondents'!CF94-'All Respondents'!CF93","v":-1.0000000000000009E-2},{"$f":"'All Respondents'!CG94-'All Respondents'!CG93","v":1.0000000000000002E-2},{"$f":"'All Respondents'!CH94-'All Respondents'!CH93","v":-0.03},{"$f":"'All Respondents'!CI94-'All Respondents'!CI93","v":-9.9999999999999811E-3},{"$f":"'All Respondents'!CJ94-'All Respondents'!CJ93","v":4.9999999999999933E-2},{"$f":"'All Respondents'!CK94-'All Respondents'!CK93","v":1.0000000000000002E-2},{"$f":"'All Respondents'!CL94-'All Respondents'!CL93","v":-0.03},{"$f":"'All Respondents'!CM94-'All Respondents'!CM93","v":-1.999999999999999E-2},{"$f":"'All Respondents'!CN94-'All Respondents'!CN93","v":3.0000000000000027E-2},{"$f":"'All Respondents'!CO94-'All Respondents'!CO93","v":0},{"$f":"'All Respondents'!CP94-'All Respondents'!CP93","v":3.0000000000000027E-2},{"$f":"'All Respondents'!CQ94-'All Respondents'!CQ93","v":5.0000000000000044E-2},{"$f":"'All Respondents'!CR94-'All Respondents'!CR93","v":-1.0000000000000009E-2},{"$f":"'All Respondents'!CS94-'All Respondents'!CS93","v":4.0000000000000008E-2},{"$f":"'All Respondents'!CT94-'All Respondents'!CT93","v":-2.0000000000000018E-2},{"$f":"'All Respondents'!CU94-'All Respondents'!CU93","v":0},{"$f":"'All Respondents'!CV94-'All Respondents'!CV93","v":0},{"$f":"'All Respondents'!CW94-'All Respondents'!CW93","v":1.0000000000000009E-2},{"$f":"'All Respondents'!CX94-'All Respondents'!CX93","v":1.0000000000000009E-2},{"$f":"'All Respondents'!CY94-'All Respondents'!CY93","v":-9.9999999999999985E-3},{"$f":"'All Respondents'!CZ94-'All Respondents'!CZ93","v":0},{"$f":"'All Respondents'!DA94-'All Respondents'!DA93","v":0},{"$f":"'All Respondents'!DB94-'All Respondents'!DB93","v":0.03},{"$f":"'All Respondents'!DC94-'All Respondents'!DC93","v":-3.9999999999999925E-2},{"$f":"'All Respondents'!DD94-'All Respondents'!DD93","v":1.0000000000000009E-2},{"$f":"'All Respondents'!DE94-'All Respondents'!DE93","v":0},{"$f":"'All Respondents'!DF94-'All Respondents'!DF93","v":6.0000000000000053E-2},{"$f":"'All Respondents'!DG94-'All Respondents'!DG93","v":-5.0000000000000017E-2},{"$f":"'All Respondents'!DH94-'All Respondents'!DH93","v":1.0000000000000009E-2},{"$f":"'All Respondents'!DI94-'All Respondents'!DI93","v":-2.0000000000000018E-2},{"$f":"'All Respondents'!DJ94-'All Respondents'!DJ93","v":2.0000000000000004E-2},{"$f":"'All Respondents'!DK94-'All Respondents'!DK93","v":0},{"$f":"'All Respondents'!DL94-'All Respondents'!DL93","v":2.0000000000000004E-2},{"$f":"'All Respondents'!DM94-'All Respondents'!DM93","v":-45887.239999999991},{"$f":"'All Respondents'!DN94-'All Respondents'!DN93","v":15621.809999999998},{"$f":"'All Respondents'!DO94-'All Respondents'!DO93","v":-9.999999999999995E-3},{"$f":"'All Respondents'!DP94-'All Respondents'!DP93","v":-9.9999999999999534E-3},{"$f":"'All Respondents'!DQ94-'All Respondents'!DQ93","v":3.0000000000000027E-2},{"$f":"'All Respondents'!DR94-'All Respondents'!DR93","v":9.999999999999995E-3},{"$f":"'All Respondents'!DS94-'All Respondents'!DS93","v":-1.0000000000000009E-2}]
["Jan 18 - Feb 18",{"$f":"'All Respondents'!B95-'All Respondents'!B94","v":-3.7000000000000028},{"$f":"'All Respondents'!D95-'All Respondents'!D94","v":-3},{"$f":"'All Respondents'!E95-'All Respondents'!E94","v":-5.9999999999999942E-2},{"$f":"'All Respondents'!F95-'All Respondents'!F94","v":1.0000000000000009E-2},{"$f":"'All Respondents'!G95-'All Respondents'!G94","v":3.999999999999998E-2},{"$f":"'All Respondents'!H95-'All Respondents'!H94","v":-7.0000000000000007E-2},{"$f":"'All Respondents'!I95-'All Respondents'!I94","v":-1.84E-2},{"$f":"'All Respondents'!J95-'All Respondents'!J94","v":4.6999999999999958E-3},{"$f":"'All Respondents'!K95-'All Respondents'!K94","v":-4.0079999999999907E-3},{"$f":"'All Respondents'!L95-'All Respondents'!L94","v":6.9999999999999951E-2},{"$f":"'All Respondents'!M95-'All Respondents'!M94","v":0},{"$f":"'All Respondents'!N95-'All Respondents'!N94","v":-7.0000000000000007E-2},{"$f":"'All Respondents'!O95-'All Respondents'!O94","v":-6.9999999999999951E-2},null,{"$f":"'All Respondents'!Q95-'All Respondents'!Q94","v":6.3E-3},{"$f":"'All Respondents'!R95-'All Respondents'!R94","v":-1.999999999999999E-2},{"$f":"'All Respondents'!S95-'All Respondents'!S94","v":0},{"$f":"'All Respondents'!T95-'All Respondents'!T94","v":-1.9999999999999907E-2},{"$f":"'All Respondents'!U95-'All Respondents'!U94","v":1.999999999999999E-2},{"$f":"'All Respondents'!V95-'All Respondents'!V94","v":9.999999999999995E-3},{"$f":"'All Respondents'!W95-'All Respondents'!W94","v":2.9999999999999971E-2},{"$f":"'All Respondents'!X95-'All Respondents'!X94","v":-4.9999999999999878E-2},{"$f":"'All Respondents'!Y95-'All Respondents'!Y94","v":-3.0000000000000013E-2},{"$f":"'All Respondents'!Z95-'All Respondents'!Z94","v":2.9999999999999971E-2},{"$f":"'All Respondents'!AA95-'All Respondents'!AA94","v":9.9999999999999811E-3},{"$f":"'All Respondents'!AB95-'All Respondents'!AB94","v":-2.0000000000000004E-2},{"$f":"'All Respondents'!AC95-'All Respondents'!AC94","v":1.0000000000000009E-2},{"$f":"'All Respondents'!AD95-'All Respondents'!AD94","v":1.0000000000000009E-2},{"$f":"'All Respondents'!AE95-'All Respondents'!AE94","v":-0.03},{"$f":"'All Respondents'!AF95-'All Respondents'!AF94","v":0},{"$f":"'All Respondents'!AG95-'All Respondents'!AG94","v":-1.0000000000000009E-2},{"$f":"'All Respondents'!AH95-'All Respondents'!AH94","v":4.9999999999999989E-2},{"$f":"'All Respondents'!AI95-'All Respondents'!AI94","v":-1.0000000000000009E-2},{"$f":"'All Respondents'!AJ95-'All Respondents'!AJ94","v":-1.0000000000000009E-2},{"$f":"'All Respondents'!AK95-'All Respondents'!AK94","v":-2.0000000000000018E-2},{"$f":"'All Respondents'!AL95-'All Respondents'!AL94","v":-9.9999999999999811E-3},{"$f":"'All Respondents'!AM95-'All Respondents'!AM94","v":1.0000000000000009E-2},{"$f":"'All Respondents'!AN95-'All Respondents'!AN94","v":0},{"$f":"'All Respondents'!AO95-'All Respondents'!AO94","v":-2.0000000000000018E-2},{"$f":"'All Respondents'!AP95-'All Respondents'!AP94","v":-2.0000000000000018E-2},{"$f":"'All Respondents'!AQ95-'All Respondents'!AQ94","v":4.0000000000000008E-2},{"$f":"'All Respondents'!AR95-'All Respondents'!AR94","v":-9.9999999999999811E-3},{"$f":"'All Respondents'!AS95-'All Respondents'!AS94","v":0},{"$f":"'All Respondents'!AT95-'All Respondents'!AT94","v":1.0000000000000009E-2},{"$f":"'All Respondents'!AU95-'All Respondents'!AU94","v":4.0000000000000008E-2},{"$f":"'All Respondents'!AV95-'All Respondents'!AV94","v":-2.0000000000000004E-2},{"$f":"'All Respondents'!AW95-'All Respondents'!AW94","v":-1.0000000000000009E-2},{"$f":"'All Respondents'!AX95-'All Respondents'!AX94","v":5.0000000000000017E-2},{"$f":"'All Respondents'!AY95-'All Respondents'!AY94","v":-3.0000000000000027E-2},{"$f":"'All Respondents'!AZ95-'All Respondents'!AZ94","v":0},{"$f":"'All Respondents'!BA95-'All Respondents'!BA94","v":0},{"$f":"'All Respondents'!BB95-'All Respondents'!BB94","v":1.0000000000000009E-2},{"$f":"'All Respondents'!BC95-'All Respondents'!BC94","v":0},{"$f":"'All Respondents'!BD95-'All Respondents'!BD94","v":-3.8199999999999901E-3},{"$f":"'All Respondents'!BE95-'All Respondents'!BE94","v":-1.0000000000000009E-2},{"$f":"'All Respondents'!BF95-'All Respondents'!BF94","v":9.9999999999999534E-3},{"$f":"'All Respondents'!BG95-'All Respondents'!BG94","v":-1.9999999999999962E-2},{"$f":"'All Respondents'!BH95-'All Respondents'!BH94","v":3.0000000000000027E-2},{"$f":"'All Respondents'!BI95-'All Respondents'!BI94","v":-3.0000000000000027E-2},{"$f":"'All Respondents'!BJ95-'All Respondents'!BJ94","v":6.0000000000000053E-2},{"$f":"'All Respondents'!BK95-'All Respondents'!BK94","v":0},{"$f":"'All Respondents'!BL95-'All Respondents'!BL94","v":-3.0000000000000027E-2},{"$f":"'All Respondents'!BM95-'All Respondents'!BM94","v":-3.0000000000000027E-2},{"$f":"'All Respondents'!BN95-'All Respondents'!BN94","v":4.0000000000000036E-2},{"$f":"'All Respondents'!BO95-'All Respondents'!BO94","v":-1.0000000000000009E-2},{"$f":"'All Respondents'!BP95-'All Respondents'!BP94","v":0},{"$f":"'All Respondents'!BQ95-'All Respondents'!BQ94","v":-1.0000000000000009E-2},{"$f":"'All Respondents'!BR95-'All Respondents'!BR94","v":-2.0000000000000018E-2},{"$f":"'All Respondents'!BS95-'All Respondents'!BS94","v":-1.0000000000000009E-2},{"$f":"'All Respondents'!BT95-'All Respondents'!BT94","v":-2.0000000000000004E-2},{"$f":"'All Respondents'!BU95-'All Respondents'!BU94","v":3.0000000000000027E-2},{"$f":"'All Respondents'!BV95-'All Respondents'!BV94","v":9.9999999999999811E-3},{"$f":"'All Respondents'!BW95-'All Respondents'!BW94","v":1.9999999999999962E-2},{"$f":"'All Respondents'!BX95-'All Respondents'!BX94","v":0},{"$f":"'All Respondents'!BY95-'All Respondents'!BY94","v":-1.9999999999999962E-2},{"$f":"'All Respondents'!BZ95-'All Respondents'!BZ94","v":-0.03},{"$f":"'All Respondents'!CA95-'All Respondents'!CA94","v":1.0000000000000009E-2},{"$f":"'All Respondents'!CB95-'All Respondents'!CB94","v":-1.999999999999999E-2},{"$f":"'All Respondents'!CC95-'All Respondents'!CC94","v":6.0000000000000053E-2},{"$f":"'All Respondents'!CD95-'All Respondents'!CD94","v":2.0000000000000004E-2},{"$f":"'All Respondents'!CE95-'All Respondents'!CE94","v":-1.0000000000000009E-2},{"$f":"'All Respondents'!CF95-'All Respondents'!CF94","v":4.9999999999999989E-2},{"$f":"'All Respondents'!CG95-'All Respondents'!CG94","v":1.0000000000000002E-2},{"$f":"'All Respondents'!CH95-'All Respondents'!CH94","v":-1.0000000000000009E-2},{"$f":"'All Respondents'!CI95-'All Respondents'!CI94","v":-2.0000000000000018E-2},{"$f":"'All Respondents'!CJ95-'All Respondents'!CJ94","v":1.0000000000000009E-2},{"$f":"'All Respondents'!CK95-'All Respondents'!CK94","v":1.9999999999999997E-2},{"$f":"'All Respondents'!CL95-'All Respondents'!CL94","v":-9.999999999999995E-3},{"$f":"'All Respondents'!CM95-'All Respondents'!CM94","v":1.0000000000000009E-2},{"$f":"'All Respondents'!CN95-'All Respondents'!CN94","v":-1.000000000000012E-2},{"$f":"'All Respondents'!CO95-'All Respondents'!CO94","v":-0.03},{"$f":"'All Respondents'!CP95-'All Respondents'!CP94","v":1.9999999999999907E-2},{"$f":"'All Respondents'!CQ95-'All Respondents'!CQ94","v":-2.0000000000000129E-2},{"$f":"'All Respondents'!CR95-'All Respondents'!CR94","v":1.0000000000000009E-2},{"$f":"'All Respondents'!CS95-'All Respondents'!CS94","v":-4.0000000000000008E-2},{"$f":"'All Respondents'!CT95-'All Respondents'!CT94","v":2.0000000000000018E-2},{"$f":"'All Respondents'!CU95-'All Respondents'!CU94","v":9.999999999999995E-3},{"$f":"'All Respondents'!CV95-'All Respondents'!CV94","v":0.03},{"$f":"'All Respondents'!CW95-'All Respondents'!CW94","v":0},{"$f":"'All Respondents'!CX95-'All Respondents'!CX94","v":0},{"$f":"'All Respondents'!CY95-'All Respondents'!CY94","v":-0.01},{"$f":"'All Respondents'!CZ95-'All Respondents'!CZ94","v":0},{"$f":"'All Respondents'!DA95-'All Respondents'!DA94","v":0},{"$f":"'All Respondents'!DB95-'All Respondents'!DB94","v":-1.0000000000000009E-2},{"$f":"'All Respondents'!DC95-'All Respondents'!DC94","v":2.0000000000000018E-2},{"$f":"'All Respondents'!DD95-'All Respondents'!DD94","v":0},{"$f":"'All Respondents'!DE95-'All Respondents'!DE94","v":1.0000000000000009E-2},{"$f":"'All Respondents'!DF95-'All Respondents'!DF94","v":9.9999999999998979E-3},{"$f":"'All Respondents'!DG95-'All Respondents'!DG94","v":1.0000000000000009E-2},{"$f":"'All Respondents'!DH95-'All Respondents'!DH94","v":1.9999999999999907E-2},{"$f":"'All Respondents'!DI95-'All Respondents'!DI94","v":-9.999999999999995E-3},{"$f":"'All Respondents'!DJ95-'All Respondents'!DJ94","v":-9.999999999999995E-3},{"$f":"'All Respondents'!DK95-'All Respondents'!DK94","v":0},{"$f":"'All Respondents'!DL95-'All Respondents'!DL94","v":-1.0000000000000002E-2},{"$f":"'All Respondents'!DM95-'All Respondents'!DM94","v":15837.219999999972},{"$f":"'All Respondents'!DN95-'All Respondents'!DN94","v":-15621.809999999998},{"$f":"'All Respondents'!DO95-'All Respondents'!DO94","v":0},{"$f":"'All Respondents'!DP95-'All Respondents'!DP94","v":2.9999999999999971E-2},{"$f":"'All Respondents'!DQ95-'All Respondents'!DQ94","v":0},{"$f":"'All Respondents'!DR95-'All Respondents'!DR94","v":-9.999999999999995E-3},{"$f":"'All Respondents'!DS95-'All Respondents'!DS94","v":0}]
["Feb 18 - Mar 18",{"$f":"'All Respondents'!B96-'All Respondents'!B95","v":2.5},{"$f":"'All Respondents'!D96-'All Respondents'!D95","v":2},{"$f":"'All Respondents'!E96-'All Respondents'!E95","v":-1.0000000000000009E-2},{"$f":"'All Respondents'!F96-'All Respondents'!F95","v":1.999999999999999E-2},{"$f":"'All Respondents'!G96-'All Respondents'!G95","v":0},{"$f":"'All Respondents'!H96-'All Respondents'!H95","v":-2.9999999999999971E-2},{"$f":"'All Respondents'!I96-'All Respondents'!I95","v":1.0999999999999996E-2},{"$f":"'All Respondents'!J96-'All Respondents'!J95","v":-1.0000000000000009E-3},{"$f":"'All Respondents'!K96-'All Respondents'!K95","v":-2.365000000000006E-3},{"$f":"'All Respondents'!L96-'All Respondents'!L95","v":-5.0000000000000044E-2},{"$f":"'All Respondents'!M96-'All Respondents'!M95","v":0},{"$f":"'All Respondents'!N96-'All Respondents'!N95","v":0.06},{"$f":"'All Respondents'!O96-'All Respondents'!O95","v":5.0000000000000044E-2},null,{"$f":"'All Respondents'!Q96-'All Respondents'!Q95","v":-6.0000000000000331E-4},{"$f":"'All Respondents'!R96-'All Respondents'!R95","v":1.999999999999999E-2},{"$f":"'All Respondents'!S96-'All Respondents'!S95","v":3.0000000000000027E-2},{"$f":"'All Respondents'!T96-'All Respondents'!T95","v":4.9999999999999933E-2},{"$f":"'All Respondents'!U96-'All Respondents'!U95","v":-4.9999999999999989E-2},{"$f":"'All Respondents'!V96-'All Respondents'!V95","v":0},{"$f":"'All Respondents'!W96-'All Respondents'!W95","v":-4.9999999999999989E-2},{"$f":"'All Respondents'!X96-'All Respondents'!X95","v":9.9999999999999922E-2},{"$f":"'All Respondents'!Y96-'All Respondents'!Y95","v":9.999999999999995E-3},{"$f":"'All Respondents'!Z96-'All Respondents'!Z95","v":-7.999999999999996E-2},{"$f":"'All Respondents'!AA96-'All Respondents'!AA95","v":0},{"$f":"'All Respondents'!AB96-'All Respondents'!AB95","v":0.06},{"$f":"'All Respondents'!AC96-'All Respondents'!AC95","v":0},{"$f":"'All Respondents'!AD96-'All Respondents'!AD95","v":-9.0000000000000024E-2},{"$f":"'All Respondents'!AE96-'All Respondents'!AE95","v":3.9999999999999994E-2},{"$f":"'All Respondents'!AF96-'All Respondents'!AF95","v":1.9999999999999997E-2},{"$f":"'All Respondents'!AG96-'All Respondents'!AG95","v":2.0000000000000004E-2},{"$f":"'All Respondents'!AH96-'All Respondents'!AH95","v":-2.9999999999999971E-2},{"$f":"'All Respondents'!AI96-'All Respondents'!AI95","v":0},{"$f":"'All Respondents'!AJ96-'All Respondents'!AJ95","v":2.9999999999999971E-2},{"$f":"'All Respondents'!AK96-'All Respondents'!AK95","v":2.9999999999999916E-2},{"$f":"'All Respondents'!AL96-'All Respondents'!AL95","v":0},{"$f":"'All Respondents'!AM96-'All Respondents'!AM95","v":0},{"$f":"'All Respondents'!AN96-'All Respondents'!AN95","v":0},{"$f":"'All Respondents'!AO96-'All Respondents'!AO95","v":2.9999999999999916E-2},{"$f":"'All Respondents'!AP96-'All Respondents'!AP95","v":3.999999999999998E-2},{"$f":"'All Respondents'!AQ96-'All Respondents'!AQ95","v":-0.03},{"$f":"'All Respondents'!AR96-'All Respondents'!AR95","v":-1.0000000000000009E-2},{"$f":"'All Respondents'!AS96-'All Respondents'!AS95","v":1.0000000000000009E-2},{"$f":"'All Respondents'!AT96-'All Respondents'!AT95","v":0.03},{"$f":"'All Respondents'!AU96-'All Respondents'!AU95","v":-4.0000000000000008E-2},{"$f":"'All Respondents'!AV96-'All Respondents'!AV95","v":-9.999999999999995E-3},{"$f":"'All Respondents'!AW96-'All Respondents'!AW95","v":1.0000000000000009E-2},{"$f":"'All Respondents'!AX96-'All Respondents'!AX95","v":-1.0000000000000009E-2},{"$f":"'All Respondents'!AY96-'All Respondents'!AY95","v":3.999999999999998E-2},{"$f":"'All Respondents'!AZ96-'All Respondents'!AZ95","v":-1.0000000000000009E-2},{"$f":"'All Respondents'!BA96-'All Respondents'!BA95","v":-0.02},{"$f":"'All Respondents'!BB96-'All Respondents'!BB95","v":3.999999999999998E-2},{"$f":"'All Respondents'!BC96-'All Respondents'!BC95","v":1.0000000000000009E-2},{"$f":"'All Respondents'!BD96-'All Respondents'!BD95","v":6.6000000000000086E-4},{"$f":"'All Respondents'!BE96-'All Respondents'!BE95","v":3.9999999999999925E-2},{"$f":"'All Respondents'!BF96-'All Respondents'!BF95","v":-2.9999999999999971E-2},{"$f":"'All Respondents'!BG96-'All Respondents'!BG95","v":6.9999999999999896E-2},{"$f":"'All Respondents'!BH96-'All Respondents'!BH95","v":0},{"$f":"'All Respondents'!BI96-'All Respondents'!BI95","v":3.0000000000000027E-2},{"$f":"'All Respondents'!BJ96-'All Respondents'!BJ95","v":-3.0000000000000027E-2},{"$f":"'All Respondents'!BK96-'All Respondents'!BK95","v":0.06},{"$f":"'All Respondents'!BL96-'All Respondents'!BL95","v":-2.9999999999999971E-2},{"$f":"'All Respondents'!BM96-'All Respondents'!BM95","v":3.0000000000000027E-2},{"$f":"'All Respondents'!BN96-'All Respondents'!BN95","v":-4.0000000000000036E-2},{"$f":"'All Respondents'!BO96-'All Respondents'!BO95","v":1.0000000000000009E-2},{"$f":"'All Respondents'!BP96-'All Respondents'!BP95","v":1.0000000000000002E-2},{"$f":"'All Respondents'!BQ96-'All Respondents'!BQ95","v":2.0000000000000018E-2},{"$f":"'All Respondents'!BR96-'All Respondents'!BR95","v":1.0000000000000009E-2},{"$f":"'All Respondents'!BS96-'All Respondents'!BS95","v":2.0000000000000018E-2},{"$f":"'All Respondents'!BT96-'All Respondents'!BT95","v":2.0000000000000004E-2},{"$f":"'All Respondents'!BU96-'All Respondents'!BU95","v":-5.0000000000000044E-2},{"$f":"'All Respondents'!BV96-'All Respondents'!BV95","v":0},{"$f":"'All Respondents'!BW96-'All Respondents'!BW95","v":-3.999999999999998E-2},{"$f":"'All Respondents'!BX96-'All Respondents'!BX95","v":2.0000000000000018E-2},{"$f":"'All Respondents'!BY96-'All Respondents'!BY95","v":0.06},{"$f":"'All Respondents'!BZ96-'All Respondents'!BZ95","v":-1.0000000000000009E-2},{"$f":"'All Respondents'!CA96-'All Respondents'!CA95","v":-2.0000000000000004E-2},{"$f":"'All Respondents'!CB96-'All Respondents'!CB95","v":-3.0000000000000027E-2},{"$f":"'All Respondents'!CC96-'All Respondents'!CC95","v":3.0000000000000027E-2},{"$f":"'All Respondents'!CD96-'All Respondents'!CD95","v":9.999999999999995E-3},{"$f":"'All Respondents'!CE96-'All Respondents'!CE95","v":0},{"$f":"'All Respondents'!CF96-'All Respondents'!CF95","v":2.0000000000000018E-2},{"$f":"'All Respondents'!CG96-'All Respondents'!CG95","v":-1.0000000000000002E-2},{"$f":"'All Respondents'!CH96-'All Respondents'!CH95","v":0},{"$f":"'All Respondents'!CI96-'All Respondents'!CI95","v":0.03},{"$f":"'All Respondents'!CJ96-'All Respondents'!CJ95","v":-1.0000000000000009E-2},{"$f":"'All Respondents'!CK96-'All Respondents'!CK95","v":-9.999999999999995E-3},{"$f":"'All Respondents'!CL96-'All Respondents'!CL95","v":9.999999999999995E-3},{"$f":"'All Respondents'!CM96-'All Respondents'!CM95","v":0},{"$f":"'All Respondents'!CN96-'All Respondents'!CN95","v":0},{"$f":"'All Respondents'!CO96-'All Respondents'!CO95","v":4.0000000000000008E-2},{"$f":"'All Respondents'!CP96-'All Respondents'!CP95","v":-3.9999999999999925E-2},{"$f":"'All Respondents'!CQ96-'All Respondents'!CQ95","v":0},{"$f":"'All Respondents'!CR96-'All Respondents'!CR95","v":-4.9999999999999989E-2},{"$f":"'All Respondents'!CS96-'All Respondents'!CS95","v":2.0000000000000018E-2},{"$f":"'All Respondents'!CT96-'All Respondents'!CT95","v":-1.0000000000000009E-2},{"$f":"'All Respondents'!CU96-'All Respondents'!CU95","v":-2.0000000000000004E-2},{"$f":"'All Respondents'!CV96-'All Respondents'!CV95","v":-9.9999999999999811E-3},{"$f":"'All Respondents'!CW96-'All Respondents'!CW95","v":-1.0000000000000009E-2},{"$f":"'All Respondents'!CX96-'All Respondents'!CX95","v":-1.0000000000000009E-2},{"$f":"'All Respondents'!CY96-'All Respondents'!CY95","v":1.9999999999999997E-2},{"$f":"'All Respondents'!CZ96-'All Respondents'!CZ95","v":0.01},{"$f":"'All Respondents'!DA96-'All Respondents'!DA95","v":0},{"$f":"'All Respondents'!DB96-'All Respondents'!DB95","v":-0.03},{"$f":"'All Respondents'!DC96-'All Respondents'!DC95","v":1.9999999999999907E-2},{"$f":"'All Respondents'!DD96-'All Respondents'!DD95","v":-1.0000000000000009E-2},{"$f":"'All Respondents'!DE96-'All Respondents'!DE95","v":-1.0000000000000009E-2},{"$f":"'All Respondents'!DF96-'All Respondents'!DF95","v":1.0000000000000009E-2},{"$f":"'All Respondents'!DG96-'All Respondents'!DG95","v":0.03},{"$f":"'All Respondents'!DH96-'All Respondents'!DH95","v":4.0000000000000036E-2},{"$f":"'All Respondents'!DI96-'All Respondents'!DI95","v":-2.0000000000000004E-2},{"$f":"'All Respondents'!DJ96-'All Respondents'!DJ95","v":0},{"$f":"'All Respondents'!DK96-'All Respondents'!DK95","v":2.0000000000000004E-2},{"$f":"'All Respondents'!DL96-'All Respondents'!DL95","v":-0.02},{"$f":"'All Respondents'!DM96-'All Respondents'!DM95","v":-16744.469999999972},{"$f":"'All Respondents'!DN96-'All Respondents'!DN95","v":0},{"$f":"'All Respondents'!DO96-'All Respondents'!DO95","v":-1.0000000000000009E-2},{"$f":"'All Respondents'!DP96-'All Respondents'!DP95","v":1.0000000000000009E-2},{"$f":"'All Respondents'!DQ96-'All Respondents'!DQ95","v":-1.0000000000000009E-2},{"$f":"'All Respondents'!DR96-'All Respondents'!DR95","v":9.999999999999995E-3},{"$f":"'All Respondents'!DS96-'All Respondents'!DS95","v":0}]
["Mar 18 - Apr 18",{"$f":"'All Respondents'!B97-'All Respondents'!B96","v":3.4000000000000057},{"$f":"'All Respondents'!D97-'All Respondents'!D96","v":3.2000000000000028},{"$f":"'All Respondents'!E97-'All Respondents'!E96","v":4.0000000000000036E-2},{"$f":"'All Respondents'!F97-'All Respondents'!F96","v":-0.03},{"$f":"'All Respondents'!G97-'All Respondents'!G96","v":-9.9999999999999534E-3},{"$f":"'All Respondents'!H97-'All Respondents'!H96","v":7.0000000000000007E-2},{"$f":"'All Respondents'!I97-'All Respondents'!I96","v":1.4200000000000004E-2},{"$f":"'All Respondents'!J97-'All Respondents'!J96","v":3.9000000000000007E-3},{"$f":"'All Respondents'!K97-'All Respondents'!K96","v":8.8070000000000162E-3},{"$f":"'All Respondents'!L97-'All Respondents'!L96","v":-2.9999999999999916E-2},{"$f":"'All Respondents'!M97-'All Respondents'!M96","v":9.999999999999995E-3},{"$f":"'All Respondents'!N97-'All Respondents'!N96","v":1.0000000000000009E-2},{"$f":"'All Respondents'!O97-'All Respondents'!O96","v":3.9999999999999869E-2},null,{"$f":"'All Respondents'!Q97-'All Respondents'!Q96","v":-2.9999999999999472E-4},{"$f":"'All Respondents'!R97-'All Respondents'!R96","v":1.999999999999999E-2},{"$f":"'All Respondents'!S97-'All Respondents'!S96","v":-3.0000000000000027E-2},{"$f":"'All Respondents'!T97-'All Respondents'!T96","v":-1.0000000000000009E-2},{"$f":"'All Respondents'!U97-'All Respondents'!U96","v":0.03},{"$f":"'All Respondents'!V97-'All Respondents'!V96","v":-9.999999999999995E-3},{"$f":"'All Respondents'!W97-'All Respondents'!W96","v":2.0000000000000018E-2},{"$f":"'All Respondents'!X97-'All Respondents'!X96","v":-3.0000000000000027E-2},{"$f":"'All Respondents'!Y97-'All Respondents'!Y96","v":-9.999999999999995E-3},{"$f":"'All Respondents'!Z97-'All Respondents'!Z96","v":2.9999999999999971E-2},{"$f":"'All Respondents'!AA97-'All Respondents'!AA96","v":4.0000000000000008E-2},{"$f":"'All Respondents'!AB97-'All Respondents'!AB96","v":-0.06},{"$f":"'All Respondents'!AC97-'All Respondents'!AC96","v":-1.999999999999999E-2},{"$f":"'All Respondents'!AD97-'All Respondents'!AD96","v":0.06},{"$f":"'All Respondents'!AE97-'All Respondents'!AE96","v":-3.9999999999999994E-2},{"$f":"'All Respondents'!AF97-'All Respondents'!AF96","v":1.0000000000000009E-2},{"$f":"'All Respondents'!AG97-'All Respondents'!AG96","v":9.999999999999995E-3},{"$f":"'All Respondents'!AH97-'All Respondents'!AH96","v":-0.09},{"$f":"'All Respondents'!AI97-'All Respondents'!AI96","v":3.0000000000000027E-2},{"$f":"'All Respondents'!AJ97-'All Respondents'!AJ96","v":-9.9999999999999534E-3},{"$f":"'All Respondents'!AK97-'All Respondents'!AK96","v":2.0000000000000129E-2},{"$f":"'All Respondents'!AL97-'All Respondents'!AL96","v":-1.0000000000000009E-2},{"$f":"'All Respondents'!AM97-'All Respondents'!AM96","v":-3.0000000000000006E-2},{"$f":"'All Respondents'!AN97-'All Respondents'!AN96","v":-4.0000000000000008E-2},{"$f":"'All Respondents'!AO97-'All Respondents'!AO96","v":6.0000000000000164E-2},{"$f":"'All Respondents'!AP97-'All Respondents'!AP96","v":-9.9999999999999534E-3},{"$f":"'All Respondents'!AQ97-'All Respondents'!AQ96","v":1.999999999999999E-2},{"$f":"'All Respondents'!AR97-'All Respondents'!AR96","v":-1.0000000000000009E-2},{"$f":"'All Respondents'!AS97-'All Respondents'!AS96","v":1.999999999999999E-2},{"$f":"'All Respondents'!AT97-'All Respondents'!AT96","v":-0.03},{"$f":"'All Respondents'!AU97-'All Respondents'!AU96","v":4.0000000000000008E-2},{"$f":"'All Respondents'!AV97-'All Respondents'!AV96","v":-2.0000000000000004E-2},{"$f":"'All Respondents'!AW97-'All Respondents'!AW96","v":0.03},{"$f":"'All Respondents'!AX97-'All Respondents'!AX96","v":-1.999999999999999E-2},{"$f":"'All Respondents'!AY97-'All Respondents'!AY96","v":2.0000000000000018E-2},{"$f":"'All Respondents'!AZ97-'All Respondents'!AZ96","v":3.0000000000000027E-2},{"$f":"'All Respondents'!BA97-'All Respondents'!BA96","v":0},{"$f":"'All Respondents'!BB97-'All Respondents'!BB96","v":-4.9999999999999989E-2},{"$f":"'All Respondents'!BC97-'All Respondents'!BC96","v":3.0000000000000027E-2},{"$f":"'All Respondents'!BD97-'All Respondents'!BD96","v":1.1749999999999997E-2},{"$f":"'All Respondents'!BE97-'All Respondents'!BE96","v":-3.9999999999999925E-2},{"$f":"'All Respondents'!BF97-'All Respondents'!BF96","v":2.0000000000000018E-2},{"$f":"'All Respondents'!BG97-'All Respondents'!BG96","v":-5.9999999999999942E-2},{"$f":"'All Respondents'!BH97-'All Respondents'!BH96","v":-2.0000000000000018E-2},{"$f":"'All Respondents'!BI97-'All Respondents'!BI96","v":0},{"$f":"'All Respondents'!BJ97-'All Respondents'!BJ96","v":-2.0000000000000018E-2},{"$f":"'All Respondents'!BK97-'All Respondents'!BK96","v":-5.0000000000000017E-2},{"$f":"'All Respondents'!BL97-'All Respondents'!BL96","v":7.0000000000000007E-2},{"$f":"'All Respondents'!BM97-'All Respondents'!BM96","v":2.0000000000000018E-2},{"$f":"'All Respondents'!BN97-'All Respondents'!BN96","v":-1.9999999999999962E-2},{"$f":"'All Respondents'!BO97-'All Respondents'!BO96","v":0},{"$f":"'All Respondents'!BP97-'All Respondents'!BP96","v":0},{"$f":"'All Respondents'!BQ97-'All Respondents'!BQ96","v":0},{"$f":"'All Respondents'!BR97-'All Respondents'!BR96","v":2.0000000000000018E-2},{"$f":"'All Respondents'!BS97-'All Respondents'!BS96","v":0},{"$f":"'All Respondents'!BT97-'All Respondents'!BT96","v":-9.999999999999995E-3},{"$f":"'All Respondents'!BU97-'All Respondents'!BU96","v":2.0000000000000018E-2},{"$f":"'All Respondents'!BV97-'All Respondents'!BV96","v":9.9999999999999811E-3},{"$f":"'All Respondents'!BW97-'All Respondents'!BW96","v":0.06},{"$f":"'All Respondents'!BX97-'All Respondents'!BX96","v":-4.9999999999999933E-2},{"$f":"'All Respondents'!BY97-'All Respondents'!BY96","v":-0.10999999999999993},{"$f":"'All Respondents'!BZ97-'All Respondents'!BZ96","v":7.0000000000000007E-2},{"$f":"'All Respondents'!CA97-'All Respondents'!CA96","v":9.999999999999995E-3},{"$f":"'All Respondents'!CB97-'All Respondents'!CB96","v":8.0000000000000016E-2},{"$f":"'All Respondents'!CC97-'All Respondents'!CC96","v":-9.000000000000008E-2},{"$f":"'All Respondents'!CD97-'All Respondents'!CD96","v":-3.9999999999999994E-2},{"$f":"'All Respondents'!CE97-'All Respondents'!CE96","v":-1.999999999999999E-2},{"$f":"'All Respondents'!CF97-'All Respondents'!CF96","v":-3.0000000000000027E-2},{"$f":"'All Respondents'!CG97-'All Respondents'!CG96","v":-1.0000000000000002E-2},{"$f":"'All Respondents'!CH97-'All Respondents'!CH96","v":0},{"$f":"'All Respondents'!CI97-'All Respondents'!CI96","v":-3.9999999999999994E-2},{"$f":"'All Respondents'!CJ97-'All Respondents'!CJ96","v":5.0000000000000044E-2},{"$f":"'All Respondents'!CK97-'All Respondents'!CK96","v":-2.0000000000000004E-2},{"$f":"'All Respondents'!CL97-'All Respondents'!CL96","v":0},{"$f":"'All Respondents'!CM97-'All Respondents'!CM96","v":-2.0000000000000018E-2},{"$f":"'All Respondents'!CN97-'All Respondents'!CN96","v":2.9999999999999916E-2},{"$f":"'All Respondents'!CO97-'All Respondents'!CO96","v":-0.06},{"$f":"'All Respondents'!CP97-'All Respondents'!CP96","v":8.9999999999999969E-2},{"$f":"'All Respondents'!CQ97-'All Respondents'!CQ96","v":4.9999999999999933E-2},{"$f":"'All Respondents'!CR97-'All Respondents'!CR96","v":3.999999999999998E-2},{"$f":"'All Respondents'!CS97-'All Respondents'!CS96","v":-1.0000000000000009E-2},{"$f":"'All Respondents'!CT97-'All Respondents'!CT96","v":-1.0000000000000009E-2},{"$f":"'All Respondents'!CU97-'All Respondents'!CU96","v":1.0000000000000009E-2},{"$f":"'All Respondents'!CV97-'All Respondents'!CV96","v":0},{"$f":"'All Respondents'!CW97-'All Respondents'!CW96","v":1.9999999999999907E-2},{"$f":"'All Respondents'!CX97-'All Respondents'!CX96","v":-1.999999999999999E-2},{"$f":"'All Respondents'!CY97-'All Respondents'!CY96","v":0},{"$f":"'All Respondents'!CZ97-'All Respondents'!CZ96","v":-0.01},{"$f":"'All Respondents'!DA97-'All Respondents'!DA96","v":0},{"$f":"'All Respondents'!DB97-'All Respondents'!DB96","v":0.03},{"$f":"'All Respondents'!DC97-'All Respondents'!DC96","v":-1.9999999999999907E-2},{"$f":"'All Respondents'!DD97-'All Respondents'!DD96","v":0.03},{"$f":"'All Respondents'!DE97-'All Respondents'!DE96","v":-2.0000000000000018E-2},{"$f":"'All Respondents'!DF97-'All Respondents'!DF96","v":8.0000000000000071E-2},{"$f":"'All Respondents'!DG97-'All Respondents'!DG96","v":-7.9999999999999988E-2},{"$f":"'All Respondents'!DH97-'All Respondents'!DH96","v":0},{"$f":"'All Respondents'!DI97-'All Respondents'!DI96","v":1.0000000000000009E-2},{"$f":"'All Respondents'!DJ97-'All Respondents'!DJ96","v":-2.0000000000000004E-2},{"$f":"'All Respondents'!DK97-'All Respondents'!DK96","v":-2.0000000000000004E-2},{"$f":"'All Respondents'!DL97-'All Respondents'!DL96","v":0},{"$f":"'All Respondents'!DM97-'All Respondents'!DM96","v":62496.039999999979},{"$f":"'All Respondents'!DN97-'All Respondents'!DN96","v":25000},{"$f":"'All Respondents'!DO97-'All Respondents'!DO96","v":0},{"$f":"'All Respondents'!DP97-'All Respondents'!DP96","v":-4.9999999999999989E-2},{"$f":"'All Respondents'!DQ97-'All Respondents'!DQ96","v":1.0000000000000009E-2},{"$f":"'All Respondents'!DR97-'All Respondents'!DR96","v":9.999999999999995E-3},{"$f":"'All Respondents'!DS97-'All Respondents'!DS96","v":4.0000000000000008E-2}]
["Apr 18 - May 18",{"$f":"'All Respondents'!B98-'All Respondents'!B97","v":0.59999999999999432},{"$f":"'All Respondents'!D98-'All Respondents'!D97","v":1},{"$f":"'All Respondents'!E98-'All Respondents'!E97","v":0},{"$f":"'All Respondents'!F98-'All Respondents'!F97","v":0},{"$f":"'All Respondents'!G98-'All Respondents'!G97","v":-1.0000000000000009E-2},{"$f":"'All Respondents'!H98-'All Respondents'!H97","v":0},{"$f":"'All Respondents'!I98-'All Respondents'!I97","v":-3.600000000000006E-3},{"$f":"'All Respondents'!J98-'All Respondents'!J97","v":-6.3E-3},{"$f":"'All Respondents'!K98-'All Respondents'!K97","v":-3.6810000000000107E-3},{"$f":"'All Respondents'!L98-'All Respondents'!L97","v":0},{"$f":"'All Respondents'!M98-'All Respondents'!M97","v":-9.999999999999995E-3},{"$f":"'All Respondents'!N98-'All Respondents'!N97","v":-1.0000000000000009E-2},{"$f":"'All Respondents'!O98-'All Respondents'!O97","v":-1.0000000000000009E-2},null,{"$f":"'All Respondents'!Q98-'All Respondents'!Q97","v":1.4999999999999944E-3},{"$f":"'All Respondents'!R98-'All Respondents'!R97","v":-0.03},{"$f":"'All Respondents'!S98-'All Respondents'!S97","v":1.0000000000000009E-2},{"$f":"'All Respondents'!T98-'All Respondents'!T97","v":-2.0000000000000018E-2},{"$f":"'All Respondents'!U98-'All Respondents'!U97","v":1.0000000000000009E-2},{"$f":"'All Respondents'!V98-'All Respondents'!V97","v":-2.0000000000000004E-2},{"$f":"'All Respondents'!W98-'All Respondents'!W97","v":-1.0000000000000009E-2},{"$f":"'All Respondents'!X98-'All Respondents'!X97","v":-1.0000000000000009E-2},{"$f":"'All Respondents'!Y98-'All Respondents'!Y97","v":-9.999999999999995E-3},{"$f":"'All Respondents'!Z98-'All Respondents'!Z97","v":-1.0000000000000009E-2},{"$f":"'All Respondents'!AA98-'All Respondents'!AA97","v":-4.0000000000000008E-2},{"$f":"'All Respondents'!AB98-'All Respondents'!AB97","v":2.0000000000000004E-2},{"$f":"'All Respondents'!AC98-'All Respondents'!AC97","v":4.9999999999999989E-2},{"$f":"'All Respondents'!AD98-'All Respondents'!AD97","v":9.0000000000000024E-2},{"$f":"'All Respondents'!AE98-'All Respondents'!AE97","v":9.999999999999995E-3},{"$f":"'All Respondents'!AF98-'All Respondents'!AF97","v":1.999999999999999E-2},{"$f":"'All Respondents'!AG98-'All Respondents'!AG97","v":-4.9999999999999989E-2},{"$f":"'All Respondents'!AH98-'All Respondents'!AH97","v":9.9999999999999811E-3},{"$f":"'All Respondents'!AI98-'All Respondents'!AI97","v":-3.0000000000000027E-2},{"$f":"'All Respondents'!AJ98-'All Respondents'!AJ97","v":1.9999999999999962E-2},{"$f":"'All Respondents'!AK98-'All Respondents'!AK97","v":-1.000000000000012E-2},{"$f":"'All Respondents'!AL98-'All Respondents'!AL97","v":-0.03},{"$f":"'All Respondents'!AM98-'All Respondents'!AM97","v":1.0000000000000002E-2},{"$f":"'All Respondents'!AN98-'All Respondents'!AN97","v":-1.999999999999999E-2},{"$f":"'All Respondents'!AO98-'All Respondents'!AO97","v":9.9999999999998423E-3},{"$f":"'All Respondents'!AP98-'All Respondents'!AP97","v":-2.0000000000000018E-2},{"$f":"'All Respondents'!AQ98-'All Respondents'!AQ97","v":-3.999999999999998E-2},{"$f":"'All Respondents'!AR98-'All Respondents'!AR97","v":0.03},{"$f":"'All Respondents'!AS98-'All Respondents'!AS97","v":0},{"$f":"'All Respondents'!AT98-'All Respondents'!AT97","v":0},{"$f":"'All Respondents'!AU98-'All Respondents'!AU97","v":-1.999999999999999E-2},{"$f":"'All Respondents'!AV98-'All Respondents'!AV97","v":9.999999999999995E-3},{"$f":"'All Respondents'!AW98-'All Respondents'!AW97","v":1.999999999999999E-2},{"$f":"'All Respondents'!AX98-'All Respondents'!AX97","v":-3.0000000000000013E-2},{"$f":"'All Respondents'!AY98-'All Respondents'!AY97","v":-3.999999999999998E-2},{"$f":"'All Respondents'!AZ98-'All Respondents'!AZ97","v":0},{"$f":"'All Respondents'!BA98-'All Respondents'!BA97","v":0},{"$f":"'All Respondents'!BB98-'All Respondents'!BB97","v":0},{"$f":"'All Respondents'!BC98-'All Respondents'!BC97","v":0},{"$f":"'All Respondents'!BD98-'All Respondents'!BD97","v":-1.0435999999999994E-2},{"$f":"'All Respondents'!BE98-'All Respondents'!BE97","v":1.0000000000000009E-2},{"$f":"'All Respondents'!BF98-'All Respondents'!BF97","v":9.9999999999999534E-3},{"$f":"'All Respondents'!BG98-'All Respondents'!BG97","v":0},{"$f":"'All Respondents'!BH98-'All Respondents'!BH97","v":-1.0000000000000009E-2},{"$f":"'All Respondents'!BI98-'All Respondents'!BI97","v":-1.0000000000000009E-2},{"$f":"'All Respondents'!BJ98-'All Respondents'!BJ97","v":0},{"$f":"'All Respondents'!BK98-'All Respondents'!BK97","v":0},{"$f":"'All Respondents'!BL98-'All Respondents'!BL97","v":-0.06},{"$f":"'All Respondents'!BM98-'All Respondents'!BM97","v":-6.0000000000000053E-2},{"$f":"'All Respondents'!BN98-'All Respondents'!BN97","v":0.06},{"$f":"'All Respondents'!BO98-'All Respondents'!BO97","v":0},{"$f":"'All Respondents'!BP98-'All Respondents'!BP97","v":-1.0000000000000002E-2},{"$f":"'All Respondents'!BQ98-'All Respondents'!BQ97","v":-1.0000000000000009E-2},{"$f":"'All Respondents'!BR98-'All Respondents'!BR97","v":-5.0000000000000044E-2},{"$f":"'All Respondents'!BS98-'All Respondents'!BS97","v":1.9999999999999962E-2},{"$f":"'All Respondents'!BT98-'All Respondents'!BT97","v":-1.0000000000000009E-2},{"$f":"'All Respondents'!BU98-'All Respondents'!BU97","v":0},{"$f":"'All Respondents'!BV98-'All Respondents'!BV97","v":2.9999999999999971E-2},{"$f":"'All Respondents'!BW98-'All Respondents'!BW97","v":-2.0000000000000018E-2},{"$f":"'All Respondents'!BX98-'All Respondents'!BX97","v":2.0000000000000018E-2},{"$f":"'All Respondents'!BY98-'All Respondents'!BY97","v":4.0000000000000036E-2},{"$f":"'All Respondents'!BZ98-'All Respondents'!BZ97","v":-2.0000000000000018E-2},{"$f":"'All Respondents'!CA98-'All Respondents'!CA97","v":-9.999999999999995E-3},{"$f":"'All Respondents'!CB98-'All Respondents'!CB97","v":-3.0000000000000027E-2},{"$f":"'All Respondents'!CC98-'All Respondents'!CC97","v":-1.0000000000000009E-2},{"$f":"'All Respondents'!CD98-'All Respondents'!CD97","v":-1.0000000000000009E-2},{"$f":"'All Respondents'!CE98-'All Respondents'!CE97","v":9.9999999999999811E-3},{"$f":"'All Respondents'!CF98-'All Respondents'!CF97","v":-1.0000000000000009E-2},{"$f":"'All Respondents'!CG98-'All Respondents'!CG97","v":1.0000000000000002E-2},{"$f":"'All Respondents'!CH98-'All Respondents'!CH97","v":0},{"$f":"'All Respondents'!CI98-'All Respondents'!CI97","v":0.05},{"$f":"'All Respondents'!CJ98-'All Respondents'!CJ97","v":-5.0000000000000044E-2},{"$f":"'All Respondents'!CK98-'All Respondents'!CK97","v":0},{"$f":"'All Respondents'!CL98-'All Respondents'!CL97","v":-9.999999999999995E-3},{"$f":"'All Respondents'!CM98-'All Respondents'!CM97","v":-9.999999999999995E-3},{"$f":"'All Respondents'!CN98-'All Respondents'!CN97","v":1.0000000000000009E-2},{"$f":"'All Respondents'!CO98-'All Respondents'!CO97","v":7.9999999999999988E-2},{"$f":"'All Respondents'!CP98-'All Respondents'!CP97","v":-6.9999999999999951E-2},{"$f":"'All Respondents'!CQ98-'All Respondents'!CQ97","v":2.0000000000000018E-2},{"$f":"'All Respondents'!CR98-'All Respondents'!CR97","v":-9.9999999999999534E-3},{"$f":"'All Respondents'!CS98-'All Respondents'!CS97","v":1.999999999999999E-2},{"$f":"'All Respondents'!CT98-'All Respondents'!CT97","v":-0.03},{"$f":"'All Respondents'!CU98-'All Respondents'!CU97","v":0},{"$f":"'All Respondents'!CV98-'All Respondents'!CV97","v":-2.0000000000000018E-2},{"$f":"'All Respondents'!CW98-'All Respondents'!CW97","v":-9.9999999999998979E-3},{"$f":"'All Respondents'!CX98-'All Respondents'!CX97","v":1.999999999999999E-2},{"$f":"'All Respondents'!CY98-'All Respondents'!CY97","v":-9.9999999999999985E-3},{"$f":"'All Respondents'!CZ98-'All Respondents'!CZ97","v":0},{"$f":"'All Respondents'!DA98-'All Respondents'!DA97","v":0},{"$f":"'All Respondents'!DB98-'All Respondents'!DB97","v":-0.03},{"$f":"'All Respondents'!DC98-'All Respondents'!DC97","v":9.9999999999998979E-3},{"$f":"'All Respondents'!DD98-'All Respondents'!DD97","v":-4.0000000000000008E-2},{"$f":"'All Respondents'!DE98-'All Respondents'!DE97","v":3.0000000000000027E-2},{"$f":"'All Respondents'!DF98-'All Respondents'!DF97","v":-9.9999999999999978E-2},{"$f":"'All Respondents'!DG98-'All Respondents'!DG97","v":0.1},{"$f":"'All Respondents'!DH98-'All Respondents'!DH97","v":0},{"$f":"'All Respondents'!DI98-'All Respondents'!DI97","v":0.03},{"$f":"'All Respondents'!DJ98-'All Respondents'!DJ97","v":-1.0000000000000002E-2},{"$f":"'All Respondents'!DK98-'All Respondents'!DK97","v":0},{"$f":"'All Respondents'!DL98-'All Respondents'!DL97","v":-0.01},{"$f":"'All Respondents'!DM98-'All Respondents'!DM97","v":-134530.15999999997},{"$f":"'All Respondents'!DN98-'All Respondents'!DN97","v":-47962.109999999986},{"$f":"'All Respondents'!DO98-'All Respondents'!DO97","v":0.06},{"$f":"'All Respondents'!DP98-'All Respondents'!DP97","v":1.9999999999999962E-2},{"$f":"'All Respondents'!DQ98-'All Respondents'!DQ97","v":-3.0000000000000027E-2},{"$f":"'All Respondents'!DR98-'All Respondents'!DR97","v":-0.03},{"$f":"'All Respondents'!DS98-'All Respondents'!DS97","v":-0.05}]
["May 18 - Jun 18",{"$f":"'All Respondents'!B99-'All Respondents'!B98","v":-1.5999999999999943},{"$f":"'All Respondents'!D99-'All Respondents'!D98","v":-1.2000000000000028},{"$f":"'All Respondents'!E99-'All Respondents'!E98","v":0},{"$f":"'All Respondents'!F99-'All Respondents'!F98","v":0.03},{"$f":"'All Respondents'!G99-'All Respondents'!G98","v":-2.0000000000000018E-2},{"$f":"'All Respondents'!H99-'All Respondents'!H98","v":-2.9999999999999971E-2},{"$f":"'All Respondents'!I99-'All Respondents'!I98","v":-4.5300000000000007E-2},{"$f":"'All Respondents'!J99-'All Respondents'!J98","v":-4.7999999999999987E-3},{"$f":"'All Respondents'!K99-'All Respondents'!K98","v":-9.1889999999999958E-3},{"$f":"'All Respondents'!L99-'All Respondents'!L98","v":3.9999999999999925E-2},{"$f":"'All Respondents'!M99-'All Respondents'!M98","v":0},{"$f":"'All Respondents'!N99-'All Respondents'!N98","v":-1.0000000000000009E-2},{"$f":"'All Respondents'!O99-'All Respondents'!O98","v":-3.9999999999999869E-2},null,{"$f":"'All Respondents'!Q99-'All Respondents'!Q98","v":9.0000000000000496E-4},{"$f":"'All Respondents'!R99-'All Respondents'!R98","v":1.0000000000000009E-2},{"$f":"'All Respondents'!S99-'All Respondents'!S98","v":-1.0000000000000009E-2},{"$f":"'All Respondents'!T99-'All Respondents'!T98","v":0},{"$f":"'All Respondents'!U99-'All Respondents'!U98","v":-4.0000000000000008E-2},{"$f":"'All Respondents'!V99-'All Respondents'!V98","v":3.9999999999999994E-2},{"$f":"'All Respondents'!W99-'All Respondents'!W98","v":0},{"$f":"'All Respondents'!X99-'All Respondents'!X98","v":0},{"$f":"'All Respondents'!Y99-'All Respondents'!Y98","v":1.999999999999999E-2},{"$f":"'All Respondents'!Z99-'All Respondents'!Z98","v":-4.9999999999999989E-2},{"$f":"'All Respondents'!AA99-'All Respondents'!AA98","v":5.0000000000000017E-2},{"$f":"'All Respondents'!AB99-'All Respondents'!AB98","v":-1.0000000000000002E-2},{"$f":"'All Respondents'!AC99-'All Respondents'!AC98","v":-1.999999999999999E-2},{"$f":"'All Respondents'!AD99-'All Respondents'!AD98","v":-1.0000000000000009E-2},{"$f":"'All Respondents'!AE99-'All Respondents'!AE98","v":2.0000000000000004E-2},{"$f":"'All Respondents'!AF99-'All Respondents'!AF98","v":1.0000000000000009E-2},{"$f":"'All Respondents'!AG99-'All Respondents'!AG98","v":0},{"$f":"'All Respondents'!AH99-'All Respondents'!AH98","v":0},{"$f":"'All Respondents'!AI99-'All Respondents'!AI98","v":3.999999999999998E-2},{"$f":"'All Respondents'!AJ99-'All Respondents'!AJ98","v":-1.9999999999999962E-2},{"$f":"'All Respondents'!AK99-'All Respondents'!AK98","v":2.0000000000000018E-2},{"$f":"'All Respondents'!AL99-'All Respondents'!AL98","v":-1.0000000000000009E-2},{"$f":"'All Respondents'!AM99-'All Respondents'!AM98","v":2.0000000000000004E-2},{"$f":"'All Respondents'!AN99-'All Respondents'!AN98","v":9.9999999999999811E-3},{"$f":"'All Respondents'!AO99-'All Respondents'!AO98","v":1.0000000000000064E-2},{"$f":"'All Respondents'!AP99-'All Respondents'!AP98","v":2.9999999999999971E-2},{"$f":"'All Respondents'!AQ99-'All Respondents'!AQ98","v":-2.0000000000000018E-2},{"$f":"'All Respondents'!AR99-'All Respondents'!AR98","v":0},{"$f":"'All Respondents'!AS99-'All Respondents'!AS98","v":-9.999999999999995E-3},{"$f":"'All Respondents'!AT99-'All Respondents'!AT98","v":0.03},{"$f":"'All Respondents'!AU99-'All Respondents'!AU98","v":0},{"$f":"'All Respondents'!AV99-'All Respondents'!AV98","v":-0.03},{"$f":"'All Respondents'!AW99-'All Respondents'!AW98","v":-4.0000000000000008E-2},{"$f":"'All Respondents'!AX99-'All Respondents'!AX98","v":6.0000000000000012E-2},{"$f":"'All Respondents'!AY99-'All Respondents'!AY98","v":2.9999999999999971E-2},{"$f":"'All Respondents'!AZ99-'All Respondents'!AZ98","v":-6.9999999999999951E-2},{"$f":"'All Respondents'!BA99-'All Respondents'!BA98","v":0.02},{"$f":"'All Respondents'!BB99-'All Respondents'!BB98","v":8.0000000000000016E-2},{"$f":"'All Respondents'!BC99-'All Respondents'!BC98","v":-8.9999999999999969E-2},{"$f":"'All Respondents'!BD99-'All Respondents'!BD98","v":-6.517999999999996E-3},{"$f":"'All Respondents'!BE99-'All Respondents'!BE98","v":1.0000000000000009E-2},{"$f":"'All Respondents'!BF99-'All Respondents'!BF98","v":-2.9999999999999971E-2},{"$f":"'All Respondents'!BG99-'All Respondents'!BG98","v":3.999999999999998E-2},{"$f":"'All Respondents'!BH99-'All Respondents'!BH98","v":3.0000000000000027E-2},{"$f":"'All Respondents'!BI99-'All Respondents'!BI98","v":-1.0000000000000009E-2},{"$f":"'All Respondents'!BJ99-'All Respondents'!BJ98","v":4.0000000000000036E-2},{"$f":"'All Respondents'!BK99-'All Respondents'!BK98","v":0.03},{"$f":"'All Respondents'!BL99-'All Respondents'!BL98","v":2.9999999999999971E-2},{"$f":"'All Respondents'!BM99-'All Respondents'!BM98","v":6.0000000000000053E-2},{"$f":"'All Respondents'!BN99-'All Respondents'!BN98","v":-0.06},{"$f":"'All Respondents'!BO99-'All Respondents'!BO98","v":9.999999999999995E-3},{"$f":"'All Respondents'!BP99-'All Respondents'!BP98","v":1.0000000000000002E-2},{"$f":"'All Respondents'!BQ99-'All Respondents'!BQ98","v":1.999999999999999E-2},{"$f":"'All Respondents'!BR99-'All Respondents'!BR98","v":4.0000000000000036E-2},{"$f":"'All Respondents'!BS99-'All Respondents'!BS98","v":-1.9999999999999962E-2},{"$f":"'All Respondents'!BT99-'All Respondents'!BT98","v":0},{"$f":"'All Respondents'!BU99-'All Respondents'!BU98","v":2.0000000000000018E-2},{"$f":"'All Respondents'!BV99-'All Respondents'!BV98","v":-1.9999999999999962E-2},{"$f":"'All Respondents'!BW99-'All Respondents'!BW98","v":-2.9999999999999971E-2},{"$f":"'All Respondents'!BX99-'All Respondents'!BX98","v":1.9999999999999907E-2},{"$f":"'All Respondents'!BY99-'All Respondents'!BY98","v":4.9999999999999878E-2},{"$f":"'All Respondents'!BZ99-'All Respondents'!BZ98","v":-1.999999999999999E-2},{"$f":"'All Respondents'!CA99-'All Respondents'!CA98","v":0.03},{"$f":"'All Respondents'!CB99-'All Respondents'!CB98","v":1.0000000000000009E-2},{"$f":"'All Respondents'!CC99-'All Respondents'!CC98","v":1.0000000000000009E-2},{"$f":"'All Respondents'!CD99-'All Respondents'!CD98","v":2.0000000000000004E-2},{"$f":"'All Respondents'!CE99-'All Respondents'!CE98","v":-3.9999999999999994E-2},{"$f":"'All Respondents'!CF99-'All Respondents'!CF98","v":3.0000000000000027E-2},{"$f":"'All Respondents'!CG99-'All Respondents'!CG98","v":1.0000000000000002E-2},{"$f":"'All Respondents'!CH99-'All Respondents'!CH98","v":0},{"$f":"'All Respondents'!CI99-'All Respondents'!CI98","v":-0.05},{"$f":"'All Respondents'!CJ99-'All Respondents'!CJ98","v":4.0000000000000036E-2},{"$f":"'All Respondents'!CK99-'All Respondents'!CK98","v":2.0000000000000004E-2},{"$f":"'All Respondents'!CL99-'All Respondents'!CL98","v":-9.999999999999995E-3},{"$f":"'All Respondents'!CM99-'All Respondents'!CM98","v":1.0000000000000009E-2},{"$f":"'All Respondents'!CN99-'All Respondents'!CN98","v":-1.0000000000000009E-2},{"$f":"'All Respondents'!CO99-'All Respondents'!CO98","v":-7.0000000000000007E-2},{"$f":"'All Respondents'!CP99-'All Respondents'!CP98","v":5.9999999999999942E-2},{"$f":"'All Respondents'!CQ99-'All Respondents'!CQ98","v":-2.0000000000000018E-2},{"$f":"'All Respondents'!CR99-'All Respondents'!CR98","v":-1.0000000000000009E-2},{"$f":"'All Respondents'!CS99-'All Respondents'!CS98","v":-1.999999999999999E-2},{"$f":"'All Respondents'!CT99-'All Respondents'!CT98","v":4.0000000000000008E-2},{"$f":"'All Respondents'!CU99-'All Respondents'!CU98","v":0},{"$f":"'All Respondents'!CV99-'All Respondents'!CV98","v":1.0000000000000009E-2},{"$f":"'All Respondents'!CW99-'All Respondents'!CW98","v":-1.0000000000000009E-2},{"$f":"'All Respondents'!CX99-'All Respondents'!CX98","v":1.0000000000000009E-2},{"$f":"'All Respondents'!CY99-'All Respondents'!CY98","v":0},{"$f":"'All Respondents'!CZ99-'All Respondents'!CZ98","v":0},{"$f":"'All Respondents'!DA99-'All Respondents'!DA98","v":-0.01},{"$f":"'All Respondents'!DB99-'All Respondents'!DB98","v":0.03},{"$f":"'All Respondents'!DC99-'All Respondents'!DC98","v":-9.9999999999998979E-3},{"$f":"'All Respondents'!DD99-'All Respondents'!DD98","v":0},{"$f":"'All Respondents'!DE99-'All Respondents'!DE98","v":1.0000000000000009E-2},{"$f":"'All Respondents'!DF99-'All Respondents'!DF98","v":4.9999999999999933E-2},{"$f":"'All Respondents'!DG99-'All Respondents'!DG98","v":-5.0000000000000017E-2},{"$f":"'All Respondents'!DH99-'All Respondents'!DH98","v":0},{"$f":"'All Respondents'!DI99-'All Respondents'!DI98","v":-4.0000000000000008E-2},{"$f":"'All Respondents'!DJ99-'All Respondents'!DJ98","v":1.0000000000000002E-2},{"$f":"'All Respondents'!DK99-'All Respondents'!DK98","v":0},{"$f":"'All Respondents'!DL99-'All Respondents'!DL98","v":0.01},{"$f":"'All Respondents'!DM99-'All Respondents'!DM98","v":-43197.169999999984},{"$f":"'All Respondents'!DN99-'All Respondents'!DN98","v":-2037.890000000014},{"$f":"'All Respondents'!DO99-'All Respondents'!DO98","v":-1.999999999999999E-2},{"$f":"'All Respondents'!DP99-'All Respondents'!DP98","v":2.0000000000000018E-2},{"$f":"'All Respondents'!DQ99-'All Respondents'!DQ98","v":2.0000000000000018E-2},{"$f":"'All Respondents'!DR99-'All Respondents'!DR98","v":2.0000000000000004E-2},{"$f":"'All Respondents'!DS99-'All Respondents'!DS98","v":-9.999999999999995E-3}]
["Jun 18 - Jul 18",{"$f":"'All Respondents'!B100-'All Respondents'!B99","v":-4.2000000000000028},{"$f":"'All Respondents'!D100-'All Respondents'!D99","v":-5.2000000000000028},{"$f":"'All Respondents'!E100-'All Respondents'!E99","v":-6.0000000000000053E-2},{"$f":"'All Respondents'!F100-'All Respondents'!F99","v":1.0000000000000009E-2},{"$f":"'All Respondents'!G100-'All Respondents'!G99","v":3.999999999999998E-2},{"$f":"'All Respondents'!H100-'All Respondents'!H99","v":-7.0000000000000062E-2},{"$f":"'All Respondents'!I100-'All Respondents'!I99","v":4.1400000000000006E-2},{"$f":"'All Respondents'!J100-'All Respondents'!J99","v":-3.1999999999999945E-3},{"$f":"'All Respondents'!K100-'All Respondents'!K99","v":-2.8030000000000069E-3},{"$f":"'All Respondents'!L100-'All Respondents'!L99","v":0},{"$f":"'All Respondents'!M100-'All Respondents'!M99","v":9.999999999999995E-3},{"$f":"'All Respondents'!N100-'All Respondents'!N99","v":0},{"$f":"'All Respondents'!O100-'All Respondents'!O99","v":9.9999999999998979E-3},null,{"$f":"'All Respondents'!Q100-'All Respondents'!Q99","v":-1.1000000000000038E-3},{"$f":"'All Respondents'!R100-'All Respondents'!R99","v":-1.0000000000000009E-2},{"$f":"'All Respondents'!S100-'All Respondents'!S99","v":0},{"$f":"'All Respondents'!T100-'All Respondents'!T99","v":-1.0000000000000009E-2},{"$f":"'All Respondents'!U100-'All Respondents'!U99","v":0.03},{"$f":"'All Respondents'!V100-'All Respondents'!V99","v":0},{"$f":"'All Respondents'!W100-'All Respondents'!W99","v":2.9999999999999971E-2},{"$f":"'All Respondents'!X100-'All Respondents'!X99","v":-3.999999999999998E-2},{"$f":"'All Respondents'!Y100-'All Respondents'!Y99","v":-1.999999999999999E-2},{"$f":"'All Respondents'!Z100-'All Respondents'!Z99","v":-1.999999999999999E-2},{"$f":"'All Respondents'!AA100-'All Respondents'!AA99","v":0},{"$f":"'All Respondents'!AB100-'All Respondents'!AB99","v":3.0000000000000006E-2},{"$f":"'All Respondents'!AC100-'All Respondents'!AC99","v":-0.03},{"$f":"'All Respondents'!AD100-'All Respondents'!AD99","v":-3.0000000000000027E-2},{"$f":"'All Respondents'!AE100-'All Respondents'!AE99","v":0.03},{"$f":"'All Respondents'!AF100-'All Respondents'!AF99","v":-4.0000000000000008E-2},{"$f":"'All Respondents'!AG100-'All Respondents'!AG99","v":3.9999999999999994E-2},{"$f":"'All Respondents'!AH100-'All Respondents'!AH99","v":-9.9999999999999811E-3},{"$f":"'All Respondents'!AI100-'All Respondents'!AI99","v":2.0000000000000018E-2},{"$f":"'All Respondents'!AJ100-'All Respondents'!AJ99","v":-5.0000000000000044E-2},{"$f":"'All Respondents'!AK100-'All Respondents'!AK99","v":-3.0000000000000027E-2},{"$f":"'All Respondents'!AL100-'All Respondents'!AL99","v":4.0000000000000008E-2},{"$f":"'All Respondents'!AM100-'All Respondents'!AM99","v":-1.0000000000000009E-2},{"$f":"'All Respondents'!AN100-'All Respondents'!AN99","v":0.03},{"$f":"'All Respondents'!AO100-'All Respondents'!AO99","v":-6.0000000000000053E-2},{"$f":"'All Respondents'!AP100-'All Respondents'!AP99","v":1.0000000000000009E-2},{"$f":"'All Respondents'!AQ100-'All Respondents'!AQ99","v":-9.999999999999995E-3},{"$f":"'All Respondents'!AR100-'All Respondents'!AR99","v":-1.999999999999999E-2},{"$f":"'All Respondents'!AS100-'All Respondents'!AS99","v":-9.999999999999995E-3},{"$f":"'All Respondents'!AT100-'All Respondents'!AT99","v":-4.0000000000000008E-2},{"$f":"'All Respondents'!AU100-'All Respondents'!AU99","v":-0.03},{"$f":"'All Respondents'!AV100-'All Respondents'!AV99","v":0},{"$f":"'All Respondents'!AW100-'All Respondents'!AW99","v":0.03},{"$f":"'All Respondents'!AX100-'All Respondents'!AX99","v":-2.0000000000000018E-2},{"$f":"'All Respondents'!AY100-'All Respondents'!AY99","v":-1.9999999999999962E-2},{"$f":"'All Respondents'!AZ100-'All Respondents'!AZ99","v":5.9999999999999942E-2},{"$f":"'All Respondents'!BA100-'All Respondents'!BA99","v":-1.0000000000000002E-2},{"$f":"'All Respondents'!BB100-'All Respondents'!BB99","v":-7.0000000000000007E-2},{"$f":"'All Respondents'!BC100-'All Respondents'!BC99","v":6.9999999999999951E-2},{"$f":"'All Respondents'!BD100-'All Respondents'!BD99","v":8.0549999999999927E-3},{"$f":"'All Respondents'!BE100-'All Respondents'!BE99","v":-3.0000000000000027E-2},{"$f":"'All Respondents'!BF100-'All Respondents'!BF99","v":3.999999999999998E-2},{"$f":"'All Respondents'!BG100-'All Respondents'!BG99","v":-7.0000000000000007E-2},{"$f":"'All Respondents'!BH100-'All Respondents'!BH99","v":2.0000000000000018E-2},{"$f":"'All Respondents'!BI100-'All Respondents'!BI99","v":1.0000000000000009E-2},{"$f":"'All Respondents'!BJ100-'All Respondents'!BJ99","v":1.0000000000000009E-2},{"$f":"'All Respondents'!BK100-'All Respondents'!BK99","v":-9.9999999999999811E-3},{"$f":"'All Respondents'!BL100-'All Respondents'!BL99","v":-1.9999999999999962E-2},{"$f":"'All Respondents'!BM100-'All Respondents'!BM99","v":-3.0000000000000027E-2},{"$f":"'All Respondents'!BN100-'All Respondents'!BN99","v":2.9999999999999971E-2},{"$f":"'All Respondents'!BO100-'All Respondents'!BO99","v":-2.0000000000000004E-2},{"$f":"'All Respondents'!BP100-'All Respondents'!BP99","v":-1.0000000000000002E-2},{"$f":"'All Respondents'!BQ100-'All Respondents'!BQ99","v":-0.03},{"$f":"'All Respondents'!BR100-'All Respondents'!BR99","v":0},{"$f":"'All Respondents'!BS100-'All Respondents'!BS99","v":2.9999999999999971E-2},{"$f":"'All Respondents'!BT100-'All Respondents'!BT99","v":1.0000000000000009E-2},{"$f":"'All Respondents'!BU100-'All Respondents'!BU99","v":-3.0000000000000027E-2},{"$f":"'All Respondents'!BV100-'All Respondents'!BV99","v":1.9999999999999962E-2},{"$f":"'All Respondents'!BW100-'All Respondents'!BW99","v":1.0000000000000009E-2},{"$f":"'All Respondents'!BX100-'All Respondents'!BX99","v":-1.0000000000000009E-2},{"$f":"'All Respondents'!BY100-'All Respondents'!BY99","v":-2.0000000000000018E-2},{"$f":"'All Respondents'!BZ100-'All Respondents'!BZ99","v":1.0000000000000009E-2},{"$f":"'All Respondents'!CA100-'All Respondents'!CA99","v":-2.0000000000000004E-2},{"$f":"'All Respondents'!CB100-'All Respondents'!CB99","v":-9.9999999999999811E-3},{"$f":"'All Respondents'!CC100-'All Respondents'!CC99","v":1.0000000000000009E-2},{"$f":"'All Respondents'!CD100-'All Respondents'!CD99","v":-9.999999999999995E-3},{"$f":"'All Respondents'!CE100-'All Respondents'!CE99","v":9.0000000000000011E-2},{"$f":"'All Respondents'!CF100-'All Respondents'!CF99","v":-7.0000000000000007E-2},{"$f":"'All Respondents'!CG100-'All Respondents'!CG99","v":0},{"$f":"'All Respondents'!CH100-'All Respondents'!CH99","v":0.03},{"$f":"'All Respondents'!CI100-'All Respondents'!CI99","v":2.0000000000000004E-2},{"$f":"'All Respondents'!CJ100-'All Respondents'!CJ99","v":-4.0000000000000036E-2},{"$f":"'All Respondents'!CK100-'All Respondents'!CK99","v":0},{"$f":"'All Respondents'!CL100-'All Respondents'!CL99","v":4.9999999999999989E-2},{"$f":"'All Respondents'!CM100-'All Respondents'!CM99","v":4.9999999999999975E-2},{"$f":"'All Respondents'!CN100-'All Respondents'!CN99","v":-5.9999999999999942E-2},{"$f":"'All Respondents'!CO100-'All Respondents'!CO99","v":2.0000000000000018E-2},{"$f":"'All Respondents'!CP100-'All Respondents'!CP99","v":-7.999999999999996E-2},{"$f":"'All Respondents'!CQ100-'All Respondents'!CQ99","v":-0.10999999999999988},{"$f":"'All Respondents'!CR100-'All Respondents'!CR99","v":-2.0000000000000018E-2},{"$f":"'All Respondents'!CS100-'All Respondents'!CS99","v":1.0000000000000009E-2},{"$f":"'All Respondents'!CT100-'All Respondents'!CT99","v":0},{"$f":"'All Respondents'!CU100-'All Respondents'!CU99","v":1.999999999999999E-2},{"$f":"'All Respondents'!CV100-'All Respondents'!CV99","v":1.0000000000000009E-2},{"$f":"'All Respondents'!CW100-'All Respondents'!CW99","v":0},{"$f":"'All Respondents'!CX100-'All Respondents'!CX99","v":-1.0000000000000009E-2},{"$f":"'All Respondents'!CY100-'All Respondents'!CY99","v":9.9999999999999985E-3},{"$f":"'All Respondents'!CZ100-'All Respondents'!CZ99","v":0},{"$f":"'All Respondents'!DA100-'All Respondents'!DA99","v":0.01},{"$f":"'All Respondents'!DB100-'All Respondents'!DB99","v":0.03},{"$f":"'All Respondents'!DC100-'All Respondents'!DC99","v":-3.0000000000000027E-2},{"$f":"'All Respondents'!DD100-'All Respondents'!DD99","v":4.0000000000000008E-2},{"$f":"'All Respondents'!DE100-'All Respondents'!DE99","v":-4.0000000000000036E-2},{"$f":"'All Respondents'!DF100-'All Respondents'!DF99","v":1.0000000000000009E-2},{"$f":"'All Respondents'!DG100-'All Respondents'!DG99","v":-1.0000000000000009E-2},{"$f":"'All Respondents'!DH100-'All Respondents'!DH99","v":0},{"$f":"'All Respondents'!DI100-'All Respondents'!DI99","v":-1.999999999999999E-2},{"$f":"'All Respondents'!DJ100-'All Respondents'!DJ99","v":2.0000000000000004E-2},{"$f":"'All Respondents'!DK100-'All Respondents'!DK99","v":1.0000000000000002E-2},{"$f":"'All Respondents'!DL100-'All Respondents'!DL99","v":9.9999999999999985E-3},{"$f":"'All Respondents'!DM100-'All Respondents'!DM99","v":73596.819999999949},{"$f":"'All Respondents'!DN100-'All Respondents'!DN99","v":25000},{"$f":"'All Respondents'!DO100-'All Respondents'!DO99","v":-1.0000000000000009E-2},{"$f":"'All Respondents'!DP100-'All Respondents'!DP99","v":-2.9999999999999971E-2},{"$f":"'All Respondents'!DQ100-'All Respondents'!DQ99","v":2.0000000000000018E-2},{"$f":"'All Respondents'!DR100-'All Respondents'!DR99","v":0},{"$f":"'All Respondents'!DS100-'All Respondents'!DS99","v":0}]
["Jul 18 - Aug 18",{"$f":"'All Respondents'!B101-'All Respondents'!B100","v":1.5},{"$f":"'All Respondents'!D101-'All Respondents'!D100","v":1.7999999999999972},{"$f":"'All Respondents'!E101-'All Respondents'!E100","v":-1.0000000000000009E-2},{"$f":"'All Respondents'!F101-'All Respondents'!F100","v":0},{"$f":"'All Respondents'!G101-'All Respondents'!G100","v":1.0000000000000009E-2},{"$f":"'All Respondents'!H101-'All Respondents'!H100","v":-1.0000000000000009E-2},{"$f":"'All Respondents'!I101-'All Respondents'!I100","v":5.9000000000000025E-3},{"$f":"'All Respondents'!J101-'All Respondents'!J100","v":9.099999999999997E-3},{"$f":"'All Respondents'!K101-'All Respondents'!K100","v":4.3070000000000018E-3},{"$f":"'All Respondents'!L101-'All Respondents'!L100","v":0},{"$f":"'All Respondents'!M101-'All Respondents'!M100","v":0},{"$f":"'All Respondents'!N101-'All Respondents'!N100","v":1.0000000000000009E-2},{"$f":"'All Respondents'!O101-'All Respondents'!O100","v":0},null,{"$f":"'All Respondents'!Q101-'All Respondents'!Q100","v":-2.9999999999999472E-4},{"$f":"'All Respondents'!R101-'All Respondents'!R100","v":1.0000000000000009E-2},{"$f":"'All Respondents'!S101-'All Respondents'!S100","v":-2.0000000000000018E-2},{"$f":"'All Respondents'!T101-'All Respondents'!T100","v":-1.0000000000000009E-2},{"$f":"'All Respondents'!U101-'All Respondents'!U100","v":0.03},{"$f":"'All Respondents'!V101-'All Respondents'!V100","v":-9.999999999999995E-3},{"$f":"'All Respondents'!W101-'All Respondents'!W100","v":2.0000000000000018E-2},{"$f":"'All Respondents'!X101-'All Respondents'!X100","v":-3.0000000000000027E-2},{"$f":"'All Respondents'!Y101-'All Respondents'!Y100","v":0},{"$f":"'All Respondents'!Z101-'All Respondents'!Z100","v":0.03},{"$f":"'All Respondents'!AA101-'All Respondents'!AA100","v":9.9999999999999811E-3},{"$f":"'All Respondents'!AB101-'All Respondents'!AB100","v":-4.0000000000000008E-2},{"$f":"'All Respondents'!AC101-'All Respondents'!AC100","v":7.0000000000000007E-2},{"$f":"'All Respondents'!AD101-'All Respondents'!AD100","v":2.0000000000000018E-2},{"$f":"'All Respondents'!AE101-'All Respondents'!AE100","v":-3.9999999999999994E-2},{"$f":"'All Respondents'!AF101-'All Respondents'!AF100","v":-9.999999999999995E-3},{"$f":"'All Respondents'!AG101-'All Respondents'!AG100","v":0},{"$f":"'All Respondents'!AH101-'All Respondents'!AH100","v":1.999999999999999E-2},{"$f":"'All Respondents'!AI101-'All Respondents'!AI100","v":-0.06},{"$f":"'All Respondents'!AJ101-'All Respondents'!AJ100","v":4.0000000000000036E-2},{"$f":"'All Respondents'!AK101-'All Respondents'!AK100","v":-1.9999999999999907E-2},{"$f":"'All Respondents'!AL101-'All Respondents'!AL100","v":-1.0000000000000009E-2},{"$f":"'All Respondents'!AM101-'All Respondents'!AM100","v":2.0000000000000004E-2},{"$f":"'All Respondents'!AN101-'All Respondents'!AN100","v":1.0000000000000009E-2},{"$f":"'All Respondents'!AO101-'All Respondents'!AO100","v":-2.9999999999999916E-2},{"$f":"'All Respondents'!AP101-'All Respondents'!AP100","v":2.0000000000000018E-2},{"$f":"'All Respondents'!AQ101-'All Respondents'!AQ100","v":0.05},{"$f":"'All Respondents'!AR101-'All Respondents'!AR100","v":0},{"$f":"'All Respondents'!AS101-'All Respondents'!AS100","v":-3.0000000000000006E-2},{"$f":"'All Respondents'!AT101-'All Respondents'!AT100","v":1.999999999999999E-2},{"$f":"'All Respondents'!AU101-'All Respondents'!AU100","v":1.999999999999999E-2},{"$f":"'All Respondents'!AV101-'All Respondents'!AV100","v":-9.999999999999995E-3},{"$f":"'All Respondents'!AW101-'All Respondents'!AW100","v":-3.999999999999998E-2},{"$f":"'All Respondents'!AX101-'All Respondents'!AX100","v":2.0000000000000018E-2},{"$f":"'All Respondents'!AY101-'All Respondents'!AY100","v":9.9999999999999534E-3},{"$f":"'All Respondents'!AZ101-'All Respondents'!AZ100","v":-1.0000000000000009E-2},{"$f":"'All Respondents'!BA101-'All Respondents'!BA100","v":2.0000000000000004E-2},{"$f":"'All Respondents'!BB101-'All Respondents'!BB100","v":-1.0000000000000009E-2},{"$f":"'All Respondents'!BC101-'All Respondents'!BC100","v":-3.0000000000000027E-2},{"$f":"'All Respondents'!BD101-'All Respondents'!BD100","v":-3.1210000000000057E-3},{"$f":"'All Respondents'!BE101-'All Respondents'!BE100","v":2.0000000000000018E-2},{"$f":"'All Respondents'!BF101-'All Respondents'!BF100","v":-1.9999999999999962E-2},{"$f":"'All Respondents'!BG101-'All Respondents'!BG100","v":3.999999999999998E-2},{"$f":"'All Respondents'!BH101-'All Respondents'!BH100","v":-4.0000000000000036E-2},{"$f":"'All Respondents'!BI101-'All Respondents'!BI100","v":3.999999999999998E-2},{"$f":"'All Respondents'!BJ101-'All Respondents'!BJ100","v":-8.0000000000000016E-2},{"$f":"'All Respondents'!BK101-'All Respondents'!BK100","v":9.9999999999999811E-3},{"$f":"'All Respondents'!BL101-'All Respondents'!BL100","v":9.9999999999999534E-3},{"$f":"'All Respondents'!BM101-'All Respondents'!BM100","v":2.0000000000000018E-2},{"$f":"'All Respondents'!BN101-'All Respondents'!BN100","v":-2.0000000000000018E-2},{"$f":"'All Respondents'!BO101-'All Respondents'!BO100","v":1.0000000000000009E-2},{"$f":"'All Respondents'!BP101-'All Respondents'!BP100","v":2.0000000000000004E-2},{"$f":"'All Respondents'!BQ101-'All Respondents'!BQ100","v":3.0000000000000013E-2},{"$f":"'All Respondents'!BR101-'All Respondents'!BR100","v":-1.0000000000000009E-2},{"$f":"'All Respondents'!BS101-'All Respondents'!BS100","v":0},{"$f":"'All Respondents'!BT101-'All Respondents'!BT100","v":-1.0000000000000009E-2},{"$f":"'All Respondents'!BU101-'All Respondents'!BU100","v":0},{"$f":"'All Respondents'!BV101-'All Respondents'!BV100","v":1.0000000000000009E-2},{"$f":"'All Respondents'!BW101-'All Respondents'!BW100","v":1.9999999999999962E-2},{"$f":"'All Respondents'!BX101-'All Respondents'!BX100","v":1.0000000000000009E-2},{"$f":"'All Respondents'!BY101-'All Respondents'!BY100","v":-9.9999999999999534E-3},{"$f":"'All Respondents'!BZ101-'All Respondents'!BZ100","v":-1.0000000000000009E-2},{"$f":"'All Respondents'!CA101-'All Respondents'!CA100","v":1.0000000000000009E-2},{"$f":"'All Respondents'!CB101-'All Respondents'!CB100","v":0},{"$f":"'All Respondents'!CC101-'All Respondents'!CC100","v":0},{"$f":"'All Respondents'!CD101-'All Respondents'!CD100","v":0},{"$f":"'All Respondents'!CE101-'All Respondents'!CE100","v":-4.0000000000000008E-2},{"$f":"'All Respondents'!CF101-'All Respondents'!CF100","v":3.999999999999998E-2},{"$f":"'All Respondents'!CG101-'All Respondents'!CG100","v":-2.0000000000000004E-2},{"$f":"'All Respondents'!CH101-'All Respondents'!CH100","v":-0.03},{"$f":"'All Respondents'!CI101-'All Respondents'!CI100","v":1.0000000000000009E-2},{"$f":"'All Respondents'!CJ101-'All Respondents'!CJ100","v":2.0000000000000018E-2},{"$f":"'All Respondents'!CK101-'All Respondents'!CK100","v":-1.0000000000000002E-2},{"$f":"'All Respondents'!CL101-'All Respondents'!CL100","v":-0.06},{"$f":"'All Respondents'!CM101-'All Respondents'!CM100","v":-6.9999999999999979E-2},{"$f":"'All Respondents'!CN101-'All Respondents'!CN100","v":7.9999999999999849E-2},{"$f":"'All Respondents'!CO101-'All Respondents'!CO100","v":1.999999999999999E-2},{"$f":"'All Respondents'!CP101-'All Respondents'!CP100","v":5.9999999999999942E-2},{"$f":"'All Respondents'!CQ101-'All Respondents'!CQ100","v":0.1499999999999998},{"$f":"'All Respondents'!CR101-'All Respondents'!CR100","v":2.0000000000000018E-2},{"$f":"'All Respondents'!CS101-'All Respondents'!CS100","v":0},{"$f":"'All Respondents'!CT101-'All Respondents'!CT100","v":0},{"$f":"'All Respondents'!CU101-'All Respondents'!CU100","v":-0.03},{"$f":"'All Respondents'!CV101-'All Respondents'!CV100","v":-1.0000000000000009E-2},{"$f":"'All Respondents'!CW101-'All Respondents'!CW100","v":1.0000000000000009E-2},{"$f":"'All Respondents'!CX101-'All Respondents'!CX100","v":0},{"$f":"'All Respondents'!CY101-'All Respondents'!CY100","v":-9.9999999999999985E-3},{"$f":"'All Respondents'!CZ101-'All Respondents'!CZ100","v":0.01},{"$f":"'All Respondents'!DA101-'All Respondents'!DA100","v":0},{"$f":"'All Respondents'!DB101-'All Respondents'!DB100","v":-1.999999999999999E-2},{"$f":"'All Respondents'!DC101-'All Respondents'!DC100","v":1.0000000000000009E-2},{"$f":"'All Respondents'!DD101-'All Respondents'!DD100","v":-1.0000000000000009E-2},{"$f":"'All Respondents'!DE101-'All Respondents'!DE100","v":2.0000000000000018E-2},{"$f":"'All Respondents'!DF101-'All Respondents'!DF100","v":1.0000000000000009E-2},{"$f":"'All Respondents'!DG101-'All Respondents'!DG100","v":-9.9999999999999811E-3},{"$f":"'All Respondents'!DH101-'All Respondents'!DH100","v":0},{"$f":"'All Respondents'!DI101-'All Respondents'!DI100","v":0.03},{"$f":"'All Respondents'!DJ101-'All Respondents'!DJ100","v":-2.0000000000000004E-2},{"$f":"'All Respondents'!DK101-'All Respondents'!DK100","v":-1.0000000000000002E-2},{"$f":"'All Respondents'!DL101-'All Respondents'!DL100","v":-9.9999999999999985E-3},{"$f":"'All Respondents'!DM101-'All Respondents'!DM100","v":-29176.089999999967},{"$f":"'All Respondents'!DN101-'All Respondents'!DN100","v":-10000},{"$f":"'All Respondents'!DO101-'All Respondents'!DO100","v":1.0000000000000009E-2},{"$f":"'All Respondents'!DP101-'All Respondents'!DP100","v":1.9999999999999962E-2},{"$f":"'All Respondents'!DQ101-'All Respondents'!DQ100","v":-1.0000000000000009E-2},{"$f":"'All Respondents'!DR101-'All Respondents'!DR100","v":0},{"$f":"'All Respondents'!DS101-'All Respondents'!DS100","v":0}]
["Aug 18 - Sep 18",{"$f":"'All Respondents'!B102-'All Respondents'!B101","v":-0.29999999999999716},{"$f":"'All Respondents'!D102-'All Respondents'!D101","v":0.40000000000000568},{"$f":"'All Respondents'!E102-'All Respondents'!E101","v":1.0000000000000009E-2},{"$f":"'All Respondents'!F102-'All Respondents'!F101","v":0},{"$f":"'All Respondents'!G102-'All Respondents'!G101","v":0},{"$f":"'All Respondents'!H102-'All Respondents'!H101","v":1.0000000000000009E-2},{"$f":"'All Respondents'!I102-'All Respondents'!I101","v":-1.7100000000000004E-2},{"$f":"'All Respondents'!J102-'All Respondents'!J101","v":-1.7000000000000071E-3},{"$f":"'All Respondents'!K102-'All Respondents'!K101","v":-1.801000000000004E-3},{"$f":"'All Respondents'!L102-'All Respondents'!L101","v":2.0000000000000018E-2},{"$f":"'All Respondents'!M102-'All Respondents'!M101","v":-1.9999999999999997E-2},{"$f":"'All Respondents'!N102-'All Respondents'!N101","v":-2.0000000000000018E-2},{"$f":"'All Respondents'!O102-'All Respondents'!O101","v":-3.9999999999999925E-2},null,{"$f":"'All Respondents'!Q102-'All Respondents'!Q101","v":2.9999999999999472E-4},{"$f":"'All Respondents'!R102-'All Respondents'!R101","v":0},{"$f":"'All Respondents'!S102-'All Respondents'!S101","v":1.0000000000000009E-2},{"$f":"'All Respondents'!T102-'All Respondents'!T101","v":1.0000000000000009E-2},{"$f":"'All Respondents'!U102-'All Respondents'!U101","v":-0.03},{"$f":"'All Respondents'!V102-'All Respondents'!V101","v":-9.999999999999995E-3},{"$f":"'All Respondents'!W102-'All Respondents'!W101","v":-3.999999999999998E-2},{"$f":"'All Respondents'!X102-'All Respondents'!X101","v":4.9999999999999989E-2},{"$f":"'All Respondents'!Y102-'All Respondents'!Y101","v":9.999999999999995E-3},{"$f":"'All Respondents'!Z102-'All Respondents'!Z101","v":-2.0000000000000018E-2},{"$f":"'All Respondents'!AA102-'All Respondents'!AA101","v":-0.03},{"$f":"'All Respondents'!AB102-'All Respondents'!AB101","v":2.0000000000000004E-2},{"$f":"'All Respondents'!AC102-'All Respondents'!AC101","v":1.9999999999999962E-2},{"$f":"'All Respondents'!AD102-'All Respondents'!AD101","v":2.0000000000000018E-2},{"$f":"'All Respondents'!AE102-'All Respondents'!AE101","v":0},{"$f":"'All Respondents'!AF102-'All Respondents'!AF101","v":9.999999999999995E-3},{"$f":"'All Respondents'!AG102-'All Respondents'!AG101","v":-2.0000000000000004E-2},{"$f":"'All Respondents'!AH102-'All Respondents'!AH101","v":-1.999999999999999E-2},{"$f":"'All Respondents'!AI102-'All Respondents'!AI101","v":1.0000000000000009E-2},{"$f":"'All Respondents'!AJ102-'All Respondents'!AJ101","v":-1.0000000000000009E-2},{"$f":"'All Respondents'!AK102-'All Respondents'!AK101","v":0},{"$f":"'All Respondents'!AL102-'All Respondents'!AL101","v":-1.999999999999999E-2},{"$f":"'All Respondents'!AM102-'All Respondents'!AM101","v":2.0000000000000004E-2},{"$f":"'All Respondents'!AN102-'All Respondents'!AN101","v":0},{"$f":"'All Respondents'!AO102-'All Respondents'!AO101","v":0},{"$f":"'All Respondents'!AP102-'All Respondents'!AP101","v":-1.0000000000000009E-2},{"$f":"'All Respondents'!AQ102-'All Respondents'!AQ101","v":-0.05},{"$f":"'All Respondents'!AR102-'All Respondents'!AR101","v":-1.0000000000000009E-2},{"$f":"'All Respondents'!AS102-'All Respondents'!AS101","v":1.9999999999999997E-2},{"$f":"'All Respondents'!AT102-'All Respondents'!AT101","v":4.0000000000000036E-2},{"$f":"'All Respondents'!AU102-'All Respondents'!AU101","v":0.06},{"$f":"'All Respondents'!AV102-'All Respondents'!AV101","v":9.999999999999995E-3},{"$f":"'All Respondents'!AW102-'All Respondents'!AW101","v":0.06},{"$f":"'All Respondents'!AX102-'All Respondents'!AX101","v":9.9999999999999811E-3},{"$f":"'All Respondents'!AY102-'All Respondents'!AY101","v":-7.9999999999999988E-2},{"$f":"'All Respondents'!AZ102-'All Respondents'!AZ101","v":0},{"$f":"'All Respondents'!BA102-'All Respondents'!BA101","v":-3.0000000000000002E-2},{"$f":"'All Respondents'!BB102-'All Respondents'!BB101","v":2.0000000000000018E-2},{"$f":"'All Respondents'!BC102-'All Respondents'!BC101","v":3.0000000000000027E-2},{"$f":"'All Respondents'!BD102-'All Respondents'!BD101","v":3.5999999999999921E-4},{"$f":"'All Respondents'!BE102-'All Respondents'!BE101","v":-1.0000000000000009E-2},{"$f":"'All Respondents'!BF102-'All Respondents'!BF101","v":1.9999999999999962E-2},{"$f":"'All Respondents'!BG102-'All Respondents'!BG101","v":-2.9999999999999971E-2},{"$f":"'All Respondents'!BH102-'All Respondents'!BH101","v":4.0000000000000036E-2},{"$f":"'All Respondents'!BI102-'All Respondents'!BI101","v":-6.9999999999999951E-2},{"$f":"'All Respondents'!BJ102-'All Respondents'!BJ101","v":0.10999999999999999},{"$f":"'All Respondents'!BK102-'All Respondents'!BK101","v":2.0000000000000018E-2},{"$f":"'All Respondents'!BL102-'All Respondents'!BL101","v":-1.9999999999999962E-2},{"$f":"'All Respondents'!BM102-'All Respondents'!BM101","v":0},{"$f":"'All Respondents'!BN102-'All Respondents'!BN101","v":3.0000000000000027E-2},{"$f":"'All Respondents'!BO102-'All Respondents'!BO101","v":-1.0000000000000009E-2},{"$f":"'All Respondents'!BP102-'All Respondents'!BP101","v":-3.0000000000000002E-2},{"$f":"'All Respondents'!BQ102-'All Respondents'!BQ101","v":-4.0000000000000008E-2},{"$f":"'All Respondents'!BR102-'All Respondents'!BR101","v":3.999999999999998E-2},{"$f":"'All Respondents'!BS102-'All Respondents'!BS101","v":-2.9999999999999971E-2},{"$f":"'All Respondents'!BT102-'All Respondents'!BT101","v":0},{"$f":"'All Respondents'!BU102-'All Respondents'!BU101","v":2.0000000000000018E-2},{"$f":"'All Respondents'!BV102-'All Respondents'!BV101","v":-2.9999999999999971E-2},{"$f":"'All Respondents'!BW102-'All Respondents'!BW101","v":0},{"$f":"'All Respondents'!BX102-'All Respondents'!BX101","v":-1.9999999999999907E-2},{"$f":"'All Respondents'!BY102-'All Respondents'!BY101","v":-1.9999999999999907E-2},{"$f":"'All Respondents'!BZ102-'All Respondents'!BZ101","v":0.03},{"$f":"'All Respondents'!CA102-'All Respondents'!CA101","v":9.999999999999995E-3},{"$f":"'All Respondents'!CB102-'All Respondents'!CB101","v":4.0000000000000008E-2},{"$f":"'All Respondents'!CC102-'All Respondents'!CC101","v":-7.999999999999996E-2},{"$f":"'All Respondents'!CD102-'All Respondents'!CD101","v":9.999999999999995E-3},{"$f":"'All Respondents'!CE102-'All Respondents'!CE101","v":-0.05},{"$f":"'All Respondents'!CF102-'All Respondents'!CF101","v":-3.999999999999998E-2},{"$f":"'All Respondents'!CG102-'All Respondents'!CG101","v":0},{"$f":"'All Respondents'!CH102-'All Respondents'!CH101","v":-9.999999999999995E-3},{"$f":"'All Respondents'!CI102-'All Respondents'!CI101","v":9.9999999999999811E-3},{"$f":"'All Respondents'!CJ102-'All Respondents'!CJ101","v":1.0000000000000009E-2},{"$f":"'All Respondents'!CK102-'All Respondents'!CK101","v":-1.0000000000000002E-2},{"$f":"'All Respondents'!CL102-'All Respondents'!CL101","v":1.0000000000000009E-2},{"$f":"'All Respondents'!CM102-'All Respondents'!CM101","v":0},{"$f":"'All Respondents'!CN102-'All Respondents'!CN101","v":-1.0000000000000009E-2},{"$f":"'All Respondents'!CO102-'All Respondents'!CO101","v":0},{"$f":"'All Respondents'!CP102-'All Respondents'!CP101","v":-1.0000000000000009E-2},{"$f":"'All Respondents'!CQ102-'All Respondents'!CQ101","v":-1.0000000000000009E-2},{"$f":"'All Respondents'!CR102-'All Respondents'!CR101","v":1.0000000000000009E-2},{"$f":"'All Respondents'!CS102-'All Respondents'!CS101","v":-3.0000000000000013E-2},{"$f":"'All Respondents'!CT102-'All Respondents'!CT101","v":-1.0000000000000009E-2},{"$f":"'All Respondents'!CU102-'All Respondents'!CU101","v":1.0000000000000009E-2},{"$f":"'All Respondents'!CV102-'All Respondents'!CV101","v":1.0000000000000009E-2},{"$f":"'All Respondents'!CW102-'All Respondents'!CW101","v":2.9999999999999916E-2},{"$f":"'All Respondents'!CX102-'All Respondents'!CX101","v":-1.999999999999999E-2},{"$f":"'All Respondents'!CY102-'All Respondents'!CY101","v":0},{"$f":"'All Respondents'!CZ102-'All Respondents'!CZ101","v":0},{"$f":"'All Respondents'!DA102-'All Respondents'!DA101","v":-0.01},{"$f":"'All Respondents'!DB102-'All Respondents'!DB101","v":-0.03},{"$f":"'All Respondents'!DC102-'All Respondents'!DC101","v":2.9999999999999916E-2},{"$f":"'All Respondents'!DD102-'All Respondents'!DD101","v":1.0000000000000009E-2},{"$f":"'All Respondents'!DE102-'All Respondents'!DE101","v":-2.0000000000000018E-2},{"$f":"'All Respondents'!DF102-'All Respondents'!DF101","v":-3.0000000000000027E-2},{"$f":"'All Respondents'!DG102-'All Respondents'!DG101","v":9.9999999999999811E-3},{"$f":"'All Respondents'!DH102-'All Respondents'!DH101","v":-2.0000000000000129E-2},{"$f":"'All Respondents'!DI102-'All Respondents'!DI101","v":9.999999999999995E-3},{"$f":"'All Respondents'!DJ102-'All Respondents'!DJ101","v":-1.0000000000000002E-2},{"$f":"'All Respondents'!DK102-'All Respondents'!DK101","v":-9.9999999999999985E-3},{"$f":"'All Respondents'!DL102-'All Respondents'!DL101","v":0},{"$f":"'All Respondents'!DM102-'All Respondents'!DM101","v":22007.359999999986},{"$f":"'All Respondents'!DN102-'All Respondents'!DN101","v":10000},{"$f":"'All Respondents'!DO102-'All Respondents'!DO101","v":-0.03},{"$f":"'All Respondents'!DP102-'All Respondents'!DP101","v":0},{"$f":"'All Respondents'!DQ102-'All Respondents'!DQ101","v":-1.0000000000000009E-2},{"$f":"'All Respondents'!DR102-'All Respondents'!DR101","v":0},{"$f":"'All Respondents'!DS102-'All Respondents'!DS101","v":0.03}]
["Sep 18 - Oct 18",{"$f":"'All Respondents'!B103-'All Respondents'!B102","v":-2},{"$f":"'All Respondents'!D103-'All Respondents'!D102","v":-2.2000000000000028},{"$f":"'All Respondents'!E103-'All Respondents'!E102","v":-2.9999999999999971E-2},{"$f":"'All Respondents'!F103-'All Respondents'!F102","v":-1.0000000000000009E-2},{"$f":"'All Respondents'!G103-'All Respondents'!G102","v":1.0000000000000009E-2},{"$f":"'All Respondents'!H103-'All Respondents'!H102","v":-2.0000000000000018E-2},{"$f":"'All Respondents'!I103-'All Respondents'!I102","v":-1.1399999999999993E-2},{"$f":"'All Respondents'!J103-'All Respondents'!J102","v":6.3E-3},{"$f":"'All Respondents'!K103-'All Respondents'!K102","v":6.7200000000000593E-4},{"$f":"'All Respondents'!L103-'All Respondents'!L102","v":1.0000000000000009E-2},{"$f":"'All Respondents'!M103-'All Respondents'!M102","v":0},{"$f":"'All Respondents'!N103-'All Respondents'!N102","v":-9.9999999999999534E-3},{"$f":"'All Respondents'!O103-'All Respondents'!O102","v":-1.0000000000000009E-2},null,{"$f":"'All Respondents'!Q103-'All Respondents'!Q102","v":1.3000000000000025E-3},{"$f":"'All Respondents'!R103-'All Respondents'!R102","v":-1.0000000000000009E-2},{"$f":"'All Respondents'!S103-'All Respondents'!S102","v":-1.9999999999999962E-2},{"$f":"'All Respondents'!T103-'All Respondents'!T102","v":-2.9999999999999916E-2},{"$f":"'All Respondents'!U103-'All Respondents'!U102","v":1.999999999999999E-2},{"$f":"'All Respondents'!V103-'All Respondents'!V102","v":0},{"$f":"'All Respondents'!W103-'All Respondents'!W102","v":1.9999999999999962E-2},{"$f":"'All Respondents'!X103-'All Respondents'!X102","v":-4.9999999999999878E-2},{"$f":"'All Respondents'!Y103-'All Respondents'!Y102","v":0},{"$f":"'All Respondents'!Z103-'All Respondents'!Z102","v":-9.9999999999999811E-3},{"$f":"'All Respondents'!AA103-'All Respondents'!AA102","v":-1.999999999999999E-2},{"$f":"'All Respondents'!AB103-'All Respondents'!AB102","v":0},{"$f":"'All Respondents'!AC103-'All Respondents'!AC102","v":1.0000000000000009E-2},{"$f":"'All Respondents'!AD103-'All Respondents'!AD102","v":-9.0000000000000024E-2},{"$f":"'All Respondents'!AE103-'All Respondents'!AE102","v":0.06},{"$f":"'All Respondents'!AF103-'All Respondents'!AF102","v":2.0000000000000004E-2},{"$f":"'All Respondents'!AG103-'All Respondents'!AG102","v":-9.999999999999995E-3},{"$f":"'All Respondents'!AH103-'All Respondents'!AH102","v":3.999999999999998E-2},{"$f":"'All Respondents'!AI103-'All Respondents'!AI102","v":-1.0000000000000009E-2},{"$f":"'All Respondents'!AJ103-'All Respondents'!AJ102","v":-1.0000000000000009E-2},{"$f":"'All Respondents'!AK103-'All Respondents'!AK102","v":-2.0000000000000018E-2},{"$f":"'All Respondents'!AL103-'All Respondents'!AL102","v":4.9999999999999989E-2},{"$f":"'All Respondents'!AM103-'All Respondents'!AM102","v":-4.0000000000000008E-2},{"$f":"'All Respondents'!AN103-'All Respondents'!AN102","v":1.0000000000000009E-2},{"$f":"'All Respondents'!AO103-'All Respondents'!AO102","v":-3.0000000000000027E-2},{"$f":"'All Respondents'!AP103-'All Respondents'!AP102","v":-2.9999999999999971E-2},{"$f":"'All Respondents'!AQ103-'All Respondents'!AQ102","v":2.0000000000000004E-2},{"$f":"'All Respondents'!AR103-'All Respondents'!AR102","v":4.0000000000000008E-2},{"$f":"'All Respondents'!AS103-'All Respondents'!AS102","v":1.0000000000000009E-2},{"$f":"'All Respondents'!AT103-'All Respondents'!AT102","v":-2.0000000000000018E-2},{"$f":"'All Respondents'!AU103-'All Respondents'!AU102","v":-4.0000000000000008E-2},{"$f":"'All Respondents'!AV103-'All Respondents'!AV102","v":4.0000000000000008E-2},{"$f":"'All Respondents'!AW103-'All Respondents'!AW102","v":-1.0000000000000009E-2},{"$f":"'All Respondents'!AX103-'All Respondents'!AX102","v":-3.999999999999998E-2},{"$f":"'All Respondents'!AY103-'All Respondents'!AY102","v":0.03},{"$f":"'All Respondents'!AZ103-'All Respondents'!AZ102","v":-2.0000000000000018E-2},{"$f":"'All Respondents'!BA103-'All Respondents'!BA102","v":0.02},{"$f":"'All Respondents'!BB103-'All Respondents'!BB102","v":-1.0000000000000009E-2},{"$f":"'All Respondents'!BC103-'All Respondents'!BC102","v":-4.0000000000000036E-2},{"$f":"'All Respondents'!BD103-'All Respondents'!BD102","v":-1.6179999999999944E-3},{"$f":"'All Respondents'!BE103-'All Respondents'!BE102","v":2.9999999999999916E-2},{"$f":"'All Respondents'!BF103-'All Respondents'!BF102","v":-3.999999999999998E-2},{"$f":"'All Respondents'!BG103-'All Respondents'!BG102","v":6.9999999999999896E-2},{"$f":"'All Respondents'!BH103-'All Respondents'!BH102","v":3.9999999999999925E-2},{"$f":"'All Respondents'!BI103-'All Respondents'!BI102","v":-1.0000000000000009E-2},{"$f":"'All Respondents'!BJ103-'All Respondents'!BJ102","v":4.9999999999999933E-2},{"$f":"'All Respondents'!BK103-'All Respondents'!BK102","v":-4.0000000000000008E-2},{"$f":"'All Respondents'!BL103-'All Respondents'!BL102","v":-2.0000000000000018E-2},{"$f":"'All Respondents'!BM103-'All Respondents'!BM102","v":-6.0000000000000053E-2},{"$f":"'All Respondents'!BN103-'All Respondents'!BN102","v":2.0000000000000018E-2},{"$f":"'All Respondents'!BO103-'All Respondents'!BO102","v":0.03},{"$f":"'All Respondents'!BP103-'All Respondents'!BP102","v":0},{"$f":"'All Respondents'!BQ103-'All Respondents'!BQ102","v":0.03},{"$f":"'All Respondents'!BR103-'All Respondents'!BR102","v":-9.0000000000000024E-2},{"$f":"'All Respondents'!BS103-'All Respondents'!BS102","v":9.9999999999999534E-3},{"$f":"'All Respondents'!BT103-'All Respondents'!BT102","v":1.0000000000000009E-2},{"$f":"'All Respondents'!BU103-'All Respondents'!BU102","v":-3.0000000000000027E-2},{"$f":"'All Respondents'!BV103-'All Respondents'!BV102","v":0},{"$f":"'All Respondents'!BW103-'All Respondents'!BW102","v":4.0000000000000036E-2},{"$f":"'All Respondents'!BX103-'All Respondents'!BX102","v":-4.0000000000000036E-2},{"$f":"'All Respondents'!BY103-'All Respondents'!BY102","v":-8.0000000000000071E-2},{"$f":"'All Respondents'!BZ103-'All Respondents'!BZ102","v":-1.0000000000000009E-2},{"$f":"'All Respondents'!CA103-'All Respondents'!CA102","v":-9.999999999999995E-3},{"$f":"'All Respondents'!CB103-'All Respondents'!CB102","v":-2.0000000000000018E-2},{"$f":"'All Respondents'!CC103-'All Respondents'!CC102","v":8.0000000000000071E-2},{"$f":"'All Respondents'!CD103-'All Respondents'!CD102","v":2.0000000000000004E-2},{"$f":"'All Respondents'!CE103-'All Respondents'!CE102","v":3.0000000000000013E-2},{"$f":"'All Respondents'!CF103-'All Respondents'!CF102","v":3.0000000000000027E-2},{"$f":"'All Respondents'!CG103-'All Respondents'!CG102","v":0},{"$f":"'All Respondents'!CH103-'All Respondents'!CH102","v":9.999999999999995E-3},{"$f":"'All Respondents'!CI103-'All Respondents'!CI102","v":-9.9999999999999811E-3},{"$f":"'All Respondents'!CJ103-'All Respondents'!CJ102","v":-2.0000000000000018E-2},{"$f":"'All Respondents'!CK103-'All Respondents'!CK102","v":1.0000000000000002E-2},{"$f":"'All Respondents'!CL103-'All Respondents'!CL102","v":0},{"$f":"'All Respondents'!CM103-'All Respondents'!CM102","v":1.0000000000000009E-2},{"$f":"'All Respondents'!CN103-'All Respondents'!CN102","v":0},{"$f":"'All Respondents'!CO103-'All Respondents'!CO102","v":0},{"$f":"'All Respondents'!CP103-'All Respondents'!CP102","v":0},{"$f":"'All Respondents'!CQ103-'All Respondents'!CQ102","v":-1.0000000000000009E-2},{"$f":"'All Respondents'!CR103-'All Respondents'!CR102","v":-0.06},{"$f":"'All Respondents'!CS103-'All Respondents'!CS102","v":3.0000000000000013E-2},{"$f":"'All Respondents'!CT103-'All Respondents'!CT102","v":-9.9999999999999811E-3},{"$f":"'All Respondents'!CU103-'All Respondents'!CU102","v":9.999999999999995E-3},{"$f":"'All Respondents'!CV103-'All Respondents'!CV102","v":3.999999999999998E-2},{"$f":"'All Respondents'!CW103-'All Respondents'!CW102","v":-1.0000000000000009E-2},{"$f":"'All Respondents'!CX103-'All Respondents'!CX102","v":0},{"$f":"'All Respondents'!CY103-'All Respondents'!CY102","v":0},{"$f":"'All Respondents'!CZ103-'All Respondents'!CZ102","v":0},{"$f":"'All Respondents'!DA103-'All Respondents'!DA102","v":0},{"$f":"'All Respondents'!DB103-'All Respondents'!DB102","v":-2.0000000000000018E-2},{"$f":"'All Respondents'!DC103-'All Respondents'!DC102","v":4.0000000000000036E-2},{"$f":"'All Respondents'!DD103-'All Respondents'!DD102","v":-0.03},{"$f":"'All Respondents'!DE103-'All Respondents'!DE102","v":2.0000000000000018E-2},{"$f":"'All Respondents'!DF103-'All Respondents'!DF102","v":-6.9999999999999951E-2},{"$f":"'All Respondents'!DG103-'All Respondents'!DG102","v":0.03},{"$f":"'All Respondents'!DH103-'All Respondents'!DH102","v":-3.9999999999999925E-2},{"$f":"'All Respondents'!DI103-'All Respondents'!DI102","v":9.999999999999995E-3},{"$f":"'All Respondents'!DJ103-'All Respondents'!DJ102","v":0.04},{"$f":"'All Respondents'!DK103-'All Respondents'!DK102","v":9.9999999999999985E-3},{"$f":"'All Respondents'!DL103-'All Respondents'!DL102","v":3.0000000000000002E-2},{"$f":"'All Respondents'!DM103-'All Respondents'!DM102","v":57813.260000000009},{"$f":"'All Respondents'!DN103-'All Respondents'!DN102","v":0},{"$f":"'All Respondents'!DO103-'All Respondents'!DO102","v":9.999999999999995E-3},{"$f":"'All Respondents'!DP103-'All Respondents'!DP102","v":1.0000000000000009E-2},{"$f":"'All Respondents'!DQ103-'All Respondents'!DQ102","v":0},{"$f":"'All Respondents'!DR103-'All Respondents'!DR102","v":-9.999999999999995E-3},{"$f":"'All Respondents'!DS103-'All Respondents'!DS102","v":0}]
["Oct 18 - Nov 18",{"$f":"'All Respondents'!B104-'All Respondents'!B103","v":0.5},{"$f":"'All Respondents'!D104-'All Respondents'!D103","v":0.40000000000000568},{"$f":"'All Respondents'!E104-'All Respondents'!E103","v":0},{"$f":"'All Respondents'!F104-'All Respondents'!F103","v":4.0000000000000008E-2},{"$f":"'All Respondents'!G104-'All Respondents'!G103","v":0},{"$f":"'All Respondents'!H104-'All Respondents'!H103","v":-3.999999999999998E-2},{"$f":"'All Respondents'!I104-'All Respondents'!I103","v":2.629999999999999E-2},{"$f":"'All Respondents'!J104-'All Respondents'!J103","v":-1.2999999999999956E-3},{"$f":"'All Respondents'!K104-'All Respondents'!K103","v":-1.5350000000000016E-3},{"$f":"'All Respondents'!L104-'All Respondents'!L103","v":-1.0000000000000009E-2},{"$f":"'All Respondents'!M104-'All Respondents'!M103","v":0},{"$f":"'All Respondents'!N104-'All Respondents'!N103","v":9.9999999999999534E-3},{"$f":"'All Respondents'!O104-'All Respondents'!O103","v":1.0000000000000009E-2},null,{"$f":"'All Respondents'!Q104-'All Respondents'!Q103","v":8.9999999999999802E-4},{"$f":"'All Respondents'!R104-'All Respondents'!R103","v":-0.03},{"$f":"'All Respondents'!S104-'All Respondents'!S103","v":4.9999999999999989E-2},{"$f":"'All Respondents'!T104-'All Respondents'!T103","v":2.0000000000000018E-2},{"$f":"'All Respondents'!U104-'All Respondents'!U103","v":0},{"$f":"'All Respondents'!V104-'All Respondents'!V103","v":0},{"$f":"'All Respondents'!W104-'All Respondents'!W103","v":0},{"$f":"'All Respondents'!X104-'All Respondents'!X103","v":2.0000000000000018E-2},{"$f":"'All Respondents'!Y104-'All Respondents'!Y103","v":0},{"$f":"'All Respondents'!Z104-'All Respondents'!Z103","v":4.0000000000000008E-2},{"$f":"'All Respondents'!AA104-'All Respondents'!AA103","v":1.0000000000000009E-2},{"$f":"'All Respondents'!AB104-'All Respondents'!AB103","v":3.9999999999999994E-2},{"$f":"'All Respondents'!AC104-'All Respondents'!AC103","v":-7.9999999999999988E-2},{"$f":"'All Respondents'!AD104-'All Respondents'!AD103","v":3.0000000000000027E-2},{"$f":"'All Respondents'!AE104-'All Respondents'!AE103","v":-2.0000000000000004E-2},{"$f":"'All Respondents'!AF104-'All Respondents'!AF103","v":-0.03},{"$f":"'All Respondents'!AG104-'All Respondents'!AG103","v":3.9999999999999994E-2},{"$f":"'All Respondents'!AH104-'All Respondents'!AH103","v":-1.999999999999999E-2},{"$f":"'All Respondents'!AI104-'All Respondents'!AI103","v":-4.9999999999999989E-2},{"$f":"'All Respondents'!AJ104-'All Respondents'!AJ103","v":0.06},{"$f":"'All Respondents'!AK104-'All Respondents'!AK103","v":1.0000000000000009E-2},{"$f":"'All Respondents'!AL104-'All Respondents'!AL103","v":0},{"$f":"'All Respondents'!AM104-'All Respondents'!AM103","v":1.0000000000000009E-2},{"$f":"'All Respondents'!AN104-'All Respondents'!AN103","v":1.0000000000000009E-2},{"$f":"'All Respondents'!AO104-'All Respondents'!AO103","v":0},{"$f":"'All Respondents'!AP104-'All Respondents'!AP103","v":0},{"$f":"'All Respondents'!AQ104-'All Respondents'!AQ103","v":-1.0000000000000009E-2},{"$f":"'All Respondents'!AR104-'All Respondents'!AR103","v":-1.0000000000000009E-2},{"$f":"'All Respondents'!AS104-'All Respondents'!AS103","v":1.999999999999999E-2},{"$f":"'All Respondents'!AT104-'All Respondents'!AT103","v":-2.0000000000000018E-2},{"$f":"'All Respondents'!AU104-'All Respondents'!AU103","v":-0.03},{"$f":"'All Respondents'!AV104-'All Respondents'!AV103","v":-2.0000000000000004E-2},{"$f":"'All Respondents'!AW104-'All Respondents'!AW103","v":0},{"$f":"'All Respondents'!AX104-'All Respondents'!AX103","v":0.03},{"$f":"'All Respondents'!AY104-'All Respondents'!AY103","v":-9.9999999999999811E-3},{"$f":"'All Respondents'!AZ104-'All Respondents'!AZ103","v":3.0000000000000027E-2},{"$f":"'All Respondents'!BA104-'All Respondents'!BA103","v":0},{"$f":"'All Respondents'!BB104-'All Respondents'!BB103","v":1.0000000000000009E-2},{"$f":"'All Respondents'!BC104-'All Respondents'!BC103","v":3.0000000000000027E-2},{"$f":"'All Respondents'!BD104-'All Respondents'!BD103","v":5.2200000000000163E-4},{"$f":"'All Respondents'!BE104-'All Respondents'!BE103","v":-9.9999999999998979E-3},{"$f":"'All Respondents'!BF104-'All Respondents'!BF103","v":2.0000000000000018E-2},{"$f":"'All Respondents'!BG104-'All Respondents'!BG103","v":-2.9999999999999916E-2},{"$f":"'All Respondents'!BH104-'All Respondents'!BH103","v":-5.9999999999999942E-2},{"$f":"'All Respondents'!BI104-'All Respondents'!BI103","v":3.999999999999998E-2},{"$f":"'All Respondents'!BJ104-'All Respondents'!BJ103","v":-9.9999999999999922E-2},{"$f":"'All Respondents'!BK104-'All Respondents'!BK103","v":-1.999999999999999E-2},{"$f":"'All Respondents'!BL104-'All Respondents'!BL103","v":0.06},{"$f":"'All Respondents'!BM104-'All Respondents'!BM103","v":4.0000000000000036E-2},{"$f":"'All Respondents'!BN104-'All Respondents'!BN103","v":-2.0000000000000018E-2},{"$f":"'All Respondents'!BO104-'All Respondents'!BO103","v":-1.999999999999999E-2},{"$f":"'All Respondents'!BP104-'All Respondents'!BP103","v":9.9999999999999985E-3},{"$f":"'All Respondents'!BQ104-'All Respondents'!BQ103","v":-9.999999999999995E-3},{"$f":"'All Respondents'!BR104-'All Respondents'!BR103","v":5.0000000000000044E-2},{"$f":"'All Respondents'!BS104-'All Respondents'!BS103","v":3.0000000000000027E-2},{"$f":"'All Respondents'!BT104-'All Respondents'!BT103","v":-2.0000000000000004E-2},{"$f":"'All Respondents'!BU104-'All Respondents'!BU103","v":0},{"$f":"'All Respondents'!BV104-'All Respondents'!BV103","v":5.0000000000000017E-2},{"$f":"'All Respondents'!BW104-'All Respondents'!BW103","v":-4.9999999999999989E-2},{"$f":"'All Respondents'!BX104-'All Respondents'!BX103","v":4.9999999999999933E-2},{"$f":"'All Respondents'!BY104-'All Respondents'!BY103","v":9.9999999999999922E-2},{"$f":"'All Respondents'!BZ104-'All Respondents'!BZ103","v":1.0000000000000009E-2},{"$f":"'All Respondents'!CA104-'All Respondents'!CA103","v":1.999999999999999E-2},{"$f":"'All Respondents'!CB104-'All Respondents'!CB103","v":3.0000000000000027E-2},{"$f":"'All Respondents'!CC104-'All Respondents'!CC103","v":-1.000000000000012E-2},{"$f":"'All Respondents'!CD104-'All Respondents'!CD103","v":0},{"$f":"'All Respondents'!CE104-'All Respondents'!CE103","v":9.9999999999999811E-3},{"$f":"'All Respondents'!CF104-'All Respondents'!CF103","v":-2.0000000000000018E-2},{"$f":"'All Respondents'!CG104-'All Respondents'!CG103","v":1.0000000000000002E-2},{"$f":"'All Respondents'!CH104-'All Respondents'!CH103","v":-9.999999999999995E-3},{"$f":"'All Respondents'!CI104-'All Respondents'!CI103","v":-2.0000000000000018E-2},{"$f":"'All Respondents'!CJ104-'All Respondents'!CJ103","v":1.0000000000000009E-2},{"$f":"'All Respondents'!CK104-'All Respondents'!CK103","v":1.0000000000000002E-2},{"$f":"'All Respondents'!CL104-'All Respondents'!CL103","v":-1.0000000000000009E-2},{"$f":"'All Respondents'!CM104-'All Respondents'!CM103","v":0},{"$f":"'All Respondents'!CN104-'All Respondents'!CN103","v":-9.9999999999998979E-3},{"$f":"'All Respondents'!CO104-'All Respondents'!CO103","v":-1.999999999999999E-2},{"$f":"'All Respondents'!CP104-'All Respondents'!CP103","v":1.0000000000000009E-2},{"$f":"'All Respondents'!CQ104-'All Respondents'!CQ103","v":-9.9999999999998979E-3},{"$f":"'All Respondents'!CR104-'All Respondents'!CR103","v":0.06},{"$f":"'All Respondents'!CS104-'All Respondents'!CS103","v":-3.0000000000000013E-2},{"$f":"'All Respondents'!CT104-'All Respondents'!CT103","v":1.999999999999999E-2},{"$f":"'All Respondents'!CU104-'All Respondents'!CU103","v":0},{"$f":"'All Respondents'!CV104-'All Respondents'!CV103","v":-0.06},{"$f":"'All Respondents'!CW104-'All Respondents'!CW103","v":0},{"$f":"'All Respondents'!CX104-'All Respondents'!CX103","v":9.9999999999999811E-3},{"$f":"'All Respondents'!CY104-'All Respondents'!CY103","v":-0.01},{"$f":"'All Respondents'!CZ104-'All Respondents'!CZ103","v":0},{"$f":"'All Respondents'!DA104-'All Respondents'!DA103","v":0},{"$f":"'All Respondents'!DB104-'All Respondents'!DB103","v":-1.999999999999999E-2},{"$f":"'All Respondents'!DC104-'All Respondents'!DC103","v":1.0000000000000009E-2},{"$f":"'All Respondents'!DD104-'All Respondents'!DD103","v":0},{"$f":"'All Respondents'!DE104-'All Respondents'!DE103","v":0},{"$f":"'All Respondents'!DF104-'All Respondents'!DF103","v":3.9999999999999925E-2},{"$f":"'All Respondents'!DG104-'All Respondents'!DG103","v":0},{"$f":"'All Respondents'!DH104-'All Respondents'!DH103","v":3.9999999999999925E-2},{"$f":"'All Respondents'!DI104-'All Respondents'!DI103","v":0},{"$f":"'All Respondents'!DJ104-'All Respondents'!DJ103","v":-0.03},{"$f":"'All Respondents'!DK104-'All Respondents'!DK103","v":0},{"$f":"'All Respondents'!DL104-'All Respondents'!DL103","v":-3.0000000000000002E-2},{"$f":"'All Respondents'!DM104-'All Respondents'!DM103","v":-42460.090000000026},{"$f":"'All Respondents'!DN104-'All Respondents'!DN103","v":-28262.369999999995},{"$f":"'All Respondents'!DO104-'All Respondents'!DO103","v":2.0000000000000004E-2},{"$f":"'All Respondents'!DP104-'All Respondents'!DP103","v":0},{"$f":"'All Respondents'!DQ104-'All Respondents'!DQ103","v":-1.0000000000000009E-2},{"$f":"'All Respondents'!DR104-'All Respondents'!DR103","v":9.999999999999995E-3},{"$f":"'All Respondents'!DS104-'All Respondents'!DS103","v":-2.0000000000000004E-2}]
["Nov 18 - Dec 18",{"$f":"'All Respondents'!B105-'All Respondents'!B104","v":-2.7000000000000028},{"$f":"'All Respondents'!D105-'All Respondents'!D104","v":-3.2000000000000028},{"$f":"'All Respondents'!E105-'All Respondents'!E104","v":-1.0000000000000009E-2},{"$f":"'All Respondents'!F105-'All Respondents'!F104","v":1.0000000000000009E-2},{"$f":"'All Respondents'!G105-'All Respondents'!G104","v":0},{"$f":"'All Respondents'!H105-'All Respondents'!H104","v":-2.0000000000000018E-2},{"$f":"'All Respondents'!I105-'All Respondents'!I104","v":-8.9999999999999802E-4},{"$f":"'All Respondents'!J105-'All Respondents'!J104","v":-7.0000000000000617E-4},{"$f":"'All Respondents'!K105-'All Respondents'!K104","v":-2.0420000000000021E-3},{"$f":"'All Respondents'!L105-'All Respondents'!L104","v":1.0000000000000009E-2},{"$f":"'All Respondents'!M105-'All Respondents'!M104","v":1.0000000000000002E-2},{"$f":"'All Respondents'!N105-'All Respondents'!N104","v":-2.9999999999999971E-2},{"$f":"'All Respondents'!O105-'All Respondents'!O104","v":0},null,{"$f":"'All Respondents'!Q105-'All Respondents'!Q104","v":-1.1999999999999997E-3},{"$f":"'All Respondents'!R105-'All Respondents'!R104","v":0},{"$f":"'All Respondents'!S105-'All Respondents'!S104","v":-4.9999999999999989E-2},{"$f":"'All Respondents'!T105-'All Respondents'!T104","v":-5.0000000000000044E-2},{"$f":"'All Respondents'!U105-'All Respondents'!U104","v":3.0000000000000027E-2},{"$f":"'All Respondents'!V105-'All Respondents'!V104","v":4.0000000000000008E-2},{"$f":"'All Respondents'!W105-'All Respondents'!W104","v":7.0000000000000062E-2},{"$f":"'All Respondents'!X105-'All Respondents'!X104","v":-0.12000000000000011},{"$f":"'All Respondents'!Y105-'All Respondents'!Y104","v":0.05},{"$f":"'All Respondents'!Z105-'All Respondents'!Z104","v":1.0000000000000009E-2},{"$f":"'All Respondents'!AA105-'All Respondents'!AA104","v":0},{"$f":"'All Respondents'!AB105-'All Respondents'!AB104","v":-4.9999999999999996E-2},{"$f":"'All Respondents'!AC105-'All Respondents'!AC104","v":1.0000000000000009E-2},{"$f":"'All Respondents'!AD105-'All Respondents'!AD104","v":7.0000000000000007E-2},{"$f":"'All Respondents'!AE105-'All Respondents'!AE104","v":-0.03},{"$f":"'All Respondents'!AF105-'All Respondents'!AF104","v":0},{"$f":"'All Respondents'!AG105-'All Respondents'!AG104","v":-4.9999999999999989E-2},{"$f":"'All Respondents'!AH105-'All Respondents'!AH104","v":-4.0000000000000008E-2},{"$f":"'All Respondents'!AI105-'All Respondents'!AI104","v":9.9999999999999811E-3},{"$f":"'All Respondents'!AJ105-'All Respondents'!AJ104","v":0},{"$f":"'All Respondents'!AK105-'All Respondents'!AK104","v":1.0000000000000009E-2},{"$f":"'All Respondents'!AL105-'All Respondents'!AL104","v":-0.03},{"$f":"'All Respondents'!AM105-'All Respondents'!AM104","v":0.03},{"$f":"'All Respondents'!AN105-'All Respondents'!AN104","v":0},{"$f":"'All Respondents'!AO105-'All Respondents'!AO104","v":1.0000000000000009E-2},{"$f":"'All Respondents'!AP105-'All Respondents'!AP104","v":2.9999999999999971E-2},{"$f":"'All Respondents'!AQ105-'All Respondents'!AQ104","v":4.0000000000000008E-2},{"$f":"'All Respondents'!AR105-'All Respondents'!AR104","v":-4.9999999999999989E-2},{"$f":"'All Respondents'!AS105-'All Respondents'!AS104","v":-1.999999999999999E-2},{"$f":"'All Respondents'!AT105-'All Respondents'!AT104","v":1.0000000000000009E-2},{"$f":"'All Respondents'!AU105-'All Respondents'!AU104","v":-1.999999999999999E-2},{"$f":"'All Respondents'!AV105-'All Respondents'!AV104","v":3.9999999999999994E-2},{"$f":"'All Respondents'!AW105-'All Respondents'!AW104","v":-7.9999999999999988E-2},{"$f":"'All Respondents'!AX105-'All Respondents'!AX104","v":-2.0000000000000018E-2},{"$f":"'All Respondents'!AY105-'All Respondents'!AY104","v":9.9999999999999811E-3},{"$f":"'All Respondents'!AZ105-'All Respondents'!AZ104","v":-2.0000000000000018E-2},{"$f":"'All Respondents'!BA105-'All Respondents'!BA104","v":-1.0000000000000002E-2},{"$f":"'All Respondents'!BB105-'All Respondents'!BB104","v":0},{"$f":"'All Respondents'!BC105-'All Respondents'!BC104","v":-1.0000000000000009E-2},{"$f":"'All Respondents'!BD105-'All Respondents'!BD104","v":2.8219999999999912E-3},{"$f":"'All Respondents'!BE105-'All Respondents'!BE104","v":-2.0000000000000018E-2},{"$f":"'All Respondents'!BF105-'All Respondents'!BF104","v":9.9999999999999534E-3},{"$f":"'All Respondents'!BG105-'All Respondents'!BG104","v":-2.9999999999999971E-2},{"$f":"'All Respondents'!BH105-'All Respondents'!BH104","v":-3.0000000000000027E-2},{"$f":"'All Respondents'!BI105-'All Respondents'!BI104","v":3.0000000000000027E-2},{"$f":"'All Respondents'!BJ105-'All Respondents'!BJ104","v":-6.0000000000000053E-2},{"$f":"'All Respondents'!BK105-'All Respondents'!BK104","v":1.999999999999999E-2},{"$f":"'All Respondents'!BL105-'All Respondents'!BL104","v":-4.9999999999999989E-2},{"$f":"'All Respondents'!BM105-'All Respondents'!BM104","v":-3.0000000000000027E-2},{"$f":"'All Respondents'!BN105-'All Respondents'!BN104","v":0},{"$f":"'All Respondents'!BO105-'All Respondents'!BO104","v":1.999999999999999E-2},{"$f":"'All Respondents'!BP105-'All Respondents'!BP104","v":0},{"$f":"'All Respondents'!BQ105-'All Respondents'!BQ104","v":1.999999999999999E-2},{"$f":"'All Respondents'!BR105-'All Respondents'!BR104","v":-5.0000000000000044E-2},{"$f":"'All Respondents'!BS105-'All Respondents'!BS104","v":-1.0000000000000009E-2},{"$f":"'All Respondents'!BT105-'All Respondents'!BT104","v":3.9999999999999994E-2},{"$f":"'All Respondents'!BU105-'All Respondents'!BU104","v":-3.9999999999999925E-2},{"$f":"'All Respondents'!BV105-'All Respondents'!BV104","v":-4.9999999999999989E-2},{"$f":"'All Respondents'!BW105-'All Respondents'!BW104","v":2.9999999999999971E-2},{"$f":"'All Respondents'!BX105-'All Respondents'!BX104","v":-1.9999999999999907E-2},{"$f":"'All Respondents'!BY105-'All Respondents'!BY104","v":-4.9999999999999878E-2},{"$f":"'All Respondents'!BZ105-'All Respondents'!BZ104","v":1.0000000000000009E-2},{"$f":"'All Respondents'!CA105-'All Respondents'!CA104","v":-4.9999999999999996E-2},{"$f":"'All Respondents'!CB105-'All Respondents'!CB104","v":-4.0000000000000008E-2},{"$f":"'All Respondents'!CC105-'All Respondents'!CC104","v":0},{"$f":"'All Respondents'!CD105-'All Respondents'!CD104","v":0},{"$f":"'All Respondents'!CE105-'All Respondents'!CE104","v":0},{"$f":"'All Respondents'!CF105-'All Respondents'!CF104","v":0},{"$f":"'All Respondents'!CG105-'All Respondents'!CG104","v":0},{"$f":"'All Respondents'!CH105-'All Respondents'!CH104","v":0},{"$f":"'All Respondents'!CI105-'All Respondents'!CI104","v":1.0000000000000009E-2},{"$f":"'All Respondents'!CJ105-'All Respondents'!CJ104","v":0},{"$f":"'All Respondents'!CK105-'All Respondents'!CK104","v":-1.0000000000000002E-2},{"$f":"'All Respondents'!CL105-'All Respondents'!CL104","v":0},{"$f":"'All Respondents'!CM105-'All Respondents'!CM104","v":-9.999999999999995E-3},{"$f":"'All Respondents'!CN105-'All Respondents'!CN104","v":1.0000000000000009E-2},{"$f":"'All Respondents'!CO105-'All Respondents'!CO104","v":0},{"$f":"'All Respondents'!CP105-'All Respondents'!CP104","v":1.0000000000000009E-2},{"$f":"'All Respondents'!CQ105-'All Respondents'!CQ104","v":2.0000000000000018E-2},{"$f":"'All Respondents'!CR105-'All Respondents'!CR104","v":9.9999999999999534E-3},{"$f":"'All Respondents'!CS105-'All Respondents'!CS104","v":9.999999999999995E-3},{"$f":"'All Respondents'!CT105-'All Respondents'!CT104","v":-1.0000000000000009E-2},{"$f":"'All Respondents'!CU105-'All Respondents'!CU104","v":9.999999999999995E-3},{"$f":"'All Respondents'!CV105-'All Respondents'!CV104","v":2.0000000000000018E-2},{"$f":"'All Respondents'!CW105-'All Respondents'!CW104","v":0},{"$f":"'All Respondents'!CX105-'All Respondents'!CX104","v":-1.999999999999999E-2},{"$f":"'All Respondents'!CY105-'All Respondents'!CY104","v":0.03},{"$f":"'All Respondents'!CZ105-'All Respondents'!CZ104","v":0},{"$f":"'All Respondents'!DA105-'All Respondents'!DA104","v":0},{"$f":"'All Respondents'!DB105-'All Respondents'!DB104","v":0.03},{"$f":"'All Respondents'!DC105-'All Respondents'!DC104","v":-1.0000000000000009E-2},{"$f":"'All Respondents'!DD105-'All Respondents'!DD104","v":1.0000000000000009E-2},{"$f":"'All Respondents'!DE105-'All Respondents'!DE104","v":0},{"$f":"'All Respondents'!DF105-'All Respondents'!DF104","v":5.0000000000000044E-2},{"$f":"'All Respondents'!DG105-'All Respondents'!DG104","v":-6.9999999999999979E-2},{"$f":"'All Respondents'!DH105-'All Respondents'!DH104","v":-1.9999999999999907E-2},{"$f":"'All Respondents'!DI105-'All Respondents'!DI104","v":-9.999999999999995E-3},{"$f":"'All Respondents'!DJ105-'All Respondents'!DJ104","v":2.0000000000000004E-2},{"$f":"'All Respondents'!DK105-'All Respondents'!DK104","v":1.0000000000000002E-2},{"$f":"'All Respondents'!DL105-'All Respondents'!DL104","v":9.9999999999999985E-3},{"$f":"'All Respondents'!DM105-'All Respondents'!DM104","v":45389.94},{"$f":"'All Respondents'!DN105-'All Respondents'!DN104","v":23594.760000000009},{"$f":"'All Respondents'!DO105-'All Respondents'!DO104","v":-2.0000000000000004E-2},{"$f":"'All Respondents'!DP105-'All Respondents'!DP104","v":-1.0000000000000009E-2},{"$f":"'All Respondents'!DQ105-'All Respondents'!DQ104","v":0},{"$f":"'All Respondents'!DR105-'All Respondents'!DR104","v":-9.999999999999995E-3},{"$f":"'All Respondents'!DS105-'All Respondents'!DS104","v":9.999999999999995E-3}]
["Dec 18 - Jan 19",{"$f":"'All Respondents'!B106-'All Respondents'!B105","v":1.2000000000000028},{"$f":"'All Respondents'!D106-'All Respondents'!D105","v":0.79999999999999716},{"$f":"'All Respondents'!E106-'All Respondents'!E105","v":0},{"$f":"'All Respondents'!F106-'All Respondents'!F105","v":9.9999999999999811E-3},{"$f":"'All Respondents'!G106-'All Respondents'!G105","v":-1.0000000000000009E-2},{"$f":"'All Respondents'!H106-'All Respondents'!H105","v":-9.9999999999999534E-3},{"$f":"'All Respondents'!I106-'All Respondents'!I105","v":-1.5099999999999988E-2},{"$f":"'All Respondents'!J106-'All Respondents'!J105","v":-8.4999999999999937E-3},{"$f":"'All Respondents'!K106-'All Respondents'!K105","v":-6.9249999999999971E-3},{"$f":"'All Respondents'!L106-'All Respondents'!L105","v":-2.0000000000000018E-2},{"$f":"'All Respondents'!M106-'All Respondents'!M105","v":9.999999999999995E-3},{"$f":"'All Respondents'!N106-'All Respondents'!N105","v":3.999999999999998E-2},{"$f":"'All Respondents'!O106-'All Respondents'!O105","v":2.9999999999999916E-2},null,{"$f":"'All Respondents'!Q106-'All Respondents'!Q105","v":-1.3999999999999985E-3},{"$f":"'All Respondents'!R106-'All Respondents'!R105","v":2.0000000000000018E-2},{"$f":"'All Respondents'!S106-'All Respondents'!S105","v":-1.0000000000000009E-2},{"$f":"'All Respondents'!T106-'All Respondents'!T105","v":1.0000000000000009E-2},{"$f":"'All Respondents'!U106-'All Respondents'!U105","v":-1.0000000000000009E-2},{"$f":"'All Respondents'!V106-'All Respondents'!V105","v":-2.0000000000000018E-2},{"$f":"'All Respondents'!W106-'All Respondents'!W105","v":-3.0000000000000027E-2},{"$f":"'All Respondents'!X106-'All Respondents'!X105","v":4.0000000000000036E-2},{"$f":"'All Respondents'!Y106-'All Respondents'!Y105","v":-0.06},{"$f":"'All Respondents'!Z106-'All Respondents'!Z105","v":-5.0000000000000017E-2},{"$f":"'All Respondents'!AA106-'All Respondents'!AA105","v":4.9999999999999989E-2},{"$f":"'All Respondents'!AB106-'All Respondents'!AB105","v":1.9999999999999997E-2},{"$f":"'All Respondents'!AC106-'All Respondents'!AC105","v":0.03},{"$f":"'All Respondents'!AD106-'All Respondents'!AD105","v":-0.16000000000000003},{"$f":"'All Respondents'!AE106-'All Respondents'!AE105","v":3.9999999999999994E-2},{"$f":"'All Respondents'!AF106-'All Respondents'!AF105","v":0.03},{"$f":"'All Respondents'!AG106-'All Respondents'!AG105","v":1.999999999999999E-2},{"$f":"'All Respondents'!AH106-'All Respondents'!AH105","v":0.1},{"$f":"'All Respondents'!AI106-'All Respondents'!AI105","v":-9.9999999999999811E-3},{"$f":"'All Respondents'!AJ106-'All Respondents'!AJ105","v":0},{"$f":"'All Respondents'!AK106-'All Respondents'!AK105","v":-1.0000000000000009E-2},{"$f":"'All Respondents'!AL106-'All Respondents'!AL105","v":2.0000000000000018E-2},{"$f":"'All Respondents'!AM106-'All Respondents'!AM105","v":-2.0000000000000004E-2},{"$f":"'All Respondents'!AN106-'All Respondents'!AN105","v":0},{"$f":"'All Respondents'!AO106-'All Respondents'!AO105","v":-1.0000000000000009E-2},{"$f":"'All Respondents'!AP106-'All Respondents'!AP105","v":-2.0000000000000018E-2},{"$f":"'All Respondents'!AQ106-'All Respondents'!AQ105","v":1.0000000000000009E-2},{"$f":"'All Respondents'!AR106-'All Respondents'!AR105","v":1.999999999999999E-2},{"$f":"'All Respondents'!AS106-'All Respondents'!AS105","v":0},{"$f":"'All Respondents'!AT106-'All Respondents'!AT105","v":-0.03},{"$f":"'All Respondents'!AU106-'All Respondents'!AU105","v":0},{"$f":"'All Respondents'!AV106-'All Respondents'!AV105","v":-1.999999999999999E-2},{"$f":"'All Respondents'!AW106-'All Respondents'!AW105","v":1.999999999999999E-2},{"$f":"'All Respondents'!AX106-'All Respondents'!AX105","v":-1.999999999999999E-2},{"$f":"'All Respondents'!AY106-'All Respondents'!AY105","v":0.12},{"$f":"'All Respondents'!AZ106-'All Respondents'!AZ105","v":0},{"$f":"'All Respondents'!BA106-'All Respondents'!BA105","v":0.03},{"$f":"'All Respondents'!BB106-'All Respondents'!BB105","v":1.0000000000000009E-2},{"$f":"'All Respondents'!BC106-'All Respondents'!BC105","v":-2.9999999999999916E-2},{"$f":"'All Respondents'!BD106-'All Respondents'!BD105","v":-8.539999999999992E-3},{"$f":"'All Respondents'!BE106-'All Respondents'!BE105","v":2.0000000000000018E-2},{"$f":"'All Respondents'!BF106-'All Respondents'!BF105","v":-1.9999999999999962E-2},{"$f":"'All Respondents'!BG106-'All Respondents'!BG105","v":3.999999999999998E-2},{"$f":"'All Respondents'!BH106-'All Respondents'!BH105","v":-1.0000000000000009E-2},{"$f":"'All Respondents'!BI106-'All Respondents'!BI105","v":2.9999999999999971E-2},{"$f":"'All Respondents'!BJ106-'All Respondents'!BJ105","v":-3.999999999999998E-2},{"$f":"'All Respondents'!BK106-'All Respondents'!BK105","v":0},{"$f":"'All Respondents'!BL106-'All Respondents'!BL105","v":2.9999999999999971E-2},{"$f":"'All Respondents'!BM106-'All Respondents'!BM105","v":3.0000000000000027E-2},{"$f":"'All Respondents'!BN106-'All Respondents'!BN105","v":0},{"$f":"'All Respondents'!BO106-'All Respondents'!BO105","v":-1.999999999999999E-2},{"$f":"'All Respondents'!BP106-'All Respondents'!BP105","v":1.0000000000000002E-2},{"$f":"'All Respondents'!BQ106-'All Respondents'!BQ105","v":-9.9999999999999811E-3},{"$f":"'All Respondents'!BR106-'All Respondents'!BR105","v":4.0000000000000036E-2},{"$f":"'All Respondents'!BS106-'All Respondents'!BS105","v":3.0000000000000027E-2},{"$f":"'All Respondents'!BT106-'All Respondents'!BT105","v":-4.9999999999999989E-2},{"$f":"'All Respondents'!BU106-'All Respondents'!BU105","v":2.9999999999999916E-2},{"$f":"'All Respondents'!BV106-'All Respondents'!BV105","v":8.0000000000000016E-2},{"$f":"'All Respondents'!BW106-'All Respondents'!BW105","v":-1.0000000000000009E-2},{"$f":"'All Respondents'!BX106-'All Respondents'!BX105","v":0},{"$f":"'All Respondents'!BY106-'All Respondents'!BY105","v":1.0000000000000009E-2},{"$f":"'All Respondents'!BZ106-'All Respondents'!BZ105","v":-5.0000000000000017E-2},{"$f":"'All Respondents'!CA106-'All Respondents'!CA105","v":1.9999999999999997E-2},{"$f":"'All Respondents'!CB106-'All Respondents'!CB105","v":-3.0000000000000027E-2},{"$f":"'All Respondents'!CC106-'All Respondents'!CC105","v":5.0000000000000044E-2},{"$f":"'All Respondents'!CD106-'All Respondents'!CD105","v":0},{"$f":"'All Respondents'!CE106-'All Respondents'!CE105","v":1.0000000000000009E-2},{"$f":"'All Respondents'!CF106-'All Respondents'!CF105","v":3.999999999999998E-2},{"$f":"'All Respondents'!CG106-'All Respondents'!CG105","v":-1.0000000000000002E-2},{"$f":"'All Respondents'!CH106-'All Respondents'!CH105","v":0.03},{"$f":"'All Respondents'!CI106-'All Respondents'!CI105","v":-1.0000000000000009E-2},{"$f":"'All Respondents'!CJ106-'All Respondents'!CJ105","v":-1.0000000000000009E-2},{"$f":"'All Respondents'!CK106-'All Respondents'!CK105","v":-1.0000000000000002E-2},{"$f":"'All Respondents'!CL106-'All Respondents'!CL105","v":4.0000000000000008E-2},{"$f":"'All Respondents'!CM106-'All Respondents'!CM105","v":0.03},{"$f":"'All Respondents'!CN106-'All Respondents'!CN105","v":-3.0000000000000027E-2},{"$f":"'All Respondents'!CO106-'All Respondents'!CO105","v":0},{"$f":"'All Respondents'!CP106-'All Respondents'!CP105","v":-3.0000000000000027E-2},{"$f":"'All Respondents'!CQ106-'All Respondents'!CQ105","v":-6.0000000000000053E-2},{"$f":"'All Respondents'!CR106-'All Respondents'!CR105","v":1.0000000000000009E-2},{"$f":"'All Respondents'!CS106-'All Respondents'!CS105","v":0},{"$f":"'All Respondents'!CT106-'All Respondents'!CT105","v":1.0000000000000009E-2},{"$f":"'All Respondents'!CU106-'All Respondents'!CU105","v":1.0000000000000009E-2},{"$f":"'All Respondents'!CV106-'All Respondents'!CV105","v":-2.0000000000000018E-2},{"$f":"'All Respondents'!CW106-'All Respondents'!CW105","v":-1.0000000000000009E-2},{"$f":"'All Respondents'!CX106-'All Respondents'!CX105","v":1.0000000000000009E-2},{"$f":"'All Respondents'!CY106-'All Respondents'!CY105","v":-1.0000000000000002E-2},{"$f":"'All Respondents'!CZ106-'All Respondents'!CZ105","v":0},{"$f":"'All Respondents'!DA106-'All Respondents'!DA105","v":0},{"$f":"'All Respondents'!DB106-'All Respondents'!DB105","v":4.0000000000000008E-2},{"$f":"'All Respondents'!DC106-'All Respondents'!DC105","v":-5.9999999999999942E-2},{"$f":"'All Respondents'!DD106-'All Respondents'!DD105","v":9.9999999999999811E-3},{"$f":"'All Respondents'!DE106-'All Respondents'!DE105","v":0},{"$f":"'All Respondents'!DF106-'All Respondents'!DF105","v":-5.0000000000000044E-2},{"$f":"'All Respondents'!DG106-'All Respondents'!DG105","v":0.06},{"$f":"'All Respondents'!DH106-'All Respondents'!DH105","v":9.9999999999998979E-3},{"$f":"'All Respondents'!DI106-'All Respondents'!DI105","v":9.999999999999995E-3},{"$f":"'All Respondents'!DJ106-'All Respondents'!DJ105","v":-2.0000000000000004E-2},{"$f":"'All Respondents'!DK106-'All Respondents'!DK105","v":-1.0000000000000002E-2},{"$f":"'All Respondents'!DL106-'All Respondents'!DL105","v":-9.9999999999999985E-3},{"$f":"'All Respondents'!DM106-'All Respondents'!DM105","v":-65504.52999999997},{"$f":"'All Respondents'!DN106-'All Respondents'!DN105","v":-18333.98000000001},{"$f":"'All Respondents'!DO106-'All Respondents'!DO105","v":2.0000000000000004E-2},{"$f":"'All Respondents'!DP106-'All Respondents'!DP105","v":3.0000000000000027E-2},{"$f":"'All Respondents'!DQ106-'All Respondents'!DQ105","v":0},{"$f":"'All Respondents'!DR106-'All Respondents'!DR105","v":-1.0000000000000009E-2},{"$f":"'All Respondents'!DS106-'All Respondents'!DS105","v":-9.999999999999995E-3}]
["Jan 19 - Feb 19",{"$f":"'All Respondents'!B107-'All Respondents'!B106","v":-0.40000000000000568},{"$f":"'All Respondents'!D107-'All Respondents'!D106","v":-0.59999999999999432},{"$f":"'All Respondents'!E107-'All Respondents'!E106","v":-2.0000000000000018E-2},{"$f":"'All Respondents'!F107-'All Respondents'!F106","v":-4.9999999999999989E-2},{"$f":"'All Respondents'!G107-'All Respondents'!G106","v":4.9999999999999989E-2},{"$f":"'All Respondents'!H107-'All Respondents'!H106","v":2.9999999999999916E-2},{"$f":"'All Respondents'!I107-'All Respondents'!I106","v":2.0099999999999993E-2},{"$f":"'All Respondents'!J107-'All Respondents'!J106","v":8.9000000000000051E-3},{"$f":"'All Respondents'!K107-'All Respondents'!K106","v":9.4009999999999962E-3},{"$f":"'All Respondents'!L107-'All Respondents'!L106","v":-3.9999999999999925E-2},{"$f":"'All Respondents'!M107-'All Respondents'!M106","v":-0.03},{"$f":"'All Respondents'!N107-'All Respondents'!N106","v":4.0000000000000036E-2},{"$f":"'All Respondents'!O107-'All Respondents'!O106","v":1.0000000000000009E-2},null,{"$f":"'All Respondents'!Q107-'All Respondents'!Q106","v":1.9999999999999879E-4},{"$f":"'All Respondents'!R107-'All Respondents'!R106","v":-1.0000000000000009E-2},{"$f":"'All Respondents'!S107-'All Respondents'!S106","v":1.0000000000000009E-2},{"$f":"'All Respondents'!T107-'All Respondents'!T106","v":0},{"$f":"'All Respondents'!U107-'All Respondents'!U106","v":0},{"$f":"'All Respondents'!V107-'All Respondents'!V106","v":0},{"$f":"'All Respondents'!W107-'All Respondents'!W106","v":0},{"$f":"'All Respondents'!X107-'All Respondents'!X106","v":0},{"$f":"'All Respondents'!Y107-'All Respondents'!Y106","v":-0.03},{"$f":"'All Respondents'!Z107-'All Respondents'!Z106","v":5.999999999999997E-2},{"$f":"'All Respondents'!AA107-'All Respondents'!AA106","v":-7.9999999999999988E-2},{"$f":"'All Respondents'!AB107-'All Respondents'!AB106","v":-9.999999999999995E-3},{"$f":"'All Respondents'!AC107-'All Respondents'!AC106","v":-1.0000000000000009E-2},{"$f":"'All Respondents'!AD107-'All Respondents'!AD106","v":9.0000000000000024E-2},{"$f":"'All Respondents'!AE107-'All Respondents'!AE106","v":-1.999999999999999E-2},{"$f":"'All Respondents'!AF107-'All Respondents'!AF106","v":-0.06},{"$f":"'All Respondents'!AG107-'All Respondents'!AG106","v":2.0000000000000004E-2},{"$f":"'All Respondents'!AH107-'All Respondents'!AH106","v":-0.03},{"$f":"'All Respondents'!AI107-'All Respondents'!AI106","v":0},{"$f":"'All Respondents'!AJ107-'All Respondents'!AJ106","v":-2.9999999999999971E-2},{"$f":"'All Respondents'!AK107-'All Respondents'!AK106","v":-2.9999999999999916E-2},{"$f":"'All Respondents'!AL107-'All Respondents'!AL106","v":0.03},{"$f":"'All Respondents'!AM107-'All Respondents'!AM106","v":-9.999999999999995E-3},{"$f":"'All Respondents'!AN107-'All Respondents'!AN106","v":2.0000000000000018E-2},{"$f":"'All Respondents'!AO107-'All Respondents'!AO106","v":-4.9999999999999933E-2},{"$f":"'All Respondents'!AP107-'All Respondents'!AP106","v":-9.9999999999999534E-3},{"$f":"'All Respondents'!AQ107-'All Respondents'!AQ106","v":-4.0000000000000008E-2},{"$f":"'All Respondents'!AR107-'All Respondents'!AR106","v":0},{"$f":"'All Respondents'!AS107-'All Respondents'!AS106","v":1.999999999999999E-2},{"$f":"'All Respondents'!AT107-'All Respondents'!AT106","v":6.0000000000000026E-2},{"$f":"'All Respondents'!AU107-'All Respondents'!AU106","v":0.06},{"$f":"'All Respondents'!AV107-'All Respondents'!AV106","v":-0.03},{"$f":"'All Respondents'!AW107-'All Respondents'!AW106","v":1.999999999999999E-2},{"$f":"'All Respondents'!AX107-'All Respondents'!AX106","v":-1.0000000000000009E-2},{"$f":"'All Respondents'!AY107-'All Respondents'!AY106","v":-1.9999999999999962E-2},{"$f":"'All Respondents'!AZ107-'All Respondents'!AZ106","v":-1.9999999999999907E-2},{"$f":"'All Respondents'!BA107-'All Respondents'!BA106","v":-0.03},{"$f":"'All Respondents'!BB107-'All Respondents'!BB106","v":9.9999999999999534E-3},{"$f":"'All Respondents'!BC107-'All Respondents'!BC106","v":1.0000000000000009E-2},{"$f":"'All Respondents'!BD107-'All Respondents'!BD106","v":5.0800000000000012E-3},{"$f":"'All Respondents'!BE107-'All Respondents'!BE106","v":-3.0000000000000027E-2},{"$f":"'All Respondents'!BF107-'All Respondents'!BF106","v":2.9999999999999971E-2},{"$f":"'All Respondents'!BG107-'All Respondents'!BG106","v":-0.06},{"$f":"'All Respondents'!BH107-'All Respondents'!BH106","v":3.0000000000000027E-2},{"$f":"'All Respondents'!BI107-'All Respondents'!BI106","v":-4.9999999999999989E-2},{"$f":"'All Respondents'!BJ107-'All Respondents'!BJ106","v":8.0000000000000016E-2},{"$f":"'All Respondents'!BK107-'All Respondents'!BK106","v":-0.06},{"$f":"'All Respondents'!BL107-'All Respondents'!BL106","v":0},{"$f":"'All Respondents'!BM107-'All Respondents'!BM106","v":-6.0000000000000053E-2},{"$f":"'All Respondents'!BN107-'All Respondents'!BN106","v":3.999999999999998E-2},{"$f":"'All Respondents'!BO107-'All Respondents'!BO106","v":0},{"$f":"'All Respondents'!BP107-'All Respondents'!BP106","v":1.0000000000000002E-2},{"$f":"'All Respondents'!BQ107-'All Respondents'!BQ106","v":9.999999999999995E-3},{"$f":"'All Respondents'!BR107-'All Respondents'!BR106","v":-7.0000000000000062E-2},{"$f":"'All Respondents'!BS107-'All Respondents'!BS106","v":-7.0000000000000007E-2},{"$f":"'All Respondents'!BT107-'All Respondents'!BT106","v":1.999999999999999E-2},{"$f":"'All Respondents'!BU107-'All Respondents'!BU106","v":5.0000000000000044E-2},{"$f":"'All Respondents'!BV107-'All Respondents'!BV106","v":-0.09},{"$f":"'All Respondents'!BW107-'All Respondents'!BW106","v":-1.9999999999999962E-2},{"$f":"'All Respondents'!BX107-'All Respondents'!BX106","v":2.9999999999999916E-2},{"$f":"'All Respondents'!BY107-'All Respondents'!BY106","v":4.9999999999999878E-2},{"$f":"'All Respondents'!BZ107-'All Respondents'!BZ106","v":4.0000000000000008E-2},{"$f":"'All Respondents'!CA107-'All Respondents'!CA106","v":-9.999999999999995E-3},{"$f":"'All Respondents'!CB107-'All Respondents'!CB106","v":0.03},{"$f":"'All Respondents'!CC107-'All Respondents'!CC106","v":-5.0000000000000044E-2},{"$f":"'All Respondents'!CD107-'All Respondents'!CD106","v":-0.03},{"$f":"'All Respondents'!CE107-'All Respondents'!CE106","v":-4.0000000000000008E-2},{"$f":"'All Respondents'!CF107-'All Respondents'!CF106","v":2.0000000000000018E-2},{"$f":"'All Respondents'!CG107-'All Respondents'!CG106","v":1.0000000000000002E-2},{"$f":"'All Respondents'!CH107-'All Respondents'!CH106","v":-2.0000000000000004E-2},{"$f":"'All Respondents'!CI107-'All Respondents'!CI106","v":0.03},{"$f":"'All Respondents'!CJ107-'All Respondents'!CJ106","v":-1.0000000000000009E-2},{"$f":"'All Respondents'!CK107-'All Respondents'!CK106","v":0},{"$f":"'All Respondents'!CL107-'All Respondents'!CL106","v":-4.0000000000000008E-2},{"$f":"'All Respondents'!CM107-'All Respondents'!CM106","v":-4.0000000000000008E-2},{"$f":"'All Respondents'!CN107-'All Respondents'!CN106","v":3.9999999999999925E-2},{"$f":"'All Respondents'!CO107-'All Respondents'!CO106","v":0.03},{"$f":"'All Respondents'!CP107-'All Respondents'!CP106","v":1.0000000000000009E-2},{"$f":"'All Respondents'!CQ107-'All Respondents'!CQ106","v":7.999999999999996E-2},{"$f":"'All Respondents'!CR107-'All Respondents'!CR106","v":1.0000000000000009E-2},{"$f":"'All Respondents'!CS107-'All Respondents'!CS106","v":2.0000000000000018E-2},{"$f":"'All Respondents'!CT107-'All Respondents'!CT106","v":-4.0000000000000008E-2},{"$f":"'All Respondents'!CU107-'All Respondents'!CU106","v":-0.03},{"$f":"'All Respondents'!CV107-'All Respondents'!CV106","v":0},{"$f":"'All Respondents'!CW107-'All Respondents'!CW106","v":4.0000000000000036E-2},{"$f":"'All Respondents'!CX107-'All Respondents'!CX106","v":-3.0000000000000013E-2},{"$f":"'All Respondents'!CY107-'All Respondents'!CY106","v":-9.9999999999999985E-3},{"$f":"'All Respondents'!CZ107-'All Respondents'!CZ106","v":-0.01},{"$f":"'All Respondents'!DA107-'All Respondents'!DA106","v":0},{"$f":"'All Respondents'!DB107-'All Respondents'!DB106","v":-1.0000000000000009E-2},{"$f":"'All Respondents'!DC107-'All Respondents'!DC106","v":1.0000000000000009E-2},{"$f":"'All Respondents'!DD107-'All Respondents'!DD106","v":2.0000000000000018E-2},{"$f":"'All Respondents'!DE107-'All Respondents'!DE106","v":-2.0000000000000018E-2},{"$f":"'All Respondents'!DF107-'All Respondents'!DF106","v":6.0000000000000053E-2},{"$f":"'All Respondents'!DG107-'All Respondents'!DG106","v":-1.0000000000000009E-2},{"$f":"'All Respondents'!DH107-'All Respondents'!DH106","v":5.0000000000000044E-2},{"$f":"'All Respondents'!DI107-'All Respondents'!DI106","v":-3.9999999999999994E-2},{"$f":"'All Respondents'!DJ107-'All Respondents'!DJ106","v":0},{"$f":"'All Respondents'!DK107-'All Respondents'!DK106","v":0},{"$f":"'All Respondents'!DL107-'All Respondents'!DL106","v":0},{"$f":"'All Respondents'!DM107-'All Respondents'!DM106","v":6537.6499999999651},{"$f":"'All Respondents'!DN107-'All Respondents'!DN106","v":23001.589999999997},{"$f":"'All Respondents'!DO107-'All Respondents'!DO106","v":-1.0000000000000009E-2},{"$f":"'All Respondents'!DP107-'All Respondents'!DP106","v":-2.0000000000000018E-2},{"$f":"'All Respondents'!DQ107-'All Respondents'!DQ106","v":2.0000000000000018E-2},{"$f":"'All Respondents'!DR107-'All Respondents'!DR106","v":2.0000000000000004E-2},{"$f":"'All Respondents'!DS107-'All Respondents'!DS106","v":0}]
["Feb 19 - Mar 19",{"$f":"'All Respondents'!B108-'All Respondents'!B107","v":5.5},{"$f":"'All Respondents'!D108-'All Respondents'!D107","v":5.1999999999999886},{"$f":"'All Respondents'!E108-'All Respondents'!E107","v":0.06},{"$f":"'All Respondents'!F108-'All Respondents'!F107","v":9.999999999999995E-3},{"$f":"'All Respondents'!G108-'All Respondents'!G107","v":-0.06},{"$f":"'All Respondents'!H108-'All Respondents'!H107","v":5.0000000000000044E-2},{"$f":"'All Respondents'!I108-'All Respondents'!I107","v":2.0000000000000018E-3},{"$f":"'All Respondents'!J108-'All Respondents'!J107","v":-9.6000000000000113E-3},{"$f":"'All Respondents'!K108-'All Respondents'!K107","v":-6.3699999999999868E-4},{"$f":"'All Respondents'!L108-'All Respondents'!L107","v":-4.0000000000000036E-2},{"$f":"'All Respondents'!M108-'All Respondents'!M107","v":0.03},{"$f":"'All Respondents'!N108-'All Respondents'!N107","v":9.9999999999999534E-3},{"$f":"'All Respondents'!O108-'All Respondents'!O107","v":7.0000000000000007E-2},null,{"$f":"'All Respondents'!Q108-'All Respondents'!Q107","v":-1.5999999999999973E-3},{"$f":"'All Respondents'!R108-'All Respondents'!R107","v":1.0000000000000009E-2},{"$f":"'All Respondents'!S108-'All Respondents'!S107","v":1.9999999999999962E-2},{"$f":"'All Respondents'!T108-'All Respondents'!T107","v":3.0000000000000027E-2},{"$f":"'All Respondents'!U108-'All Respondents'!U107","v":-2.0000000000000018E-2},{"$f":"'All Respondents'!V108-'All Respondents'!V107","v":-1.999999999999999E-2},{"$f":"'All Respondents'!W108-'All Respondents'!W107","v":-4.0000000000000036E-2},{"$f":"'All Respondents'!X108-'All Respondents'!X107","v":7.0000000000000062E-2},{"$f":"'All Respondents'!Y108-'All Respondents'!Y107","v":7.0000000000000007E-2},{"$f":"'All Respondents'!Z108-'All Respondents'!Z107","v":-5.999999999999997E-2},{"$f":"'All Respondents'!AA108-'All Respondents'!AA107","v":3.999999999999998E-2},{"$f":"'All Respondents'!AB108-'All Respondents'!AB107","v":-1.0000000000000002E-2},{"$f":"'All Respondents'!AC108-'All Respondents'!AC107","v":-1.0000000000000009E-2},{"$f":"'All Respondents'!AD108-'All Respondents'!AD107","v":0.06},{"$f":"'All Respondents'!AE108-'All Respondents'!AE107","v":-0.05},{"$f":"'All Respondents'!AF108-'All Respondents'!AF107","v":3.9999999999999994E-2},{"$f":"'All Respondents'!AG108-'All Respondents'!AG107","v":-3.9999999999999994E-2},{"$f":"'All Respondents'!AH108-'All Respondents'!AH107","v":-4.9999999999999989E-2},{"$f":"'All Respondents'!AI108-'All Respondents'!AI107","v":9.9999999999999811E-3},{"$f":"'All Respondents'!AJ108-'All Respondents'!AJ107","v":4.9999999999999989E-2},{"$f":"'All Respondents'!AK108-'All Respondents'!AK107","v":5.9999999999999942E-2},{"$f":"'All Respondents'!AL108-'All Respondents'!AL107","v":-0.06},{"$f":"'All Respondents'!AM108-'All Respondents'!AM107","v":-1.0000000000000009E-2},{"$f":"'All Respondents'!AN108-'All Respondents'!AN107","v":-7.0000000000000034E-2},{"$f":"'All Respondents'!AO108-'All Respondents'!AO107","v":0.13},{"$f":"'All Respondents'!AP108-'All Respondents'!AP107","v":0},{"$f":"'All Respondents'!AQ108-'All Respondents'!AQ107","v":-1.0000000000000009E-2},{"$f":"'All Respondents'!AR108-'All Respondents'!AR107","v":2.0000000000000018E-2},{"$f":"'All Respondents'!AS108-'All Respondents'!AS107","v":-3.9999999999999994E-2},{"$f":"'All Respondents'!AT108-'All Respondents'!AT107","v":-1.0000000000000009E-2},{"$f":"'All Respondents'!AU108-'All Respondents'!AU107","v":1.999999999999999E-2},{"$f":"'All Respondents'!AV108-'All Respondents'!AV107","v":3.9999999999999994E-2},{"$f":"'All Respondents'!AW108-'All Respondents'!AW107","v":-1.999999999999999E-2},{"$f":"'All Respondents'!AX108-'All Respondents'!AX107","v":5.0000000000000017E-2},{"$f":"'All Respondents'!AY108-'All Respondents'!AY107","v":-0.11000000000000001},{"$f":"'All Respondents'!AZ108-'All Respondents'!AZ107","v":2.9999999999999916E-2},{"$f":"'All Respondents'!BA108-'All Respondents'!BA107","v":1.0000000000000002E-2},{"$f":"'All Respondents'!BB108-'All Respondents'!BB107","v":-3.999999999999998E-2},{"$f":"'All Respondents'!BC108-'All Respondents'!BC107","v":1.9999999999999907E-2},{"$f":"'All Respondents'!BD108-'All Respondents'!BD107","v":-1.6149999999999984E-3},{"$f":"'All Respondents'!BE108-'All Respondents'!BE107","v":3.9999999999999925E-2},{"$f":"'All Respondents'!BF108-'All Respondents'!BF107","v":-3.999999999999998E-2},{"$f":"'All Respondents'!BG108-'All Respondents'!BG107","v":7.9999999999999905E-2},{"$f":"'All Respondents'!BH108-'All Respondents'!BH107","v":-1.0000000000000009E-2},{"$f":"'All Respondents'!BI108-'All Respondents'!BI107","v":1.0000000000000009E-2},{"$f":"'All Respondents'!BJ108-'All Respondents'!BJ107","v":-2.0000000000000018E-2},{"$f":"'All Respondents'!BK108-'All Respondents'!BK107","v":4.0000000000000008E-2},{"$f":"'All Respondents'!BL108-'All Respondents'!BL107","v":1.0000000000000009E-2},{"$f":"'All Respondents'!BM108-'All Respondents'!BM107","v":5.0000000000000044E-2},{"$f":"'All Respondents'!BN108-'All Respondents'!BN107","v":-1.9999999999999962E-2},{"$f":"'All Respondents'!BO108-'All Respondents'!BO107","v":0},{"$f":"'All Respondents'!BP108-'All Respondents'!BP107","v":-2.0000000000000004E-2},{"$f":"'All Respondents'!BQ108-'All Respondents'!BQ107","v":-2.0000000000000004E-2},{"$f":"'All Respondents'!BR108-'All Respondents'!BR107","v":7.0000000000000062E-2},{"$f":"'All Respondents'!BS108-'All Respondents'!BS107","v":0},{"$f":"'All Respondents'!BT108-'All Respondents'!BT107","v":-1.999999999999999E-2},{"$f":"'All Respondents'!BU108-'All Respondents'!BU107","v":1.0000000000000009E-2},{"$f":"'All Respondents'!BV108-'All Respondents'!BV107","v":1.999999999999999E-2},{"$f":"'All Respondents'!BW108-'All Respondents'!BW107","v":0},{"$f":"'All Respondents'!BX108-'All Respondents'!BX107","v":0},{"$f":"'All Respondents'!BY108-'All Respondents'!BY107","v":0},{"$f":"'All Respondents'!BZ108-'All Respondents'!BZ107","v":-1.0000000000000009E-2},{"$f":"'All Respondents'!CA108-'All Respondents'!CA107","v":-1.0000000000000002E-2},{"$f":"'All Respondents'!CB108-'All Respondents'!CB107","v":-1.999999999999999E-2},{"$f":"'All Respondents'!CC108-'All Respondents'!CC107","v":5.0000000000000044E-2},{"$f":"'All Respondents'!CD108-'All Respondents'!CD107","v":9.999999999999995E-3},{"$f":"'All Respondents'!CE108-'All Respondents'!CE107","v":5.0000000000000017E-2},{"$f":"'All Respondents'!CF108-'All Respondents'!CF107","v":-1.0000000000000009E-2},{"$f":"'All Respondents'!CG108-'All Respondents'!CG107","v":-1.0000000000000002E-2},{"$f":"'All Respondents'!CH108-'All Respondents'!CH107","v":-9.999999999999995E-3},{"$f":"'All Respondents'!CI108-'All Respondents'!CI107","v":-4.9999999999999989E-2},{"$f":"'All Respondents'!CJ108-'All Respondents'!CJ107","v":6.0000000000000053E-2},{"$f":"'All Respondents'!CK108-'All Respondents'!CK107","v":0},{"$f":"'All Respondents'!CL108-'All Respondents'!CL107","v":1.0000000000000009E-2},{"$f":"'All Respondents'!CM108-'All Respondents'!CM107","v":1.0000000000000009E-2},{"$f":"'All Respondents'!CN108-'All Respondents'!CN107","v":0},{"$f":"'All Respondents'!CO108-'All Respondents'!CO107","v":-0.06},{"$f":"'All Respondents'!CP108-'All Respondents'!CP107","v":6.0000000000000053E-2},{"$f":"'All Respondents'!CQ108-'All Respondents'!CQ107","v":-9.9999999999998979E-3},{"$f":"'All Respondents'!CR108-'All Respondents'!CR107","v":-1.0000000000000009E-2},{"$f":"'All Respondents'!CS108-'All Respondents'!CS107","v":1.999999999999999E-2},{"$f":"'All Respondents'!CT108-'All Respondents'!CT107","v":0},{"$f":"'All Respondents'!CU108-'All Respondents'!CU107","v":0},{"$f":"'All Respondents'!CV108-'All Respondents'!CV107","v":1.0000000000000009E-2},{"$f":"'All Respondents'!CW108-'All Respondents'!CW107","v":-1.0000000000000009E-2},{"$f":"'All Respondents'!CX108-'All Respondents'!CX107","v":9.999999999999995E-3},{"$f":"'All Respondents'!CY108-'All Respondents'!CY107","v":9.9999999999999985E-3},{"$f":"'All Respondents'!CZ108-'All Respondents'!CZ107","v":0},{"$f":"'All Respondents'!DA108-'All Respondents'!DA107","v":0},{"$f":"'All Respondents'!DB108-'All Respondents'!DB107","v":-1.0000000000000009E-2},{"$f":"'All Respondents'!DC108-'All Respondents'!DC107","v":0},{"$f":"'All Respondents'!DD108-'All Respondents'!DD107","v":-4.0000000000000008E-2},{"$f":"'All Respondents'!DE108-'All Respondents'!DE107","v":3.0000000000000027E-2},{"$f":"'All Respondents'!DF108-'All Respondents'!DF107","v":2.0000000000000018E-2},{"$f":"'All Respondents'!DG108-'All Respondents'!DG107","v":-0.03},{"$f":"'All Respondents'!DH108-'All Respondents'!DH107","v":-9.9999999999998979E-3},{"$f":"'All Respondents'!DI108-'All Respondents'!DI107","v":0},{"$f":"'All Respondents'!DJ108-'All Respondents'!DJ107","v":0},{"$f":"'All Respondents'!DK108-'All Respondents'!DK107","v":1.0000000000000002E-2},{"$f":"'All Respondents'!DL108-'All Respondents'!DL107","v":-0.01},{"$f":"'All Respondents'!DM108-'All Respondents'!DM107","v":-23926.509999999951},{"$f":"'All Respondents'!DN108-'All Respondents'!DN107","v":-25000},{"$f":"'All Respondents'!DO108-'All Respondents'!DO107","v":-0.03},{"$f":"'All Respondents'!DP108-'All Respondents'!DP107","v":3.999999999999998E-2},{"$f":"'All Respondents'!DQ108-'All Respondents'!DQ107","v":-4.0000000000000008E-2},{"$f":"'All Respondents'!DR108-'All Respondents'!DR107","v":0},{"$f":"'All Respondents'!DS108-'All Respondents'!DS107","v":-9.999999999999995E-3}]
["Mar 19 - Apr 19",{"$f":"'All Respondents'!B109-'All Respondents'!B108","v":-1.5},{"$f":"'All Respondents'!D109-'All Respondents'!D108","v":-2.7999999999999972},{"$f":"'All Respondents'!E109-'All Respondents'!E108","v":-3.999999999999998E-2},{"$f":"'All Respondents'!F109-'All Respondents'!F108","v":-2.0000000000000004E-2},{"$f":"'All Respondents'!G109-'All Respondents'!G108","v":7.0000000000000007E-2},{"$f":"'All Respondents'!H109-'All Respondents'!H108","v":-2.0000000000000018E-2},{"$f":"'All Respondents'!I109-'All Respondents'!I108","v":4.7999999999999987E-3},{"$f":"'All Respondents'!J109-'All Respondents'!J108","v":-5.9999999999998943E-4},{"$f":"'All Respondents'!K109-'All Respondents'!K108","v":-1.011999999999999E-3},{"$f":"'All Respondents'!L109-'All Respondents'!L108","v":-4.9999999999999989E-2},{"$f":"'All Respondents'!M109-'All Respondents'!M108","v":0},{"$f":"'All Respondents'!N109-'All Respondents'!N108","v":0.06},{"$f":"'All Respondents'!O109-'All Respondents'!O108","v":4.9999999999999989E-2},null,{"$f":"'All Respondents'!Q109-'All Respondents'!Q108","v":-8.000000000000021E-4},{"$f":"'All Respondents'!R109-'All Respondents'!R108","v":9.9999999999999811E-3},{"$f":"'All Respondents'!S109-'All Respondents'!S108","v":-3.999999999999998E-2},{"$f":"'All Respondents'!T109-'All Respondents'!T108","v":-3.0000000000000027E-2},{"$f":"'All Respondents'!U109-'All Respondents'!U108","v":2.0000000000000018E-2},{"$f":"'All Respondents'!V109-'All Respondents'!V108","v":0.03},{"$f":"'All Respondents'!W109-'All Respondents'!W108","v":5.0000000000000044E-2},{"$f":"'All Respondents'!X109-'All Respondents'!X108","v":-8.0000000000000071E-2},{"$f":"'All Respondents'!Y109-'All Respondents'!Y108","v":-5.0000000000000017E-2},{"$f":"'All Respondents'!Z109-'All Respondents'!Z108","v":5.999999999999997E-2},{"$f":"'All Respondents'!AA109-'All Respondents'!AA108","v":0},{"$f":"'All Respondents'!AB109-'All Respondents'!AB108","v":1.9999999999999997E-2},{"$f":"'All Respondents'!AC109-'All Respondents'!AC108","v":1.0000000000000009E-2},{"$f":"'All Respondents'!AD109-'All Respondents'!AD108","v":-4.0000000000000036E-2},{"$f":"'All Respondents'!AE109-'All Respondents'!AE108","v":3.9999999999999994E-2},{"$f":"'All Respondents'!AF109-'All Respondents'!AF108","v":-0.03},{"$f":"'All Respondents'!AG109-'All Respondents'!AG108","v":4.9999999999999989E-2},{"$f":"'All Respondents'!AH109-'All Respondents'!AH108","v":0},{"$f":"'All Respondents'!AI109-'All Respondents'!AI108","v":4.0000000000000008E-2},{"$f":"'All Respondents'!AJ109-'All Respondents'!AJ108","v":-3.0000000000000027E-2},{"$f":"'All Respondents'!AK109-'All Respondents'!AK108","v":9.9999999999998979E-3},{"$f":"'All Respondents'!AL109-'All Respondents'!AL108","v":0},{"$f":"'All Respondents'!AM109-'All Respondents'!AM108","v":1.0000000000000009E-2},{"$f":"'All Respondents'!AN109-'All Respondents'!AN108","v":1.0000000000000009E-2},{"$f":"'All Respondents'!AO109-'All Respondents'!AO108","v":0},{"$f":"'All Respondents'!AP109-'All Respondents'!AP108","v":-3.0000000000000027E-2},{"$f":"'All Respondents'!AQ109-'All Respondents'!AQ108","v":0.03},{"$f":"'All Respondents'!AR109-'All Respondents'!AR108","v":-1.0000000000000009E-2},{"$f":"'All Respondents'!AS109-'All Respondents'!AS108","v":3.9999999999999994E-2},{"$f":"'All Respondents'!AT109-'All Respondents'!AT108","v":-1.0000000000000009E-2},{"$f":"'All Respondents'!AU109-'All Respondents'!AU108","v":-1.999999999999999E-2},{"$f":"'All Respondents'!AV109-'All Respondents'!AV108","v":-9.999999999999995E-3},{"$f":"'All Respondents'!AW109-'All Respondents'!AW108","v":1.999999999999999E-2},{"$f":"'All Respondents'!AX109-'All Respondents'!AX108","v":-2.0000000000000018E-2},{"$f":"'All Respondents'!AY109-'All Respondents'!AY108","v":5.999999999999997E-2},{"$f":"'All Respondents'!AZ109-'All Respondents'!AZ108","v":2.0000000000000018E-2},{"$f":"'All Respondents'!BA109-'All Respondents'!BA108","v":-0.02},{"$f":"'All Respondents'!BB109-'All Respondents'!BB108","v":0},{"$f":"'All Respondents'!BC109-'All Respondents'!BC108","v":4.0000000000000036E-2},{"$f":"'All Respondents'!BD109-'All Respondents'!BD108","v":4.0760000000000032E-3},{"$f":"'All Respondents'!BE109-'All Respondents'!BE108","v":-1.9999999999999907E-2},{"$f":"'All Respondents'!BF109-'All Respondents'!BF108","v":2.9999999999999971E-2},{"$f":"'All Respondents'!BG109-'All Respondents'!BG108","v":-4.9999999999999878E-2},{"$f":"'All Respondents'!BH109-'All Respondents'!BH108","v":1.0000000000000009E-2},{"$f":"'All Respondents'!BI109-'All Respondents'!BI108","v":-2.0000000000000018E-2},{"$f":"'All Respondents'!BJ109-'All Respondents'!BJ108","v":3.0000000000000027E-2},{"$f":"'All Respondents'!BK109-'All Respondents'!BK108","v":3.999999999999998E-2},{"$f":"'All Respondents'!BL109-'All Respondents'!BL108","v":-2.9999999999999971E-2},{"$f":"'All Respondents'!BM109-'All Respondents'!BM108","v":1.0000000000000009E-2},{"$f":"'All Respondents'!BN109-'All Respondents'!BN108","v":-1.0000000000000009E-2},{"$f":"'All Respondents'!BO109-'All Respondents'!BO108","v":-1.0000000000000009E-2},{"$f":"'All Respondents'!BP109-'All Respondents'!BP108","v":-9.9999999999999985E-3},{"$f":"'All Respondents'!BQ109-'All Respondents'!BQ108","v":-2.0000000000000004E-2},{"$f":"'All Respondents'!BR109-'All Respondents'!BR108","v":2.9999999999999971E-2},{"$f":"'All Respondents'!BS109-'All Respondents'!BS108","v":4.9999999999999989E-2},{"$f":"'All Respondents'!BT109-'All Respondents'!BT108","v":0.03},{"$f":"'All Respondents'!BU109-'All Respondents'!BU108","v":-6.0000000000000053E-2},{"$f":"'All Respondents'!BV109-'All Respondents'!BV108","v":1.999999999999999E-2},{"$f":"'All Respondents'!BW109-'All Respondents'!BW108","v":1.9999999999999962E-2},{"$f":"'All Respondents'!BX109-'All Respondents'!BX108","v":-2.9999999999999916E-2},{"$f":"'All Respondents'!BY109-'All Respondents'!BY108","v":-4.9999999999999878E-2},{"$f":"'All Respondents'!BZ109-'All Respondents'!BZ108","v":1.0000000000000009E-2},{"$f":"'All Respondents'!CA109-'All Respondents'!CA108","v":0},{"$f":"'All Respondents'!CB109-'All Respondents'!CB108","v":1.0000000000000009E-2},{"$f":"'All Respondents'!CC109-'All Respondents'!CC108","v":-4.0000000000000036E-2},{"$f":"'All Respondents'!CD109-'All Respondents'!CD108","v":0.03},{"$f":"'All Respondents'!CE109-'All Respondents'!CE108","v":-4.0000000000000008E-2},{"$f":"'All Respondents'!CF109-'All Respondents'!CF108","v":-2.9999999999999971E-2},{"$f":"'All Respondents'!CG109-'All Respondents'!CG108","v":0},{"$f":"'All Respondents'!CH109-'All Respondents'!CH108","v":0.03},{"$f":"'All Respondents'!CI109-'All Respondents'!CI108","v":1.999999999999999E-2},{"$f":"'All Respondents'!CJ109-'All Respondents'!CJ108","v":-2.0000000000000018E-2},{"$f":"'All Respondents'!CK109-'All Respondents'!CK108","v":0},{"$f":"'All Respondents'!CL109-'All Respondents'!CL108","v":0.03},{"$f":"'All Respondents'!CM109-'All Respondents'!CM108","v":0.03},{"$f":"'All Respondents'!CN109-'All Respondents'!CN108","v":-3.0000000000000027E-2},{"$f":"'All Respondents'!CO109-'All Respondents'!CO108","v":1.999999999999999E-2},{"$f":"'All Respondents'!CP109-'All Respondents'!CP108","v":-5.0000000000000044E-2},{"$f":"'All Respondents'!CQ109-'All Respondents'!CQ108","v":-6.0000000000000053E-2},{"$f":"'All Respondents'!CR109-'All Respondents'!CR108","v":-4.9999999999999989E-2},{"$f":"'All Respondents'!CS109-'All Respondents'!CS108","v":-4.0000000000000008E-2},{"$f":"'All Respondents'!CT109-'All Respondents'!CT108","v":7.0000000000000007E-2},{"$f":"'All Respondents'!CU109-'All Respondents'!CU108","v":1.999999999999999E-2},{"$f":"'All Respondents'!CV109-'All Respondents'!CV108","v":1.0000000000000009E-2},{"$f":"'All Respondents'!CW109-'All Respondents'!CW108","v":1.0000000000000009E-2},{"$f":"'All Respondents'!CX109-'All Respondents'!CX108","v":-9.999999999999995E-3},{"$f":"'All Respondents'!CY109-'All Respondents'!CY108","v":-9.9999999999999985E-3},{"$f":"'All Respondents'!CZ109-'All Respondents'!CZ108","v":0},{"$f":"'All Respondents'!DA109-'All Respondents'!DA108","v":0},{"$f":"'All Respondents'!DB109-'All Respondents'!DB108","v":0.03},{"$f":"'All Respondents'!DC109-'All Respondents'!DC108","v":-2.0000000000000018E-2},{"$f":"'All Respondents'!DD109-'All Respondents'!DD108","v":0.03},{"$f":"'All Respondents'!DE109-'All Respondents'!DE108","v":-3.0000000000000027E-2},{"$f":"'All Respondents'!DF109-'All Respondents'!DF108","v":-2.0000000000000018E-2},{"$f":"'All Respondents'!DG109-'All Respondents'!DG108","v":0},{"$f":"'All Respondents'!DH109-'All Respondents'!DH108","v":-2.0000000000000018E-2},{"$f":"'All Respondents'!DI109-'All Respondents'!DI108","v":0.03},{"$f":"'All Respondents'!DJ109-'All Respondents'!DJ108","v":-1.0000000000000002E-2},{"$f":"'All Respondents'!DK109-'All Respondents'!DK108","v":-0.03},{"$f":"'All Respondents'!DL109-'All Respondents'!DL108","v":1.9999999999999997E-2},{"$f":"'All Respondents'!DM109-'All Respondents'!DM108","v":77793.56},{"$f":"'All Respondents'!DN109-'All Respondents'!DN108","v":25000},{"$f":"'All Respondents'!DO109-'All Respondents'!DO108","v":0.03},{"$f":"'All Respondents'!DP109-'All Respondents'!DP108","v":-0.06},{"$f":"'All Respondents'!DQ109-'All Respondents'!DQ108","v":6.9999999999999979E-2},{"$f":"'All Respondents'!DR109-'All Respondents'!DR108","v":-9.999999999999995E-3},{"$f":"'All Respondents'!DS109-'All Respondents'!DS108","v":0}]
["Apr 19 - May 19",{"$f":"'All Respondents'!B110-'All Respondents'!B109","v":3.7000000000000028},{"$f":"'All Respondents'!D110-'All Respondents'!D109","v":3.7999999999999972},{"$f":"'All Respondents'!E110-'All Respondents'!E109","v":4.9999999999999989E-2},{"$f":"'All Respondents'!F110-'All Respondents'!F109","v":0},{"$f":"'All Respondents'!G110-'All Respondents'!G109","v":-7.0000000000000007E-2},{"$f":"'All Respondents'!H110-'All Respondents'!H109","v":5.0000000000000044E-2},{"$f":"'All Respondents'!I110-'All Respondents'!I109","v":-2.5999999999999995E-2},{"$f":"'All Respondents'!J110-'All Respondents'!J109","v":1.26E-2},{"$f":"'All Respondents'!K110-'All Respondents'!K109","v":7.3099999999999971E-3},{"$f":"'All Respondents'!L110-'All Respondents'!L109","v":-3.0000000000000027E-2},{"$f":"'All Respondents'!M110-'All Respondents'!M109","v":0},{"$f":"'All Respondents'!N110-'All Respondents'!N109","v":-9.9999999999999534E-3},{"$f":"'All Respondents'!O110-'All Respondents'!O109","v":3.0000000000000027E-2},null,{"$f":"'All Respondents'!Q110-'All Respondents'!Q109","v":0},{"$f":"'All Respondents'!R110-'All Respondents'!R109","v":2.0000000000000018E-2},{"$f":"'All Respondents'!S110-'All Respondents'!S109","v":4.9999999999999989E-2},{"$f":"'All Respondents'!T110-'All Respondents'!T109","v":6.9999999999999951E-2},{"$f":"'All Respondents'!U110-'All Respondents'!U109","v":-4.0000000000000008E-2},{"$f":"'All Respondents'!V110-'All Respondents'!V109","v":-2.0000000000000004E-2},{"$f":"'All Respondents'!W110-'All Respondents'!W109","v":-0.06},{"$f":"'All Respondents'!X110-'All Respondents'!X109","v":0.12999999999999995},{"$f":"'All Respondents'!Y110-'All Respondents'!Y109","v":0},{"$f":"'All Respondents'!Z110-'All Respondents'!Z109","v":-9.9999999999999534E-3},{"$f":"'All Respondents'!AA110-'All Respondents'!AA109","v":-9.9999999999999811E-3},{"$f":"'All Respondents'!AB110-'All Respondents'!AB109","v":-9.999999999999995E-3},{"$f":"'All Respondents'!AC110-'All Respondents'!AC109","v":1.0000000000000009E-2},{"$f":"'All Respondents'!AD110-'All Respondents'!AD109","v":6.0000000000000053E-2},{"$f":"'All Respondents'!AE110-'All Respondents'!AE109","v":-9.999999999999995E-3},{"$f":"'All Respondents'!AF110-'All Respondents'!AF109","v":0.05},{"$f":"'All Respondents'!AG110-'All Respondents'!AG109","v":-4.9999999999999989E-2},{"$f":"'All Respondents'!AH110-'All Respondents'!AH109","v":-1.0000000000000009E-2},{"$f":"'All Respondents'!AI110-'All Respondents'!AI109","v":2.0000000000000018E-2},{"$f":"'All Respondents'!AJ110-'All Respondents'!AJ109","v":-2.9999999999999971E-2},{"$f":"'All Respondents'!AK110-'All Respondents'!AK109","v":-9.9999999999998979E-3},{"$f":"'All Respondents'!AL110-'All Respondents'!AL109","v":9.9999999999999811E-3},{"$f":"'All Respondents'!AM110-'All Respondents'!AM109","v":-2.0000000000000004E-2},{"$f":"'All Respondents'!AN110-'All Respondents'!AN109","v":-1.0000000000000037E-2},{"$f":"'All Respondents'!AO110-'All Respondents'!AO109","v":0},{"$f":"'All Respondents'!AP110-'All Respondents'!AP109","v":0.06},{"$f":"'All Respondents'!AQ110-'All Respondents'!AQ109","v":1.0000000000000009E-2},{"$f":"'All Respondents'!AR110-'All Respondents'!AR109","v":0},{"$f":"'All Respondents'!AS110-'All Respondents'!AS109","v":-0.03},{"$f":"'All Respondents'!AT110-'All Respondents'!AT109","v":-4.0000000000000008E-2},{"$f":"'All Respondents'!AU110-'All Respondents'!AU109","v":-0.03},{"$f":"'All Respondents'!AV110-'All Respondents'!AV109","v":9.999999999999995E-3},{"$f":"'All Respondents'!AW110-'All Respondents'!AW109","v":0.06},{"$f":"'All Respondents'!AX110-'All Respondents'!AX109","v":-1.999999999999999E-2},{"$f":"'All Respondents'!AY110-'All Respondents'!AY109","v":-9.9999999999999534E-3},{"$f":"'All Respondents'!AZ110-'All Respondents'!AZ109","v":4.0000000000000036E-2},{"$f":"'All Respondents'!BA110-'All Respondents'!BA109","v":9.9999999999999985E-3},{"$f":"'All Respondents'!BB110-'All Respondents'!BB109","v":-4.9999999999999989E-2},{"$f":"'All Respondents'!BC110-'All Respondents'!BC109","v":3.0000000000000027E-2},{"$f":"'All Respondents'!BD110-'All Respondents'!BD109","v":8.6379999999999998E-3},{"$f":"'All Respondents'!BE110-'All Respondents'!BE109","v":-2.0000000000000018E-2},{"$f":"'All Respondents'!BF110-'All Respondents'!BF109","v":2.0000000000000018E-2},{"$f":"'All Respondents'!BG110-'All Respondents'!BG109","v":-4.0000000000000036E-2},{"$f":"'All Respondents'!BH110-'All Respondents'!BH109","v":1.0000000000000009E-2},{"$f":"'All Respondents'!BI110-'All Respondents'!BI109","v":-2.9999999999999971E-2},{"$f":"'All Respondents'!BJ110-'All Respondents'!BJ109","v":3.999999999999998E-2},{"$f":"'All Respondents'!BK110-'All Respondents'!BK109","v":-4.9999999999999989E-2},{"$f":"'All Respondents'!BL110-'All Respondents'!BL109","v":3.999999999999998E-2},{"$f":"'All Respondents'!BM110-'All Respondents'!BM109","v":-1.0000000000000009E-2},{"$f":"'All Respondents'!BN110-'All Respondents'!BN109","v":-2.0000000000000018E-2},{"$f":"'All Respondents'!BO110-'All Respondents'!BO109","v":1.0000000000000009E-2},{"$f":"'All Respondents'!BP110-'All Respondents'!BP109","v":0.02},{"$f":"'All Respondents'!BQ110-'All Respondents'!BQ109","v":3.0000000000000013E-2},{"$f":"'All Respondents'!BR110-'All Respondents'!BR109","v":-3.999999999999998E-2},{"$f":"'All Respondents'!BS110-'All Respondents'!BS109","v":-1.0000000000000009E-2},{"$f":"'All Respondents'!BT110-'All Respondents'!BT109","v":0},{"$f":"'All Respondents'!BU110-'All Respondents'!BU109","v":2.0000000000000018E-2},{"$f":"'All Respondents'!BV110-'All Respondents'!BV109","v":-1.0000000000000009E-2},{"$f":"'All Respondents'!BW110-'All Respondents'!BW109","v":-3.999999999999998E-2},{"$f":"'All Respondents'!BX110-'All Respondents'!BX109","v":3.9999999999999925E-2},{"$f":"'All Respondents'!BY110-'All Respondents'!BY109","v":7.9999999999999905E-2},{"$f":"'All Respondents'!BZ110-'All Respondents'!BZ109","v":-0.03},{"$f":"'All Respondents'!CA110-'All Respondents'!CA109","v":6.0000000000000005E-2},{"$f":"'All Respondents'!CB110-'All Respondents'!CB109","v":0.03},{"$f":"'All Respondents'!CC110-'All Respondents'!CC109","v":-1.0000000000000009E-2},{"$f":"'All Respondents'!CD110-'All Respondents'!CD109","v":-9.999999999999995E-3},{"$f":"'All Respondents'!CE110-'All Respondents'!CE109","v":-2.0000000000000004E-2},{"$f":"'All Respondents'!CF110-'All Respondents'!CF109","v":1.9999999999999962E-2},{"$f":"'All Respondents'!CG110-'All Respondents'!CG109","v":2.0000000000000004E-2},{"$f":"'All Respondents'!CH110-'All Respondents'!CH109","v":-0.03},{"$f":"'All Respondents'!CI110-'All Respondents'!CI109","v":0},{"$f":"'All Respondents'!CJ110-'All Respondents'!CJ109","v":1.0000000000000009E-2},{"$f":"'All Respondents'!CK110-'All Respondents'!CK109","v":2.0000000000000004E-2},{"$f":"'All Respondents'!CL110-'All Respondents'!CL109","v":-0.03},{"$f":"'All Respondents'!CM110-'All Respondents'!CM109","v":-9.999999999999995E-3},{"$f":"'All Respondents'!CN110-'All Respondents'!CN109","v":1.0000000000000009E-2},{"$f":"'All Respondents'!CO110-'All Respondents'!CO109","v":0},{"$f":"'All Respondents'!CP110-'All Respondents'!CP109","v":1.0000000000000009E-2},{"$f":"'All Respondents'!CQ110-'All Respondents'!CQ109","v":2.0000000000000018E-2},{"$f":"'All Respondents'!CR110-'All Respondents'!CR109","v":0.06},{"$f":"'All Respondents'!CS110-'All Respondents'!CS109","v":0.03},{"$f":"'All Respondents'!CT110-'All Respondents'!CT109","v":-0.06},{"$f":"'All Respondents'!CU110-'All Respondents'!CU109","v":-9.999999999999995E-3},{"$f":"'All Respondents'!CV110-'All Respondents'!CV109","v":-3.0000000000000013E-2},{"$f":"'All Respondents'!CW110-'All Respondents'!CW109","v":-2.0000000000000018E-2},{"$f":"'All Respondents'!CX110-'All Respondents'!CX109","v":2.0000000000000004E-2},{"$f":"'All Respondents'!CY110-'All Respondents'!CY109","v":9.9999999999999985E-3},{"$f":"'All Respondents'!CZ110-'All Respondents'!CZ109","v":0},{"$f":"'All Respondents'!DA110-'All Respondents'!DA109","v":0},{"$f":"'All Respondents'!DB110-'All Respondents'!DB109","v":0},{"$f":"'All Respondents'!DC110-'All Respondents'!DC109","v":-1.0000000000000009E-2},{"$f":"'All Respondents'!DD110-'All Respondents'!DD109","v":-1.0000000000000009E-2},{"$f":"'All Respondents'!DE110-'All Respondents'!DE109","v":0},{"$f":"'All Respondents'!DF110-'All Respondents'!DF109","v":0},{"$f":"'All Respondents'!DG110-'All Respondents'!DG109","v":4.9999999999999989E-2},{"$f":"'All Respondents'!DH110-'All Respondents'!DH109","v":4.9999999999999933E-2},{"$f":"'All Respondents'!DI110-'All Respondents'!DI109","v":-0.03},{"$f":"'All Respondents'!DJ110-'All Respondents'!DJ109","v":0},{"$f":"'All Respondents'!DK110-'All Respondents'!DK109","v":0.01},{"$f":"'All Respondents'!DL110-'All Respondents'!DL109","v":-9.9999999999999985E-3},{"$f":"'All Respondents'!DM110-'All Respondents'!DM109","v":-19148.290000000037},{"$f":"'All Respondents'!DN110-'All Respondents'!DN109","v":0},{"$f":"'All Respondents'!DO110-'All Respondents'!DO109","v":-9.999999999999995E-3},{"$f":"'All Respondents'!DP110-'All Respondents'!DP109","v":-4.9999999999999989E-2},{"$f":"'All Respondents'!DQ110-'All Respondents'!DQ109","v":0},{"$f":"'All Respondents'!DR110-'All Respondents'!DR109","v":9.999999999999995E-3},{"$f":"'All Respondents'!DS110-'All Respondents'!DS109","v":1.999999999999999E-2}]
["May 19 - Jun 19",{"$f":"'All Respondents'!B111-'All Respondents'!B110","v":-0.5},{"$f":"'All Respondents'!D111-'All Respondents'!D110","v":-2.1999999999999886},{"$f":"'All Respondents'!E111-'All Respondents'!E110","v":-2.0000000000000018E-2},{"$f":"'All Respondents'!F111-'All Respondents'!F110","v":1.0000000000000009E-2},{"$f":"'All Respondents'!G111-'All Respondents'!G110","v":2.0000000000000018E-2},{"$f":"'All Respondents'!H111-'All Respondents'!H110","v":-3.0000000000000027E-2},{"$f":"'All Respondents'!I111-'All Respondents'!I110","v":1.1200000000000002E-2},{"$f":"'All Respondents'!J111-'All Respondents'!J110","v":-9.1999999999999998E-3},{"$f":"'All Respondents'!K111-'All Respondents'!K110","v":-5.8649999999999987E-3},{"$f":"'All Respondents'!L111-'All Respondents'!L110","v":-3.999999999999998E-2},{"$f":"'All Respondents'!M111-'All Respondents'!M110","v":4.0000000000000008E-2},{"$f":"'All Respondents'!N111-'All Respondents'!N110","v":2.9999999999999971E-2},{"$f":"'All Respondents'!O111-'All Respondents'!O110","v":7.999999999999996E-2},null,{"$f":"'All Respondents'!Q111-'All Respondents'!Q110","v":-3.7000000000000019E-3},{"$f":"'All Respondents'!R111-'All Respondents'!R110","v":-1.0000000000000009E-2},{"$f":"'All Respondents'!S111-'All Respondents'!S110","v":-2.9999999999999971E-2},{"$f":"'All Respondents'!T111-'All Respondents'!T110","v":-3.9999999999999925E-2},{"$f":"'All Respondents'!U111-'All Respondents'!U110","v":1.0000000000000009E-2},{"$f":"'All Respondents'!V111-'All Respondents'!V110","v":-9.999999999999995E-3},{"$f":"'All Respondents'!W111-'All Respondents'!W110","v":0},{"$f":"'All Respondents'!X111-'All Respondents'!X110","v":-3.9999999999999925E-2},{"$f":"'All Respondents'!Y111-'All Respondents'!Y110","v":0},{"$f":"'All Respondents'!Z111-'All Respondents'!Z110","v":-4.0000000000000036E-2},{"$f":"'All Respondents'!AA111-'All Respondents'!AA110","v":-1.0000000000000009E-2},{"$f":"'All Respondents'!AB111-'All Respondents'!AB110","v":2.0000000000000004E-2},{"$f":"'All Respondents'!AC111-'All Respondents'!AC110","v":4.9999999999999989E-2},{"$f":"'All Respondents'!AD111-'All Respondents'!AD110","v":-2.0000000000000018E-2},{"$f":"'All Respondents'!AE111-'All Respondents'!AE110","v":-9.999999999999995E-3},{"$f":"'All Respondents'!AF111-'All Respondents'!AF110","v":-0.03},{"$f":"'All Respondents'!AG111-'All Respondents'!AG110","v":1.999999999999999E-2},{"$f":"'All Respondents'!AH111-'All Respondents'!AH110","v":-1.0000000000000009E-2},{"$f":"'All Respondents'!AI111-'All Respondents'!AI110","v":0},{"$f":"'All Respondents'!AJ111-'All Respondents'!AJ110","v":1.0000000000000009E-2},{"$f":"'All Respondents'!AK111-'All Respondents'!AK110","v":1.0000000000000009E-2},{"$f":"'All Respondents'!AL111-'All Respondents'!AL110","v":-9.9999999999999811E-3},{"$f":"'All Respondents'!AM111-'All Respondents'!AM110","v":2.0000000000000004E-2},{"$f":"'All Respondents'!AN111-'All Respondents'!AN110","v":1.0000000000000037E-2},{"$f":"'All Respondents'!AO111-'All Respondents'!AO110","v":0},{"$f":"'All Respondents'!AP111-'All Respondents'!AP110","v":-4.9999999999999989E-2},{"$f":"'All Respondents'!AQ111-'All Respondents'!AQ110","v":0},{"$f":"'All Respondents'!AR111-'All Respondents'!AR110","v":1.0000000000000009E-2},{"$f":"'All Respondents'!AS111-'All Respondents'!AS110","v":4.0000000000000008E-2},{"$f":"'All Respondents'!AT111-'All Respondents'!AT110","v":4.0000000000000008E-2},{"$f":"'All Respondents'!AU111-'All Respondents'!AU110","v":0},{"$f":"'All Respondents'!AV111-'All Respondents'!AV110","v":9.999999999999995E-3},{"$f":"'All Respondents'!AW111-'All Respondents'!AW110","v":-7.9999999999999988E-2},{"$f":"'All Respondents'!AX111-'All Respondents'!AX110","v":1.0000000000000009E-2},{"$f":"'All Respondents'!AY111-'All Respondents'!AY110","v":6.9999999999999951E-2},{"$f":"'All Respondents'!AZ111-'All Respondents'!AZ110","v":-8.0000000000000071E-2},{"$f":"'All Respondents'!BA111-'All Respondents'!BA110","v":0},{"$f":"'All Respondents'!BB111-'All Respondents'!BB110","v":8.0000000000000016E-2},{"$f":"'All Respondents'!BC111-'All Respondents'!BC110","v":-8.0000000000000071E-2},{"$f":"'All Respondents'!BD111-'All Respondents'!BD110","v":-1.241200000000002E-2},{"$f":"'All Respondents'!BE111-'All Respondents'!BE110","v":-2.0000000000000018E-2},{"$f":"'All Respondents'!BF111-'All Respondents'!BF110","v":0},{"$f":"'All Respondents'!BG111-'All Respondents'!BG110","v":-2.0000000000000018E-2},{"$f":"'All Respondents'!BH111-'All Respondents'!BH110","v":-1.0000000000000009E-2},{"$f":"'All Respondents'!BI111-'All Respondents'!BI110","v":0.06},{"$f":"'All Respondents'!BJ111-'All Respondents'!BJ110","v":-7.0000000000000007E-2},{"$f":"'All Respondents'!BK111-'All Respondents'!BK110","v":4.9999999999999989E-2},{"$f":"'All Respondents'!BL111-'All Respondents'!BL110","v":-1.0000000000000009E-2},{"$f":"'All Respondents'!BM111-'All Respondents'!BM110","v":4.0000000000000036E-2},{"$f":"'All Respondents'!BN111-'All Respondents'!BN110","v":0},{"$f":"'All Respondents'!BO111-'All Respondents'!BO110","v":-1.0000000000000009E-2},{"$f":"'All Respondents'!BP111-'All Respondents'!BP110","v":-0.02},{"$f":"'All Respondents'!BQ111-'All Respondents'!BQ110","v":-3.0000000000000013E-2},{"$f":"'All Respondents'!BR111-'All Respondents'!BR110","v":7.0000000000000007E-2},{"$f":"'All Respondents'!BS111-'All Respondents'!BS110","v":-2.0000000000000018E-2},{"$f":"'All Respondents'!BT111-'All Respondents'!BT110","v":-1.0000000000000009E-2},{"$f":"'All Respondents'!BU111-'All Respondents'!BU110","v":2.0000000000000018E-2},{"$f":"'All Respondents'!BV111-'All Respondents'!BV110","v":-1.0000000000000009E-2},{"$f":"'All Respondents'!BW111-'All Respondents'!BW110","v":2.0000000000000018E-2},{"$f":"'All Respondents'!BX111-'All Respondents'!BX110","v":0},{"$f":"'All Respondents'!BY111-'All Respondents'!BY110","v":-2.0000000000000018E-2},{"$f":"'All Respondents'!BZ111-'All Respondents'!BZ110","v":-1.999999999999999E-2},{"$f":"'All Respondents'!CA111-'All Respondents'!CA110","v":-2.0000000000000004E-2},{"$f":"'All Respondents'!CB111-'All Respondents'!CB110","v":-3.999999999999998E-2},{"$f":"'All Respondents'!CC111-'All Respondents'!CC110","v":2.0000000000000018E-2},{"$f":"'All Respondents'!CD111-'All Respondents'!CD110","v":-1.0000000000000009E-2},{"$f":"'All Respondents'!CE111-'All Respondents'!CE110","v":2.0000000000000004E-2},{"$f":"'All Respondents'!CF111-'All Respondents'!CF110","v":1.0000000000000009E-2},{"$f":"'All Respondents'!CG111-'All Respondents'!CG110","v":-1.0000000000000002E-2},{"$f":"'All Respondents'!CH111-'All Respondents'!CH110","v":0.03},{"$f":"'All Respondents'!CI111-'All Respondents'!CI110","v":0},{"$f":"'All Respondents'!CJ111-'All Respondents'!CJ110","v":-3.0000000000000027E-2},{"$f":"'All Respondents'!CK111-'All Respondents'!CK110","v":-2.0000000000000004E-2},{"$f":"'All Respondents'!CL111-'All Respondents'!CL110","v":0.03},{"$f":"'All Respondents'!CM111-'All Respondents'!CM110","v":9.999999999999995E-3},{"$f":"'All Respondents'!CN111-'All Respondents'!CN110","v":-2.0000000000000018E-2},{"$f":"'All Respondents'!CO111-'All Respondents'!CO110","v":0},{"$f":"'All Respondents'!CP111-'All Respondents'!CP110","v":-2.0000000000000018E-2},{"$f":"'All Respondents'!CQ111-'All Respondents'!CQ110","v":-3.0000000000000027E-2},{"$f":"'All Respondents'!CR111-'All Respondents'!CR110","v":1.0000000000000009E-2},{"$f":"'All Respondents'!CS111-'All Respondents'!CS110","v":-1.999999999999999E-2},{"$f":"'All Respondents'!CT111-'All Respondents'!CT110","v":0},{"$f":"'All Respondents'!CU111-'All Respondents'!CU110","v":-2.0000000000000004E-2},{"$f":"'All Respondents'!CV111-'All Respondents'!CV110","v":2.0000000000000004E-2},{"$f":"'All Respondents'!CW111-'All Respondents'!CW110","v":-3.9999999999999925E-2},{"$f":"'All Respondents'!CX111-'All Respondents'!CX110","v":4.9999999999999989E-2},{"$f":"'All Respondents'!CY111-'All Respondents'!CY110","v":-9.9999999999999985E-3},{"$f":"'All Respondents'!CZ111-'All Respondents'!CZ110","v":0},{"$f":"'All Respondents'!DA111-'All Respondents'!DA110","v":0.01},{"$f":"'All Respondents'!DB111-'All Respondents'!DB110","v":0},{"$f":"'All Respondents'!DC111-'All Respondents'!DC110","v":2.0000000000000018E-2},{"$f":"'All Respondents'!DD111-'All Respondents'!DD110","v":4.0000000000000008E-2},{"$f":"'All Respondents'!DE111-'All Respondents'!DE110","v":-2.0000000000000018E-2},{"$f":"'All Respondents'!DF111-'All Respondents'!DF110","v":0},{"$f":"'All Respondents'!DG111-'All Respondents'!DG110","v":-0.03},{"$f":"'All Respondents'!DH111-'All Respondents'!DH110","v":-3.0000000000000027E-2},{"$f":"'All Respondents'!DI111-'All Respondents'!DI110","v":9.999999999999995E-3},{"$f":"'All Respondents'!DJ111-'All Respondents'!DJ110","v":1.0000000000000002E-2},{"$f":"'All Respondents'!DK111-'All Respondents'!DK110","v":-0.01},{"$f":"'All Respondents'!DL111-'All Respondents'!DL110","v":0.02},{"$f":"'All Respondents'!DM111-'All Respondents'!DM110","v":321.60000000003492},{"$f":"'All Respondents'!DN111-'All Respondents'!DN110","v":-8162.0499999999884},{"$f":"'All Respondents'!DO111-'All Respondents'!DO110","v":-2.0000000000000004E-2},{"$f":"'All Respondents'!DP111-'All Respondents'!DP110","v":7.0000000000000007E-2},{"$f":"'All Respondents'!DQ111-'All Respondents'!DQ110","v":-4.9999999999999989E-2},{"$f":"'All Respondents'!DR111-'All Respondents'!DR110","v":-2.0000000000000004E-2},{"$f":"'All Respondents'!DS111-'All Respondents'!DS110","v":-1.999999999999999E-2}]
["Jun 19 - Jul 19",{"$f":"'All Respondents'!B112-'All Respondents'!B111","v":2.2000000000000028},{"$f":"'All Respondents'!D112-'All Respondents'!D111","v":2.3999999999999915},{"$f":"'All Respondents'!E112-'All Respondents'!E111","v":-2.9999999999999971E-2},{"$f":"'All Respondents'!F112-'All Respondents'!F111","v":-2.0000000000000004E-2},{"$f":"'All Respondents'!G112-'All Respondents'!G111","v":3.999999999999998E-2},{"$f":"'All Respondents'!H112-'All Respondents'!H111","v":-1.0000000000000009E-2},{"$f":"'All Respondents'!I112-'All Respondents'!I111","v":1.0599999999999998E-2},{"$f":"'All Respondents'!J112-'All Respondents'!J111","v":3.0000000000000027E-3},{"$f":"'All Respondents'!K112-'All Respondents'!K111","v":1.8160000000000051E-3},{"$f":"'All Respondents'!L112-'All Respondents'!L111","v":0},{"$f":"'All Respondents'!M112-'All Respondents'!M111","v":9.999999999999995E-3},{"$f":"'All Respondents'!N112-'All Respondents'!N111","v":-1.0000000000000009E-2},{"$f":"'All Respondents'!O112-'All Respondents'!O111","v":1.0000000000000009E-2},null,{"$f":"'All Respondents'!Q112-'All Respondents'!Q111","v":-3.599999999999999E-3},{"$f":"'All Respondents'!R112-'All Respondents'!R111","v":-1.0000000000000009E-2},{"$f":"'All Respondents'!S112-'All Respondents'!S111","v":1.9999999999999962E-2},{"$f":"'All Respondents'!T112-'All Respondents'!T111","v":9.9999999999998979E-3},{"$f":"'All Respondents'!U112-'All Respondents'!U111","v":-1.0000000000000009E-2},{"$f":"'All Respondents'!V112-'All Respondents'!V111","v":-1.0000000000000009E-2},{"$f":"'All Respondents'!W112-'All Respondents'!W111","v":-2.0000000000000018E-2},{"$f":"'All Respondents'!X112-'All Respondents'!X111","v":2.9999999999999916E-2},{"$f":"'All Respondents'!Y112-'All Respondents'!Y111","v":-1.999999999999999E-2},{"$f":"'All Respondents'!Z112-'All Respondents'!Z111","v":3.0000000000000027E-2},{"$f":"'All Respondents'!AA112-'All Respondents'!AA111","v":0.06},{"$f":"'All Respondents'!AB112-'All Respondents'!AB111","v":-2.0000000000000004E-2},{"$f":"'All Respondents'!AC112-'All Respondents'!AC111","v":-0.06},{"$f":"'All Respondents'!AD112-'All Respondents'!AD111","v":4.0000000000000036E-2},{"$f":"'All Respondents'!AE112-'All Respondents'!AE111","v":-1.0000000000000009E-2},{"$f":"'All Respondents'!AF112-'All Respondents'!AF111","v":9.999999999999995E-3},{"$f":"'All Respondents'!AG112-'All Respondents'!AG111","v":-0.03},{"$f":"'All Respondents'!AH112-'All Respondents'!AH111","v":0.03},{"$f":"'All Respondents'!AI112-'All Respondents'!AI111","v":-4.0000000000000008E-2},{"$f":"'All Respondents'!AJ112-'All Respondents'!AJ111","v":3.999999999999998E-2},{"$f":"'All Respondents'!AK112-'All Respondents'!AK111","v":0},{"$f":"'All Respondents'!AL112-'All Respondents'!AL111","v":0},{"$f":"'All Respondents'!AM112-'All Respondents'!AM111","v":-1.0000000000000009E-2},{"$f":"'All Respondents'!AN112-'All Respondents'!AN111","v":-1.0000000000000009E-2},{"$f":"'All Respondents'!AO112-'All Respondents'!AO111","v":1.0000000000000009E-2},{"$f":"'All Respondents'!AP112-'All Respondents'!AP111","v":2.9999999999999971E-2},{"$f":"'All Respondents'!AQ112-'All Respondents'!AQ111","v":1.0000000000000009E-2},{"$f":"'All Respondents'!AR112-'All Respondents'!AR111","v":-4.0000000000000008E-2},{"$f":"'All Respondents'!AS112-'All Respondents'!AS111","v":-2.0000000000000004E-2},{"$f":"'All Respondents'!AT112-'All Respondents'!AT111","v":0},{"$f":"'All Respondents'!AU112-'All Respondents'!AU111","v":-0.05},{"$f":"'All Respondents'!AV112-'All Respondents'!AV111","v":0},{"$f":"'All Respondents'!AW112-'All Respondents'!AW111","v":0.11000000000000001},{"$f":"'All Respondents'!AX112-'All Respondents'!AX111","v":6.9999999999999979E-2},{"$f":"'All Respondents'!AY112-'All Respondents'!AY111","v":-0.16999999999999998},{"$f":"'All Respondents'!AZ112-'All Respondents'!AZ111","v":3.0000000000000027E-2},{"$f":"'All Respondents'!BA112-'All Respondents'!BA111","v":0},{"$f":"'All Respondents'!BB112-'All Respondents'!BB111","v":-2.0000000000000018E-2},{"$f":"'All Respondents'!BC112-'All Respondents'!BC111","v":3.0000000000000027E-2},{"$f":"'All Respondents'!BD112-'All Respondents'!BD111","v":5.1540000000000058E-3},{"$f":"'All Respondents'!BE112-'All Respondents'!BE111","v":3.0000000000000027E-2},{"$f":"'All Respondents'!BF112-'All Respondents'!BF111","v":-2.0000000000000018E-2},{"$f":"'All Respondents'!BG112-'All Respondents'!BG111","v":5.0000000000000044E-2},{"$f":"'All Respondents'!BH112-'All Respondents'!BH111","v":3.0000000000000027E-2},{"$f":"'All Respondents'!BI112-'All Respondents'!BI111","v":-5.0000000000000044E-2},{"$f":"'All Respondents'!BJ112-'All Respondents'!BJ111","v":8.0000000000000071E-2},{"$f":"'All Respondents'!BK112-'All Respondents'!BK111","v":-1.999999999999999E-2},{"$f":"'All Respondents'!BL112-'All Respondents'!BL111","v":-3.999999999999998E-2},{"$f":"'All Respondents'!BM112-'All Respondents'!BM111","v":-6.0000000000000053E-2},{"$f":"'All Respondents'!BN112-'All Respondents'!BN111","v":2.0000000000000018E-2},{"$f":"'All Respondents'!BO112-'All Respondents'!BO111","v":2.0000000000000004E-2},{"$f":"'All Respondents'!BP112-'All Respondents'!BP111","v":9.9999999999999985E-3},{"$f":"'All Respondents'!BQ112-'All Respondents'!BQ111","v":0.03},{"$f":"'All Respondents'!BR112-'All Respondents'!BR111","v":-9.0000000000000024E-2},{"$f":"'All Respondents'!BS112-'All Respondents'!BS111","v":1.0000000000000009E-2},{"$f":"'All Respondents'!BT112-'All Respondents'!BT111","v":0},{"$f":"'All Respondents'!BU112-'All Respondents'!BU111","v":-2.0000000000000018E-2},{"$f":"'All Respondents'!BV112-'All Respondents'!BV111","v":1.0000000000000009E-2},{"$f":"'All Respondents'!BW112-'All Respondents'!BW111","v":0},{"$f":"'All Respondents'!BX112-'All Respondents'!BX111","v":-2.0000000000000018E-2},{"$f":"'All Respondents'!BY112-'All Respondents'!BY111","v":-2.0000000000000018E-2},{"$f":"'All Respondents'!BZ112-'All Respondents'!BZ111","v":0},{"$f":"'All Respondents'!CA112-'All Respondents'!CA111","v":-9.999999999999995E-3},{"$f":"'All Respondents'!CB112-'All Respondents'!CB111","v":-1.0000000000000009E-2},{"$f":"'All Respondents'!CC112-'All Respondents'!CC111","v":0},{"$f":"'All Respondents'!CD112-'All Respondents'!CD111","v":-1.999999999999999E-2},{"$f":"'All Respondents'!CE112-'All Respondents'!CE111","v":4.0000000000000008E-2},{"$f":"'All Respondents'!CF112-'All Respondents'!CF111","v":-2.0000000000000018E-2},{"$f":"'All Respondents'!CG112-'All Respondents'!CG111","v":-1.0000000000000002E-2},{"$f":"'All Respondents'!CH112-'All Respondents'!CH111","v":-0.03},{"$f":"'All Respondents'!CI112-'All Respondents'!CI111","v":1.0000000000000009E-2},{"$f":"'All Respondents'!CJ112-'All Respondents'!CJ111","v":3.0000000000000027E-2},{"$f":"'All Respondents'!CK112-'All Respondents'!CK111","v":0},{"$f":"'All Respondents'!CL112-'All Respondents'!CL111","v":-4.0000000000000008E-2},{"$f":"'All Respondents'!CM112-'All Respondents'!CM111","v":-4.0000000000000008E-2},{"$f":"'All Respondents'!CN112-'All Respondents'!CN111","v":4.0000000000000036E-2},{"$f":"'All Respondents'!CO112-'All Respondents'!CO111","v":1.0000000000000009E-2},{"$f":"'All Respondents'!CP112-'All Respondents'!CP111","v":3.0000000000000027E-2},{"$f":"'All Respondents'!CQ112-'All Respondents'!CQ111","v":8.0000000000000071E-2},{"$f":"'All Respondents'!CR112-'All Respondents'!CR111","v":-4.9999999999999989E-2},{"$f":"'All Respondents'!CS112-'All Respondents'!CS111","v":-1.0000000000000009E-2},{"$f":"'All Respondents'!CT112-'All Respondents'!CT111","v":1.0000000000000009E-2},{"$f":"'All Respondents'!CU112-'All Respondents'!CU111","v":0.03},{"$f":"'All Respondents'!CV112-'All Respondents'!CV111","v":1.999999999999999E-2},{"$f":"'All Respondents'!CW112-'All Respondents'!CW111","v":4.9999999999999933E-2},{"$f":"'All Respondents'!CX112-'All Respondents'!CX111","v":-4.9999999999999989E-2},{"$f":"'All Respondents'!CY112-'All Respondents'!CY111","v":0},{"$f":"'All Respondents'!CZ112-'All Respondents'!CZ111","v":0},{"$f":"'All Respondents'!DA112-'All Respondents'!DA111","v":-0.01},{"$f":"'All Respondents'!DB112-'All Respondents'!DB111","v":-1.999999999999999E-2},{"$f":"'All Respondents'!DC112-'All Respondents'!DC111","v":0},{"$f":"'All Respondents'!DD112-'All Respondents'!DD111","v":-0.03},{"$f":"'All Respondents'!DE112-'All Respondents'!DE111","v":2.0000000000000018E-2},{"$f":"'All Respondents'!DF112-'All Respondents'!DF111","v":-4.0000000000000036E-2},{"$f":"'All Respondents'!DG112-'All Respondents'!DG111","v":2.0000000000000018E-2},{"$f":"'All Respondents'!DH112-'All Respondents'!DH111","v":-2.0000000000000018E-2},{"$f":"'All Respondents'!DI112-'All Respondents'!DI111","v":-9.999999999999995E-3},{"$f":"'All Respondents'!DJ112-'All Respondents'!DJ111","v":1.0000000000000002E-2},{"$f":"'All Respondents'!DK112-'All Respondents'!DK111","v":0},{"$f":"'All Respondents'!DL112-'All Respondents'!DL111","v":1.0000000000000002E-2},{"$f":"'All Respondents'!DM112-'All Respondents'!DM111","v":-50664.840000000026},{"$f":"'All Respondents'!DN112-'All Respondents'!DN111","v":-1837.9500000000116},{"$f":"'All Respondents'!DO112-'All Respondents'!DO111","v":2.0000000000000004E-2},{"$f":"'All Respondents'!DP112-'All Respondents'!DP111","v":-1.0000000000000009E-2},{"$f":"'All Respondents'!DQ112-'All Respondents'!DQ111","v":1.0000000000000009E-2},{"$f":"'All Respondents'!DR112-'All Respondents'!DR111","v":0},{"$f":"'All Respondents'!DS112-'All Respondents'!DS111","v":9.999999999999995E-3}]
["Jul 19 - Aug 19",{"$f":"'All Respondents'!B113-'All Respondents'!B112","v":9.9999999999994316E-2},{"$f":"'All Respondents'!D113-'All Respondents'!D112","v":-2},{"$f":"'All Respondents'!E113-'All Respondents'!E112","v":1.9999999999999962E-2},{"$f":"'All Respondents'!F113-'All Respondents'!F112","v":0.03},{"$f":"'All Respondents'!G113-'All Respondents'!G112","v":-4.9999999999999989E-2},{"$f":"'All Respondents'!H113-'All Respondents'!H112","v":-1.0000000000000009E-2},{"$f":"'All Respondents'!I113-'All Respondents'!I112","v":-1.0200000000000001E-2},{"$f":"'All Respondents'!J113-'All Respondents'!J112","v":-3.2000000000000084E-3},{"$f":"'All Respondents'!K113-'All Respondents'!K112","v":-3.4350000000000075E-3},{"$f":"'All Respondents'!L113-'All Respondents'!L112","v":-0.06},{"$f":"'All Respondents'!M113-'All Respondents'!M112","v":0.05},{"$f":"'All Respondents'!N113-'All Respondents'!N112","v":0},{"$f":"'All Respondents'!O113-'All Respondents'!O112","v":0.11000000000000001},null,{"$f":"'All Respondents'!Q113-'All Respondents'!Q112","v":-5.0000000000000044E-4},{"$f":"'All Respondents'!R113-'All Respondents'!R112","v":0},{"$f":"'All Respondents'!S113-'All Respondents'!S112","v":1.0000000000000009E-2},{"$f":"'All Respondents'!T113-'All Respondents'!T112","v":1.0000000000000009E-2},{"$f":"'All Respondents'!U113-'All Respondents'!U112","v":-1.999999999999999E-2},{"$f":"'All Respondents'!V113-'All Respondents'!V112","v":4.0000000000000008E-2},{"$f":"'All Respondents'!W113-'All Respondents'!W112","v":2.0000000000000018E-2},{"$f":"'All Respondents'!X113-'All Respondents'!X112","v":-1.0000000000000009E-2},{"$f":"'All Respondents'!Y113-'All Respondents'!Y112","v":3.9999999999999994E-2},{"$f":"'All Respondents'!Z113-'All Respondents'!Z112","v":9.9999999999999978E-2},{"$f":"'All Respondents'!AA113-'All Respondents'!AA112","v":-0.09},{"$f":"'All Respondents'!AB113-'All Respondents'!AB112","v":-1.0000000000000002E-2},{"$f":"'All Respondents'!AC113-'All Respondents'!AC112","v":-4.0000000000000008E-2},{"$f":"'All Respondents'!AD113-'All Respondents'!AD112","v":-1.0000000000000009E-2},{"$f":"'All Respondents'!AE113-'All Respondents'!AE112","v":-9.999999999999995E-3},{"$f":"'All Respondents'!AF113-'All Respondents'!AF112","v":-1.9999999999999997E-2},{"$f":"'All Respondents'!AG113-'All Respondents'!AG112","v":1.0000000000000009E-2},{"$f":"'All Respondents'!AH113-'All Respondents'!AH112","v":1.0000000000000009E-2},{"$f":"'All Respondents'!AI113-'All Respondents'!AI112","v":9.9999999999999811E-3},{"$f":"'All Respondents'!AJ113-'All Respondents'!AJ112","v":-3.0000000000000027E-2},{"$f":"'All Respondents'!AK113-'All Respondents'!AK112","v":-2.0000000000000129E-2},{"$f":"'All Respondents'!AL113-'All Respondents'!AL112","v":0},{"$f":"'All Respondents'!AM113-'All Respondents'!AM112","v":2.0000000000000004E-2},{"$f":"'All Respondents'!AN113-'All Respondents'!AN112","v":1.999999999999999E-2},{"$f":"'All Respondents'!AO113-'All Respondents'!AO112","v":-4.0000000000000147E-2},{"$f":"'All Respondents'!AP113-'All Respondents'!AP112","v":3.0000000000000027E-2},{"$f":"'All Respondents'!AQ113-'All Respondents'!AQ112","v":-1.0000000000000009E-2},{"$f":"'All Respondents'!AR113-'All Respondents'!AR112","v":-2.0000000000000004E-2},{"$f":"'All Respondents'!AS113-'All Respondents'!AS112","v":-2.0000000000000004E-2},{"$f":"'All Respondents'!AT113-'All Respondents'!AT112","v":-1.0000000000000009E-2},{"$f":"'All Respondents'!AU113-'All Respondents'!AU112","v":2.0000000000000004E-2},{"$f":"'All Respondents'!AV113-'All Respondents'!AV112","v":-7.9999999999999988E-2},{"$f":"'All Respondents'!AW113-'All Respondents'!AW112","v":-0.11000000000000001},{"$f":"'All Respondents'!AX113-'All Respondents'!AX112","v":-7.9999999999999988E-2},{"$f":"'All Respondents'!AY113-'All Respondents'!AY112","v":0.12},{"$f":"'All Respondents'!AZ113-'All Respondents'!AZ112","v":-1.0000000000000009E-2},{"$f":"'All Respondents'!BA113-'All Respondents'!BA112","v":0},{"$f":"'All Respondents'!BB113-'All Respondents'!BB112","v":0},{"$f":"'All Respondents'!BC113-'All Respondents'!BC112","v":-1.0000000000000009E-2},{"$f":"'All Respondents'!BD113-'All Respondents'!BD112","v":-9.0800000000000602E-4},{"$f":"'All Respondents'!BE113-'All Respondents'!BE112","v":0},{"$f":"'All Respondents'!BF113-'All Respondents'!BF112","v":0},{"$f":"'All Respondents'!BG113-'All Respondents'!BG112","v":0},{"$f":"'All Respondents'!BH113-'All Respondents'!BH112","v":-5.0000000000000044E-2},{"$f":"'All Respondents'!BI113-'All Respondents'!BI112","v":0.06},{"$f":"'All Respondents'!BJ113-'All Respondents'!BJ112","v":-0.11000000000000004},{"$f":"'All Respondents'!BK113-'All Respondents'!BK112","v":-0.03},{"$f":"'All Respondents'!BL113-'All Respondents'!BL112","v":3.999999999999998E-2},{"$f":"'All Respondents'!BM113-'All Respondents'!BM112","v":1.0000000000000009E-2},{"$f":"'All Respondents'!BN113-'All Respondents'!BN112","v":1.0000000000000009E-2},{"$f":"'All Respondents'!BO113-'All Respondents'!BO112","v":-2.0000000000000004E-2},{"$f":"'All Respondents'!BP113-'All Respondents'!BP112","v":1.0000000000000002E-2},{"$f":"'All Respondents'!BQ113-'All Respondents'!BQ112","v":-9.999999999999995E-3},{"$f":"'All Respondents'!BR113-'All Respondents'!BR112","v":2.0000000000000018E-2},{"$f":"'All Respondents'!BS113-'All Respondents'!BS112","v":1.0000000000000009E-2},{"$f":"'All Respondents'!BT113-'All Respondents'!BT112","v":1.0000000000000009E-2},{"$f":"'All Respondents'!BU113-'All Respondents'!BU112","v":-1.0000000000000009E-2},{"$f":"'All Respondents'!BV113-'All Respondents'!BV112","v":0},{"$f":"'All Respondents'!BW113-'All Respondents'!BW112","v":-4.0000000000000036E-2},{"$f":"'All Respondents'!BX113-'All Respondents'!BX112","v":5.0000000000000044E-2},{"$f":"'All Respondents'!BY113-'All Respondents'!BY112","v":9.000000000000008E-2},{"$f":"'All Respondents'!BZ113-'All Respondents'!BZ112","v":0},{"$f":"'All Respondents'!CA113-'All Respondents'!CA112","v":-3.0000000000000006E-2},{"$f":"'All Respondents'!CB113-'All Respondents'!CB112","v":-0.03},{"$f":"'All Respondents'!CC113-'All Respondents'!CC112","v":5.0000000000000044E-2},{"$f":"'All Respondents'!CD113-'All Respondents'!CD112","v":0.03},{"$f":"'All Respondents'!CE113-'All Respondents'!CE112","v":-6.0000000000000012E-2},{"$f":"'All Respondents'!CF113-'All Respondents'!CF112","v":8.0000000000000071E-2},{"$f":"'All Respondents'!CG113-'All Respondents'!CG112","v":1.0000000000000002E-2},{"$f":"'All Respondents'!CH113-'All Respondents'!CH112","v":9.999999999999995E-3},{"$f":"'All Respondents'!CI113-'All Respondents'!CI112","v":0},{"$f":"'All Respondents'!CJ113-'All Respondents'!CJ112","v":-2.0000000000000018E-2},{"$f":"'All Respondents'!CK113-'All Respondents'!CK112","v":1.0000000000000002E-2},{"$f":"'All Respondents'!CL113-'All Respondents'!CL112","v":1.0000000000000009E-2},{"$f":"'All Respondents'!CM113-'All Respondents'!CM112","v":2.0000000000000018E-2},{"$f":"'All Respondents'!CN113-'All Respondents'!CN112","v":-2.0000000000000018E-2},{"$f":"'All Respondents'!CO113-'All Respondents'!CO112","v":0},{"$f":"'All Respondents'!CP113-'All Respondents'!CP112","v":-2.0000000000000018E-2},{"$f":"'All Respondents'!CQ113-'All Respondents'!CQ112","v":-4.0000000000000036E-2},{"$f":"'All Respondents'!CR113-'All Respondents'!CR112","v":1.9999999999999962E-2},{"$f":"'All Respondents'!CS113-'All Respondents'!CS112","v":2.0000000000000018E-2},{"$f":"'All Respondents'!CT113-'All Respondents'!CT112","v":0},{"$f":"'All Respondents'!CU113-'All Respondents'!CU112","v":-9.999999999999995E-3},{"$f":"'All Respondents'!CV113-'All Respondents'!CV112","v":-1.999999999999999E-2},{"$f":"'All Respondents'!CW113-'All Respondents'!CW112","v":0},{"$f":"'All Respondents'!CX113-'All Respondents'!CX112","v":-2.0000000000000004E-2},{"$f":"'All Respondents'!CY113-'All Respondents'!CY112","v":0},{"$f":"'All Respondents'!CZ113-'All Respondents'!CZ112","v":0.01},{"$f":"'All Respondents'!DA113-'All Respondents'!DA112","v":0},{"$f":"'All Respondents'!DB113-'All Respondents'!DB112","v":0.03},{"$f":"'All Respondents'!DC113-'All Respondents'!DC112","v":-3.0000000000000027E-2},{"$f":"'All Respondents'!DD113-'All Respondents'!DD112","v":0},{"$f":"'All Respondents'!DE113-'All Respondents'!DE112","v":0},{"$f":"'All Respondents'!DF113-'All Respondents'!DF112","v":0},{"$f":"'All Respondents'!DG113-'All Respondents'!DG112","v":-2.0000000000000018E-2},{"$f":"'All Respondents'!DH113-'All Respondents'!DH112","v":-2.0000000000000018E-2},{"$f":"'All Respondents'!DI113-'All Respondents'!DI112","v":6.0000000000000012E-2},{"$f":"'All Respondents'!DJ113-'All Respondents'!DJ112","v":-3.0000000000000006E-2},{"$f":"'All Respondents'!DK113-'All Respondents'!DK112","v":0},{"$f":"'All Respondents'!DL113-'All Respondents'!DL112","v":-3.0000000000000002E-2},{"$f":"'All Respondents'!DM113-'All Respondents'!DM112","v":57129.340000000026},{"$f":"'All Respondents'!DN113-'All Respondents'!DN112","v":10000},{"$f":"'All Respondents'!DO113-'All Respondents'!DO112","v":0},{"$f":"'All Respondents'!DP113-'All Respondents'!DP112","v":-1.0000000000000009E-2},{"$f":"'All Respondents'!DQ113-'All Respondents'!DQ112","v":-1.0000000000000009E-2},{"$f":"'All Respondents'!DR113-'All Respondents'!DR112","v":2.0000000000000004E-2},{"$f":"'All Respondents'!DS113-'All Respondents'!DS112","v":9.999999999999995E-3}]
["Aug 19 - Sep 19",{"$f":"'All Respondents'!B114-'All Respondents'!B113","v":-2.2999999999999972},{"$f":"'All Respondents'!D114-'All Respondents'!D113","v":-1.5999999999999943},{"$f":"'All Respondents'!E114-'All Respondents'!E113","v":-3.999999999999998E-2},{"$f":"'All Respondents'!F114-'All Respondents'!F113","v":3.0000000000000013E-2},{"$f":"'All Respondents'!G114-'All Respondents'!G113","v":0},{"$f":"'All Respondents'!H114-'All Respondents'!H113","v":-7.0000000000000007E-2},{"$f":"'All Respondents'!I114-'All Respondents'!I113","v":1.0899999999999993E-2},{"$f":"'All Respondents'!J114-'All Respondents'!J113","v":-5.5999999999999939E-3},{"$f":"'All Respondents'!K114-'All Respondents'!K113","v":-6.2729999999999939E-3},{"$f":"'All Respondents'!L114-'All Respondents'!L113","v":4.9999999999999989E-2},{"$f":"'All Respondents'!M114-'All Respondents'!M113","v":-1.0000000000000009E-2},{"$f":"'All Respondents'!N114-'All Respondents'!N113","v":-1.9999999999999962E-2},{"$f":"'All Respondents'!O114-'All Respondents'!O113","v":-0.06},null,{"$f":"'All Respondents'!Q114-'All Respondents'!Q113","v":-3.0000000000000165E-4},{"$f":"'All Respondents'!R114-'All Respondents'!R113","v":5.0000000000000017E-2},{"$f":"'All Respondents'!S114-'All Respondents'!S113","v":-3.999999999999998E-2},{"$f":"'All Respondents'!T114-'All Respondents'!T113","v":1.000000000000012E-2},{"$f":"'All Respondents'!U114-'All Respondents'!U113","v":0},{"$f":"'All Respondents'!V114-'All Respondents'!V113","v":-2.0000000000000004E-2},{"$f":"'All Respondents'!W114-'All Respondents'!W113","v":-2.0000000000000018E-2},{"$f":"'All Respondents'!X114-'All Respondents'!X113","v":3.0000000000000138E-2},{"$f":"'All Respondents'!Y114-'All Respondents'!Y113","v":-2.0000000000000004E-2},{"$f":"'All Respondents'!Z114-'All Respondents'!Z113","v":0},{"$f":"'All Respondents'!AA114-'All Respondents'!AA113","v":0},{"$f":"'All Respondents'!AB114-'All Respondents'!AB113","v":1.0000000000000002E-2},{"$f":"'All Respondents'!AC114-'All Respondents'!AC113","v":-9.9999999999999811E-3},{"$f":"'All Respondents'!AD114-'All Respondents'!AD113","v":-7.0000000000000062E-2},{"$f":"'All Respondents'!AE114-'All Respondents'!AE113","v":-1.0000000000000002E-2},{"$f":"'All Respondents'!AF114-'All Respondents'!AF113","v":0},{"$f":"'All Respondents'!AG114-'All Respondents'!AG113","v":-1.0000000000000009E-2},{"$f":"'All Respondents'!AH114-'All Respondents'!AH113","v":7.0000000000000007E-2},{"$f":"'All Respondents'!AI114-'All Respondents'!AI113","v":4.0000000000000036E-2},{"$f":"'All Respondents'!AJ114-'All Respondents'!AJ113","v":-1.9999999999999962E-2},{"$f":"'All Respondents'!AK114-'All Respondents'!AK113","v":2.0000000000000129E-2},{"$f":"'All Respondents'!AL114-'All Respondents'!AL113","v":9.9999999999999811E-3},{"$f":"'All Respondents'!AM114-'All Respondents'!AM113","v":-0.03},{"$f":"'All Respondents'!AN114-'All Respondents'!AN113","v":-2.0000000000000018E-2},{"$f":"'All Respondents'!AO114-'All Respondents'!AO113","v":4.0000000000000147E-2},{"$f":"'All Respondents'!AP114-'All Respondents'!AP113","v":-3.999999999999998E-2},{"$f":"'All Respondents'!AQ114-'All Respondents'!AQ113","v":4.0000000000000008E-2},{"$f":"'All Respondents'!AR114-'All Respondents'!AR113","v":-0.03},{"$f":"'All Respondents'!AS114-'All Respondents'!AS113","v":4.0000000000000008E-2},{"$f":"'All Respondents'!AT114-'All Respondents'!AT113","v":-1.0000000000000009E-2},{"$f":"'All Respondents'!AU114-'All Respondents'!AU113","v":-2.0000000000000004E-2},{"$f":"'All Respondents'!AV114-'All Respondents'!AV113","v":6.0000000000000005E-2},{"$f":"'All Respondents'!AW114-'All Respondents'!AW113","v":0.06},{"$f":"'All Respondents'!AX114-'All Respondents'!AX113","v":-1.0000000000000009E-2},{"$f":"'All Respondents'!AY114-'All Respondents'!AY113","v":3.0000000000000027E-2},{"$f":"'All Respondents'!AZ114-'All Respondents'!AZ113","v":-2.9999999999999916E-2},{"$f":"'All Respondents'!BA114-'All Respondents'!BA113","v":1.0000000000000002E-2},{"$f":"'All Respondents'!BB114-'All Respondents'!BB113","v":2.0000000000000018E-2},{"$f":"'All Respondents'!BC114-'All Respondents'!BC113","v":-3.9999999999999925E-2},{"$f":"'All Respondents'!BD114-'All Respondents'!BD113","v":-3.7149999999999891E-3},{"$f":"'All Respondents'!BE114-'All Respondents'!BE113","v":2.9999999999999916E-2},{"$f":"'All Respondents'!BF114-'All Respondents'!BF113","v":-1.9999999999999962E-2},{"$f":"'All Respondents'!BG114-'All Respondents'!BG113","v":4.9999999999999878E-2},{"$f":"'All Respondents'!BH114-'All Respondents'!BH113","v":1.0000000000000009E-2},{"$f":"'All Respondents'!BI114-'All Respondents'!BI113","v":-9.9999999999999534E-3},{"$f":"'All Respondents'!BJ114-'All Respondents'!BJ113","v":1.9999999999999962E-2},{"$f":"'All Respondents'!BK114-'All Respondents'!BK113","v":1.0000000000000009E-2},{"$f":"'All Respondents'!BL114-'All Respondents'!BL113","v":-1.9999999999999962E-2},{"$f":"'All Respondents'!BM114-'All Respondents'!BM113","v":-9.9999999999999534E-3},{"$f":"'All Respondents'!BN114-'All Respondents'!BN113","v":1.9999999999999962E-2},{"$f":"'All Respondents'!BO114-'All Respondents'!BO113","v":0},{"$f":"'All Respondents'!BP114-'All Respondents'!BP113","v":-1.0000000000000002E-2},{"$f":"'All Respondents'!BQ114-'All Respondents'!BQ113","v":-1.0000000000000009E-2},{"$f":"'All Respondents'!BR114-'All Respondents'!BR113","v":0},{"$f":"'All Respondents'!BS114-'All Respondents'!BS113","v":0},{"$f":"'All Respondents'!BT114-'All Respondents'!BT113","v":0},{"$f":"'All Respondents'!BU114-'All Respondents'!BU113","v":0},{"$f":"'All Respondents'!BV114-'All Respondents'!BV113","v":0},{"$f":"'All Respondents'!BW114-'All Respondents'!BW113","v":1.0000000000000009E-2},{"$f":"'All Respondents'!BX114-'All Respondents'!BX113","v":-3.0000000000000027E-2},{"$f":"'All Respondents'!BY114-'All Respondents'!BY113","v":-4.0000000000000036E-2},{"$f":"'All Respondents'!BZ114-'All Respondents'!BZ113","v":-1.0000000000000009E-2},{"$f":"'All Respondents'!CA114-'All Respondents'!CA113","v":1.9999999999999997E-2},{"$f":"'All Respondents'!CB114-'All Respondents'!CB113","v":9.9999999999999811E-3},{"$f":"'All Respondents'!CC114-'All Respondents'!CC113","v":0},{"$f":"'All Respondents'!CD114-'All Respondents'!CD113","v":4.0000000000000008E-2},{"$f":"'All Respondents'!CE114-'All Respondents'!CE113","v":9.999999999999995E-3},{"$f":"'All Respondents'!CF114-'All Respondents'!CF113","v":-5.0000000000000044E-2},{"$f":"'All Respondents'!CG114-'All Respondents'!CG113","v":1.0000000000000002E-2},{"$f":"'All Respondents'!CH114-'All Respondents'!CH113","v":1.0000000000000009E-2},{"$f":"'All Respondents'!CI114-'All Respondents'!CI113","v":0},{"$f":"'All Respondents'!CJ114-'All Respondents'!CJ113","v":-2.0000000000000018E-2},{"$f":"'All Respondents'!CK114-'All Respondents'!CK113","v":1.9999999999999997E-2},{"$f":"'All Respondents'!CL114-'All Respondents'!CL113","v":1.999999999999999E-2},{"$f":"'All Respondents'!CM114-'All Respondents'!CM113","v":3.999999999999998E-2},{"$f":"'All Respondents'!CN114-'All Respondents'!CN113","v":-3.9999999999999925E-2},{"$f":"'All Respondents'!CO114-'All Respondents'!CO113","v":9.9999999999999811E-3},{"$f":"'All Respondents'!CP114-'All Respondents'!CP113","v":-4.9999999999999933E-2},{"$f":"'All Respondents'!CQ114-'All Respondents'!CQ113","v":-7.999999999999996E-2},{"$f":"'All Respondents'!CR114-'All Respondents'!CR113","v":2.0000000000000018E-2},{"$f":"'All Respondents'!CS114-'All Respondents'!CS113","v":-2.0000000000000018E-2},{"$f":"'All Respondents'!CT114-'All Respondents'!CT113","v":0},{"$f":"'All Respondents'!CU114-'All Respondents'!CU113","v":2.0000000000000004E-2},{"$f":"'All Respondents'!CV114-'All Respondents'!CV113","v":-1.0000000000000009E-2},{"$f":"'All Respondents'!CW114-'All Respondents'!CW113","v":-1.0000000000000009E-2},{"$f":"'All Respondents'!CX114-'All Respondents'!CX113","v":2.0000000000000004E-2},{"$f":"'All Respondents'!CY114-'All Respondents'!CY113","v":0},{"$f":"'All Respondents'!CZ114-'All Respondents'!CZ113","v":-0.01},{"$f":"'All Respondents'!DA114-'All Respondents'!DA113","v":0.01},{"$f":"'All Respondents'!DB114-'All Respondents'!DB113","v":-0.03},{"$f":"'All Respondents'!DC114-'All Respondents'!DC113","v":4.0000000000000036E-2},{"$f":"'All Respondents'!DD114-'All Respondents'!DD113","v":-0.03},{"$f":"'All Respondents'!DE114-'All Respondents'!DE113","v":2.0000000000000018E-2},{"$f":"'All Respondents'!DF114-'All Respondents'!DF113","v":3.0000000000000027E-2},{"$f":"'All Respondents'!DG114-'All Respondents'!DG113","v":-1.999999999999999E-2},{"$f":"'All Respondents'!DH114-'All Respondents'!DH113","v":1.000000000000012E-2},{"$f":"'All Respondents'!DI114-'All Respondents'!DI113","v":-3.0000000000000013E-2},{"$f":"'All Respondents'!DJ114-'All Respondents'!DJ113","v":0.03},{"$f":"'All Respondents'!DK114-'All Respondents'!DK113","v":0.03},{"$f":"'All Respondents'!DL114-'All Respondents'!DL113","v":0},{"$f":"'All Respondents'!DM114-'All Respondents'!DM113","v":-67452.350000000035},{"$f":"'All Respondents'!DN114-'All Respondents'!DN113","v":20000},{"$f":"'All Respondents'!DO114-'All Respondents'!DO113","v":-2.0000000000000004E-2},{"$f":"'All Respondents'!DP114-'All Respondents'!DP113","v":-9.9999999999999534E-3},{"$f":"'All Respondents'!DQ114-'All Respondents'!DQ113","v":3.999999999999998E-2},{"$f":"'All Respondents'!DR114-'All Respondents'!DR113","v":0},{"$f":"'All Respondents'!DS114-'All Respondents'!DS113","v":-1.999999999999999E-2}]
["Sep 19 - Oct 19",{"$f":"'All Respondents'!B115-'All Respondents'!B114","v":-2.7000000000000028},{"$f":"'All Respondents'!D115-'All Respondents'!D114","v":-2.7999999999999972},{"$f":"'All Respondents'!E115-'All Respondents'!E114","v":-2.0000000000000018E-2},{"$f":"'All Respondents'!F115-'All Respondents'!F114","v":0},{"$f":"'All Respondents'!G115-'All Respondents'!G114","v":3.0000000000000027E-2},{"$f":"'All Respondents'!H115-'All Respondents'!H114","v":-2.0000000000000018E-2},{"$f":"'All Respondents'!I115-'All Respondents'!I114","v":-9.4999999999999946E-3},{"$f":"'All Respondents'!J115-'All Respondents'!J114","v":8.8999999999999913E-3},{"$f":"'All Respondents'!K115-'All Respondents'!K114","v":1.0269999999999932E-3},{"$f":"'All Respondents'!L115-'All Respondents'!L114","v":-1.0000000000000009E-2},{"$f":"'All Respondents'!M115-'All Respondents'!M114","v":-0.03},{"$f":"'All Respondents'!N115-'All Respondents'!N114","v":3.999999999999998E-2},{"$f":"'All Respondents'!O115-'All Respondents'!O114","v":-1.999999999999999E-2},null,{"$f":"'All Respondents'!Q115-'All Respondents'!Q114","v":7.0000000000000617E-4},{"$f":"'All Respondents'!R115-'All Respondents'!R114","v":-4.0000000000000008E-2},{"$f":"'All Respondents'!S115-'All Respondents'!S114","v":1.9999999999999962E-2},{"$f":"'All Respondents'!T115-'All Respondents'!T114","v":-2.0000000000000129E-2},{"$f":"'All Respondents'!U115-'All Respondents'!U114","v":0.06},{"$f":"'All Respondents'!V115-'All Respondents'!V114","v":-9.999999999999995E-3},{"$f":"'All Respondents'!W115-'All Respondents'!W114","v":4.9999999999999989E-2},{"$f":"'All Respondents'!X115-'All Respondents'!X114","v":-7.0000000000000118E-2},{"$f":"'All Respondents'!Y115-'All Respondents'!Y114","v":1.0000000000000009E-2},{"$f":"'All Respondents'!Z115-'All Respondents'!Z114","v":-2.0000000000000018E-2},{"$f":"'All Respondents'!AA115-'All Respondents'!AA114","v":0.03},{"$f":"'All Respondents'!AB115-'All Respondents'!AB114","v":0},{"$f":"'All Respondents'!AC115-'All Respondents'!AC114","v":1.999999999999999E-2},{"$f":"'All Respondents'!AD115-'All Respondents'!AD114","v":8.0000000000000071E-2},{"$f":"'All Respondents'!AE115-'All Respondents'!AE114","v":0.04},{"$f":"'All Respondents'!AF115-'All Respondents'!AF114","v":1.0000000000000002E-2},{"$f":"'All Respondents'!AG115-'All Respondents'!AG114","v":0},{"$f":"'All Respondents'!AH115-'All Respondents'!AH114","v":-7.0000000000000007E-2},{"$f":"'All Respondents'!AI115-'All Respondents'!AI114","v":-1.0000000000000009E-2},{"$f":"'All Respondents'!AJ115-'All Respondents'!AJ114","v":1.0000000000000009E-2},{"$f":"'All Respondents'!AK115-'All Respondents'!AK114","v":0},{"$f":"'All Respondents'!AL115-'All Respondents'!AL114","v":2.0000000000000018E-2},{"$f":"'All Respondents'!AM115-'All Respondents'!AM114","v":9.999999999999995E-3},{"$f":"'All Respondents'!AN115-'All Respondents'!AN114","v":3.0000000000000027E-2},{"$f":"'All Respondents'!AO115-'All Respondents'!AO114","v":-3.0000000000000027E-2},{"$f":"'All Respondents'!AP115-'All Respondents'!AP114","v":2.9999999999999971E-2},{"$f":"'All Respondents'!AQ115-'All Respondents'!AQ114","v":-0.03},{"$f":"'All Respondents'!AR115-'All Respondents'!AR114","v":0.05},{"$f":"'All Respondents'!AS115-'All Respondents'!AS114","v":-2.0000000000000004E-2},{"$f":"'All Respondents'!AT115-'All Respondents'!AT114","v":-0.03},{"$f":"'All Respondents'!AU115-'All Respondents'!AU114","v":2.0000000000000004E-2},{"$f":"'All Respondents'!AV115-'All Respondents'!AV114","v":0},{"$f":"'All Respondents'!AW115-'All Respondents'!AW114","v":-4.9999999999999989E-2},{"$f":"'All Respondents'!AX115-'All Respondents'!AX114","v":0},{"$f":"'All Respondents'!AY115-'All Respondents'!AY114","v":-2.0000000000000018E-2},{"$f":"'All Respondents'!AZ115-'All Respondents'!AZ114","v":9.9999999999998979E-3},{"$f":"'All Respondents'!BA115-'All Respondents'!BA114","v":0},{"$f":"'All Respondents'!BB115-'All Respondents'!BB114","v":-2.0000000000000018E-2},{"$f":"'All Respondents'!BC115-'All Respondents'!BC114","v":9.9999999999998979E-3},{"$f":"'All Respondents'!BD115-'All Respondents'!BD114","v":1.1420000000000111E-3},{"$f":"'All Respondents'!BE115-'All Respondents'!BE114","v":-1.9999999999999907E-2},{"$f":"'All Respondents'!BF115-'All Respondents'!BF114","v":1.9999999999999962E-2},{"$f":"'All Respondents'!BG115-'All Respondents'!BG114","v":-3.9999999999999869E-2},{"$f":"'All Respondents'!BH115-'All Respondents'!BH114","v":3.0000000000000027E-2},{"$f":"'All Respondents'!BI115-'All Respondents'!BI114","v":-2.0000000000000018E-2},{"$f":"'All Respondents'!BJ115-'All Respondents'!BJ114","v":5.0000000000000044E-2},{"$f":"'All Respondents'!BK115-'All Respondents'!BK114","v":4.9999999999999989E-2},{"$f":"'All Respondents'!BL115-'All Respondents'!BL114","v":0},{"$f":"'All Respondents'!BM115-'All Respondents'!BM114","v":4.9999999999999989E-2},{"$f":"'All Respondents'!BN115-'All Respondents'!BN114","v":-4.9999999999999989E-2},{"$f":"'All Respondents'!BO115-'All Respondents'!BO114","v":1.0000000000000009E-2},{"$f":"'All Respondents'!BP115-'All Respondents'!BP114","v":-9.9999999999999985E-3},{"$f":"'All Respondents'!BQ115-'All Respondents'!BQ114","v":0},{"$f":"'All Respondents'!BR115-'All Respondents'!BR114","v":4.9999999999999989E-2},{"$f":"'All Respondents'!BS115-'All Respondents'!BS114","v":-2.9999999999999971E-2},{"$f":"'All Respondents'!BT115-'All Respondents'!BT114","v":1.999999999999999E-2},{"$f":"'All Respondents'!BU115-'All Respondents'!BU114","v":1.0000000000000009E-2},{"$f":"'All Respondents'!BV115-'All Respondents'!BV114","v":-4.9999999999999961E-2},{"$f":"'All Respondents'!BW115-'All Respondents'!BW114","v":3.0000000000000027E-2},{"$f":"'All Respondents'!BX115-'All Respondents'!BX114","v":-2.0000000000000018E-2},{"$f":"'All Respondents'!BY115-'All Respondents'!BY114","v":-5.0000000000000044E-2},{"$f":"'All Respondents'!BZ115-'All Respondents'!BZ114","v":4.9999999999999989E-2},{"$f":"'All Respondents'!CA115-'All Respondents'!CA114","v":-9.999999999999995E-3},{"$f":"'All Respondents'!CB115-'All Respondents'!CB114","v":3.999999999999998E-2},{"$f":"'All Respondents'!CC115-'All Respondents'!CC114","v":-6.0000000000000053E-2},{"$f":"'All Respondents'!CD115-'All Respondents'!CD114","v":-6.0000000000000012E-2},{"$f":"'All Respondents'!CE115-'All Respondents'!CE114","v":1.0000000000000009E-2},{"$f":"'All Respondents'!CF115-'All Respondents'!CF114","v":-1.0000000000000009E-2},{"$f":"'All Respondents'!CG115-'All Respondents'!CG114","v":0},{"$f":"'All Respondents'!CH115-'All Respondents'!CH114","v":0},{"$f":"'All Respondents'!CI115-'All Respondents'!CI114","v":0.03},{"$f":"'All Respondents'!CJ115-'All Respondents'!CJ114","v":-4.0000000000000036E-2},{"$f":"'All Respondents'!CK115-'All Respondents'!CK114","v":-9.999999999999995E-3},{"$f":"'All Respondents'!CL115-'All Respondents'!CL114","v":0},{"$f":"'All Respondents'!CM115-'All Respondents'!CM114","v":-9.9999999999999811E-3},{"$f":"'All Respondents'!CN115-'All Respondents'!CN114","v":1.9999999999999907E-2},{"$f":"'All Respondents'!CO115-'All Respondents'!CO114","v":4.0000000000000008E-2},{"$f":"'All Respondents'!CP115-'All Respondents'!CP114","v":-2.0000000000000018E-2},{"$f":"'All Respondents'!CQ115-'All Respondents'!CQ114","v":2.9999999999999916E-2},{"$f":"'All Respondents'!CR115-'All Respondents'!CR114","v":-2.9999999999999971E-2},{"$f":"'All Respondents'!CS115-'All Respondents'!CS114","v":1.0000000000000009E-2},{"$f":"'All Respondents'!CT115-'All Respondents'!CT114","v":0.03},{"$f":"'All Respondents'!CU115-'All Respondents'!CU114","v":-0.03},{"$f":"'All Respondents'!CV115-'All Respondents'!CV114","v":2.0000000000000018E-2},{"$f":"'All Respondents'!CW115-'All Respondents'!CW114","v":-4.9999999999999933E-2},{"$f":"'All Respondents'!CX115-'All Respondents'!CX114","v":4.0000000000000008E-2},{"$f":"'All Respondents'!CY115-'All Respondents'!CY114","v":9.9999999999999985E-3},{"$f":"'All Respondents'!CZ115-'All Respondents'!CZ114","v":0},{"$f":"'All Respondents'!DA115-'All Respondents'!DA114","v":-0.01},{"$f":"'All Respondents'!DB115-'All Respondents'!DB114","v":-0.05},{"$f":"'All Respondents'!DC115-'All Respondents'!DC114","v":5.9999999999999942E-2},{"$f":"'All Respondents'!DD115-'All Respondents'!DD114","v":1.999999999999999E-2},{"$f":"'All Respondents'!DE115-'All Respondents'!DE114","v":-1.0000000000000009E-2},{"$f":"'All Respondents'!DF115-'All Respondents'!DF114","v":1.0000000000000009E-2},{"$f":"'All Respondents'!DG115-'All Respondents'!DG114","v":1.0000000000000009E-2},{"$f":"'All Respondents'!DH115-'All Respondents'!DH114","v":2.0000000000000018E-2},{"$f":"'All Respondents'!DI115-'All Respondents'!DI114","v":-2.0000000000000004E-2},{"$f":"'All Respondents'!DJ115-'All Respondents'!DJ114","v":-9.999999999999995E-3},{"$f":"'All Respondents'!DK115-'All Respondents'!DK114","v":-1.0000000000000002E-2},{"$f":"'All Respondents'!DL115-'All Respondents'!DL114","v":0},{"$f":"'All Respondents'!DM115-'All Respondents'!DM114","v":-31530.989999999991},{"$f":"'All Respondents'!DN115-'All Respondents'!DN114","v":-20000},{"$f":"'All Respondents'!DO115-'All Respondents'!DO114","v":-9.999999999999995E-3},{"$f":"'All Respondents'!DP115-'All Respondents'!DP114","v":4.9999999999999989E-2},{"$f":"'All Respondents'!DQ115-'All Respondents'!DQ114","v":-2.9999999999999971E-2},{"$f":"'All Respondents'!DR115-'All Respondents'!DR114","v":2.0000000000000004E-2},{"$f":"'All Respondents'!DS115-'All Respondents'!DS114","v":0}]
["Oct 19 - Nov 19",{"$f":"'All Respondents'!B116-'All Respondents'!B115","v":2.7000000000000028},{"$f":"'All Respondents'!D116-'All Respondents'!D115","v":3.7999999999999972},{"$f":"'All Respondents'!E116-'All Respondents'!E115","v":3.0000000000000027E-2},{"$f":"'All Respondents'!F116-'All Respondents'!F115","v":-4.0000000000000008E-2},{"$f":"'All Respondents'!G116-'All Respondents'!G115","v":1.0000000000000009E-2},{"$f":"'All Respondents'!H116-'All Respondents'!H115","v":7.0000000000000007E-2},{"$f":"'All Respondents'!I116-'All Respondents'!I115","v":2.9699999999999997E-2},{"$f":"'All Respondents'!J116-'All Respondents'!J115","v":3.7000000000000088E-3},{"$f":"'All Respondents'!K116-'All Respondents'!K115","v":1.0191000000000006E-2},{"$f":"'All Respondents'!L116-'All Respondents'!L115","v":2.0000000000000018E-2},{"$f":"'All Respondents'!M116-'All Respondents'!M115","v":-9.999999999999995E-3},{"$f":"'All Respondents'!N116-'All Respondents'!N115","v":-2.0000000000000018E-2},{"$f":"'All Respondents'!O116-'All Respondents'!O115","v":-3.0000000000000027E-2},null,{"$f":"'All Respondents'!Q116-'All Respondents'!Q115","v":-3.0000000000000165E-4},{"$f":"'All Respondents'!R116-'All Respondents'!R115","v":4.0000000000000008E-2},{"$f":"'All Respondents'!S116-'All Respondents'!S115","v":0},{"$f":"'All Respondents'!T116-'All Respondents'!T115","v":4.0000000000000036E-2},{"$f":"'All Respondents'!U116-'All Respondents'!U115","v":-5.0000000000000017E-2},{"$f":"'All Respondents'!V116-'All Respondents'!V115","v":-2.0000000000000004E-2},{"$f":"'All Respondents'!W116-'All Respondents'!W115","v":-7.0000000000000007E-2},{"$f":"'All Respondents'!X116-'All Respondents'!X115","v":0.11000000000000004},{"$f":"'All Respondents'!Y116-'All Respondents'!Y115","v":0.03},{"$f":"'All Respondents'!Z116-'All Respondents'!Z115","v":0},{"$f":"'All Respondents'!AA116-'All Respondents'!AA115","v":-4.0000000000000008E-2},{"$f":"'All Respondents'!AB116-'All Respondents'!AB115","v":-1.0000000000000002E-2},{"$f":"'All Respondents'!AC116-'All Respondents'!AC115","v":-1.0000000000000009E-2},{"$f":"'All Respondents'!AD116-'All Respondents'!AD115","v":-5.0000000000000044E-2},{"$f":"'All Respondents'!AE116-'All Respondents'!AE115","v":-9.999999999999995E-3},{"$f":"'All Respondents'!AF116-'All Respondents'!AF115","v":-2.0000000000000004E-2},{"$f":"'All Respondents'!AG116-'All Respondents'!AG115","v":0},{"$f":"'All Respondents'!AH116-'All Respondents'!AH115","v":4.9999999999999989E-2},{"$f":"'All Respondents'!AI116-'All Respondents'!AI115","v":-4.0000000000000008E-2},{"$f":"'All Respondents'!AJ116-'All Respondents'!AJ115","v":2.9999999999999971E-2},{"$f":"'All Respondents'!AK116-'All Respondents'!AK115","v":-1.0000000000000009E-2},{"$f":"'All Respondents'!AL116-'All Respondents'!AL115","v":-1.0000000000000009E-2},{"$f":"'All Respondents'!AM116-'All Respondents'!AM115","v":1.0000000000000009E-2},{"$f":"'All Respondents'!AN116-'All Respondents'!AN115","v":0},{"$f":"'All Respondents'!AO116-'All Respondents'!AO115","v":-1.0000000000000009E-2},{"$f":"'All Respondents'!AP116-'All Respondents'!AP115","v":-4.9999999999999989E-2},{"$f":"'All Respondents'!AQ116-'All Respondents'!AQ115","v":0.06},{"$f":"'All Respondents'!AR116-'All Respondents'!AR115","v":-2.0000000000000004E-2},{"$f":"'All Respondents'!AS116-'All Respondents'!AS115","v":9.999999999999995E-3},{"$f":"'All Respondents'!AT116-'All Respondents'!AT115","v":0},{"$f":"'All Respondents'!AU116-'All Respondents'!AU115","v":-2.0000000000000004E-2},{"$f":"'All Respondents'!AV116-'All Respondents'!AV115","v":-0.05},{"$f":"'All Respondents'!AW116-'All Respondents'!AW115","v":1.999999999999999E-2},{"$f":"'All Respondents'!AX116-'All Respondents'!AX115","v":5.0000000000000017E-2},{"$f":"'All Respondents'!AY116-'All Respondents'!AY115","v":-0.06},{"$f":"'All Respondents'!AZ116-'All Respondents'!AZ115","v":3.0000000000000027E-2},{"$f":"'All Respondents'!BA116-'All Respondents'!BA115","v":-0.02},{"$f":"'All Respondents'!BB116-'All Respondents'!BB115","v":-1.0000000000000009E-2},{"$f":"'All Respondents'!BC116-'All Respondents'!BC115","v":5.0000000000000044E-2},{"$f":"'All Respondents'!BD116-'All Respondents'!BD115","v":-8.980000000000099E-4},{"$f":"'All Respondents'!BE116-'All Respondents'!BE115","v":0},{"$f":"'All Respondents'!BF116-'All Respondents'!BF115","v":-9.9999999999999534E-3},{"$f":"'All Respondents'!BG116-'All Respondents'!BG115","v":9.9999999999999534E-3},{"$f":"'All Respondents'!BH116-'All Respondents'!BH115","v":2.9999999999999916E-2},{"$f":"'All Respondents'!BI116-'All Respondents'!BI115","v":-4.9999999999999989E-2},{"$f":"'All Respondents'!BJ116-'All Respondents'!BJ115","v":7.9999999999999905E-2},{"$f":"'All Respondents'!BK116-'All Respondents'!BK115","v":-4.9999999999999989E-2},{"$f":"'All Respondents'!BL116-'All Respondents'!BL115","v":2.9999999999999971E-2},{"$f":"'All Respondents'!BM116-'All Respondents'!BM115","v":-2.0000000000000018E-2},{"$f":"'All Respondents'!BN116-'All Respondents'!BN115","v":2.0000000000000018E-2},{"$f":"'All Respondents'!BO116-'All Respondents'!BO115","v":0},{"$f":"'All Respondents'!BP116-'All Respondents'!BP115","v":0},{"$f":"'All Respondents'!BQ116-'All Respondents'!BQ115","v":0},{"$f":"'All Respondents'!BR116-'All Respondents'!BR115","v":-2.0000000000000018E-2},{"$f":"'All Respondents'!BS116-'All Respondents'!BS115","v":0},{"$f":"'All Respondents'!BT116-'All Respondents'!BT115","v":-1.999999999999999E-2},{"$f":"'All Respondents'!BU116-'All Respondents'!BU115","v":1.0000000000000009E-2},{"$f":"'All Respondents'!BV116-'All Respondents'!BV115","v":1.999999999999999E-2},{"$f":"'All Respondents'!BW116-'All Respondents'!BW115","v":-1.0000000000000009E-2},{"$f":"'All Respondents'!BX116-'All Respondents'!BX115","v":2.0000000000000018E-2},{"$f":"'All Respondents'!BY116-'All Respondents'!BY115","v":3.0000000000000027E-2},{"$f":"'All Respondents'!BZ116-'All Respondents'!BZ115","v":-9.9999999999999811E-3},{"$f":"'All Respondents'!CA116-'All Respondents'!CA115","v":-1.0000000000000002E-2},{"$f":"'All Respondents'!CB116-'All Respondents'!CB115","v":-1.9999999999999962E-2},{"$f":"'All Respondents'!CC116-'All Respondents'!CC115","v":-1.0000000000000009E-2},{"$f":"'All Respondents'!CD116-'All Respondents'!CD115","v":0.03},{"$f":"'All Respondents'!CE116-'All Respondents'!CE115","v":-4.0000000000000008E-2},{"$f":"'All Respondents'!CF116-'All Respondents'!CF115","v":0},{"$f":"'All Respondents'!CG116-'All Respondents'!CG115","v":-1.0000000000000002E-2},{"$f":"'All Respondents'!CH116-'All Respondents'!CH115","v":0},{"$f":"'All Respondents'!CI116-'All Respondents'!CI115","v":-4.0000000000000008E-2},{"$f":"'All Respondents'!CJ116-'All Respondents'!CJ115","v":5.0000000000000044E-2},{"$f":"'All Respondents'!CK116-'All Respondents'!CK115","v":0},{"$f":"'All Respondents'!CL116-'All Respondents'!CL115","v":0},{"$f":"'All Respondents'!CM116-'All Respondents'!CM115","v":0},{"$f":"'All Respondents'!CN116-'All Respondents'!CN115","v":0},{"$f":"'All Respondents'!CO116-'All Respondents'!CO115","v":-7.0000000000000007E-2},{"$f":"'All Respondents'!CP116-'All Respondents'!CP115","v":6.9999999999999951E-2},{"$f":"'All Respondents'!CQ116-'All Respondents'!CQ115","v":0},{"$f":"'All Respondents'!CR116-'All Respondents'!CR115","v":9.9999999999999534E-3},{"$f":"'All Respondents'!CS116-'All Respondents'!CS115","v":0},{"$f":"'All Respondents'!CT116-'All Respondents'!CT115","v":-0.03},{"$f":"'All Respondents'!CU116-'All Respondents'!CU115","v":-2.0000000000000004E-2},{"$f":"'All Respondents'!CV116-'All Respondents'!CV115","v":9.9999999999999811E-3},{"$f":"'All Respondents'!CW116-'All Respondents'!CW115","v":1.0000000000000009E-2},{"$f":"'All Respondents'!CX116-'All Respondents'!CX115","v":-1.0000000000000009E-2},{"$f":"'All Respondents'!CY116-'All Respondents'!CY115","v":0},{"$f":"'All Respondents'!CZ116-'All Respondents'!CZ115","v":0},{"$f":"'All Respondents'!DA116-'All Respondents'!DA115","v":0.01},{"$f":"'All Respondents'!DB116-'All Respondents'!DB115","v":9.999999999999995E-3},{"$f":"'All Respondents'!DC116-'All Respondents'!DC115","v":-3.0000000000000027E-2},{"$f":"'All Respondents'!DD116-'All Respondents'!DD115","v":0},{"$f":"'All Respondents'!DE116-'All Respondents'!DE115","v":0},{"$f":"'All Respondents'!DF116-'All Respondents'!DF115","v":2.0000000000000018E-2},{"$f":"'All Respondents'!DG116-'All Respondents'!DG115","v":-1.0000000000000009E-2},{"$f":"'All Respondents'!DH116-'All Respondents'!DH115","v":1.0000000000000009E-2},{"$f":"'All Respondents'!DI116-'All Respondents'!DI115","v":0},{"$f":"'All Respondents'!DJ116-'All Respondents'!DJ115","v":-1.0000000000000002E-2},{"$f":"'All Respondents'!DK116-'All Respondents'!DK115","v":-9.9999999999999985E-3},{"$f":"'All Respondents'!DL116-'All Respondents'!DL115","v":0},{"$f":"'All Respondents'!DM116-'All Respondents'!DM115","v":17005.710000000021},{"$f":"'All Respondents'!DN116-'All Respondents'!DN115","v":0},{"$f":"'All Respondents'!DO116-'All Respondents'!DO115","v":2.0000000000000004E-2},{"$f":"'All Respondents'!DP116-'All Respondents'!DP115","v":-0.06},{"$f":"'All Respondents'!DQ116-'All Respondents'!DQ115","v":2.9999999999999971E-2},{"$f":"'All Respondents'!DR116-'All Respondents'!DR115","v":-2.0000000000000004E-2},{"$f":"'All Respondents'!DS116-'All Respondents'!DS115","v":-1.0000000000000009E-2}]
["Nov 19 - Dec 19",{"$f":"'All Respondents'!B117-'All Respondents'!B116","v":0.20000000000000284},{"$f":"'All Respondents'!D117-'All Respondents'!D116","v":1},{"$f":"'All Respondents'!E117-'All Respondents'!E116","v":0.06},{"$f":"'All Respondents'!F117-'All Respondents'!F116","v":0},{"$f":"'All Respondents'!G117-'All Respondents'!G116","v":-5.0000000000000044E-2},{"$f":"'All Respondents'!H117-'All Respondents'!H116","v":6.0000000000000053E-2},{"$f":"'All Respondents'!I117-'All Respondents'!I116","v":-3.1499999999999993E-2},{"$f":"'All Respondents'!J117-'All Respondents'!J116","v":-1.8000000000000099E-3},{"$f":"'All Respondents'!K117-'All Respondents'!K116","v":5.8199999999999918E-4},{"$f":"'All Respondents'!L117-'All Respondents'!L116","v":0},{"$f":"'All Respondents'!M117-'All Respondents'!M116","v":-3.9999999999999994E-2},{"$f":"'All Respondents'!N117-'All Respondents'!N116","v":4.0000000000000036E-2},{"$f":"'All Respondents'!O117-'All Respondents'!O116","v":-3.999999999999998E-2},null,{"$f":"'All Respondents'!Q117-'All Respondents'!Q116","v":1.0000000000000009E-3},{"$f":"'All Respondents'!R117-'All Respondents'!R116","v":-4.0000000000000008E-2},{"$f":"'All Respondents'!S117-'All Respondents'!S116","v":2.0000000000000018E-2},{"$f":"'All Respondents'!T117-'All Respondents'!T116","v":-2.0000000000000018E-2},{"$f":"'All Respondents'!U117-'All Respondents'!U116","v":2.0000000000000018E-2},{"$f":"'All Respondents'!V117-'All Respondents'!V116","v":9.999999999999995E-3},{"$f":"'All Respondents'!W117-'All Respondents'!W116","v":3.0000000000000027E-2},{"$f":"'All Respondents'!X117-'All Respondents'!X116","v":-5.0000000000000044E-2},{"$f":"'All Respondents'!Y117-'All Respondents'!Y116","v":-0.05},{"$f":"'All Respondents'!Z117-'All Respondents'!Z116","v":0},{"$f":"'All Respondents'!AA117-'All Respondents'!AA116","v":-0.03},{"$f":"'All Respondents'!AB117-'All Respondents'!AB116","v":1.0000000000000002E-2},{"$f":"'All Respondents'!AC117-'All Respondents'!AC116","v":6.0000000000000026E-2},{"$f":"'All Respondents'!AD117-'All Respondents'!AD116","v":-1.0000000000000009E-2},{"$f":"'All Respondents'!AE117-'All Respondents'!AE116","v":-2.0000000000000004E-2},{"$f":"'All Respondents'!AF117-'All Respondents'!AF116","v":0},{"$f":"'All Respondents'!AG117-'All Respondents'!AG116","v":0.06},{"$f":"'All Respondents'!AH117-'All Respondents'!AH116","v":-3.999999999999998E-2},{"$f":"'All Respondents'!AI117-'All Respondents'!AI116","v":4.0000000000000008E-2},{"$f":"'All Respondents'!AJ117-'All Respondents'!AJ116","v":-4.9999999999999989E-2},{"$f":"'All Respondents'!AK117-'All Respondents'!AK116","v":-1.0000000000000009E-2},{"$f":"'All Respondents'!AL117-'All Respondents'!AL116","v":-0.03},{"$f":"'All Respondents'!AM117-'All Respondents'!AM116","v":-1.0000000000000009E-2},{"$f":"'All Respondents'!AN117-'All Respondents'!AN116","v":-4.0000000000000008E-2},{"$f":"'All Respondents'!AO117-'All Respondents'!AO116","v":3.0000000000000027E-2},{"$f":"'All Respondents'!AP117-'All Respondents'!AP116","v":1.0000000000000009E-2},{"$f":"'All Respondents'!AQ117-'All Respondents'!AQ116","v":-0.09},{"$f":"'All Respondents'!AR117-'All Respondents'!AR116","v":2.0000000000000004E-2},{"$f":"'All Respondents'!AS117-'All Respondents'!AS116","v":0},{"$f":"'All Respondents'!AT117-'All Respondents'!AT116","v":5.0000000000000017E-2},{"$f":"'All Respondents'!AU117-'All Respondents'!AU116","v":0.08},{"$f":"'All Respondents'!AV117-'All Respondents'!AV116","v":9.0000000000000011E-2},{"$f":"'All Respondents'!AW117-'All Respondents'!AW116","v":-0.03},{"$f":"'All Respondents'!AX117-'All Respondents'!AX116","v":-7.0000000000000007E-2},{"$f":"'All Respondents'!AY117-'All Respondents'!AY116","v":2.0000000000000018E-2},{"$f":"'All Respondents'!AZ117-'All Respondents'!AZ116","v":1.0000000000000009E-2},{"$f":"'All Respondents'!BA117-'All Respondents'!BA116","v":0.02},{"$f":"'All Respondents'!BB117-'All Respondents'!BB116","v":-1.0000000000000009E-2},{"$f":"'All Respondents'!BC117-'All Respondents'!BC116","v":-1.0000000000000009E-2},{"$f":"'All Respondents'!BD117-'All Respondents'!BD116","v":5.5460000000000023E-3},{"$f":"'All Respondents'!BE117-'All Respondents'!BE116","v":-1.0000000000000009E-2},{"$f":"'All Respondents'!BF117-'All Respondents'!BF116","v":0},{"$f":"'All Respondents'!BG117-'All Respondents'!BG116","v":-1.0000000000000009E-2},{"$f":"'All Respondents'!BH117-'All Respondents'!BH116","v":-3.9999999999999925E-2},{"$f":"'All Respondents'!BI117-'All Respondents'!BI116","v":2.9999999999999971E-2},{"$f":"'All Respondents'!BJ117-'All Respondents'!BJ116","v":-6.9999999999999896E-2},{"$f":"'All Respondents'!BK117-'All Respondents'!BK116","v":3.999999999999998E-2},{"$f":"'All Respondents'!BL117-'All Respondents'!BL116","v":-4.9999999999999989E-2},{"$f":"'All Respondents'!BM117-'All Respondents'!BM116","v":-1.0000000000000009E-2},{"$f":"'All Respondents'!BN117-'All Respondents'!BN116","v":1.0000000000000009E-2},{"$f":"'All Respondents'!BO117-'All Respondents'!BO116","v":0},{"$f":"'All Respondents'!BP117-'All Respondents'!BP116","v":0},{"$f":"'All Respondents'!BQ117-'All Respondents'!BQ116","v":0},{"$f":"'All Respondents'!BR117-'All Respondents'!BR116","v":-1.0000000000000009E-2},{"$f":"'All Respondents'!BS117-'All Respondents'!BS116","v":0},{"$f":"'All Respondents'!BT117-'All Respondents'!BT116","v":9.999999999999995E-3},{"$f":"'All Respondents'!BU117-'All Respondents'!BU116","v":0},{"$f":"'All Respondents'!BV117-'All Respondents'!BV116","v":-9.9999999999999811E-3},{"$f":"'All Respondents'!BW117-'All Respondents'!BW116","v":1.0000000000000009E-2},{"$f":"'All Respondents'!BX117-'All Respondents'!BX116","v":-1.0000000000000009E-2},{"$f":"'All Respondents'!BY117-'All Respondents'!BY116","v":-2.0000000000000018E-2},{"$f":"'All Respondents'!BZ117-'All Respondents'!BZ116","v":4.9999999999999989E-2},{"$f":"'All Respondents'!CA117-'All Respondents'!CA116","v":0},{"$f":"'All Respondents'!CB117-'All Respondents'!CB116","v":4.9999999999999989E-2},{"$f":"'All Respondents'!CC117-'All Respondents'!CC116","v":-2.0000000000000018E-2},{"$f":"'All Respondents'!CD117-'All Respondents'!CD116","v":-0.06},{"$f":"'All Respondents'!CE117-'All Respondents'!CE116","v":0.03},{"$f":"'All Respondents'!CF117-'All Respondents'!CF116","v":1.0000000000000009E-2},{"$f":"'All Respondents'!CG117-'All Respondents'!CG116","v":0},{"$f":"'All Respondents'!CH117-'All Respondents'!CH116","v":-1.0000000000000009E-2},{"$f":"'All Respondents'!CI117-'All Respondents'!CI116","v":4.0000000000000008E-2},{"$f":"'All Respondents'!CJ117-'All Respondents'!CJ116","v":-4.0000000000000036E-2},{"$f":"'All Respondents'!CK117-'All Respondents'!CK116","v":-1.0000000000000002E-2},{"$f":"'All Respondents'!CL117-'All Respondents'!CL116","v":-9.999999999999995E-3},{"$f":"'All Respondents'!CM117-'All Respondents'!CM116","v":-2.0000000000000018E-2},{"$f":"'All Respondents'!CN117-'All Respondents'!CN116","v":0},{"$f":"'All Respondents'!CO117-'All Respondents'!CO116","v":0.06},{"$f":"'All Respondents'!CP117-'All Respondents'!CP116","v":-5.9999999999999942E-2},{"$f":"'All Respondents'!CQ117-'All Respondents'!CQ116","v":2.0000000000000018E-2},{"$f":"'All Respondents'!CR117-'All Respondents'!CR116","v":-1.9999999999999962E-2},{"$f":"'All Respondents'!CS117-'All Respondents'!CS116","v":0},{"$f":"'All Respondents'!CT117-'All Respondents'!CT116","v":9.9999999999999811E-3},{"$f":"'All Respondents'!CU117-'All Respondents'!CU116","v":0.03},{"$f":"'All Respondents'!CV117-'All Respondents'!CV116","v":-0.03},{"$f":"'All Respondents'!CW117-'All Respondents'!CW116","v":1.0000000000000009E-2},{"$f":"'All Respondents'!CX117-'All Respondents'!CX116","v":0},{"$f":"'All Respondents'!CY117-'All Respondents'!CY116","v":-9.9999999999999985E-3},{"$f":"'All Respondents'!CZ117-'All Respondents'!CZ116","v":0.01},{"$f":"'All Respondents'!DA117-'All Respondents'!DA116","v":0},{"$f":"'All Respondents'!DB117-'All Respondents'!DB116","v":1.0000000000000009E-2},{"$f":"'All Respondents'!DC117-'All Respondents'!DC116","v":1.0000000000000009E-2},{"$f":"'All Respondents'!DD117-'All Respondents'!DD116","v":1.0000000000000009E-2},{"$f":"'All Respondents'!DE117-'All Respondents'!DE116","v":-1.0000000000000009E-2},{"$f":"'All Respondents'!DF117-'All Respondents'!DF116","v":3.0000000000000027E-2},{"$f":"'All Respondents'!DG117-'All Respondents'!DG116","v":-0.03},{"$f":"'All Respondents'!DH117-'All Respondents'!DH116","v":0},{"$f":"'All Respondents'!DI117-'All Respondents'!DI116","v":-9.999999999999995E-3},{"$f":"'All Respondents'!DJ117-'All Respondents'!DJ116","v":1.0000000000000002E-2},{"$f":"'All Respondents'!DK117-'All Respondents'!DK116","v":0},{"$f":"'All Respondents'!DL117-'All Respondents'!DL116","v":9.9999999999999985E-3},{"$f":"'All Respondents'!DM117-'All Respondents'!DM116","v":21517.729999999981},{"$f":"'All Respondents'!DN117-'All Respondents'!DN116","v":0},{"$f":"'All Respondents'!DO117-'All Respondents'!DO116","v":0},{"$f":"'All Respondents'!DP117-'All Respondents'!DP116","v":1.0000000000000009E-2},{"$f":"'All Respondents'!DQ117-'All Respondents'!DQ116","v":-1.9999999999999962E-2},{"$f":"'All Respondents'!DR117-'All Respondents'!DR116","v":9.999999999999995E-3},{"$f":"'All Respondents'!DS117-'All Respondents'!DS116","v":0.03}]
["Dec 19 - Jan 20",{"$f":"'All Respondents'!B118-'All Respondents'!B117","v":1.2999999999999972},{"$f":"'All Respondents'!D118-'All Respondents'!D117","v":0.39999999999999147},{"$f":"'All Respondents'!E118-'All Respondents'!E117","v":-2.0000000000000018E-2},{"$f":"'All Respondents'!F118-'All Respondents'!F117","v":-0.03},{"$f":"'All Respondents'!G118-'All Respondents'!G117","v":3.0000000000000027E-2},{"$f":"'All Respondents'!H118-'All Respondents'!H117","v":9.9999999999999534E-3},{"$f":"'All Respondents'!I118-'All Respondents'!I117","v":-3.39E-2},{"$f":"'All Respondents'!J118-'All Respondents'!J117","v":-5.3999999999999881E-3},{"$f":"'All Respondents'!K118-'All Respondents'!K117","v":-3.8779999999999995E-3},{"$f":"'All Respondents'!L118-'All Respondents'!L117","v":-0.06},{"$f":"'All Respondents'!M118-'All Respondents'!M117","v":0},{"$f":"'All Respondents'!N118-'All Respondents'!N117","v":1.9999999999999962E-2},{"$f":"'All Respondents'!O118-'All Respondents'!O117","v":0.06},null,{"$f":"'All Respondents'!Q118-'All Respondents'!Q117","v":{"$error":"#VALUE!"}},{"$f":"'All Respondents'!R118-'All Respondents'!R117","v":0.03},{"$f":"'All Respondents'!S118-'All Respondents'!S117","v":-2.9999999999999971E-2},{"$f":"'All Respondents'!T118-'All Respondents'!T117","v":0},{"$f":"'All Respondents'!U118-'All Respondents'!U117","v":-1.0000000000000009E-2},{"$f":"'All Respondents'!V118-'All Respondents'!V117","v":-9.999999999999995E-3},{"$f":"'All Respondents'!W118-'All Respondents'!W117","v":-2.0000000000000018E-2},{"$f":"'All Respondents'!X118-'All Respondents'!X117","v":2.0000000000000129E-2},{"$f":"'All Respondents'!Y118-'All Respondents'!Y117","v":0},{"$f":"'All Respondents'!Z118-'All Respondents'!Z117","v":-1.9999999999999962E-2},{"$f":"'All Respondents'!AA118-'All Respondents'!AA117","v":1.0000000000000009E-2},{"$f":"'All Respondents'!AB118-'All Respondents'!AB117","v":-1.0000000000000002E-2},{"$f":"'All Respondents'!AC118-'All Respondents'!AC117","v":-1.0000000000000009E-2},{"$f":"'All Respondents'!AD118-'All Respondents'!AD117","v":-1.0000000000000009E-2},{"$f":"'All Respondents'!AE118-'All Respondents'!AE117","v":2.0000000000000004E-2},{"$f":"'All Respondents'!AF118-'All Respondents'!AF117","v":1.0000000000000002E-2},{"$f":"'All Respondents'!AG118-'All Respondents'!AG117","v":-1.999999999999999E-2},{"$f":"'All Respondents'!AH118-'All Respondents'!AH117","v":3.999999999999998E-2},{"$f":"'All Respondents'!AI118-'All Respondents'!AI117","v":-1.0000000000000009E-2},{"$f":"'All Respondents'!AJ118-'All Respondents'!AJ117","v":2.0000000000000018E-2},{"$f":"'All Respondents'!AK118-'All Respondents'!AK117","v":1.0000000000000009E-2},{"$f":"'All Respondents'!AL118-'All Respondents'!AL117","v":1.0000000000000009E-2},{"$f":"'All Respondents'!AM118-'All Respondents'!AM117","v":-1.9999999999999997E-2},{"$f":"'All Respondents'!AN118-'All Respondents'!AN117","v":-9.9999999999999811E-3},{"$f":"'All Respondents'!AO118-'All Respondents'!AO117","v":1.9999999999999962E-2},{"$f":"'All Respondents'!AP118-'All Respondents'!AP117","v":-1.0000000000000009E-2},{"$f":"'All Respondents'!AQ118-'All Respondents'!AQ117","v":4.9999999999999989E-2},{"$f":"'All Respondents'!AR118-'All Respondents'!AR117","v":1.999999999999999E-2},{"$f":"'All Respondents'!AS118-'All Respondents'!AS117","v":-0.03},{"$f":"'All Respondents'!AT118-'All Respondents'!AT117","v":-2.0000000000000018E-2},{"$f":"'All Respondents'!AU118-'All Respondents'!AU117","v":-0.06},{"$f":"'All Respondents'!AV118-'All Respondents'!AV117","v":-6.0000000000000012E-2},{"$f":"'All Respondents'!AW118-'All Respondents'!AW117","v":-1.999999999999999E-2},{"$f":"'All Respondents'!AX118-'All Respondents'!AX117","v":7.9999999999999988E-2},{"$f":"'All Respondents'!AY118-'All Respondents'!AY117","v":4.9999999999999989E-2},{"$f":"'All Respondents'!AZ118-'All Respondents'!AZ117","v":-1.0000000000000009E-2},{"$f":"'All Respondents'!BA118-'All Respondents'!BA117","v":-1.0000000000000002E-2},{"$f":"'All Respondents'!BB118-'All Respondents'!BB117","v":2.0000000000000018E-2},{"$f":"'All Respondents'!BC118-'All Respondents'!BC117","v":0},{"$f":"'All Respondents'!BD118-'All Respondents'!BD117","v":-1.6079999999999983E-3},{"$f":"'All Respondents'!BE118-'All Respondents'!BE117","v":-2.0000000000000018E-2},{"$f":"'All Respondents'!BF118-'All Respondents'!BF117","v":3.999999999999998E-2},{"$f":"'All Respondents'!BG118-'All Respondents'!BG117","v":-0.06},{"$f":"'All Respondents'!BH118-'All Respondents'!BH117","v":4.9999999999999933E-2},{"$f":"'All Respondents'!BI118-'All Respondents'!BI117","v":-1.9999999999999962E-2},{"$f":"'All Respondents'!BJ118-'All Respondents'!BJ117","v":6.9999999999999896E-2},{"$f":"'All Respondents'!BK118-'All Respondents'!BK117","v":3.0000000000000027E-2},{"$f":"'All Respondents'!BL118-'All Respondents'!BL117","v":1.0000000000000009E-2},{"$f":"'All Respondents'!BM118-'All Respondents'!BM117","v":4.0000000000000036E-2},{"$f":"'All Respondents'!BN118-'All Respondents'!BN117","v":-4.0000000000000036E-2},{"$f":"'All Respondents'!BO118-'All Respondents'!BO117","v":-2.0000000000000004E-2},{"$f":"'All Respondents'!BP118-'All Respondents'!BP117","v":0.02},{"$f":"'All Respondents'!BQ118-'All Respondents'!BQ117","v":0},{"$f":"'All Respondents'!BR118-'All Respondents'!BR117","v":4.0000000000000091E-2},{"$f":"'All Respondents'!BS118-'All Respondents'!BS117","v":-1.0000000000000009E-2},{"$f":"'All Respondents'!BT118-'All Respondents'!BT117","v":0},{"$f":"'All Respondents'!BU118-'All Respondents'!BU117","v":1.0000000000000009E-2},{"$f":"'All Respondents'!BV118-'All Respondents'!BV117","v":-1.0000000000000009E-2},{"$f":"'All Respondents'!BW118-'All Respondents'!BW117","v":-2.0000000000000018E-2},{"$f":"'All Respondents'!BX118-'All Respondents'!BX117","v":0},{"$f":"'All Respondents'!BY118-'All Respondents'!BY117","v":2.0000000000000018E-2},{"$f":"'All Respondents'!BZ118-'All Respondents'!BZ117","v":-4.9999999999999989E-2},{"$f":"'All Respondents'!CA118-'All Respondents'!CA117","v":3.0000000000000006E-2},{"$f":"'All Respondents'!CB118-'All Respondents'!CB117","v":-1.999999999999999E-2},{"$f":"'All Respondents'!CC118-'All Respondents'!CC117","v":5.0000000000000044E-2},{"$f":"'All Respondents'!CD118-'All Respondents'!CD117","v":0.03},{"$f":"'All Respondents'!CE118-'All Respondents'!CE117","v":8.0000000000000016E-2},{"$f":"'All Respondents'!CF118-'All Respondents'!CF117","v":-0.06},{"$f":"'All Respondents'!CG118-'All Respondents'!CG117","v":1.9999999999999997E-2},{"$f":"'All Respondents'!CH118-'All Respondents'!CH117","v":1.0000000000000009E-2},{"$f":"'All Respondents'!CI118-'All Respondents'!CI117","v":-1.0000000000000009E-2},{"$f":"'All Respondents'!CJ118-'All Respondents'!CJ117","v":0},{"$f":"'All Respondents'!CK118-'All Respondents'!CK117","v":1.0000000000000002E-2},{"$f":"'All Respondents'!CL118-'All Respondents'!CL117","v":9.999999999999995E-3},{"$f":"'All Respondents'!CM118-'All Respondents'!CM117","v":2.0000000000000018E-2},{"$f":"'All Respondents'!CN118-'All Respondents'!CN117","v":0},{"$f":"'All Respondents'!CO118-'All Respondents'!CO117","v":-1.999999999999999E-2},{"$f":"'All Respondents'!CP118-'All Respondents'!CP117","v":2.0000000000000018E-2},{"$f":"'All Respondents'!CQ118-'All Respondents'!CQ117","v":-1.9999999999999907E-2},{"$f":"'All Respondents'!CR118-'All Respondents'!CR117","v":-2.0000000000000018E-2},{"$f":"'All Respondents'!CS118-'All Respondents'!CS117","v":1.999999999999999E-2},{"$f":"'All Respondents'!CT118-'All Respondents'!CT117","v":1.0000000000000009E-2},{"$f":"'All Respondents'!CU118-'All Respondents'!CU117","v":-2.0000000000000004E-2},{"$f":"'All Respondents'!CV118-'All Respondents'!CV117","v":2.0000000000000018E-2},{"$f":"'All Respondents'!CW118-'All Respondents'!CW117","v":-1.0000000000000009E-2},{"$f":"'All Respondents'!CX118-'All Respondents'!CX117","v":1.0000000000000009E-2},{"$f":"'All Respondents'!CY118-'All Respondents'!CY117","v":0},{"$f":"'All Respondents'!CZ118-'All Respondents'!CZ117","v":0},{"$f":"'All Respondents'!DA118-'All Respondents'!DA117","v":0},{"$f":"'All Respondents'!DB118-'All Respondents'!DB117","v":{"$error":"#VALUE!"}},{"$f":"'All Respondents'!DC118-'All Respondents'!DC117","v":{"$error":"#VALUE!"}},{"$f":"'All Respondents'!DD118-'All Respondents'!DD117","v":{"$error":"#VALUE!"}},{"$f":"'All Respondents'!DE118-'All Respondents'!DE117","v":{"$error":"#VALUE!"}},{"$f":"'All Respondents'!DF118-'All Respondents'!DF117","v":{"$error":"#VALUE!"}},{"$f":"'All Respondents'!DG118-'All Respondents'!DG117","v":{"$error":"#VALUE!"}},{"$f":"'All Respondents'!DH118-'All Respondents'!DH117","v":{"$error":"#VALUE!"}},{"$f":"'All Respondents'!DI118-'All Respondents'!DI117","v":{"$error":"#VALUE!"}},{"$f":"'All Respondents'!DJ118-'All Respondents'!DJ117","v":{"$error":"#VALUE!"}},{"$f":"'All Respondents'!DK118-'All Respondents'!DK117","v":{"$error":"#VALUE!"}},{"$f":"'All Respondents'!DL118-'All Respondents'!DL117","v":{"$error":"#VALUE!"}},{"$f":"'All Respondents'!DM118-'All Respondents'!DM117","v":{"$error":"#VALUE!"}},{"$f":"'All Respondents'!DN118-'All Respondents'!DN117","v":{"$error":"#VALUE!"}},{"$f":"'All Respondents'!DO118-'All Respondents'!DO117","v":{"$error":"#VALUE!"}},{"$f":"'All Respondents'!DP118-'All Respondents'!DP117","v":{"$error":"#VALUE!"}},{"$f":"'All Respondents'!DQ118-'All Respondents'!DQ117","v":{"$error":"#VALUE!"}},{"$f":"'All Respondents'!DR118-'All Respondents'!DR117","v":{"$error":"#VALUE!"}},{"$f":"'All Respondents'!DS118-'All Respondents'!DS117","v":{"$error":"#VALUE!"}}]
["Jan 20 - Feb 20",{"$f":"'All Respondents'!B119-'All Respondents'!B118","v":-0.5},{"$f":"'All Respondents'!D119-'All Respondents'!D118","v":0.20000000000000284},{"$f":"'All Respondents'!E119-'All Respondents'!E118","v":-1.0000000000000009E-2},{"$f":"'All Respondents'!F119-'All Respondents'!F118","v":9.999999999999995E-3},{"$f":"'All Respondents'!G119-'All Respondents'!G118","v":0},{"$f":"'All Respondents'!H119-'All Respondents'!H118","v":-2.0000000000000018E-2},{"$f":"'All Respondents'!I119-'All Respondents'!I118","v":2.2999999999999993E-2},{"$f":"'All Respondents'!J119-'All Respondents'!J118","v":6.9999999999999923E-3},{"$f":"'All Respondents'!K119-'All Respondents'!K118","v":3.2259999999999997E-3},{"$f":"'All Respondents'!L119-'All Respondents'!L118","v":4.9999999999999989E-2},{"$f":"'All Respondents'!M119-'All Respondents'!M118","v":9.999999999999995E-3},{"$f":"'All Respondents'!N119-'All Respondents'!N118","v":-1.9999999999999962E-2},{"$f":"'All Respondents'!O119-'All Respondents'!O118","v":-3.999999999999998E-2},null,{"$f":"'All Respondents'!Q119-'All Respondents'!Q118","v":{"$error":"#VALUE!"}},{"$f":"'All Respondents'!R119-'All Respondents'!R118","v":-1.0000000000000009E-2},{"$f":"'All Respondents'!S119-'All Respondents'!S118","v":9.9999999999999534E-3},{"$f":"'All Respondents'!T119-'All Respondents'!T118","v":0},{"$f":"'All Respondents'!U119-'All Respondents'!U118","v":-1.0000000000000009E-2},{"$f":"'All Respondents'!V119-'All Respondents'!V118","v":0.03},{"$f":"'All Respondents'!W119-'All Respondents'!W118","v":2.0000000000000018E-2},{"$f":"'All Respondents'!X119-'All Respondents'!X118","v":-2.0000000000000129E-2},{"$f":"'All Respondents'!Y119-'All Respondents'!Y118","v":2.0000000000000004E-2},{"$f":"'All Respondents'!Z119-'All Respondents'!Z118","v":-1.0000000000000009E-2},{"$f":"'All Respondents'!AA119-'All Respondents'!AA118","v":4.9999999999999989E-2},{"$f":"'All Respondents'!AB119-'All Respondents'!AB118","v":1.0000000000000002E-2},{"$f":"'All Respondents'!AC119-'All Respondents'!AC118","v":-0.03},{"$f":"'All Respondents'!AD119-'All Respondents'!AD118","v":3.0000000000000027E-2},{"$f":"'All Respondents'!AE119-'All Respondents'!AE118","v":-2.0000000000000004E-2},{"$f":"'All Respondents'!AF119-'All Respondents'!AF118","v":6.0000000000000005E-2},{"$f":"'All Respondents'!AG119-'All Respondents'!AG118","v":4.0000000000000008E-2},{"$f":"'All Respondents'!AH119-'All Respondents'!AH118","v":-0.10999999999999999},{"$f":"'All Respondents'!AI119-'All Respondents'!AI118","v":1.0000000000000009E-2},{"$f":"'All Respondents'!AJ119-'All Respondents'!AJ118","v":0},{"$f":"'All Respondents'!AK119-'All Respondents'!AK118","v":1.0000000000000009E-2},{"$f":"'All Respondents'!AL119-'All Respondents'!AL118","v":-2.0000000000000018E-2},{"$f":"'All Respondents'!AM119-'All Respondents'!AM118","v":3.0000000000000006E-2},{"$f":"'All Respondents'!AN119-'All Respondents'!AN118","v":9.9999999999999811E-3},{"$f":"'All Respondents'!AO119-'All Respondents'!AO118","v":0},{"$f":"'All Respondents'!AP119-'All Respondents'!AP118","v":1.0000000000000009E-2},{"$f":"'All Respondents'!AQ119-'All Respondents'!AQ118","v":-1.999999999999999E-2},{"$f":"'All Respondents'!AR119-'All Respondents'!AR118","v":-1.999999999999999E-2},{"$f":"'All Respondents'!AS119-'All Respondents'!AS118","v":2.0000000000000004E-2},{"$f":"'All Respondents'!AT119-'All Respondents'!AT118","v":0},{"$f":"'All Respondents'!AU119-'All Respondents'!AU118","v":-2.0000000000000004E-2},{"$f":"'All Respondents'!AV119-'All Respondents'!AV118","v":-9.999999999999995E-3},{"$f":"'All Respondents'!AW119-'All Respondents'!AW118","v":7.9999999999999988E-2},{"$f":"'All Respondents'!AX119-'All Respondents'!AX118","v":0},{"$f":"'All Respondents'!AY119-'All Respondents'!AY118","v":-3.0000000000000027E-2},{"$f":"'All Respondents'!AZ119-'All Respondents'!AZ118","v":0},{"$f":"'All Respondents'!BA119-'All Respondents'!BA118","v":0},{"$f":"'All Respondents'!BB119-'All Respondents'!BB118","v":0},{"$f":"'All Respondents'!BC119-'All Respondents'!BC118","v":0},{"$f":"'All Respondents'!BD119-'All Respondents'!BD118","v":4.7279999999999961E-3},{"$f":"'All Respondents'!BE119-'All Respondents'!BE118","v":3.0000000000000027E-2},{"$f":"'All Respondents'!BF119-'All Respondents'!BF118","v":-2.0000000000000018E-2},{"$f":"'All Respondents'!BG119-'All Respondents'!BG118","v":5.0000000000000044E-2},{"$f":"'All Respondents'!BH119-'All Respondents'!BH118","v":3.0000000000000027E-2},{"$f":"'All Respondents'!BI119-'All Respondents'!BI118","v":-1.0000000000000009E-2},{"$f":"'All Respondents'!BJ119-'All Respondents'!BJ118","v":4.0000000000000036E-2},{"$f":"'All Respondents'!BK119-'All Respondents'!BK118","v":-4.0000000000000008E-2},{"$f":"'All Respondents'!BL119-'All Respondents'!BL118","v":1.0000000000000009E-2},{"$f":"'All Respondents'!BM119-'All Respondents'!BM118","v":-3.0000000000000027E-2},{"$f":"'All Respondents'!BN119-'All Respondents'!BN118","v":1.0000000000000009E-2},{"$f":"'All Respondents'!BO119-'All Respondents'!BO118","v":2.0000000000000004E-2},{"$f":"'All Respondents'!BP119-'All Respondents'!BP118","v":0},{"$f":"'All Respondents'!BQ119-'All Respondents'!BQ118","v":2.0000000000000018E-2},{"$f":"'All Respondents'!BR119-'All Respondents'!BR118","v":-5.0000000000000044E-2},{"$f":"'All Respondents'!BS119-'All Respondents'!BS118","v":4.9999999999999989E-2},{"$f":"'All Respondents'!BT119-'All Respondents'!BT118","v":0},{"$f":"'All Respondents'!BU119-'All Respondents'!BU118","v":-4.9999999999999933E-2},{"$f":"'All Respondents'!BV119-'All Respondents'!BV118","v":4.9999999999999989E-2},{"$f":"'All Respondents'!BW119-'All Respondents'!BW118","v":1.0000000000000009E-2},{"$f":"'All Respondents'!BX119-'All Respondents'!BX118","v":1.0000000000000009E-2},{"$f":"'All Respondents'!BY119-'All Respondents'!BY118","v":0},{"$f":"'All Respondents'!BZ119-'All Respondents'!BZ118","v":-0.03},{"$f":"'All Respondents'!CA119-'All Respondents'!CA118","v":-1.0000000000000009E-2},{"$f":"'All Respondents'!CB119-'All Respondents'!CB118","v":-4.0000000000000008E-2},{"$f":"'All Respondents'!CC119-'All Respondents'!CC118","v":-2.0000000000000018E-2},{"$f":"'All Respondents'!CD119-'All Respondents'!CD118","v":0.03},{"$f":"'All Respondents'!CE119-'All Respondents'!CE118","v":-9.0000000000000011E-2},{"$f":"'All Respondents'!CF119-'All Respondents'!CF118","v":3.999999999999998E-2},{"$f":"'All Respondents'!CG119-'All Respondents'!CG118","v":0},{"$f":"'All Respondents'!CH119-'All Respondents'!CH118","v":-1.0000000000000009E-2},{"$f":"'All Respondents'!CI119-'All Respondents'!CI118","v":0},{"$f":"'All Respondents'!CJ119-'All Respondents'!CJ118","v":0},{"$f":"'All Respondents'!CK119-'All Respondents'!CK118","v":0},{"$f":"'All Respondents'!CL119-'All Respondents'!CL118","v":-9.999999999999995E-3},{"$f":"'All Respondents'!CM119-'All Respondents'!CM118","v":-1.0000000000000009E-2},{"$f":"'All Respondents'!CN119-'All Respondents'!CN118","v":-1.0000000000000009E-2},{"$f":"'All Respondents'!CO119-'All Respondents'!CO118","v":0},{"$f":"'All Respondents'!CP119-'All Respondents'!CP118","v":-1.0000000000000009E-2},{"$f":"'All Respondents'!CQ119-'All Respondents'!CQ118","v":0},{"$f":"'All Respondents'!CR119-'All Respondents'!CR118","v":0.06},{"$f":"'All Respondents'!CS119-'All Respondents'!CS118","v":-9.9999999999999811E-3},{"$f":"'All Respondents'!CT119-'All Respondents'!CT118","v":-0.03},{"$f":"'All Respondents'!CU119-'All Respondents'!CU118","v":1.0000000000000009E-2},{"$f":"'All Respondents'!CV119-'All Respondents'!CV118","v":9.9999999999999811E-3},{"$f":"'All Respondents'!CW119-'All Respondents'!CW118","v":-3.0000000000000027E-2},{"$f":"'All Respondents'!CX119-'All Respondents'!CX118","v":1.999999999999999E-2},{"$f":"'All Respondents'!CY119-'All Respondents'!CY118","v":0},{"$f":"'All Respondents'!CZ119-'All Respondents'!CZ118","v":0},{"$f":"'All Respondents'!DA119-'All Respondents'!DA118","v":-0.01},{"$f":"'All Respondents'!DB119-'All Respondents'!DB118","v":{"$error":"#VALUE!"}},{"$f":"'All Respondents'!DC119-'All Respondents'!DC118","v":{"$error":"#VALUE!"}},{"$f":"'All Respondents'!DD119-'All Respondents'!DD118","v":{"$error":"#VALUE!"}},{"$f":"'All Respondents'!DE119-'All Respondents'!DE118","v":{"$error":"#VALUE!"}},{"$f":"'All Respondents'!DF119-'All Respondents'!DF118","v":{"$error":"#VALUE!"}},{"$f":"'All Respondents'!DG119-'All Respondents'!DG118","v":{"$error":"#VALUE!"}},{"$f":"'All Respondents'!DH119-'All Respondents'!DH118","v":{"$error":"#VALUE!"}},{"$f":"'All Respondents'!DI119-'All Respondents'!DI118","v":{"$error":"#VALUE!"}},{"$f":"'All Respondents'!DJ119-'All Respondents'!DJ118","v":{"$error":"#VALUE!"}},{"$f":"'All Respondents'!DK119-'All Respondents'!DK118","v":{"$error":"#VALUE!"}},{"$f":"'All Respondents'!DL119-'All Respondents'!DL118","v":{"$error":"#VALUE!"}},{"$f":"'All Respondents'!DM119-'All Respondents'!DM118","v":{"$error":"#VALUE!"}},{"$f":"'All Respondents'!DN119-'All Respondents'!DN118","v":{"$error":"#VALUE!"}},{"$f":"'All Respondents'!DO119-'All Respondents'!DO118","v":{"$error":"#VALUE!"}},{"$f":"'All Respondents'!DP119-'All Respondents'!DP118","v":{"$error":"#VALUE!"}},{"$f":"'All Respondents'!DQ119-'All Respondents'!DQ118","v":{"$error":"#VALUE!"}},{"$f":"'All Respondents'!DR119-'All Respondents'!DR118","v":{"$error":"#VALUE!"}},{"$f":"'All Respondents'!DS119-'All Respondents'!DS118","v":{"$error":"#VALUE!"}}]
["Feb 20 - Mar 20",{"$f":"'All Respondents'!B120-'All Respondents'!B119","v":-11.700000000000003},{"$f":"'All Respondents'!D120-'All Respondents'!D119","v":-16.200000000000003},{"$f":"'All Respondents'!E120-'All Respondents'!E119","v":-7.999999999999996E-2},{"$f":"'All Respondents'!F120-'All Respondents'!F119","v":0.14000000000000001},{"$f":"'All Respondents'!G120-'All Respondents'!G119","v":-0.06},{"$f":"'All Respondents'!H120-'All Respondents'!H119","v":-0.21999999999999995},{"$f":"'All Respondents'!I120-'All Respondents'!I119","v":-8.4999999999999937E-3},{"$f":"'All Respondents'!J120-'All Respondents'!J119","v":1.0000000000000286E-4},{"$f":"'All Respondents'!K120-'All Respondents'!K119","v":-2.1627E-2},{"$f":"'All Respondents'!L120-'All Respondents'!L119","v":1.0000000000000009E-2},{"$f":"'All Respondents'!M120-'All Respondents'!M119","v":0.12000000000000001},{"$f":"'All Respondents'!N120-'All Respondents'!N119","v":-0.13},{"$f":"'All Respondents'!O120-'All Respondents'!O119","v":0.10999999999999999},null,{"$f":"'All Respondents'!Q120-'All Respondents'!Q119","v":{"$error":"#VALUE!"}},{"$f":"'All Respondents'!R120-'All Respondents'!R119","v":1.0000000000000009E-2},{"$f":"'All Respondents'!S120-'All Respondents'!S119","v":-3.999999999999998E-2},{"$f":"'All Respondents'!T120-'All Respondents'!T119","v":-2.9999999999999916E-2},{"$f":"'All Respondents'!U120-'All Respondents'!U119","v":2.0000000000000018E-2},{"$f":"'All Respondents'!V120-'All Respondents'!V119","v":2.0000000000000004E-2},{"$f":"'All Respondents'!W120-'All Respondents'!W119","v":3.999999999999998E-2},{"$f":"'All Respondents'!X120-'All Respondents'!X119","v":-6.9999999999999896E-2},{"$f":"'All Respondents'!Y120-'All Respondents'!Y119","v":1.999999999999999E-2},{"$f":"'All Respondents'!Z120-'All Respondents'!Z119","v":0.12},{"$f":"'All Respondents'!AA120-'All Respondents'!AA119","v":-0.09},{"$f":"'All Respondents'!AB120-'All Respondents'!AB119","v":0},{"$f":"'All Respondents'!AC120-'All Respondents'!AC119","v":-0.03},{"$f":"'All Respondents'!AD120-'All Respondents'!AD119","v":-0.18},{"$f":"'All Respondents'!AE120-'All Respondents'!AE119","v":-2.0000000000000004E-2},{"$f":"'All Respondents'!AF120-'All Respondents'!AF119","v":-1.0000000000000009E-2},{"$f":"'All Respondents'!AG120-'All Respondents'!AG119","v":-6.0000000000000012E-2},{"$f":"'All Respondents'!AH120-'All Respondents'!AH119","v":0.19},{"$f":"'All Respondents'!AI120-'All Respondents'!AI119","v":-6.0000000000000026E-2},{"$f":"'All Respondents'!AJ120-'All Respondents'!AJ119","v":-9.0000000000000024E-2},{"$f":"'All Respondents'!AK120-'All Respondents'!AK119","v":-0.15000000000000002},{"$f":"'All Respondents'!AL120-'All Respondents'!AL119","v":0.1},{"$f":"'All Respondents'!AM120-'All Respondents'!AM119","v":3.9999999999999994E-2},{"$f":"'All Respondents'!AN120-'All Respondents'!AN119","v":0.13999999999999999},{"$f":"'All Respondents'!AO120-'All Respondents'!AO119","v":-0.29000000000000004},{"$f":"'All Respondents'!AP120-'All Respondents'!AP119","v":0},{"$f":"'All Respondents'!AQ120-'All Respondents'!AQ119","v":3.999999999999998E-2},{"$f":"'All Respondents'!AR120-'All Respondents'!AR119","v":1.0000000000000009E-2},{"$f":"'All Respondents'!AS120-'All Respondents'!AS119","v":0},{"$f":"'All Respondents'!AT120-'All Respondents'!AT119","v":-0.03},{"$f":"'All Respondents'!AU120-'All Respondents'!AU119","v":0.05},{"$f":"'All Respondents'!AV120-'All Respondents'!AV119","v":-2.0000000000000004E-2},{"$f":"'All Respondents'!AW120-'All Respondents'!AW119","v":-0.13},{"$f":"'All Respondents'!AX120-'All Respondents'!AX119","v":-0.09},{"$f":"'All Respondents'!AY120-'All Respondents'!AY119","v":0.18},{"$f":"'All Respondents'!AZ120-'All Respondents'!AZ119","v":-7.999999999999996E-2},{"$f":"'All Respondents'!BA120-'All Respondents'!BA119","v":4.0000000000000008E-2},{"$f":"'All Respondents'!BB120-'All Respondents'!BB119","v":3.999999999999998E-2},{"$f":"'All Respondents'!BC120-'All Respondents'!BC119","v":-0.11999999999999994},{"$f":"'All Respondents'!BD120-'All Respondents'!BD119","v":-1.6085999999999996E-2},{"$f":"'All Respondents'!BE120-'All Respondents'!BE119","v":-1.0000000000000009E-2},{"$f":"'All Respondents'!BF120-'All Respondents'!BF119","v":0},{"$f":"'All Respondents'!BG120-'All Respondents'!BG119","v":-1.0000000000000009E-2},{"$f":"'All Respondents'!BH120-'All Respondents'!BH119","v":-0.16999999999999998},{"$f":"'All Respondents'!BI120-'All Respondents'!BI119","v":0.13},{"$f":"'All Respondents'!BJ120-'All Respondents'!BJ119","v":-0.3},{"$f":"'All Respondents'!BK120-'All Respondents'!BK119","v":-0.03},{"$f":"'All Respondents'!BL120-'All Respondents'!BL119","v":9.9999999999999534E-3},{"$f":"'All Respondents'!BM120-'All Respondents'!BM119","v":-2.0000000000000018E-2},{"$f":"'All Respondents'!BN120-'All Respondents'!BN119","v":-1.0000000000000009E-2},{"$f":"'All Respondents'!BO120-'All Respondents'!BO119","v":9.999999999999995E-3},{"$f":"'All Respondents'!BP120-'All Respondents'!BP119","v":0},{"$f":"'All Respondents'!BQ120-'All Respondents'!BQ119","v":9.9999999999999811E-3},{"$f":"'All Respondents'!BR120-'All Respondents'!BR119","v":-3.0000000000000027E-2},{"$f":"'All Respondents'!BS120-'All Respondents'!BS119","v":-4.9999999999999989E-2},{"$f":"'All Respondents'!BT120-'All Respondents'!BT119","v":0},{"$f":"'All Respondents'!BU120-'All Respondents'!BU119","v":4.9999999999999933E-2},{"$f":"'All Respondents'!BV120-'All Respondents'!BV119","v":-4.9999999999999989E-2},{"$f":"'All Respondents'!BW120-'All Respondents'!BW119","v":2.9999999999999971E-2},{"$f":"'All Respondents'!BX120-'All Respondents'!BX119","v":-2.9999999999999916E-2},{"$f":"'All Respondents'!BY120-'All Respondents'!BY119","v":-5.9999999999999887E-2},{"$f":"'All Respondents'!BZ120-'All Respondents'!BZ119","v":0},{"$f":"'All Respondents'!CA120-'All Respondents'!CA119","v":0},{"$f":"'All Respondents'!CB120-'All Respondents'!CB119","v":0},{"$f":"'All Respondents'!CC120-'All Respondents'!CC119","v":4.0000000000000036E-2},{"$f":"'All Respondents'!CD120-'All Respondents'!CD119","v":-0.03},{"$f":"'All Respondents'!CE120-'All Respondents'!CE119","v":6.0000000000000012E-2},{"$f":"'All Respondents'!CF120-'All Respondents'!CF119","v":1.0000000000000009E-2},{"$f":"'All Respondents'!CG120-'All Respondents'!CG119","v":1.0000000000000009E-2},{"$f":"'All Respondents'!CH120-'All Respondents'!CH119","v":0.05},{"$f":"'All Respondents'!CI120-'All Respondents'!CI119","v":-0.03},{"$f":"'All Respondents'!CJ120-'All Respondents'!CJ119","v":0},{"$f":"'All Respondents'!CK120-'All Respondents'!CK119","v":0.03},{"$f":"'All Respondents'!CL120-'All Respondents'!CL119","v":6.9999999999999993E-2},{"$f":"'All Respondents'!CM120-'All Respondents'!CM119","v":9.9999999999999978E-2},{"$f":"'All Respondents'!CN120-'All Respondents'!CN119","v":-8.0000000000000071E-2},{"$f":"'All Respondents'!CO120-'All Respondents'!CO119","v":-4.0000000000000008E-2},{"$f":"'All Respondents'!CP120-'All Respondents'!CP119","v":-4.0000000000000036E-2},{"$f":"'All Respondents'!CQ120-'All Respondents'!CQ119","v":-0.18000000000000005},{"$f":"'All Respondents'!CR120-'All Respondents'!CR119","v":-4.9999999999999989E-2},{"$f":"'All Respondents'!CS120-'All Respondents'!CS119","v":9.9999999999999811E-3},{"$f":"'All Respondents'!CT120-'All Respondents'!CT119","v":0},{"$f":"'All Respondents'!CU120-'All Respondents'!CU119","v":1.999999999999999E-2},{"$f":"'All Respondents'!CV120-'All Respondents'!CV119","v":1.0000000000000009E-2},{"$f":"'All Respondents'!CW120-'All Respondents'!CW119","v":4.0000000000000036E-2},{"$f":"'All Respondents'!CX120-'All Respondents'!CX119","v":-0.03},{"$f":"'All Respondents'!CY120-'All Respondents'!CY119","v":-0.01},{"$f":"'All Respondents'!CZ120-'All Respondents'!CZ119","v":0},{"$f":"'All Respondents'!DA120-'All Respondents'!DA119","v":0},{"$f":"'All Respondents'!DB120-'All Respondents'!DB119","v":{"$error":"#VALUE!"}},{"$f":"'All Respondents'!DC120-'All Respondents'!DC119","v":{"$error":"#VALUE!"}},{"$f":"'All Respondents'!DD120-'All Respondents'!DD119","v":{"$error":"#VALUE!"}},{"$f":"'All Respondents'!DE120-'All Respondents'!DE119","v":{"$error":"#VALUE!"}},{"$f":"'All Respondents'!DF120-'All Respondents'!DF119","v":{"$error":"#VALUE!"}},{"$f":"'All Respondents'!DG120-'All Respondents'!DG119","v":{"$error":"#VALUE!"}},{"$f":"'All Respondents'!DH120-'All Respondents'!DH119","v":{"$error":"#VALUE!"}},{"$f":"'All Respondents'!DI120-'All Respondents'!DI119","v":{"$error":"#VALUE!"}},{"$f":"'All Respondents'!DJ120-'All Respondents'!DJ119","v":{"$error":"#VALUE!"}},{"$f":"'All Respondents'!DK120-'All Respondents'!DK119","v":{"$error":"#VALUE!"}},{"$f":"'All Respondents'!DL120-'All Respondents'!DL119","v":{"$error":"#VALUE!"}},{"$f":"'All Respondents'!DM120-'All Respondents'!DM119","v":{"$error":"#VALUE!"}},{"$f":"'All Respondents'!DN120-'All Respondents'!DN119","v":{"$error":"#VALUE!"}},{"$f":"'All Respondents'!DO120-'All Respondents'!DO119","v":{"$error":"#VALUE!"}},{"$f":"'All Respondents'!DP120-'All Respondents'!DP119","v":{"$error":"#VALUE!"}},{"$f":"'All Respondents'!DQ120-'All Respondents'!DQ119","v":{"$error":"#VALUE!"}},{"$f":"'All Respondents'!DR120-'All Respondents'!DR119","v":{"$error":"#VALUE!"}},{"$f":"'All Respondents'!DS120-'All Respondents'!DS119","v":{"$error":"#VALUE!"}}]
["Mar 20 - Apr 20",{"$f":"'All Respondents'!B121-'All Respondents'!B120","v":-17.799999999999997},{"$f":"'All Respondents'!D121-'All Respondents'!D120","v":-23.199999999999989},{"$f":"'All Respondents'!E121-'All Respondents'!E120","v":-0.16},{"$f":"'All Respondents'!F121-'All Respondents'!F120","v":0.12000000000000002},{"$f":"'All Respondents'!G121-'All Respondents'!G120","v":3.999999999999998E-2},{"$f":"'All Respondents'!H121-'All Respondents'!H120","v":-0.28000000000000003},{"$f":"'All Respondents'!I121-'All Respondents'!I120","v":-2.7200000000000002E-2},{"$f":"'All Respondents'!J121-'All Respondents'!J120","v":3.1699999999999992E-2},{"$f":"'All Respondents'!K121-'All Respondents'!K120","v":-2.7001000000000001E-2},{"$f":"'All Respondents'!L121-'All Respondents'!L120","v":-0.06},{"$f":"'All Respondents'!M121-'All Respondents'!M120","v":0.03},{"$f":"'All Respondents'!N121-'All Respondents'!N120","v":1.9999999999999962E-2},{"$f":"'All Respondents'!O121-'All Respondents'!O120","v":0.09},null,{"$f":"'All Respondents'!Q121-'All Respondents'!Q120","v":{"$error":"#VALUE!"}},{"$f":"'All Respondents'!R121-'All Respondents'!R120","v":-0.03},{"$f":"'All Respondents'!S121-'All Respondents'!S120","v":-4.9999999999999989E-2},{"$f":"'All Respondents'!T121-'All Respondents'!T120","v":-8.0000000000000071E-2},{"$f":"'All Respondents'!U121-'All Respondents'!U120","v":1.999999999999999E-2},{"$f":"'All Respondents'!V121-'All Respondents'!V120","v":7.9999999999999988E-2},{"$f":"'All Respondents'!W121-'All Respondents'!W120","v":9.9999999999999978E-2},{"$f":"'All Respondents'!X121-'All Respondents'!X120","v":-0.18000000000000005},{"$f":"'All Respondents'!Y121-'All Respondents'!Y120","v":-9.999999999999995E-3},{"$f":"'All Respondents'!Z121-'All Respondents'!Z120","v":0},{"$f":"'All Respondents'!AA121-'All Respondents'!AA120","v":4.0000000000000008E-2},{"$f":"'All Respondents'!AB121-'All Respondents'!AB120","v":-3.0000000000000002E-2},{"$f":"'All Respondents'!AC121-'All Respondents'!AC120","v":-8.0000000000000016E-2},{"$f":"'All Respondents'!AD121-'All Respondents'!AD120","v":-0.16},{"$f":"'All Respondents'!AE121-'All Respondents'!AE120","v":-9.9999999999999985E-3},{"$f":"'All Respondents'!AF121-'All Respondents'!AF120","v":-6.9999999999999993E-2},{"$f":"'All Respondents'!AG121-'All Respondents'!AG120","v":-2.0000000000000004E-2},{"$f":"'All Respondents'!AH121-'All Respondents'!AH120","v":0.2},{"$f":"'All Respondents'!AI121-'All Respondents'!AI120","v":-0.13},{"$f":"'All Respondents'!AJ121-'All Respondents'!AJ120","v":-0.1},{"$f":"'All Respondents'!AK121-'All Respondents'!AK120","v":-0.23000000000000004},{"$f":"'All Respondents'!AL121-'All Respondents'!AL120","v":0.13},{"$f":"'All Respondents'!AM121-'All Respondents'!AM120","v":0.16000000000000003},{"$f":"'All Respondents'!AN121-'All Respondents'!AN120","v":0.29000000000000004},{"$f":"'All Respondents'!AO121-'All Respondents'!AO120","v":-0.52},{"$f":"'All Respondents'!AP121-'All Respondents'!AP120","v":-0.13},{"$f":"'All Respondents'!AQ121-'All Respondents'!AQ120","v":7.9999999999999988E-2},{"$f":"'All Respondents'!AR121-'All Respondents'!AR120","v":-3.0000000000000013E-2},{"$f":"'All Respondents'!AS121-'All Respondents'!AS120","v":0.08},{"$f":"'All Respondents'!AT121-'All Respondents'!AT120","v":-0.06},{"$f":"'All Respondents'!AU121-'All Respondents'!AU120","v":-0.11},{"$f":"'All Respondents'!AV121-'All Respondents'!AV120","v":-1.0000000000000002E-2},{"$f":"'All Respondents'!AW121-'All Respondents'!AW120","v":-4.9999999999999996E-2},{"$f":"'All Respondents'!AX121-'All Respondents'!AX120","v":-1.999999999999999E-2},{"$f":"'All Respondents'!AY121-'All Respondents'!AY120","v":5.0000000000000044E-2},{"$f":"'All Respondents'!AZ121-'All Respondents'!AZ120","v":-0.23000000000000004},{"$f":"'All Respondents'!BA121-'All Respondents'!BA120","v":7.0000000000000007E-2},{"$f":"'All Respondents'!BB121-'All Respondents'!BB120","v":0.13},{"$f":"'All Respondents'!BC121-'All Respondents'!BC120","v":-0.30000000000000004},{"$f":"'All Respondents'!BD121-'All Respondents'!BD120","v":-1.8617000000000002E-2},{"$f":"'All Respondents'!BE121-'All Respondents'!BE120","v":-1.0000000000000009E-2},{"$f":"'All Respondents'!BF121-'All Respondents'!BF120","v":-1.0000000000000009E-2},{"$f":"'All Respondents'!BG121-'All Respondents'!BG120","v":0},{"$f":"'All Respondents'!BH121-'All Respondents'!BH120","v":-9.9999999999999978E-2},{"$f":"'All Respondents'!BI121-'All Respondents'!BI120","v":7.0000000000000007E-2},{"$f":"'All Respondents'!BJ121-'All Respondents'!BJ120","v":-0.16999999999999998},{"$f":"'All Respondents'!BK121-'All Respondents'!BK120","v":-5.0000000000000017E-2},{"$f":"'All Respondents'!BL121-'All Respondents'!BL120","v":-3.999999999999998E-2},{"$f":"'All Respondents'!BM121-'All Respondents'!BM120","v":-8.9999999999999969E-2},{"$f":"'All Respondents'!BN121-'All Respondents'!BN120","v":9.0000000000000024E-2},{"$f":"'All Respondents'!BO121-'All Respondents'!BO120","v":0},{"$f":"'All Respondents'!BP121-'All Respondents'!BP120","v":1.0000000000000002E-2},{"$f":"'All Respondents'!BQ121-'All Respondents'!BQ120","v":1.0000000000000009E-2},{"$f":"'All Respondents'!BR121-'All Respondents'!BR120","v":-9.9999999999999978E-2},{"$f":"'All Respondents'!BS121-'All Respondents'!BS120","v":-7.0000000000000007E-2},{"$f":"'All Respondents'!BT121-'All Respondents'!BT120","v":9.9999999999999992E-2},{"$f":"'All Respondents'!BU121-'All Respondents'!BU120","v":-3.0000000000000027E-2},{"$f":"'All Respondents'!BV121-'All Respondents'!BV120","v":-0.17},{"$f":"'All Respondents'!BW121-'All Respondents'!BW120","v":-1.9999999999999962E-2},{"$f":"'All Respondents'!BX121-'All Respondents'!BX120","v":-1.0000000000000009E-2},{"$f":"'All Respondents'!BY121-'All Respondents'!BY120","v":9.9999999999999534E-3},{"$f":"'All Respondents'!BZ121-'All Respondents'!BZ120","v":0},{"$f":"'All Respondents'!CA121-'All Respondents'!CA120","v":0.05},{"$f":"'All Respondents'!CB121-'All Respondents'!CB120","v":4.9999999999999989E-2},{"$f":"'All Respondents'!CC121-'All Respondents'!CC120","v":-8.9999999999999969E-2},{"$f":"'All Respondents'!CD121-'All Respondents'!CD120","v":-0.03},{"$f":"'All Respondents'!CE121-'All Respondents'!CE120","v":0},{"$f":"'All Respondents'!CF121-'All Respondents'!CF120","v":-0.06},{"$f":"'All Respondents'!CG121-'All Respondents'!CG120","v":0.03},{"$f":"'All Respondents'!CH121-'All Respondents'!CH120","v":9.999999999999995E-3},{"$f":"'All Respondents'!CI121-'All Respondents'!CI120","v":5.0000000000000017E-2},{"$f":"'All Respondents'!CJ121-'All Respondents'!CJ120","v":-0.14999999999999991},{"$f":"'All Respondents'!CK121-'All Respondents'!CK120","v":0},{"$f":"'All Respondents'!CL121-'All Respondents'!CL120","v":0},{"$f":"'All Respondents'!CM121-'All Respondents'!CM120","v":0},{"$f":"'All Respondents'!CN121-'All Respondents'!CN120","v":-1.0000000000000009E-2},{"$f":"'All Respondents'!CO121-'All Respondents'!CO120","v":0.09},{"$f":"'All Respondents'!CP121-'All Respondents'!CP120","v":-9.9999999999999978E-2},{"$f":"'All Respondents'!CQ121-'All Respondents'!CQ120","v":-1.0000000000000009E-2},{"$f":"'All Respondents'!CR121-'All Respondents'!CR120","v":0},{"$f":"'All Respondents'!CS121-'All Respondents'!CS120","v":-0.03},{"$f":"'All Respondents'!CT121-'All Respondents'!CT120","v":4.0000000000000008E-2},{"$f":"'All Respondents'!CU121-'All Respondents'!CU120","v":0},{"$f":"'All Respondents'!CV121-'All Respondents'!CV120","v":-4.0000000000000008E-2},{"$f":"'All Respondents'!CW121-'All Respondents'!CW120","v":-7.0000000000000062E-2},{"$f":"'All Respondents'!CX121-'All Respondents'!CX120","v":-4.0000000000000008E-2},{"$f":"'All Respondents'!CY121-'All Respondents'!CY120","v":0.03},{"$f":"'All Respondents'!CZ121-'All Respondents'!CZ120","v":6.0000000000000005E-2},{"$f":"'All Respondents'!DA121-'All Respondents'!DA120","v":0.02},{"$f":"'All Respondents'!DB121-'All Respondents'!DB120","v":{"$error":"#VALUE!"}},{"$f":"'All Respondents'!DC121-'All Respondents'!DC120","v":{"$error":"#VALUE!"}},{"$f":"'All Respondents'!DD121-'All Respondents'!DD120","v":{"$error":"#VALUE!"}},{"$f":"'All Respondents'!DE121-'All Respondents'!DE120","v":{"$error":"#VALUE!"}},{"$f":"'All Respondents'!DF121-'All Respondents'!DF120","v":{"$error":"#VALUE!"}},{"$f":"'All Respondents'!DG121-'All Respondents'!DG120","v":{"$error":"#VALUE!"}},{"$f":"'All Respondents'!DH121-'All Respondents'!DH120","v":{"$error":"#VALUE!"}},{"$f":"'All Respondents'!DI121-'All Respondents'!DI120","v":{"$error":"#VALUE!"}},{"$f":"'All Respondents'!DJ121-'All Respondents'!DJ120","v":{"$error":"#VALUE!"}},{"$f":"'All Respondents'!DK121-'All Respondents'!DK120","v":{"$error":"#VALUE!"}},{"$f":"'All Respondents'!DL121-'All Respondents'!DL120","v":{"$error":"#VALUE!"}},{"$f":"'All Respondents'!DM121-'All Respondents'!DM120","v":{"$error":"#VALUE!"}},{"$f":"'All Respondents'!DN121-'All Respondents'!DN120","v":{"$error":"#VALUE!"}},{"$f":"'All Respondents'!DO121-'All Respondents'!DO120","v":{"$error":"#VALUE!"}},{"$f":"'All Respondents'!DP121-'All Respondents'!DP120","v":{"$error":"#VALUE!"}},{"$f":"'All Respondents'!DQ121-'All Respondents'!DQ120","v":{"$error":"#VALUE!"}},{"$f":"'All Respondents'!DR121-'All Respondents'!DR120","v":{"$error":"#VALUE!"}},{"$f":"'All Respondents'!DS121-'All Respondents'!DS120","v":{"$error":"#VALUE!"}}]
["Apr 20 - May 20",{"$f":"'All Respondents'!B122-'All Respondents'!B121","v":4.5},{"$f":"'All Respondents'!D122-'All Respondents'!D121","v":3.3999999999999915},{"$f":"'All Respondents'!E122-'All Respondents'!E121","v":0.03},{"$f":"'All Respondents'!F122-'All Respondents'!F121","v":9.9999999999999534E-3},{"$f":"'All Respondents'!G122-'All Respondents'!G121","v":-0.06},{"$f":"'All Respondents'!H122-'All Respondents'!H121","v":2.0000000000000046E-2},{"$f":"'All Respondents'!I122-'All Respondents'!I121","v":9.7999999999999893E-3},{"$f":"'All Respondents'!J122-'All Respondents'!J121","v":1.3500000000000012E-2},{"$f":"'All Respondents'!K122-'All Respondents'!K121","v":8.8730000000000007E-3},{"$f":"'All Respondents'!L122-'All Respondents'!L121","v":-8.0000000000000016E-2},{"$f":"'All Respondents'!M122-'All Respondents'!M121","v":1.999999999999999E-2},{"$f":"'All Respondents'!N122-'All Respondents'!N121","v":8.0000000000000016E-2},{"$f":"'All Respondents'!O122-'All Respondents'!O121","v":0.1},null,{"$f":"'All Respondents'!Q122-'All Respondents'!Q121","v":{"$error":"#VALUE!"}},{"$f":"'All Respondents'!R122-'All Respondents'!R121","v":1.0000000000000009E-2},{"$f":"'All Respondents'!S122-'All Respondents'!S121","v":2.9999999999999971E-2},{"$f":"'All Respondents'!T122-'All Respondents'!T121","v":4.0000000000000036E-2},{"$f":"'All Respondents'!U122-'All Respondents'!U121","v":-1.999999999999999E-2},{"$f":"'All Respondents'!V122-'All Respondents'!V121","v":-4.9999999999999989E-2},{"$f":"'All Respondents'!W122-'All Respondents'!W121","v":-6.9999999999999951E-2},{"$f":"'All Respondents'!X122-'All Respondents'!X121","v":0.10999999999999999},{"$f":"'All Respondents'!Y122-'All Respondents'!Y121","v":9.999999999999995E-3},{"$f":"'All Respondents'!Z122-'All Respondents'!Z121","v":0.06},{"$f":"'All Respondents'!AA122-'All Respondents'!AA121","v":-0.05},{"$f":"'All Respondents'!AB122-'All Respondents'!AB121","v":0},{"$f":"'All Respondents'!AC122-'All Respondents'!AC121","v":2.0000000000000018E-2},{"$f":"'All Respondents'!AD122-'All Respondents'!AD121","v":-5.0000000000000017E-2},{"$f":"'All Respondents'!AE122-'All Respondents'!AE121","v":0.02},{"$f":"'All Respondents'!AF122-'All Respondents'!AF121","v":3.9999999999999994E-2},{"$f":"'All Respondents'!AG122-'All Respondents'!AG121","v":0.05},{"$f":"'All Respondents'!AH122-'All Respondents'!AH121","v":-9.0000000000000024E-2},{"$f":"'All Respondents'!AI122-'All Respondents'!AI121","v":-9.999999999999995E-3},{"$f":"'All Respondents'!AJ122-'All Respondents'!AJ121","v":4.0000000000000008E-2},{"$f":"'All Respondents'!AK122-'All Respondents'!AK121","v":3.0000000000000027E-2},{"$f":"'All Respondents'!AL122-'All Respondents'!AL121","v":-3.999999999999998E-2},{"$f":"'All Respondents'!AM122-'All Respondents'!AM121","v":1.0000000000000009E-2},{"$f":"'All Respondents'!AN122-'All Respondents'!AN121","v":-2.9999999999999916E-2},{"$f":"'All Respondents'!AO122-'All Respondents'!AO121","v":5.9999999999999942E-2},{"$f":"'All Respondents'!AP122-'All Respondents'!AP121","v":3.999999999999998E-2},{"$f":"'All Respondents'!AQ122-'All Respondents'!AQ121","v":0},{"$f":"'All Respondents'!AR122-'All Respondents'!AR121","v":3.0000000000000013E-2},{"$f":"'All Respondents'!AS122-'All Respondents'!AS121","v":-0.08},{"$f":"'All Respondents'!AT122-'All Respondents'!AT121","v":-9.9999999999999811E-3},{"$f":"'All Respondents'!AU122-'All Respondents'!AU121","v":0.06},{"$f":"'All Respondents'!AV122-'All Respondents'!AV121","v":-0.02},{"$f":"'All Respondents'!AW122-'All Respondents'!AW121","v":1.9999999999999997E-2},{"$f":"'All Respondents'!AX122-'All Respondents'!AX121","v":1.999999999999999E-2},{"$f":"'All Respondents'!AY122-'All Respondents'!AY121","v":0},{"$f":"'All Respondents'!AZ122-'All Respondents'!AZ121","v":5.0000000000000044E-2},{"$f":"'All Respondents'!BA122-'All Respondents'!BA121","v":-1.0000000000000009E-2},{"$f":"'All Respondents'!BB122-'All Respondents'!BB121","v":-2.0000000000000018E-2},{"$f":"'All Respondents'!BC122-'All Respondents'!BC121","v":6.0000000000000053E-2},{"$f":"'All Respondents'!BD122-'All Respondents'!BD121","v":4.3049999999999998E-3},{"$f":"'All Respondents'!BE122-'All Respondents'!BE121","v":1.0000000000000009E-2},{"$f":"'All Respondents'!BF122-'All Respondents'!BF121","v":-9.9999999999999534E-3},{"$f":"'All Respondents'!BG122-'All Respondents'!BG121","v":1.9999999999999962E-2},{"$f":"'All Respondents'!BH122-'All Respondents'!BH121","v":-5.0000000000000044E-2},{"$f":"'All Respondents'!BI122-'All Respondents'!BI121","v":6.9999999999999951E-2},{"$f":"'All Respondents'!BJ122-'All Respondents'!BJ121","v":-0.12},{"$f":"'All Respondents'!BK122-'All Respondents'!BK121","v":0},{"$f":"'All Respondents'!BL122-'All Respondents'!BL121","v":1.0000000000000009E-2},{"$f":"'All Respondents'!BM122-'All Respondents'!BM121","v":1.0000000000000009E-2},{"$f":"'All Respondents'!BN122-'All Respondents'!BN121","v":-3.0000000000000027E-2},{"$f":"'All Respondents'!BO122-'All Respondents'!BO121","v":2.0000000000000004E-2},{"$f":"'All Respondents'!BP122-'All Respondents'!BP121","v":-1.0000000000000002E-2},{"$f":"'All Respondents'!BQ122-'All Respondents'!BQ121","v":1.0000000000000009E-2},{"$f":"'All Respondents'!BR122-'All Respondents'!BR121","v":0},{"$f":"'All Respondents'!BS122-'All Respondents'!BS121","v":-2.0000000000000018E-2},{"$f":"'All Respondents'!BT122-'All Respondents'!BT121","v":-1.999999999999999E-2},{"$f":"'All Respondents'!BU122-'All Respondents'!BU121","v":3.0000000000000027E-2},{"$f":"'All Respondents'!BV122-'All Respondents'!BV121","v":-2.7755575615628914E-17},{"$f":"'All Respondents'!BW122-'All Respondents'!BW121","v":-3.0000000000000027E-2},{"$f":"'All Respondents'!BX122-'All Respondents'!BX121","v":1.9999999999999907E-2},{"$f":"'All Respondents'!BY122-'All Respondents'!BY121","v":4.9999999999999933E-2},{"$f":"'All Respondents'!BZ122-'All Respondents'!BZ121","v":-2.0000000000000018E-2},{"$f":"'All Respondents'!CA122-'All Respondents'!CA121","v":-0.06},{"$f":"'All Respondents'!CB122-'All Respondents'!CB121","v":-8.0000000000000016E-2},{"$f":"'All Respondents'!CC122-'All Respondents'!CC121","v":6.9999999999999951E-2},{"$f":"'All Respondents'!CD122-'All Respondents'!CD121","v":9.0000000000000011E-2},{"$f":"'All Respondents'!CE122-'All Respondents'!CE121","v":0},{"$f":"'All Respondents'!CF122-'All Respondents'!CF121","v":-2.0000000000000018E-2},{"$f":"'All Respondents'!CG122-'All Respondents'!CG121","v":-2.0000000000000004E-2},{"$f":"'All Respondents'!CH122-'All Respondents'!CH121","v":0},{"$f":"'All Respondents'!CI122-'All Respondents'!CI121","v":1.999999999999999E-2},{"$f":"'All Respondents'!CJ122-'All Respondents'!CJ121","v":1.0000000000000009E-2},{"$f":"'All Respondents'!CK122-'All Respondents'!CK121","v":0},{"$f":"'All Respondents'!CL122-'All Respondents'!CL121","v":1.0000000000000009E-2},{"$f":"'All Respondents'!CM122-'All Respondents'!CM121","v":1.0000000000000009E-2},{"$f":"'All Respondents'!CN122-'All Respondents'!CN121","v":-1.0000000000000009E-2},{"$f":"'All Respondents'!CO122-'All Respondents'!CO121","v":0},{"$f":"'All Respondents'!CP122-'All Respondents'!CP121","v":-1.0000000000000009E-2},{"$f":"'All Respondents'!CQ122-'All Respondents'!CQ121","v":-2.0000000000000018E-2},{"$f":"'All Respondents'!CR122-'All Respondents'!CR121","v":3.999999999999998E-2},{"$f":"'All Respondents'!CS122-'All Respondents'!CS121","v":2.0000000000000018E-2},{"$f":"'All Respondents'!CT122-'All Respondents'!CT121","v":-0.03},{"$f":"'All Respondents'!CU122-'All Respondents'!CU121","v":0},{"$f":"'All Respondents'!CV122-'All Respondents'!CV121","v":0},{"$f":"'All Respondents'!CW122-'All Respondents'!CW121","v":-1.0000000000000009E-2},{"$f":"'All Respondents'!CX122-'All Respondents'!CX121","v":1.0000000000000009E-2},{"$f":"'All Respondents'!CY122-'All Respondents'!CY121","v":4.9999999999999996E-2},{"$f":"'All Respondents'!CZ122-'All Respondents'!CZ121","v":-4.0000000000000008E-2},{"$f":"'All Respondents'!DA122-'All Respondents'!DA121","v":0},{"$f":"'All Respondents'!DB122-'All Respondents'!DB121","v":{"$error":"#VALUE!"}},{"$f":"'All Respondents'!DC122-'All Respondents'!DC121","v":{"$error":"#VALUE!"}},{"$f":"'All Respondents'!DD122-'All Respondents'!DD121","v":{"$error":"#VALUE!"}},{"$f":"'All Respondents'!DE122-'All Respondents'!DE121","v":{"$error":"#VALUE!"}},{"$f":"'All Respondents'!DF122-'All Respondents'!DF121","v":{"$error":"#VALUE!"}},{"$f":"'All Respondents'!DG122-'All Respondents'!DG121","v":{"$error":"#VALUE!"}},{"$f":"'All Respondents'!DH122-'All Respondents'!DH121","v":{"$error":"#VALUE!"}},{"$f":"'All Respondents'!DI122-'All Respondents'!DI121","v":{"$error":"#VALUE!"}},{"$f":"'All Respondents'!DJ122-'All Respondents'!DJ121","v":{"$error":"#VALUE!"}},{"$f":"'All Respondents'!DK122-'All Respondents'!DK121","v":{"$error":"#VALUE!"}},{"$f":"'All Respondents'!DL122-'All Respondents'!DL121","v":{"$error":"#VALUE!"}},{"$f":"'All Respondents'!DM122-'All Respondents'!DM121","v":{"$error":"#VALUE!"}},{"$f":"'All Respondents'!DN122-'All Respondents'!DN121","v":{"$error":"#VALUE!"}},{"$f":"'All Respondents'!DO122-'All Respondents'!DO121","v":{"$error":"#VALUE!"}},{"$f":"'All Respondents'!DP122-'All Respondents'!DP121","v":{"$error":"#VALUE!"}},{"$f":"'All Respondents'!DQ122-'All Respondents'!DQ121","v":{"$error":"#VALUE!"}},{"$f":"'All Respondents'!DR122-'All Respondents'!DR121","v":{"$error":"#VALUE!"}},{"$f":"'All Respondents'!DS122-'All Respondents'!DS121","v":{"$error":"#VALUE!"}}]
["May 20 - Jun 20",{"$f":"'All Respondents'!B123-'All Respondents'!B122","v":9},{"$f":"'All Respondents'!D123-'All Respondents'!D122","v":13.799999999999997},{"$f":"'All Respondents'!E123-'All Respondents'!E122","v":8.0000000000000016E-2},{"$f":"'All Respondents'!F123-'All Respondents'!F122","v":-9.9999999999999978E-2},{"$f":"'All Respondents'!G123-'All Respondents'!G122","v":1.0000000000000009E-2},{"$f":"'All Respondents'!H123-'All Respondents'!H122","v":0.18},{"$f":"'All Respondents'!I123-'All Respondents'!I122","v":-1.2700000000000003E-2},{"$f":"'All Respondents'!J123-'All Respondents'!J122","v":-3.4600000000000006E-2},{"$f":"'All Respondents'!K123-'All Respondents'!K122","v":7.1750000000000008E-3},{"$f":"'All Respondents'!L123-'All Respondents'!L122","v":7.0000000000000007E-2},{"$f":"'All Respondents'!M123-'All Respondents'!M122","v":-7.9999999999999988E-2},{"$f":"'All Respondents'!N123-'All Respondents'!N122","v":-1.0000000000000009E-2},{"$f":"'All Respondents'!O123-'All Respondents'!O122","v":-0.15},null,{"$f":"'All Respondents'!Q123-'All Respondents'!Q122","v":{"$error":"#VALUE!"}},{"$f":"'All Respondents'!R123-'All Respondents'!R122","v":0.03},{"$f":"'All Respondents'!S123-'All Respondents'!S122","v":0.06},{"$f":"'All Respondents'!T123-'All Respondents'!T122","v":8.9999999999999969E-2},{"$f":"'All Respondents'!U123-'All Respondents'!U122","v":-7.0000000000000007E-2},{"$f":"'All Respondents'!V123-'All Respondents'!V122","v":-0.05},{"$f":"'All Respondents'!W123-'All Respondents'!W122","v":-0.12},{"$f":"'All Respondents'!X123-'All Respondents'!X122","v":0.20999999999999996},{"$f":"'All Respondents'!Y123-'All Respondents'!Y122","v":4.0000000000000008E-2},{"$f":"'All Respondents'!Z123-'All Respondents'!Z122","v":-3.0000000000000027E-2},{"$f":"'All Respondents'!AA123-'All Respondents'!AA122","v":-9.999999999999995E-3},{"$f":"'All Respondents'!AB123-'All Respondents'!AB122","v":0.02},{"$f":"'All Respondents'!AC123-'All Respondents'!AC122","v":-5.0000000000000017E-2},{"$f":"'All Respondents'!AD123-'All Respondents'!AD122","v":0.06},{"$f":"'All Respondents'!AE123-'All Respondents'!AE122","v":1.0000000000000002E-2},{"$f":"'All Respondents'!AF123-'All Respondents'!AF122","v":-1.9999999999999997E-2},{"$f":"'All Respondents'!AG123-'All Respondents'!AG122","v":-7.0000000000000007E-2},{"$f":"'All Respondents'!AH123-'All Respondents'!AH122","v":0},{"$f":"'All Respondents'!AI123-'All Respondents'!AI122","v":0.09},{"$f":"'All Respondents'!AJ123-'All Respondents'!AJ122","v":0},{"$f":"'All Respondents'!AK123-'All Respondents'!AK122","v":9.0000000000000024E-2},{"$f":"'All Respondents'!AL123-'All Respondents'!AL122","v":-4.0000000000000036E-2},{"$f":"'All Respondents'!AM123-'All Respondents'!AM122","v":-0.10000000000000003},{"$f":"'All Respondents'!AN123-'All Respondents'!AN122","v":-0.14000000000000012},{"$f":"'All Respondents'!AO123-'All Respondents'!AO122","v":0.23000000000000015},{"$f":"'All Respondents'!AP123-'All Respondents'!AP122","v":-1.999999999999999E-2},{"$f":"'All Respondents'!AQ123-'All Respondents'!AQ122","v":3.0000000000000027E-2},{"$f":"'All Respondents'!AR123-'All Respondents'!AR122","v":4.9999999999999989E-2},{"$f":"'All Respondents'!AS123-'All Respondents'!AS122","v":-9.999999999999995E-3},{"$f":"'All Respondents'!AT123-'All Respondents'!AT122","v":-4.0000000000000008E-2},{"$f":"'All Respondents'!AU123-'All Respondents'!AU122","v":6.0000000000000012E-2},{"$f":"'All Respondents'!AV123-'All Respondents'!AV122","v":0},{"$f":"'All Respondents'!AW123-'All Respondents'!AW122","v":0},{"$f":"'All Respondents'!AX123-'All Respondents'!AX122","v":-9.999999999999995E-3},{"$f":"'All Respondents'!AY123-'All Respondents'!AY122","v":-7.0000000000000007E-2},{"$f":"'All Respondents'!AZ123-'All Respondents'!AZ122","v":8.9999999999999969E-2},{"$f":"'All Respondents'!BA123-'All Respondents'!BA122","v":0},{"$f":"'All Respondents'!BB123-'All Respondents'!BB122","v":-0.12},{"$f":"'All Respondents'!BC123-'All Respondents'!BC122","v":8.9999999999999969E-2},{"$f":"'All Respondents'!BD123-'All Respondents'!BD122","v":1.2600000000000007E-3},{"$f":"'All Respondents'!BE123-'All Respondents'!BE122","v":2.9999999999999916E-2},{"$f":"'All Respondents'!BF123-'All Respondents'!BF122","v":-2.0000000000000018E-2},{"$f":"'All Respondents'!BG123-'All Respondents'!BG122","v":4.9999999999999933E-2},{"$f":"'All Respondents'!BH123-'All Respondents'!BH122","v":4.0000000000000036E-2},{"$f":"'All Respondents'!BI123-'All Respondents'!BI122","v":-3.0000000000000027E-2},{"$f":"'All Respondents'!BJ123-'All Respondents'!BJ122","v":7.0000000000000062E-2},{"$f":"'All Respondents'!BK123-'All Respondents'!BK122","v":0},{"$f":"'All Respondents'!BL123-'All Respondents'!BL122","v":0},{"$f":"'All Respondents'!BM123-'All Respondents'!BM122","v":0},{"$f":"'All Respondents'!BN123-'All Respondents'!BN122","v":2.0000000000000018E-2},{"$f":"'All Respondents'!BO123-'All Respondents'!BO122","v":-2.0000000000000004E-2},{"$f":"'All Respondents'!BP123-'All Respondents'!BP122","v":0},{"$f":"'All Respondents'!BQ123-'All Respondents'!BQ122","v":-2.0000000000000018E-2},{"$f":"'All Respondents'!BR123-'All Respondents'!BR122","v":2.0000000000000018E-2},{"$f":"'All Respondents'!BS123-'All Respondents'!BS122","v":7.0000000000000007E-2},{"$f":"'All Respondents'!BT123-'All Respondents'!BT122","v":-0.03},{"$f":"'All Respondents'!BU123-'All Respondents'!BU122","v":-3.0000000000000027E-2},{"$f":"'All Respondents'!BV123-'All Respondents'!BV122","v":0.1},{"$f":"'All Respondents'!BW123-'All Respondents'!BW122","v":1.0000000000000009E-2},{"$f":"'All Respondents'!BX123-'All Respondents'!BX122","v":-1.9999999999999907E-2},{"$f":"'All Respondents'!BY123-'All Respondents'!BY122","v":-2.9999999999999916E-2},{"$f":"'All Respondents'!BZ123-'All Respondents'!BZ122","v":4.0000000000000008E-2},{"$f":"'All Respondents'!CA123-'All Respondents'!CA122","v":0.05},{"$f":"'All Respondents'!CB123-'All Respondents'!CB122","v":9.0000000000000024E-2},{"$f":"'All Respondents'!CC123-'All Respondents'!CC122","v":-6.0000000000000053E-2},{"$f":"'All Respondents'!CD123-'All Respondents'!CD122","v":-1.0000000000000009E-2},{"$f":"'All Respondents'!CE123-'All Respondents'!CE122","v":9.9999999999999811E-3},{"$f":"'All Respondents'!CF123-'All Respondents'!CF122","v":-0.06},{"$f":"'All Respondents'!CG123-'All Respondents'!CG122","v":0},{"$f":"'All Respondents'!CH123-'All Respondents'!CH122","v":2.0000000000000018E-2},{"$f":"'All Respondents'!CI123-'All Respondents'!CI122","v":-0.03},{"$f":"'All Respondents'!CJ123-'All Respondents'!CJ122","v":1.9999999999999907E-2},{"$f":"'All Respondents'!CK123-'All Respondents'!CK122","v":-9.999999999999995E-3},{"$f":"'All Respondents'!CL123-'All Respondents'!CL122","v":0.03},{"$f":"'All Respondents'!CM123-'All Respondents'!CM122","v":2.0000000000000018E-2},{"$f":"'All Respondents'!CN123-'All Respondents'!CN122","v":-1.0000000000000009E-2},{"$f":"'All Respondents'!CO123-'All Respondents'!CO122","v":-0.03},{"$f":"'All Respondents'!CP123-'All Respondents'!CP122","v":2.0000000000000018E-2},{"$f":"'All Respondents'!CQ123-'All Respondents'!CQ122","v":-3.0000000000000027E-2},{"$f":"'All Respondents'!CR123-'All Respondents'!CR122","v":-1.9999999999999962E-2},{"$f":"'All Respondents'!CS123-'All Respondents'!CS122","v":-1.0000000000000009E-2},{"$f":"'All Respondents'!CT123-'All Respondents'!CT122","v":9.9999999999999811E-3},{"$f":"'All Respondents'!CU123-'All Respondents'!CU122","v":-9.999999999999995E-3},{"$f":"'All Respondents'!CV123-'All Respondents'!CV122","v":0},{"$f":"'All Respondents'!CW123-'All Respondents'!CW122","v":3.0000000000000027E-2},{"$f":"'All Respondents'!CX123-'All Respondents'!CX122","v":1.999999999999999E-2},{"$f":"'All Respondents'!CY123-'All Respondents'!CY122","v":-0.03},{"$f":"'All Respondents'!CZ123-'All Respondents'!CZ122","v":-1.9999999999999997E-2},{"$f":"'All Respondents'!DA123-'All Respondents'!DA122","v":0},{"$f":"'All Respondents'!DB123-'All Respondents'!DB122","v":{"$error":"#VALUE!"}},{"$f":"'All Respondents'!DC123-'All Respondents'!DC122","v":{"$error":"#VALUE!"}},{"$f":"'All Respondents'!DD123-'All Respondents'!DD122","v":{"$error":"#VALUE!"}},{"$f":"'All Respondents'!DE123-'All Respondents'!DE122","v":{"$error":"#VALUE!"}},{"$f":"'All Respondents'!DF123-'All Respondents'!DF122","v":{"$error":"#VALUE!"}},{"$f":"'All Respondents'!DG123-'All Respondents'!DG122","v":{"$error":"#VALUE!"}},{"$f":"'All Respondents'!DH123-'All Respondents'!DH122","v":{"$error":"#VALUE!"}},{"$f":"'All Respondents'!DI123-'All Respondents'!DI122","v":{"$error":"#VALUE!"}},{"$f":"'All Respondents'!DJ123-'All Respondents'!DJ122","v":{"$error":"#VALUE!"}},{"$f":"'All Respondents'!DK123-'All Respondents'!DK122","v":{"$error":"#VALUE!"}},{"$f":"'All Respondents'!DL123-'All Respondents'!DL122","v":{"$error":"#VALUE!"}},{"$f":"'All Respondents'!DM123-'All Respondents'!DM122","v":{"$error":"#VALUE!"}},{"$f":"'All Respondents'!DN123-'All Respondents'!DN122","v":{"$error":"#VALUE!"}},{"$f":"'All Respondents'!DO123-'All Respondents'!DO122","v":{"$error":"#VALUE!"}},{"$f":"'All Respondents'!DP123-'All Respondents'!DP122","v":{"$error":"#VALUE!"}},{"$f":"'All Respondents'!DQ123-'All Respondents'!DQ122","v":{"$error":"#VALUE!"}},{"$f":"'All Respondents'!DR123-'All Respondents'!DR122","v":{"$error":"#VALUE!"}},{"$f":"'All Respondents'!DS123-'All Respondents'!DS122","v":{"$error":"#VALUE!"}}]
["Jun 20 - Jul 20",{"$f":"'All Respondents'!B124-'All Respondents'!B123","v":-2.2999999999999972},{"$f":"'All Respondents'!D124-'All Respondents'!D123","v":-2},{"$f":"'All Respondents'!E124-'All Respondents'!E123","v":9.9999999999999534E-3},{"$f":"'All Respondents'!F124-'All Respondents'!F123","v":-1.999999999999999E-2},{"$f":"'All Respondents'!G124-'All Respondents'!G123","v":3.0000000000000027E-2},{"$f":"'All Respondents'!H124-'All Respondents'!H123","v":2.9999999999999943E-2},{"$f":"'All Respondents'!I124-'All Respondents'!I123","v":3.0500000000000013E-2},{"$f":"'All Respondents'!J124-'All Respondents'!J123","v":-7.5000000000000067E-3},{"$f":"'All Respondents'!K124-'All Respondents'!K123","v":7.9869999999999993E-3},{"$f":"'All Respondents'!L124-'All Respondents'!L123","v":2.9999999999999971E-2},{"$f":"'All Respondents'!M124-'All Respondents'!M123","v":-1.0000000000000009E-2},{"$f":"'All Respondents'!N124-'All Respondents'!N123","v":0},{"$f":"'All Respondents'!O124-'All Respondents'!O123","v":-3.999999999999998E-2},null,{"$f":"'All Respondents'!Q124-'All Respondents'!Q123","v":{"$error":"#VALUE!"}},{"$f":"'All Respondents'!R124-'All Respondents'!R123","v":-1.0000000000000009E-2},{"$f":"'All Respondents'!S124-'All Respondents'!S123","v":-6.9999999999999951E-2},{"$f":"'All Respondents'!T124-'All Respondents'!T123","v":-7.999999999999996E-2},{"$f":"'All Respondents'!U124-'All Respondents'!U123","v":0.09},{"$f":"'All Respondents'!V124-'All Respondents'!V123","v":2.0000000000000004E-2},{"$f":"'All Respondents'!W124-'All Respondents'!W123","v":0.10999999999999999},{"$f":"'All Respondents'!X124-'All Respondents'!X123","v":-0.18999999999999995},{"$f":"'All Respondents'!Y124-'All Respondents'!Y123","v":-0.03},{"$f":"'All Respondents'!Z124-'All Respondents'!Z123","v":0},{"$f":"'All Respondents'!AA124-'All Respondents'!AA123","v":7.9999999999999988E-2},{"$f":"'All Respondents'!AB124-'All Respondents'!AB123","v":-1.0000000000000002E-2},{"$f":"'All Respondents'!AC124-'All Respondents'!AC123","v":0.03},{"$f":"'All Respondents'!AD124-'All Respondents'!AD123","v":0.03},{"$f":"'All Respondents'!AE124-'All Respondents'!AE123","v":-1.0000000000000002E-2},{"$f":"'All Respondents'!AF124-'All Respondents'!AF123","v":0},{"$f":"'All Respondents'!AG124-'All Respondents'!AG123","v":4.9999999999999996E-2},{"$f":"'All Respondents'!AH124-'All Respondents'!AH123","v":3.999999999999998E-2},{"$f":"'All Respondents'!AI124-'All Respondents'!AI123","v":0},{"$f":"'All Respondents'!AJ124-'All Respondents'!AJ123","v":3.999999999999998E-2},{"$f":"'All Respondents'!AK124-'All Respondents'!AK123","v":3.9999999999999925E-2},{"$f":"'All Respondents'!AL124-'All Respondents'!AL123","v":2.0000000000000018E-2},{"$f":"'All Respondents'!AM124-'All Respondents'!AM123","v":-1.999999999999999E-2},{"$f":"'All Respondents'!AN124-'All Respondents'!AN123","v":0},{"$f":"'All Respondents'!AO124-'All Respondents'!AO123","v":3.9999999999999925E-2},{"$f":"'All Respondents'!AP124-'All Respondents'!AP123","v":0.06},{"$f":"'All Respondents'!AQ124-'All Respondents'!AQ123","v":-1.0000000000000009E-2},{"$f":"'All Respondents'!AR124-'All Respondents'!AR123","v":-1.0000000000000009E-2},{"$f":"'All Respondents'!AS124-'All Respondents'!AS123","v":-1.0000000000000009E-2},{"$f":"'All Respondents'!AT124-'All Respondents'!AT123","v":4.9999999999999989E-2},{"$f":"'All Respondents'!AU124-'All Respondents'!AU123","v":-0.03},{"$f":"'All Respondents'!AV124-'All Respondents'!AV123","v":0},{"$f":"'All Respondents'!AW124-'All Respondents'!AW123","v":2.0000000000000004E-2},{"$f":"'All Respondents'!AX124-'All Respondents'!AX123","v":-9.999999999999995E-3},{"$f":"'All Respondents'!AY124-'All Respondents'!AY123","v":0.11999999999999994},{"$f":"'All Respondents'!AZ124-'All Respondents'!AZ123","v":2.0000000000000018E-2},{"$f":"'All Respondents'!BA124-'All Respondents'!BA123","v":-2.0000000000000004E-2},{"$f":"'All Respondents'!BB124-'All Respondents'!BB123","v":5.0000000000000044E-2},{"$f":"'All Respondents'!BC124-'All Respondents'!BC123","v":4.0000000000000036E-2},{"$f":"'All Respondents'!BD124-'All Respondents'!BD123","v":7.5850000000000015E-3},{"$f":"'All Respondents'!BE124-'All Respondents'!BE123","v":1.0000000000000009E-2},{"$f":"'All Respondents'!BF124-'All Respondents'!BF123","v":0},{"$f":"'All Respondents'!BG124-'All Respondents'!BG123","v":1.0000000000000009E-2},{"$f":"'All Respondents'!BH124-'All Respondents'!BH123","v":1.0000000000000009E-2},{"$f":"'All Respondents'!BI124-'All Respondents'!BI123","v":-9.9999999999998979E-3},{"$f":"'All Respondents'!BJ124-'All Respondents'!BJ123","v":1.9999999999999907E-2},{"$f":"'All Respondents'!BK124-'All Respondents'!BK123","v":0.03},{"$f":"'All Respondents'!BL124-'All Respondents'!BL123","v":-4.0000000000000008E-2},{"$f":"'All Respondents'!BM124-'All Respondents'!BM123","v":-1.0000000000000009E-2},{"$f":"'All Respondents'!BN124-'All Respondents'!BN123","v":-1.0000000000000009E-2},{"$f":"'All Respondents'!BO124-'All Respondents'!BO123","v":2.0000000000000004E-2},{"$f":"'All Respondents'!BP124-'All Respondents'!BP123","v":-1.0000000000000002E-2},{"$f":"'All Respondents'!BQ124-'All Respondents'!BQ123","v":1.0000000000000009E-2},{"$f":"'All Respondents'!BR124-'All Respondents'!BR123","v":-2.0000000000000018E-2},{"$f":"'All Respondents'!BS124-'All Respondents'!BS123","v":-0.03},{"$f":"'All Respondents'!BT124-'All Respondents'!BT123","v":0},{"$f":"'All Respondents'!BU124-'All Respondents'!BU123","v":4.0000000000000036E-2},{"$f":"'All Respondents'!BV124-'All Respondents'!BV123","v":-0.03},{"$f":"'All Respondents'!BW124-'All Respondents'!BW123","v":0},{"$f":"'All Respondents'!BX124-'All Respondents'!BX123","v":2.9999999999999916E-2},{"$f":"'All Respondents'!BY124-'All Respondents'!BY123","v":2.9999999999999916E-2},{"$f":"'All Respondents'!BZ124-'All Respondents'!BZ123","v":-0.03},{"$f":"'All Respondents'!CA124-'All Respondents'!CA123","v":-7.0000000000000007E-2},{"$f":"'All Respondents'!CB124-'All Respondents'!CB123","v":-0.1},{"$f":"'All Respondents'!CC124-'All Respondents'!CC123","v":0.1100000000000001},{"$f":"'All Respondents'!CD124-'All Respondents'!CD123","v":-4.0000000000000008E-2},{"$f":"'All Respondents'!CE124-'All Respondents'!CE123","v":-1.999999999999999E-2},{"$f":"'All Respondents'!CF124-'All Respondents'!CF123","v":0.17000000000000004},{"$f":"'All Respondents'!CG124-'All Respondents'!CG123","v":-9.999999999999995E-3},{"$f":"'All Respondents'!CH124-'All Respondents'!CH123","v":-2.0000000000000018E-2},{"$f":"'All Respondents'!CI124-'All Respondents'!CI123","v":-1.0000000000000009E-2},{"$f":"'All Respondents'!CJ124-'All Respondents'!CJ123","v":5.0000000000000044E-2},{"$f":"'All Respondents'!CK124-'All Respondents'!CK123","v":0},{"$f":"'All Respondents'!CL124-'All Respondents'!CL123","v":-0.03},{"$f":"'All Respondents'!CM124-'All Respondents'!CM123","v":-0.03},{"$f":"'All Respondents'!CN124-'All Respondents'!CN123","v":2.0000000000000018E-2},{"$f":"'All Respondents'!CO124-'All Respondents'!CO123","v":-1.999999999999999E-2},{"$f":"'All Respondents'!CP124-'All Respondents'!CP123","v":3.9999999999999925E-2},{"$f":"'All Respondents'!CQ124-'All Respondents'!CQ123","v":5.0000000000000044E-2},{"$f":"'All Respondents'!CR124-'All Respondents'!CR123","v":1.9999999999999962E-2},{"$f":"'All Respondents'!CS124-'All Respondents'!CS123","v":-1.0000000000000009E-2},{"$f":"'All Respondents'!CT124-'All Respondents'!CT123","v":-9.9999999999999811E-3},{"$f":"'All Respondents'!CU124-'All Respondents'!CU123","v":0},{"$f":"'All Respondents'!CV124-'All Respondents'!CV123","v":1.0000000000000009E-2},{"$f":"'All Respondents'!CW124-'All Respondents'!CW123","v":0},{"$f":"'All Respondents'!CX124-'All Respondents'!CX123","v":-9.9999999999999811E-3},{"$f":"'All Respondents'!CY124-'All Respondents'!CY123","v":2.0000000000000004E-2},{"$f":"'All Respondents'!CZ124-'All Respondents'!CZ123","v":0},{"$f":"'All Respondents'!DA124-'All Respondents'!DA123","v":-0.01},{"$f":"'All Respondents'!DB124-'All Respondents'!DB123","v":{"$error":"#VALUE!"}},{"$f":"'All Respondents'!DC124-'All Respondents'!DC123","v":{"$error":"#VALUE!"}},{"$f":"'All Respondents'!DD124-'All Respondents'!DD123","v":{"$error":"#VALUE!"}},{"$f":"'All Respondents'!DE124-'All Respondents'!DE123","v":{"$error":"#VALUE!"}},{"$f":"'All Respondents'!DF124-'All Respondents'!DF123","v":{"$error":"#VALUE!"}},{"$f":"'All Respondents'!DG124-'All Respondents'!DG123","v":{"$error":"#VALUE!"}},{"$f":"'All Respondents'!DH124-'All Respondents'!DH123","v":{"$error":"#VALUE!"}},{"$f":"'All Respondents'!DI124-'All Respondents'!DI123","v":{"$error":"#VALUE!"}},{"$f":"'All Respondents'!DJ124-'All Respondents'!DJ123","v":{"$error":"#VALUE!"}},{"$f":"'All Respondents'!DK124-'All Respondents'!DK123","v":{"$error":"#VALUE!"}},{"$f":"'All Respondents'!DL124-'All Respondents'!DL123","v":{"$error":"#VALUE!"}},{"$f":"'All Respondents'!DM124-'All Respondents'!DM123","v":{"$error":"#VALUE!"}},{"$f":"'All Respondents'!DN124-'All Respondents'!DN123","v":{"$error":"#VALUE!"}},{"$f":"'All Respondents'!DO124-'All Respondents'!DO123","v":{"$error":"#VALUE!"}},{"$f":"'All Respondents'!DP124-'All Respondents'!DP123","v":{"$error":"#VALUE!"}},{"$f":"'All Respondents'!DQ124-'All Respondents'!DQ123","v":{"$error":"#VALUE!"}},{"$f":"'All Respondents'!DR124-'All Respondents'!DR123","v":{"$error":"#VALUE!"}},{"$f":"'All Respondents'!DS124-'All Respondents'!DS123","v":{"$error":"#VALUE!"}}]
["Jul 20 - Aug 20",{"$f":"'All Respondents'!B125-'All Respondents'!B124","v":3.2999999999999972},{"$f":"'All Respondents'!D125-'All Respondents'!D124","v":3.4000000000000057},{"$f":"'All Respondents'!E125-'All Respondents'!E124","v":-1.9999999999999962E-2},{"$f":"'All Respondents'!F125-'All Respondents'!F124","v":0.03},{"$f":"'All Respondents'!G125-'All Respondents'!G124","v":0},{"$f":"'All Respondents'!H125-'All Respondents'!H124","v":-4.9999999999999961E-2},{"$f":"'All Respondents'!I125-'All Respondents'!I124","v":-3.0500000000000013E-2},{"$f":"'All Respondents'!J125-'All Respondents'!J124","v":2.1000000000000046E-3},{"$f":"'All Respondents'!K125-'All Respondents'!K124","v":-1.2005999999999999E-2},{"$f":"'All Respondents'!L125-'All Respondents'!L124","v":-1.9999999999999962E-2},{"$f":"'All Respondents'!M125-'All Respondents'!M124","v":1.0000000000000009E-2},{"$f":"'All Respondents'!N125-'All Respondents'!N124","v":3.0000000000000027E-2},{"$f":"'All Respondents'!O125-'All Respondents'!O124","v":2.9999999999999971E-2},null,{"$f":"'All Respondents'!Q125-'All Respondents'!Q124","v":{"$error":"#VALUE!"}},{"$f":"'All Respondents'!R125-'All Respondents'!R124","v":1.999999999999999E-2},{"$f":"'All Respondents'!S125-'All Respondents'!S124","v":3.999999999999998E-2},{"$f":"'All Respondents'!T125-'All Respondents'!T124","v":5.9999999999999942E-2},{"$f":"'All Respondents'!U125-'All Respondents'!U124","v":-4.9999999999999989E-2},{"$f":"'All Respondents'!V125-'All Respondents'!V124","v":1.999999999999999E-2},{"$f":"'All Respondents'!W125-'All Respondents'!W124","v":-3.0000000000000027E-2},{"$f":"'All Respondents'!X125-'All Respondents'!X124","v":8.9999999999999969E-2},{"$f":"'All Respondents'!Y125-'All Respondents'!Y124","v":0},{"$f":"'All Respondents'!Z125-'All Respondents'!Z124","v":4.0000000000000036E-2},{"$f":"'All Respondents'!AA125-'All Respondents'!AA124","v":-0.03},{"$f":"'All Respondents'!AB125-'All Respondents'!AB124","v":0},{"$f":"'All Respondents'!AC125-'All Respondents'!AC124","v":-3.9999999999999994E-2},{"$f":"'All Respondents'!AD125-'All Respondents'!AD124","v":0.03},{"$f":"'All Respondents'!AE125-'All Respondents'!AE124","v":0},{"$f":"'All Respondents'!AF125-'All Respondents'!AF124","v":1.0000000000000002E-2},{"$f":"'All Respondents'!AG125-'All Respondents'!AG124","v":-1.999999999999999E-2},{"$f":"'All Respondents'!AH125-'All Respondents'!AH124","v":-2.9999999999999971E-2},{"$f":"'All Respondents'!AI125-'All Respondents'!AI124","v":0.06},{"$f":"'All Respondents'!AJ125-'All Respondents'!AJ124","v":-2.9999999999999971E-2},{"$f":"'All Respondents'!AK125-'All Respondents'!AK124","v":3.0000000000000027E-2},{"$f":"'All Respondents'!AL125-'All Respondents'!AL124","v":-8.0000000000000016E-2},{"$f":"'All Respondents'!AM125-'All Respondents'!AM124","v":4.0000000000000008E-2},{"$f":"'All Respondents'!AN125-'All Respondents'!AN124","v":-3.999999999999998E-2},{"$f":"'All Respondents'!AO125-'All Respondents'!AO124","v":7.0000000000000007E-2},{"$f":"'All Respondents'!AP125-'All Respondents'!AP124","v":0.03},{"$f":"'All Respondents'!AQ125-'All Respondents'!AQ124","v":-2.9999999999999971E-2},{"$f":"'All Respondents'!AR125-'All Respondents'!AR124","v":2.0000000000000018E-2},{"$f":"'All Respondents'!AS125-'All Respondents'!AS124","v":0},{"$f":"'All Respondents'!AT125-'All Respondents'!AT124","v":-0.06},{"$f":"'All Respondents'!AU125-'All Respondents'!AU124","v":-1.0000000000000009E-2},{"$f":"'All Respondents'!AV125-'All Respondents'!AV124","v":3.0000000000000002E-2},{"$f":"'All Respondents'!AW125-'All Respondents'!AW124","v":9.999999999999995E-3},{"$f":"'All Respondents'!AX125-'All Respondents'!AX124","v":3.9999999999999994E-2},{"$f":"'All Respondents'!AY125-'All Respondents'!AY124","v":-9.9999999999999978E-2},{"$f":"'All Respondents'!AZ125-'All Respondents'!AZ124","v":3.999999999999998E-2},{"$f":"'All Respondents'!BA125-'All Respondents'!BA124","v":9.999999999999995E-3},{"$f":"'All Respondents'!BB125-'All Respondents'!BB124","v":-7.0000000000000007E-2},{"$f":"'All Respondents'!BC125-'All Respondents'!BC124","v":2.9999999999999971E-2},{"$f":"'All Respondents'!BD125-'All Respondents'!BD124","v":1.1847999999999997E-2},{"$f":"'All Respondents'!BE125-'All Respondents'!BE124","v":-1.0000000000000009E-2},{"$f":"'All Respondents'!BF125-'All Respondents'!BF124","v":0},{"$f":"'All Respondents'!BG125-'All Respondents'!BG124","v":-1.0000000000000009E-2},{"$f":"'All Respondents'!BH125-'All Respondents'!BH124","v":-3.0000000000000027E-2},{"$f":"'All Respondents'!BI125-'All Respondents'!BI124","v":3.9999999999999925E-2},{"$f":"'All Respondents'!BJ125-'All Respondents'!BJ124","v":-6.9999999999999951E-2},{"$f":"'All Respondents'!BK125-'All Respondents'!BK124","v":0},{"$f":"'All Respondents'!BL125-'All Respondents'!BL124","v":4.0000000000000008E-2},{"$f":"'All Respondents'!BM125-'All Respondents'!BM124","v":3.999999999999998E-2},{"$f":"'All Respondents'!BN125-'All Respondents'!BN124","v":-3.999999999999998E-2},{"$f":"'All Respondents'!BO125-'All Respondents'!BO124","v":-2.0000000000000004E-2},{"$f":"'All Respondents'!BP125-'All Respondents'!BP124","v":2.0000000000000004E-2},{"$f":"'All Respondents'!BQ125-'All Respondents'!BQ124","v":0},{"$f":"'All Respondents'!BR125-'All Respondents'!BR124","v":3.999999999999998E-2},{"$f":"'All Respondents'!BS125-'All Respondents'!BS124","v":0.03},{"$f":"'All Respondents'!BT125-'All Respondents'!BT124","v":0},{"$f":"'All Respondents'!BU125-'All Respondents'!BU124","v":-3.0000000000000027E-2},{"$f":"'All Respondents'!BV125-'All Respondents'!BV124","v":0.03},{"$f":"'All Respondents'!BW125-'All Respondents'!BW124","v":1.0000000000000009E-2},{"$f":"'All Respondents'!BX125-'All Respondents'!BX124","v":0},{"$f":"'All Respondents'!BY125-'All Respondents'!BY124","v":-1.0000000000000009E-2},{"$f":"'All Respondents'!BZ125-'All Respondents'!BZ124","v":1.0000000000000009E-2},{"$f":"'All Respondents'!CA125-'All Respondents'!CA124","v":0.03},{"$f":"'All Respondents'!CB125-'All Respondents'!CB124","v":4.0000000000000008E-2},{"$f":"'All Respondents'!CC125-'All Respondents'!CC124","v":-4.0000000000000036E-2},{"$f":"'All Respondents'!CD125-'All Respondents'!CD124","v":0.03},{"$f":"'All Respondents'!CE125-'All Respondents'!CE124","v":0},{"$f":"'All Respondents'!CF125-'All Respondents'!CF124","v":-7.0000000000000007E-2},{"$f":"'All Respondents'!CG125-'All Respondents'!CG124","v":1.999999999999999E-2},{"$f":"'All Respondents'!CH125-'All Respondents'!CH124","v":-9.999999999999995E-3},{"$f":"'All Respondents'!CI125-'All Respondents'!CI124","v":-9.9999999999999811E-3},{"$f":"'All Respondents'!CJ125-'All Respondents'!CJ124","v":-1.0000000000000009E-2},{"$f":"'All Respondents'!CK125-'All Respondents'!CK124","v":9.999999999999995E-3},{"$f":"'All Respondents'!CL125-'All Respondents'!CL124","v":-1.999999999999999E-2},{"$f":"'All Respondents'!CM125-'All Respondents'!CM124","v":-9.9999999999999811E-3},{"$f":"'All Respondents'!CN125-'All Respondents'!CN124","v":2.0000000000000018E-2},{"$f":"'All Respondents'!CO125-'All Respondents'!CO124","v":1.0000000000000009E-2},{"$f":"'All Respondents'!CP125-'All Respondents'!CP124","v":1.0000000000000009E-2},{"$f":"'All Respondents'!CQ125-'All Respondents'!CQ124","v":3.0000000000000027E-2},{"$f":"'All Respondents'!CR125-'All Respondents'!CR124","v":1.0000000000000009E-2},{"$f":"'All Respondents'!CS125-'All Respondents'!CS124","v":0.03},{"$f":"'All Respondents'!CT125-'All Respondents'!CT124","v":-1.0000000000000009E-2},{"$f":"'All Respondents'!CU125-'All Respondents'!CU124","v":-9.999999999999995E-3},{"$f":"'All Respondents'!CV125-'All Respondents'!CV124","v":-0.03},{"$f":"'All Respondents'!CW125-'All Respondents'!CW124","v":1.0000000000000009E-2},{"$f":"'All Respondents'!CX125-'All Respondents'!CX124","v":1.999999999999999E-2},{"$f":"'All Respondents'!CY125-'All Respondents'!CY124","v":-0.03},{"$f":"'All Respondents'!CZ125-'All Respondents'!CZ124","v":0.01},{"$f":"'All Respondents'!DA125-'All Respondents'!DA124","v":0},{"$f":"'All Respondents'!DB125-'All Respondents'!DB124","v":{"$error":"#VALUE!"}},{"$f":"'All Respondents'!DC125-'All Respondents'!DC124","v":{"$error":"#VALUE!"}},{"$f":"'All Respondents'!DD125-'All Respondents'!DD124","v":{"$error":"#VALUE!"}},{"$f":"'All Respondents'!DE125-'All Respondents'!DE124","v":{"$error":"#VALUE!"}},{"$f":"'All Respondents'!DF125-'All Respondents'!DF124","v":{"$error":"#VALUE!"}},{"$f":"'All Respondents'!DG125-'All Respondents'!DG124","v":{"$error":"#VALUE!"}},{"$f":"'All Respondents'!DH125-'All Respondents'!DH124","v":{"$error":"#VALUE!"}},{"$f":"'All Respondents'!DI125-'All Respondents'!DI124","v":{"$error":"#VALUE!"}},{"$f":"'All Respondents'!DJ125-'All Respondents'!DJ124","v":{"$error":"#VALUE!"}},{"$f":"'All Respondents'!DK125-'All Respondents'!DK124","v":{"$error":"#VALUE!"}},{"$f":"'All Respondents'!DL125-'All Respondents'!DL124","v":{"$error":"#VALUE!"}},{"$f":"'All Respondents'!DM125-'All Respondents'!DM124","v":{"$error":"#VALUE!"}},{"$f":"'All Respondents'!DN125-'All Respondents'!DN124","v":{"$error":"#VALUE!"}},{"$f":"'All Respondents'!DO125-'All Respondents'!DO124","v":{"$error":"#VALUE!"}},{"$f":"'All Respondents'!DP125-'All Respondents'!DP124","v":{"$error":"#VALUE!"}},{"$f":"'All Respondents'!DQ125-'All Respondents'!DQ124","v":{"$error":"#VALUE!"}},{"$f":"'All Respondents'!DR125-'All Respondents'!DR124","v":{"$error":"#VALUE!"}},{"$f":"'All Respondents'!DS125-'All Respondents'!DS124","v":{"$error":"#VALUE!"}}]
["Aug 20 - Sep 20",{"$f":"'All Respondents'!B126-'All Respondents'!B125","v":3.5},{"$f":"'All Respondents'!D126-'All Respondents'!D125","v":6.4000000000000057},{"$f":"'All Respondents'!E126-'All Respondents'!E125","v":7.999999999999996E-2},{"$f":"'All Respondents'!F126-'All Respondents'!F125","v":-0.09},{"$f":"'All Respondents'!G126-'All Respondents'!G125","v":0},{"$f":"'All Respondents'!H126-'All Respondents'!H125","v":0.16999999999999996},{"$f":"'All Respondents'!I126-'All Respondents'!I125","v":3.4900000000000014E-2},{"$f":"'All Respondents'!J126-'All Respondents'!J125","v":1.2800000000000006E-2},{"$f":"'All Respondents'!K126-'All Respondents'!K125","v":3.0005E-2},{"$f":"'All Respondents'!L126-'All Respondents'!L125","v":4.9999999999999989E-2},{"$f":"'All Respondents'!M126-'All Respondents'!M125","v":-6.0000000000000012E-2},{"$f":"'All Respondents'!N126-'All Respondents'!N125","v":-1.0000000000000009E-2},{"$f":"'All Respondents'!O126-'All Respondents'!O125","v":-0.11000000000000001},null,{"$f":"'All Respondents'!Q126-'All Respondents'!Q125","v":{"$error":"#VALUE!"}},{"$f":"'All Respondents'!R126-'All Respondents'!R125","v":0},{"$f":"'All Respondents'!S126-'All Respondents'!S125","v":-4.9999999999999989E-2},{"$f":"'All Respondents'!T126-'All Respondents'!T125","v":-4.9999999999999933E-2},{"$f":"'All Respondents'!U126-'All Respondents'!U125","v":0.03},{"$f":"'All Respondents'!V126-'All Respondents'!V125","v":0},{"$f":"'All Respondents'!W126-'All Respondents'!W125","v":3.0000000000000027E-2},{"$f":"'All Respondents'!X126-'All Respondents'!X125","v":-7.999999999999996E-2},{"$f":"'All Respondents'!Y126-'All Respondents'!Y125","v":0},{"$f":"'All Respondents'!Z126-'All Respondents'!Z125","v":-1.0000000000000009E-2},{"$f":"'All Respondents'!AA126-'All Respondents'!AA125","v":0},{"$f":"'All Respondents'!AB126-'All Respondents'!AB125","v":0},{"$f":"'All Respondents'!AC126-'All Respondents'!AC125","v":9.999999999999995E-3},{"$f":"'All Respondents'!AD126-'All Respondents'!AD125","v":8.0000000000000016E-2},{"$f":"'All Respondents'!AE126-'All Respondents'!AE125","v":0},{"$f":"'All Respondents'!AF126-'All Respondents'!AF125","v":9.999999999999995E-3},{"$f":"'All Respondents'!AG126-'All Respondents'!AG125","v":-4.0000000000000008E-2},{"$f":"'All Respondents'!AH126-'All Respondents'!AH125","v":-0.06},{"$f":"'All Respondents'!AI126-'All Respondents'!AI125","v":5.0000000000000017E-2},{"$f":"'All Respondents'!AJ126-'All Respondents'!AJ125","v":2.9999999999999971E-2},{"$f":"'All Respondents'!AK126-'All Respondents'!AK125","v":8.0000000000000071E-2},{"$f":"'All Respondents'!AL126-'All Respondents'!AL125","v":2.0000000000000018E-2},{"$f":"'All Respondents'!AM126-'All Respondents'!AM125","v":-8.0000000000000016E-2},{"$f":"'All Respondents'!AN126-'All Respondents'!AN125","v":-0.06},{"$f":"'All Respondents'!AO126-'All Respondents'!AO125","v":0.14000000000000007},{"$f":"'All Respondents'!AP126-'All Respondents'!AP125","v":-1.999999999999999E-2},{"$f":"'All Respondents'!AQ126-'All Respondents'!AQ125","v":-4.0000000000000036E-2},{"$f":"'All Respondents'!AR126-'All Respondents'!AR125","v":-2.0000000000000018E-2},{"$f":"'All Respondents'!AS126-'All Respondents'!AS125","v":1.0000000000000009E-2},{"$f":"'All Respondents'!AT126-'All Respondents'!AT125","v":0},{"$f":"'All Respondents'!AU126-'All Respondents'!AU125","v":1.0000000000000009E-2},{"$f":"'All Respondents'!AV126-'All Respondents'!AV125","v":-3.0000000000000002E-2},{"$f":"'All Respondents'!AW126-'All Respondents'!AW125","v":-9.999999999999995E-3},{"$f":"'All Respondents'!AX126-'All Respondents'!AX125","v":0},{"$f":"'All Respondents'!AY126-'All Respondents'!AY125","v":-9.9999999999999534E-3},{"$f":"'All Respondents'!AZ126-'All Respondents'!AZ125","v":-3.999999999999998E-2},{"$f":"'All Respondents'!BA126-'All Respondents'!BA125","v":-0.03},{"$f":"'All Respondents'!BB126-'All Respondents'!BB125","v":7.0000000000000007E-2},{"$f":"'All Respondents'!BC126-'All Respondents'!BC125","v":-1.0000000000000009E-2},{"$f":"'All Respondents'!BD126-'All Respondents'!BD125","v":-7.5869999999999965E-3},{"$f":"'All Respondents'!BE126-'All Respondents'!BE125","v":2.0000000000000018E-2},{"$f":"'All Respondents'!BF126-'All Respondents'!BF125","v":-2.0000000000000018E-2},{"$f":"'All Respondents'!BG126-'All Respondents'!BG125","v":4.0000000000000036E-2},{"$f":"'All Respondents'!BH126-'All Respondents'!BH125","v":9.0000000000000024E-2},{"$f":"'All Respondents'!BI126-'All Respondents'!BI125","v":-6.9999999999999951E-2},{"$f":"'All Respondents'!BJ126-'All Respondents'!BJ125","v":0.15999999999999998},{"$f":"'All Respondents'!BK126-'All Respondents'!BK125","v":2.0000000000000018E-2},{"$f":"'All Respondents'!BL126-'All Respondents'!BL125","v":1.0000000000000009E-2},{"$f":"'All Respondents'!BM126-'All Respondents'!BM125","v":3.0000000000000027E-2},{"$f":"'All Respondents'!BN126-'All Respondents'!BN125","v":0},{"$f":"'All Respondents'!BO126-'All Respondents'!BO125","v":-9.999999999999995E-3},{"$f":"'All Respondents'!BP126-'All Respondents'!BP125","v":-2.0000000000000004E-2},{"$f":"'All Respondents'!BQ126-'All Respondents'!BQ125","v":-0.03},{"$f":"'All Respondents'!BR126-'All Respondents'!BR125","v":0.06},{"$f":"'All Respondents'!BS126-'All Respondents'!BS125","v":-1.0000000000000009E-2},{"$f":"'All Respondents'!BT126-'All Respondents'!BT125","v":1.0000000000000009E-2},{"$f":"'All Respondents'!BU126-'All Respondents'!BU125","v":0},{"$f":"'All Respondents'!BV126-'All Respondents'!BV125","v":-2.0000000000000018E-2},{"$f":"'All Respondents'!BW126-'All Respondents'!BW125","v":1.0000000000000009E-2},{"$f":"'All Respondents'!BX126-'All Respondents'!BX125","v":-1.0000000000000009E-2},{"$f":"'All Respondents'!BY126-'All Respondents'!BY125","v":-2.0000000000000018E-2},{"$f":"'All Respondents'!BZ126-'All Respondents'!BZ125","v":1.999999999999999E-2},{"$f":"'All Respondents'!CA126-'All Respondents'!CA125","v":4.0000000000000008E-2},{"$f":"'All Respondents'!CB126-'All Respondents'!CB125","v":0.06},{"$f":"'All Respondents'!CC126-'All Respondents'!CC125","v":-4.9999999999999933E-2},{"$f":"'All Respondents'!CD126-'All Respondents'!CD125","v":-4.9999999999999989E-2},{"$f":"'All Respondents'!CE126-'All Respondents'!CE125","v":-7.0000000000000007E-2},{"$f":"'All Respondents'!CF126-'All Respondents'!CF125","v":7.0000000000000007E-2},{"$f":"'All Respondents'!CG126-'All Respondents'!CG125","v":-1.999999999999999E-2},{"$f":"'All Respondents'!CH126-'All Respondents'!CH125","v":-0.03},{"$f":"'All Respondents'!CI126-'All Respondents'!CI125","v":3.999999999999998E-2},{"$f":"'All Respondents'!CJ126-'All Respondents'!CJ125","v":1.0000000000000009E-2},{"$f":"'All Respondents'!CK126-'All Respondents'!CK125","v":-0.03},{"$f":"'All Respondents'!CL126-'All Respondents'!CL125","v":-3.0000000000000013E-2},{"$f":"'All Respondents'!CM126-'All Respondents'!CM125","v":-6.0000000000000026E-2},{"$f":"'All Respondents'!CN126-'All Respondents'!CN125","v":4.9999999999999933E-2},{"$f":"'All Respondents'!CO126-'All Respondents'!CO125","v":0.06},{"$f":"'All Respondents'!CP126-'All Respondents'!CP125","v":-1.0000000000000009E-2},{"$f":"'All Respondents'!CQ126-'All Respondents'!CQ125","v":0.10999999999999988},{"$f":"'All Respondents'!CR126-'All Respondents'!CR125","v":-2.0000000000000018E-2},{"$f":"'All Respondents'!CS126-'All Respondents'!CS125","v":-0.03},{"$f":"'All Respondents'!CT126-'All Respondents'!CT125","v":4.9999999999999989E-2},{"$f":"'All Respondents'!CU126-'All Respondents'!CU125","v":0},{"$f":"'All Respondents'!CV126-'All Respondents'!CV125","v":1.999999999999999E-2},{"$f":"'All Respondents'!CW126-'All Respondents'!CW125","v":-4.0000000000000036E-2},{"$f":"'All Respondents'!CX126-'All Respondents'!CX125","v":4.9999999999999989E-2},{"$f":"'All Respondents'!CY126-'All Respondents'!CY125","v":0},{"$f":"'All Respondents'!CZ126-'All Respondents'!CZ125","v":-0.01},{"$f":"'All Respondents'!DA126-'All Respondents'!DA125","v":0},{"$f":"'All Respondents'!DB126-'All Respondents'!DB125","v":{"$error":"#VALUE!"}},{"$f":"'All Respondents'!DC126-'All Respondents'!DC125","v":{"$error":"#VALUE!"}},{"$f":"'All Respondents'!DD126-'All Respondents'!DD125","v":{"$error":"#VALUE!"}},{"$f":"'All Respondents'!DE126-'All Respondents'!DE125","v":{"$error":"#VALUE!"}},{"$f":"'All Respondents'!DF126-'All Respondents'!DF125","v":{"$error":"#VALUE!"}},{"$f":"'All Respondents'!DG126-'All Respondents'!DG125","v":{"$error":"#VALUE!"}},{"$f":"'All Respondents'!DH126-'All Respondents'!DH125","v":{"$error":"#VALUE!"}},{"$f":"'All Respondents'!DI126-'All Respondents'!DI125","v":{"$error":"#VALUE!"}},{"$f":"'All Respondents'!DJ126-'All Respondents'!DJ125","v":{"$error":"#VALUE!"}},{"$f":"'All Respondents'!DK126-'All Respondents'!DK125","v":{"$error":"#VALUE!"}},{"$f":"'All Respondents'!DL126-'All Respondents'!DL125","v":{"$error":"#VALUE!"}},{"$f":"'All Respondents'!DM126-'All Respondents'!DM125","v":{"$error":"#VALUE!"}},{"$f":"'All Respondents'!DN126-'All Respondents'!DN125","v":{"$error":"#VALUE!"}},{"$f":"'All Respondents'!DO126-'All Respondents'!DO125","v":{"$error":"#VALUE!"}},{"$f":"'All Respondents'!DP126-'All Respondents'!DP125","v":{"$error":"#VALUE!"}},{"$f":"'All Respondents'!DQ126-'All Respondents'!DQ125","v":{"$error":"#VALUE!"}},{"$f":"'All Respondents'!DR126-'All Respondents'!DR125","v":{"$error":"#VALUE!"}},{"$f":"'All Respondents'!DS126-'All Respondents'!DS125","v":{"$error":"#VALUE!"}}]
["Sep 20 - Oct 20",{"$f":"'All Respondents'!B127-'All Respondents'!B126","v":0.70000000000000284},{"$f":"'All Respondents'!D127-'All Respondents'!D126","v":-0.40000000000000568},{"$f":"'All Respondents'!E127-'All Respondents'!E126","v":-9.9999999999999534E-3},{"$f":"'All Respondents'!F127-'All Respondents'!F126","v":0.03},{"$f":"'All Respondents'!G127-'All Respondents'!G126","v":-3.0000000000000027E-2},{"$f":"'All Respondents'!H127-'All Respondents'!H126","v":-3.9999999999999952E-2},{"$f":"'All Respondents'!I127-'All Respondents'!I126","v":-1.4100000000000001E-2},{"$f":"'All Respondents'!J127-'All Respondents'!J126","v":-2.4199999999999999E-2},{"$f":"'All Respondents'!K127-'All Respondents'!K126","v":-1.6483999999999999E-2},{"$f":"'All Respondents'!L127-'All Respondents'!L126","v":-0.06},{"$f":"'All Respondents'!M127-'All Respondents'!M126","v":0},{"$f":"'All Respondents'!N127-'All Respondents'!N126","v":4.9999999999999989E-2},{"$f":"'All Respondents'!O127-'All Respondents'!O126","v":0.06},null,{"$f":"'All Respondents'!Q127-'All Respondents'!Q126","v":{"$error":"#VALUE!"}},{"$f":"'All Respondents'!R127-'All Respondents'!R126","v":2.0000000000000018E-2},{"$f":"'All Respondents'!S127-'All Respondents'!S126","v":3.999999999999998E-2},{"$f":"'All Respondents'!T127-'All Respondents'!T126","v":5.9999999999999942E-2},{"$f":"'All Respondents'!U127-'All Respondents'!U126","v":-2.0000000000000018E-2},{"$f":"'All Respondents'!V127-'All Respondents'!V126","v":-9.9999999999999811E-3},{"$f":"'All Respondents'!W127-'All Respondents'!W126","v":-3.0000000000000027E-2},{"$f":"'All Respondents'!X127-'All Respondents'!X126","v":8.9999999999999969E-2},{"$f":"'All Respondents'!Y127-'All Respondents'!Y126","v":0},{"$f":"'All Respondents'!Z127-'All Respondents'!Z126","v":1.0000000000000009E-2},{"$f":"'All Respondents'!AA127-'All Respondents'!AA126","v":0},{"$f":"'All Respondents'!AB127-'All Respondents'!AB126","v":0},{"$f":"'All Respondents'!AC127-'All Respondents'!AC126","v":2.0000000000000004E-2},{"$f":"'All Respondents'!AD127-'All Respondents'!AD126","v":-2.0000000000000018E-2},{"$f":"'All Respondents'!AE127-'All Respondents'!AE126","v":0},{"$f":"'All Respondents'!AF127-'All Respondents'!AF126","v":1.0000000000000009E-2},{"$f":"'All Respondents'!AG127-'All Respondents'!AG126","v":2.0000000000000004E-2},{"$f":"'All Respondents'!AH127-'All Respondents'!AH126","v":0},{"$f":"'All Respondents'!AI127-'All Respondents'!AI126","v":1.0000000000000009E-2},{"$f":"'All Respondents'!AJ127-'All Respondents'!AJ126","v":2.0000000000000018E-2},{"$f":"'All Respondents'!AK127-'All Respondents'!AK126","v":3.0000000000000027E-2},{"$f":"'All Respondents'!AL127-'All Respondents'!AL126","v":-0.03},{"$f":"'All Respondents'!AM127-'All Respondents'!AM126","v":0},{"$f":"'All Respondents'!AN127-'All Respondents'!AN126","v":-3.0000000000000027E-2},{"$f":"'All Respondents'!AO127-'All Respondents'!AO126","v":6.0000000000000053E-2},{"$f":"'All Respondents'!AP127-'All Respondents'!AP126","v":5.999999999999997E-2},{"$f":"'All Respondents'!AQ127-'All Respondents'!AQ126","v":0},{"$f":"'All Respondents'!AR127-'All Respondents'!AR126","v":-1.999999999999999E-2},{"$f":"'All Respondents'!AS127-'All Respondents'!AS126","v":0},{"$f":"'All Respondents'!AT127-'All Respondents'!AT126","v":2.0000000000000004E-2},{"$f":"'All Respondents'!AU127-'All Respondents'!AU126","v":-1.0000000000000009E-2},{"$f":"'All Respondents'!AV127-'All Respondents'!AV126","v":0.02},{"$f":"'All Respondents'!AW127-'All Respondents'!AW126","v":0.05},{"$f":"'All Respondents'!AX127-'All Respondents'!AX126","v":-2.0000000000000004E-2},{"$f":"'All Respondents'!AY127-'All Respondents'!AY126","v":0},{"$f":"'All Respondents'!AZ127-'All Respondents'!AZ126","v":1.0000000000000009E-2},{"$f":"'All Respondents'!BA127-'All Respondents'!BA126","v":-9.999999999999995E-3},{"$f":"'All Respondents'!BB127-'All Respondents'!BB126","v":-1.0000000000000009E-2},{"$f":"'All Respondents'!BC127-'All Respondents'!BC126","v":2.0000000000000018E-2},{"$f":"'All Respondents'!BD127-'All Respondents'!BD126","v":-2.3360000000000047E-3},{"$f":"'All Respondents'!BE127-'All Respondents'!BE126","v":-2.0000000000000018E-2},{"$f":"'All Respondents'!BF127-'All Respondents'!BF126","v":3.0000000000000027E-2},{"$f":"'All Respondents'!BG127-'All Respondents'!BG126","v":-5.0000000000000044E-2},{"$f":"'All Respondents'!BH127-'All Respondents'!BH126","v":-1.0000000000000009E-2},{"$f":"'All Respondents'!BI127-'All Respondents'!BI126","v":-2.0000000000000018E-2},{"$f":"'All Respondents'!BJ127-'All Respondents'!BJ126","v":1.0000000000000009E-2},{"$f":"'All Respondents'!BK127-'All Respondents'!BK126","v":-1.0000000000000009E-2},{"$f":"'All Respondents'!BL127-'All Respondents'!BL126","v":-5.0000000000000017E-2},{"$f":"'All Respondents'!BM127-'All Respondents'!BM126","v":-0.06},{"$f":"'All Respondents'!BN127-'All Respondents'!BN126","v":1.9999999999999962E-2},{"$f":"'All Respondents'!BO127-'All Respondents'!BO126","v":9.999999999999995E-3},{"$f":"'All Respondents'!BP127-'All Respondents'!BP126","v":1.0000000000000002E-2},{"$f":"'All Respondents'!BQ127-'All Respondents'!BQ126","v":1.999999999999999E-2},{"$f":"'All Respondents'!BR127-'All Respondents'!BR126","v":-7.999999999999996E-2},{"$f":"'All Respondents'!BS127-'All Respondents'!BS126","v":-9.9999999999999811E-3},{"$f":"'All Respondents'!BT127-'All Respondents'!BT126","v":0.03},{"$f":"'All Respondents'!BU127-'All Respondents'!BU126","v":-3.9999999999999925E-2},{"$f":"'All Respondents'!BV127-'All Respondents'!BV126","v":-3.999999999999998E-2},{"$f":"'All Respondents'!BW127-'All Respondents'!BW126","v":-2.0000000000000018E-2},{"$f":"'All Respondents'!BX127-'All Respondents'!BX126","v":2.0000000000000018E-2},{"$f":"'All Respondents'!BY127-'All Respondents'!BY126","v":4.0000000000000036E-2},{"$f":"'All Respondents'!BZ127-'All Respondents'!BZ126","v":1.0000000000000009E-2},{"$f":"'All Respondents'!CA127-'All Respondents'!CA126","v":-4.0000000000000008E-2},{"$f":"'All Respondents'!CB127-'All Respondents'!CB126","v":-0.03},{"$f":"'All Respondents'!CC127-'All Respondents'!CC126","v":1.9999999999999907E-2},{"$f":"'All Respondents'!CD127-'All Respondents'!CD126","v":1.999999999999999E-2},{"$f":"'All Respondents'!CE127-'All Respondents'!CE126","v":1.0000000000000009E-2},{"$f":"'All Respondents'!CF127-'All Respondents'!CF126","v":-1.0000000000000009E-2},{"$f":"'All Respondents'!CG127-'All Respondents'!CG126","v":1.999999999999999E-2},{"$f":"'All Respondents'!CH127-'All Respondents'!CH126","v":2.0000000000000004E-2},{"$f":"'All Respondents'!CI127-'All Respondents'!CI126","v":-4.9999999999999989E-2},{"$f":"'All Respondents'!CJ127-'All Respondents'!CJ126","v":1.0000000000000009E-2},{"$f":"'All Respondents'!CK127-'All Respondents'!CK126","v":2.0000000000000004E-2},{"$f":"'All Respondents'!CL127-'All Respondents'!CL126","v":3.0000000000000013E-2},{"$f":"'All Respondents'!CM127-'All Respondents'!CM126","v":5.0000000000000017E-2},{"$f":"'All Respondents'!CN127-'All Respondents'!CN126","v":-3.9999999999999925E-2},{"$f":"'All Respondents'!CO127-'All Respondents'!CO126","v":-0.09},{"$f":"'All Respondents'!CP127-'All Respondents'!CP126","v":5.0000000000000044E-2},{"$f":"'All Respondents'!CQ127-'All Respondents'!CQ126","v":-8.9999999999999858E-2},{"$f":"'All Respondents'!CR127-'All Respondents'!CR126","v":1.0000000000000009E-2},{"$f":"'All Respondents'!CS127-'All Respondents'!CS126","v":0},{"$f":"'All Respondents'!CT127-'All Respondents'!CT126","v":-9.9999999999999811E-3},{"$f":"'All Respondents'!CU127-'All Respondents'!CU126","v":0},{"$f":"'All Respondents'!CV127-'All Respondents'!CV126","v":-9.999999999999995E-3},{"$f":"'All Respondents'!CW127-'All Respondents'!CW126","v":4.0000000000000036E-2},{"$f":"'All Respondents'!CX127-'All Respondents'!CX126","v":-4.9999999999999989E-2},{"$f":"'All Respondents'!CY127-'All Respondents'!CY126","v":0},{"$f":"'All Respondents'!CZ127-'All Respondents'!CZ126","v":0.01},{"$f":"'All Respondents'!DA127-'All Respondents'!DA126","v":-0.01},{"$f":"'All Respondents'!DB127-'All Respondents'!DB126","v":{"$error":"#VALUE!"}},{"$f":"'All Respondents'!DC127-'All Respondents'!DC126","v":{"$error":"#VALUE!"}},{"$f":"'All Respondents'!DD127-'All Respondents'!DD126","v":{"$error":"#VALUE!"}},{"$f":"'All Respondents'!DE127-'All Respondents'!DE126","v":{"$error":"#VALUE!"}},{"$f":"'All Respondents'!DF127-'All Respondents'!DF126","v":{"$error":"#VALUE!"}},{"$f":"'All Respondents'!DG127-'All Respondents'!DG126","v":{"$error":"#VALUE!"}},{"$f":"'All Respondents'!DH127-'All Respondents'!DH126","v":{"$error":"#VALUE!"}},{"$f":"'All Respondents'!DI127-'All Respondents'!DI126","v":{"$error":"#VALUE!"}},{"$f":"'All Respondents'!DJ127-'All Respondents'!DJ126","v":{"$error":"#VALUE!"}},{"$f":"'All Respondents'!DK127-'All Respondents'!DK126","v":{"$error":"#VALUE!"}},{"$f":"'All Respondents'!DL127-'All Respondents'!DL126","v":{"$error":"#VALUE!"}},{"$f":"'All Respondents'!DM127-'All Respondents'!DM126","v":{"$error":"#VALUE!"}},{"$f":"'All Respondents'!DN127-'All Respondents'!DN126","v":{"$error":"#VALUE!"}},{"$f":"'All Respondents'!DO127-'All Respondents'!DO126","v":{"$error":"#VALUE!"}},{"$f":"'All Respondents'!DP127-'All Respondents'!DP126","v":{"$error":"#VALUE!"}},{"$f":"'All Respondents'!DQ127-'All Respondents'!DQ126","v":{"$error":"#VALUE!"}},{"$f":"'All Respondents'!DR127-'All Respondents'!DR126","v":{"$error":"#VALUE!"}},{"$f":"'All Respondents'!DS127-'All Respondents'!DS126","v":{"$error":"#VALUE!"}}]
["Oct 20 - Nov 20",{"$f":"'All Respondents'!B128-'All Respondents'!B127","v":-1.7000000000000028},{"$f":"'All Respondents'!D128-'All Respondents'!D127","v":0.79999999999999716},{"$f":"'All Respondents'!E128-'All Respondents'!E127","v":9.9999999999999534E-3},{"$f":"'All Respondents'!F128-'All Respondents'!F127","v":-7.0000000000000007E-2},{"$f":"'All Respondents'!G128-'All Respondents'!G127","v":3.999999999999998E-2},{"$f":"'All Respondents'!H128-'All Respondents'!H127","v":7.999999999999996E-2},{"$f":"'All Respondents'!I128-'All Respondents'!I127","v":1.0200000000000001E-2},{"$f":"'All Respondents'!J128-'All Respondents'!J127","v":2.0599999999999993E-2},{"$f":"'All Respondents'!K128-'All Respondents'!K127","v":1.8544999999999999E-2},{"$f":"'All Respondents'!L128-'All Respondents'!L127","v":0.10999999999999999},{"$f":"'All Respondents'!M128-'All Respondents'!M127","v":-0.03},{"$f":"'All Respondents'!N128-'All Respondents'!N127","v":-8.9999999999999969E-2},{"$f":"'All Respondents'!O128-'All Respondents'!O127","v":-0.13999999999999996},null,{"$f":"'All Respondents'!Q128-'All Respondents'!Q127","v":{"$error":"#VALUE!"}},{"$f":"'All Respondents'!R128-'All Respondents'!R127","v":-2.0000000000000018E-2},{"$f":"'All Respondents'!S128-'All Respondents'!S127","v":-1.0000000000000009E-2},{"$f":"'All Respondents'!T128-'All Respondents'!T127","v":-3.0000000000000027E-2},{"$f":"'All Respondents'!U128-'All Respondents'!U127","v":0.03},{"$f":"'All Respondents'!V128-'All Respondents'!V127","v":-3.0000000000000013E-2},{"$f":"'All Respondents'!W128-'All Respondents'!W127","v":0},{"$f":"'All Respondents'!X128-'All Respondents'!X127","v":-3.0000000000000027E-2},{"$f":"'All Respondents'!Y128-'All Respondents'!Y127","v":-1.0000000000000009E-2},{"$f":"'All Respondents'!Z128-'All Respondents'!Z127","v":2.0000000000000018E-2},{"$f":"'All Respondents'!AA128-'All Respondents'!AA127","v":-9.999999999999995E-3},{"$f":"'All Respondents'!AB128-'All Respondents'!AB127","v":0},{"$f":"'All Respondents'!AC128-'All Respondents'!AC127","v":-9.999999999999995E-3},{"$f":"'All Respondents'!AD128-'All Respondents'!AD127","v":-1.0000000000000009E-2},{"$f":"'All Respondents'!AE128-'All Respondents'!AE127","v":-0.03},{"$f":"'All Respondents'!AF128-'All Respondents'!AF127","v":-2.0000000000000004E-2},{"$f":"'All Respondents'!AG128-'All Respondents'!AG127","v":0},{"$f":"'All Respondents'!AH128-'All Respondents'!AH127","v":0.06},{"$f":"'All Respondents'!AI128-'All Respondents'!AI127","v":-3.0000000000000027E-2},{"$f":"'All Respondents'!AJ128-'All Respondents'!AJ127","v":3.0000000000000027E-2},{"$f":"'All Respondents'!AK128-'All Respondents'!AK127","v":0},{"$f":"'All Respondents'!AL128-'All Respondents'!AL127","v":-1.0000000000000009E-2},{"$f":"'All Respondents'!AM128-'All Respondents'!AM127","v":-9.999999999999995E-3},{"$f":"'All Respondents'!AN128-'All Respondents'!AN127","v":-1.9999999999999962E-2},{"$f":"'All Respondents'!AO128-'All Respondents'!AO127","v":1.9999999999999962E-2},{"$f":"'All Respondents'!AP128-'All Respondents'!AP127","v":-4.9999999999999989E-2},{"$f":"'All Respondents'!AQ128-'All Respondents'!AQ127","v":2.0000000000000018E-2},{"$f":"'All Respondents'!AR128-'All Respondents'!AR127","v":0.03},{"$f":"'All Respondents'!AS128-'All Respondents'!AS127","v":0},{"$f":"'All Respondents'!AT128-'All Respondents'!AT127","v":3.0000000000000013E-2},{"$f":"'All Respondents'!AU128-'All Respondents'!AU127","v":1.999999999999999E-2},{"$f":"'All Respondents'!AV128-'All Respondents'!AV127","v":1.9999999999999997E-2},{"$f":"'All Respondents'!AW128-'All Respondents'!AW127","v":1.0000000000000009E-2},{"$f":"'All Respondents'!AX128-'All Respondents'!AX127","v":-9.999999999999995E-3},{"$f":"'All Respondents'!AY128-'All Respondents'!AY127","v":-2.0000000000000018E-2},{"$f":"'All Respondents'!AZ128-'All Respondents'!AZ127","v":0.06},{"$f":"'All Respondents'!BA128-'All Respondents'!BA127","v":9.999999999999995E-3},{"$f":"'All Respondents'!BB128-'All Respondents'!BB127","v":-4.9999999999999989E-2},{"$f":"'All Respondents'!BC128-'All Respondents'!BC127","v":5.0000000000000044E-2},{"$f":"'All Respondents'!BD128-'All Respondents'!BD127","v":1.0359E-2},{"$f":"'All Respondents'!BE128-'All Respondents'!BE127","v":-1.9999999999999907E-2},{"$f":"'All Respondents'!BF128-'All Respondents'!BF127","v":1.9999999999999962E-2},{"$f":"'All Respondents'!BG128-'All Respondents'!BG127","v":-3.9999999999999869E-2},{"$f":"'All Respondents'!BH128-'All Respondents'!BH127","v":2.9999999999999971E-2},{"$f":"'All Respondents'!BI128-'All Respondents'!BI127","v":-3.0000000000000027E-2},{"$f":"'All Respondents'!BJ128-'All Respondents'!BJ127","v":0.06},{"$f":"'All Respondents'!BK128-'All Respondents'!BK127","v":-1.0000000000000009E-2},{"$f":"'All Respondents'!BL128-'All Respondents'!BL127","v":0},{"$f":"'All Respondents'!BM128-'All Respondents'!BM127","v":-1.0000000000000009E-2},{"$f":"'All Respondents'!BN128-'All Respondents'!BN127","v":0},{"$f":"'All Respondents'!BO128-'All Respondents'!BO127","v":-2.0000000000000004E-2},{"$f":"'All Respondents'!BP128-'All Respondents'!BP127","v":3.0000000000000006E-2},{"$f":"'All Respondents'!BQ128-'All Respondents'!BQ127","v":1.0000000000000009E-2},{"$f":"'All Respondents'!BR128-'All Respondents'!BR127","v":-2.0000000000000018E-2},{"$f":"'All Respondents'!BS128-'All Respondents'!BS127","v":9.9999999999999811E-3},{"$f":"'All Respondents'!BT128-'All Respondents'!BT127","v":-2.0000000000000018E-2},{"$f":"'All Respondents'!BU128-'All Respondents'!BU127","v":1.9999999999999907E-2},{"$f":"'All Respondents'!BV128-'All Respondents'!BV127","v":0.03},{"$f":"'All Respondents'!BW128-'All Respondents'!BW127","v":-3.0000000000000027E-2},{"$f":"'All Respondents'!BX128-'All Respondents'!BX127","v":3.0000000000000027E-2},{"$f":"'All Respondents'!BY128-'All Respondents'!BY127","v":6.0000000000000053E-2},{"$f":"'All Respondents'!BZ128-'All Respondents'!BZ127","v":-4.0000000000000008E-2},{"$f":"'All Respondents'!CA128-'All Respondents'!CA127","v":1.0000000000000009E-2},{"$f":"'All Respondents'!CB128-'All Respondents'!CB127","v":-0.03},{"$f":"'All Respondents'!CC128-'All Respondents'!CC127","v":6.0000000000000053E-2},{"$f":"'All Respondents'!CD128-'All Respondents'!CD127","v":4.0000000000000008E-2},{"$f":"'All Respondents'!CE128-'All Respondents'!CE127","v":1.999999999999999E-2},{"$f":"'All Respondents'!CF128-'All Respondents'!CF127","v":0},{"$f":"'All Respondents'!CG128-'All Respondents'!CG127","v":1.0000000000000009E-2},{"$f":"'All Respondents'!CH128-'All Respondents'!CH127","v":0},{"$f":"'All Respondents'!CI128-'All Respondents'!CI127","v":4.0000000000000008E-2},{"$f":"'All Respondents'!CJ128-'All Respondents'!CJ127","v":-4.0000000000000036E-2},{"$f":"'All Respondents'!CK128-'All Respondents'!CK127","v":0.03},{"$f":"'All Respondents'!CL128-'All Respondents'!CL127","v":0},{"$f":"'All Respondents'!CM128-'All Respondents'!CM127","v":0.03},{"$f":"'All Respondents'!CN128-'All Respondents'!CN127","v":-3.0000000000000027E-2},{"$f":"'All Respondents'!CO128-'All Respondents'!CO127","v":6.9999999999999979E-2},{"$f":"'All Respondents'!CP128-'All Respondents'!CP127","v":-9.9999999999999978E-2},{"$f":"'All Respondents'!CQ128-'All Respondents'!CQ127","v":-6.0000000000000053E-2},{"$f":"'All Respondents'!CR128-'All Respondents'!CR127","v":-1.0000000000000009E-2},{"$f":"'All Respondents'!CS128-'All Respondents'!CS127","v":0},{"$f":"'All Respondents'!CT128-'All Respondents'!CT127","v":-1.0000000000000009E-2},{"$f":"'All Respondents'!CU128-'All Respondents'!CU127","v":9.999999999999995E-3},{"$f":"'All Respondents'!CV128-'All Respondents'!CV127","v":0},{"$f":"'All Respondents'!CW128-'All Respondents'!CW127","v":-3.0000000000000027E-2},{"$f":"'All Respondents'!CX128-'All Respondents'!CX127","v":1.0000000000000009E-2},{"$f":"'All Respondents'!CY128-'All Respondents'!CY127","v":9.999999999999995E-3},{"$f":"'All Respondents'!CZ128-'All Respondents'!CZ127","v":-0.01},{"$f":"'All Respondents'!DA128-'All Respondents'!DA127","v":0.01},{"$f":"'All Respondents'!DB128-'All Respondents'!DB127","v":{"$error":"#VALUE!"}},{"$f":"'All Respondents'!DC128-'All Respondents'!DC127","v":{"$error":"#VALUE!"}},{"$f":"'All Respondents'!DD128-'All Respondents'!DD127","v":{"$error":"#VALUE!"}},{"$f":"'All Respondents'!DE128-'All Respondents'!DE127","v":{"$error":"#VALUE!"}},{"$f":"'All Respondents'!DF128-'All Respondents'!DF127","v":{"$error":"#VALUE!"}},{"$f":"'All Respondents'!DG128-'All Respondents'!DG127","v":{"$error":"#VALUE!"}},{"$f":"'All Respondents'!DH128-'All Respondents'!DH127","v":{"$error":"#VALUE!"}},{"$f":"'All Respondents'!DI128-'All Respondents'!DI127","v":{"$error":"#VALUE!"}},{"$f":"'All Respondents'!DJ128-'All Respondents'!DJ127","v":{"$error":"#VALUE!"}},{"$f":"'All Respondents'!DK128-'All Respondents'!DK127","v":{"$error":"#VALUE!"}},{"$f":"'All Respondents'!DL128-'All Respondents'!DL127","v":{"$error":"#VALUE!"}},{"$f":"'All Respondents'!DM128-'All Respondents'!DM127","v":{"$error":"#VALUE!"}},{"$f":"'All Respondents'!DN128-'All Respondents'!DN127","v":{"$error":"#VALUE!"}},{"$f":"'All Respondents'!DO128-'All Respondents'!DO127","v":{"$error":"#VALUE!"}},{"$f":"'All Respondents'!DP128-'All Respondents'!DP127","v":{"$error":"#VALUE!"}},{"$f":"'All Respondents'!DQ128-'All Respondents'!DQ127","v":{"$error":"#VALUE!"}},{"$f":"'All Respondents'!DR128-'All Respondents'!DR127","v":{"$error":"#VALUE!"}},{"$f":"'All Respondents'!DS128-'All Respondents'!DS127","v":{"$error":"#VALUE!"}}]
["Nov 20 - Dec 20",{"$f":"'All Respondents'!B129-'All Respondents'!B128","v":-6},{"$f":"'All Respondents'!D129-'All Respondents'!D128","v":-7.2000000000000028},{"$f":"'All Respondents'!E129-'All Respondents'!E128","v":0},{"$f":"'All Respondents'!F129-'All Respondents'!F128","v":0.03},{"$f":"'All Respondents'!G129-'All Respondents'!G128","v":-9.9999999999999534E-3},{"$f":"'All Respondents'!H129-'All Respondents'!H128","v":-0.03},{"$f":"'All Respondents'!I129-'All Respondents'!I128","v":-2.8999999999999998E-3},{"$f":"'All Respondents'!J129-'All Respondents'!J128","v":1.7000000000000071E-3},{"$f":"'All Respondents'!K129-'All Respondents'!K128","v":-2.9169999999999995E-3},{"$f":"'All Respondents'!L129-'All Respondents'!L128","v":0},{"$f":"'All Respondents'!M129-'All Respondents'!M128","v":0},{"$f":"'All Respondents'!N129-'All Respondents'!N128","v":-1.0000000000000009E-2},{"$f":"'All Respondents'!O129-'All Respondents'!O128","v":0},null,{"$f":"'All Respondents'!Q129-'All Respondents'!Q128","v":{"$error":"#VALUE!"}},{"$f":"'All Respondents'!R129-'All Respondents'!R128","v":-0.03},{"$f":"'All Respondents'!S129-'All Respondents'!S128","v":-1.9999999999999962E-2},{"$f":"'All Respondents'!T129-'All Respondents'!T128","v":-4.9999999999999933E-2},{"$f":"'All Respondents'!U129-'All Respondents'!U128","v":-9.9999999999999811E-3},{"$f":"'All Respondents'!V129-'All Respondents'!V128","v":0.05},{"$f":"'All Respondents'!W129-'All Respondents'!W128","v":4.0000000000000036E-2},{"$f":"'All Respondents'!X129-'All Respondents'!X128","v":-8.9999999999999969E-2},{"$f":"'All Respondents'!Y129-'All Respondents'!Y128","v":-0.03},{"$f":"'All Respondents'!Z129-'All Respondents'!Z128","v":0},{"$f":"'All Respondents'!AA129-'All Respondents'!AA128","v":2.0000000000000004E-2},{"$f":"'All Respondents'!AB129-'All Respondents'!AB128","v":0},{"$f":"'All Respondents'!AC129-'All Respondents'!AC128","v":-1.0000000000000009E-2},{"$f":"'All Respondents'!AD129-'All Respondents'!AD128","v":-9.9999999999999534E-3},{"$f":"'All Respondents'!AE129-'All Respondents'!AE128","v":0.01},{"$f":"'All Respondents'!AF129-'All Respondents'!AF128","v":2.0000000000000004E-2},{"$f":"'All Respondents'!AG129-'All Respondents'!AG128","v":2.0000000000000004E-2},{"$f":"'All Respondents'!AH129-'All Respondents'!AH128","v":-3.999999999999998E-2},{"$f":"'All Respondents'!AI129-'All Respondents'!AI128","v":0},{"$f":"'All Respondents'!AJ129-'All Respondents'!AJ128","v":-9.0000000000000024E-2},{"$f":"'All Respondents'!AK129-'All Respondents'!AK128","v":-9.000000000000008E-2},{"$f":"'All Respondents'!AL129-'All Respondents'!AL128","v":6.0000000000000026E-2},{"$f":"'All Respondents'!AM129-'All Respondents'!AM128","v":3.0000000000000013E-2},{"$f":"'All Respondents'!AN129-'All Respondents'!AN128","v":9.0000000000000024E-2},{"$f":"'All Respondents'!AO129-'All Respondents'!AO128","v":-0.1800000000000001},{"$f":"'All Respondents'!AP129-'All Respondents'!AP128","v":4.0000000000000036E-2},{"$f":"'All Respondents'!AQ129-'All Respondents'!AQ128","v":-4.0000000000000008E-2},{"$f":"'All Respondents'!AR129-'All Respondents'!AR128","v":1.0000000000000009E-2},{"$f":"'All Respondents'!AS129-'All Respondents'!AS128","v":0.03},{"$f":"'All Respondents'!AT129-'All Respondents'!AT128","v":-5.0000000000000017E-2},{"$f":"'All Respondents'!AU129-'All Respondents'!AU128","v":-0.06},{"$f":"'All Respondents'!AV129-'All Respondents'!AV128","v":-1.9999999999999997E-2},{"$f":"'All Respondents'!AW129-'All Respondents'!AW128","v":-3.0000000000000013E-2},{"$f":"'All Respondents'!AX129-'All Respondents'!AX128","v":0.03},{"$f":"'All Respondents'!AY129-'All Respondents'!AY128","v":4.9999999999999989E-2},{"$f":"'All Respondents'!AZ129-'All Respondents'!AZ128","v":-5.0000000000000044E-2},{"$f":"'All Respondents'!BA129-'All Respondents'!BA128","v":0},{"$f":"'All Respondents'!BB129-'All Respondents'!BB128","v":4.9999999999999989E-2},{"$f":"'All Respondents'!BC129-'All Respondents'!BC128","v":-5.0000000000000044E-2},{"$f":"'All Respondents'!BD129-'All Respondents'!BD128","v":-2.2209999999999938E-3},{"$f":"'All Respondents'!BE129-'All Respondents'!BE128","v":-5.0000000000000044E-2},{"$f":"'All Respondents'!BF129-'All Respondents'!BF128","v":1.0000000000000009E-2},{"$f":"'All Respondents'!BG129-'All Respondents'!BG128","v":-6.0000000000000053E-2},{"$f":"'All Respondents'!BH129-'All Respondents'!BH128","v":-0.06},{"$f":"'All Respondents'!BI129-'All Respondents'!BI128","v":7.0000000000000062E-2},{"$f":"'All Respondents'!BJ129-'All Respondents'!BJ128","v":-0.13000000000000006},{"$f":"'All Respondents'!BK129-'All Respondents'!BK128","v":-4.9999999999999989E-2},{"$f":"'All Respondents'!BL129-'All Respondents'!BL128","v":6.0000000000000026E-2},{"$f":"'All Respondents'!BM129-'All Respondents'!BM128","v":1.0000000000000009E-2},{"$f":"'All Respondents'!BN129-'All Respondents'!BN128","v":-1.9999999999999962E-2},{"$f":"'All Respondents'!BO129-'All Respondents'!BO128","v":0.03},{"$f":"'All Respondents'!BP129-'All Respondents'!BP128","v":0},{"$f":"'All Respondents'!BQ129-'All Respondents'!BQ128","v":0.03},{"$f":"'All Respondents'!BR129-'All Respondents'!BR128","v":-2.0000000000000018E-2},{"$f":"'All Respondents'!BS129-'All Respondents'!BS128","v":-3.999999999999998E-2},{"$f":"'All Respondents'!BT129-'All Respondents'!BT128","v":0},{"$f":"'All Respondents'!BU129-'All Respondents'!BU128","v":4.0000000000000036E-2},{"$f":"'All Respondents'!BV129-'All Respondents'!BV128","v":-3.999999999999998E-2},{"$f":"'All Respondents'!BW129-'All Respondents'!BW128","v":3.0000000000000027E-2},{"$f":"'All Respondents'!BX129-'All Respondents'!BX128","v":-5.9999999999999942E-2},{"$f":"'All Respondents'!BY129-'All Respondents'!BY128","v":-8.9999999999999969E-2},{"$f":"'All Respondents'!BZ129-'All Respondents'!BZ128","v":4.9999999999999989E-2},{"$f":"'All Respondents'!CA129-'All Respondents'!CA128","v":0},{"$f":"'All Respondents'!CB129-'All Respondents'!CB128","v":4.9999999999999989E-2},{"$f":"'All Respondents'!CC129-'All Respondents'!CC128","v":-7.999999999999996E-2},{"$f":"'All Respondents'!CD129-'All Respondents'!CD128","v":-1.0000000000000009E-2},{"$f":"'All Respondents'!CE129-'All Respondents'!CE128","v":4.0000000000000008E-2},{"$f":"'All Respondents'!CF129-'All Respondents'!CF128","v":-0.10999999999999999},{"$f":"'All Respondents'!CG129-'All Respondents'!CG128","v":-1.0000000000000009E-2},{"$f":"'All Respondents'!CH129-'All Respondents'!CH128","v":1.999999999999999E-2},{"$f":"'All Respondents'!CI129-'All Respondents'!CI128","v":0},{"$f":"'All Respondents'!CJ129-'All Respondents'!CJ128","v":0},{"$f":"'All Respondents'!CK129-'All Respondents'!CK128","v":-1.0000000000000009E-2},{"$f":"'All Respondents'!CL129-'All Respondents'!CL128","v":1.999999999999999E-2},{"$f":"'All Respondents'!CM129-'All Respondents'!CM128","v":9.9999999999999811E-3},{"$f":"'All Respondents'!CN129-'All Respondents'!CN128","v":-1.0000000000000009E-2},{"$f":"'All Respondents'!CO129-'All Respondents'!CO128","v":-0.03},{"$f":"'All Respondents'!CP129-'All Respondents'!CP128","v":2.0000000000000018E-2},{"$f":"'All Respondents'!CQ129-'All Respondents'!CQ128","v":-2.0000000000000018E-2},{"$f":"'All Respondents'!CR129-'All Respondents'!CR128","v":-2.9999999999999971E-2},{"$f":"'All Respondents'!CS129-'All Respondents'!CS128","v":-9.999999999999995E-3},{"$f":"'All Respondents'!CT129-'All Respondents'!CT128","v":-1.999999999999999E-2},{"$f":"'All Respondents'!CU129-'All Respondents'!CU128","v":9.999999999999995E-3},{"$f":"'All Respondents'!CV129-'All Respondents'!CV128","v":3.0000000000000013E-2},{"$f":"'All Respondents'!CW129-'All Respondents'!CW128","v":5.0000000000000044E-2},{"$f":"'All Respondents'!CX129-'All Respondents'!CX128","v":-0.03},{"$f":"'All Respondents'!CY129-'All Respondents'!CY128","v":-0.03},{"$f":"'All Respondents'!CZ129-'All Respondents'!CZ128","v":0},{"$f":"'All Respondents'!DA129-'All Respondents'!DA128","v":0.01},{"$f":"'All Respondents'!DB129-'All Respondents'!DB128","v":{"$error":"#VALUE!"}},{"$f":"'All Respondents'!DC129-'All Respondents'!DC128","v":{"$error":"#VALUE!"}},{"$f":"'All Respondents'!DD129-'All Respondents'!DD128","v":{"$error":"#VALUE!"}},{"$f":"'All Respondents'!DE129-'All Respondents'!DE128","v":{"$error":"#VALUE!"}},{"$f":"'All Respondents'!DF129-'All Respondents'!DF128","v":{"$error":"#VALUE!"}},{"$f":"'All Respondents'!DG129-'All Respondents'!DG128","v":{"$error":"#VALUE!"}},{"$f":"'All Respondents'!DH129-'All Respondents'!DH128","v":{"$error":"#VALUE!"}},{"$f":"'All Respondents'!DI129-'All Respondents'!DI128","v":{"$error":"#VALUE!"}},{"$f":"'All Respondents'!DJ129-'All Respondents'!DJ128","v":{"$error":"#VALUE!"}},{"$f":"'All Respondents'!DK129-'All Respondents'!DK128","v":{"$error":"#VALUE!"}},{"$f":"'All Respondents'!DL129-'All Respondents'!DL128","v":{"$error":"#VALUE!"}},{"$f":"'All Respondents'!DM129-'All Respondents'!DM128","v":{"$error":"#VALUE!"}},{"$f":"'All Respondents'!DN129-'All Respondents'!DN128","v":{"$error":"#VALUE!"}},{"$f":"'All Respondents'!DO129-'All Respondents'!DO128","v":{"$error":"#VALUE!"}},{"$f":"'All Respondents'!DP129-'All Respondents'!DP128","v":{"$error":"#VALUE!"}},{"$f":"'All Respondents'!DQ129-'All Respondents'!DQ128","v":{"$error":"#VALUE!"}},{"$f":"'All Respondents'!DR129-'All Respondents'!DR128","v":{"$error":"#VALUE!"}},{"$f":"'All Respondents'!DS129-'All Respondents'!DS128","v":{"$error":"#VALUE!"}}]
["Dec 20 - Jan 21",{"$f":"'All Respondents'!B130-'All Respondents'!B129","v":3.7000000000000028},{"$f":"'All Respondents'!D130-'All Respondents'!D129","v":4.6000000000000085},{"$f":"'All Respondents'!E130-'All Respondents'!E129","v":0},{"$f":"'All Respondents'!F130-'All Respondents'!F129","v":1.0000000000000009E-2},{"$f":"'All Respondents'!G130-'All Respondents'!G129","v":0},{"$f":"'All Respondents'!H130-'All Respondents'!H129","v":-1.0000000000000009E-2},{"$f":"'All Respondents'!I130-'All Respondents'!I129","v":-2.1499999999999991E-2},{"$f":"'All Respondents'!J130-'All Respondents'!J129","v":-3.3000000000000113E-3},{"$f":"'All Respondents'!K130-'All Respondents'!K129","v":-6.0870000000000021E-3},{"$f":"'All Respondents'!L130-'All Respondents'!L129","v":2.0000000000000018E-2},{"$f":"'All Respondents'!M130-'All Respondents'!M129","v":9.999999999999995E-3},{"$f":"'All Respondents'!N130-'All Respondents'!N129","v":-2.0000000000000018E-2},{"$f":"'All Respondents'!O130-'All Respondents'!O129","v":-1.0000000000000009E-2},null,{"$f":"'All Respondents'!Q130-'All Respondents'!Q129","v":{"$error":"#VALUE!"}},{"$f":"'All Respondents'!R130-'All Respondents'!R129","v":0},{"$f":"'All Respondents'!S130-'All Respondents'!S129","v":0},{"$f":"'All Respondents'!T130-'All Respondents'!T129","v":0},{"$f":"'All Respondents'!U130-'All Respondents'!U129","v":-1.0000000000000009E-2},{"$f":"'All Respondents'!V130-'All Respondents'!V129","v":-1.0000000000000009E-2},{"$f":"'All Respondents'!W130-'All Respondents'!W129","v":-2.0000000000000018E-2},{"$f":"'All Respondents'!X130-'All Respondents'!X129","v":2.0000000000000018E-2},{"$f":"'All Respondents'!Y130-'All Respondents'!Y129","v":2.0000000000000004E-2},{"$f":"'All Respondents'!Z130-'All Respondents'!Z129","v":0},{"$f":"'All Respondents'!AA130-'All Respondents'!AA129","v":0},{"$f":"'All Respondents'!AB130-'All Respondents'!AB129","v":0},{"$f":"'All Respondents'!AC130-'All Respondents'!AC129","v":-9.999999999999995E-3},{"$f":"'All Respondents'!AD130-'All Respondents'!AD129","v":9.9999999999999978E-2},{"$f":"'All Respondents'!AE130-'All Respondents'!AE129","v":-0.01},{"$f":"'All Respondents'!AF130-'All Respondents'!AF129","v":-1.0000000000000009E-2},{"$f":"'All Respondents'!AG130-'All Respondents'!AG129","v":0},{"$f":"'All Respondents'!AH130-'All Respondents'!AH129","v":-2.0000000000000018E-2},{"$f":"'All Respondents'!AI130-'All Respondents'!AI129","v":3.999999999999998E-2},{"$f":"'All Respondents'!AJ130-'All Respondents'!AJ129","v":3.0000000000000027E-2},{"$f":"'All Respondents'!AK130-'All Respondents'!AK129","v":7.0000000000000062E-2},{"$f":"'All Respondents'!AL130-'All Respondents'!AL129","v":-7.0000000000000034E-2},{"$f":"'All Respondents'!AM130-'All Respondents'!AM129","v":-2.0000000000000018E-2},{"$f":"'All Respondents'!AN130-'All Respondents'!AN129","v":-9.000000000000008E-2},{"$f":"'All Respondents'!AO130-'All Respondents'!AO129","v":0.16000000000000014},{"$f":"'All Respondents'!AP130-'All Respondents'!AP129","v":9.9999999999999534E-3},{"$f":"'All Respondents'!AQ130-'All Respondents'!AQ129","v":-1.0000000000000009E-2},{"$f":"'All Respondents'!AR130-'All Respondents'!AR129","v":0},{"$f":"'All Respondents'!AS130-'All Respondents'!AS129","v":-1.0000000000000009E-2},{"$f":"'All Respondents'!AT130-'All Respondents'!AT129","v":-9.999999999999995E-3},{"$f":"'All Respondents'!AU130-'All Respondents'!AU129","v":7.0000000000000007E-2},{"$f":"'All Respondents'!AV130-'All Respondents'!AV129","v":0},{"$f":"'All Respondents'!AW130-'All Respondents'!AW129","v":-0.03},{"$f":"'All Respondents'!AX130-'All Respondents'!AX129","v":-2.0000000000000004E-2},{"$f":"'All Respondents'!AY130-'All Respondents'!AY129","v":0},{"$f":"'All Respondents'!AZ130-'All Respondents'!AZ129","v":3.0000000000000027E-2},{"$f":"'All Respondents'!BA130-'All Respondents'!BA129","v":0},{"$f":"'All Respondents'!BB130-'All Respondents'!BB129","v":-4.9999999999999989E-2},{"$f":"'All Respondents'!BC130-'All Respondents'!BC129","v":3.0000000000000027E-2},{"$f":"'All Respondents'!BD130-'All Respondents'!BD129","v":-2.6610000000000036E-3},{"$f":"'All Respondents'!BE130-'All Respondents'!BE129","v":7.999999999999996E-2},{"$f":"'All Respondents'!BF130-'All Respondents'!BF129","v":-4.9999999999999989E-2},{"$f":"'All Respondents'!BG130-'All Respondents'!BG129","v":0.12999999999999995},{"$f":"'All Respondents'!BH130-'All Respondents'!BH129","v":-7.0000000000000007E-2},{"$f":"'All Respondents'!BI130-'All Respondents'!BI129","v":2.9999999999999916E-2},{"$f":"'All Respondents'!BJ130-'All Respondents'!BJ129","v":-9.9999999999999922E-2},{"$f":"'All Respondents'!BK130-'All Respondents'!BK129","v":1.999999999999999E-2},{"$f":"'All Respondents'!BL130-'All Respondents'!BL129","v":-2.0000000000000018E-2},{"$f":"'All Respondents'!BM130-'All Respondents'!BM129","v":0},{"$f":"'All Respondents'!BN130-'All Respondents'!BN129","v":0},{"$f":"'All Respondents'!BO130-'All Respondents'!BO129","v":0},{"$f":"'All Respondents'!BP130-'All Respondents'!BP129","v":0},{"$f":"'All Respondents'!BQ130-'All Respondents'!BQ129","v":0},{"$f":"'All Respondents'!BR130-'All Respondents'!BR129","v":0},{"$f":"'All Respondents'!BS130-'All Respondents'!BS129","v":9.9999999999999811E-3},{"$f":"'All Respondents'!BT130-'All Respondents'!BT129","v":-3.999999999999998E-2},{"$f":"'All Respondents'!BU130-'All Respondents'!BU129","v":3.0000000000000027E-2},{"$f":"'All Respondents'!BV130-'All Respondents'!BV129","v":4.9999999999999961E-2},{"$f":"'All Respondents'!BW130-'All Respondents'!BW129","v":0},{"$f":"'All Respondents'!BX130-'All Respondents'!BX129","v":9.9999999999998979E-3},{"$f":"'All Respondents'!BY130-'All Respondents'!BY129","v":9.9999999999998979E-3},{"$f":"'All Respondents'!BZ130-'All Respondents'!BZ129","v":{"$error":"#VALUE!"}},{"$f":"'All Respondents'!CA130-'All Respondents'!CA129","v":{"$error":"#VALUE!"}},{"$f":"'All Respondents'!CB130-'All Respondents'!CB129","v":{"$error":"#VALUE!"}},{"$f":"'All Respondents'!CC130-'All Respondents'!CC129","v":{"$error":"#VALUE!"}},{"$f":"'All Respondents'!CD130-'All Respondents'!CD129","v":{"$error":"#VALUE!"}},{"$f":"'All Respondents'!CE130-'All Respondents'!CE129","v":{"$error":"#VALUE!"}},{"$f":"'All Respondents'!CF130-'All Respondents'!CF129","v":{"$error":"#VALUE!"}},{"$f":"'All Respondents'!CG130-'All Respondents'!CG129","v":-1.999999999999999E-2},{"$f":"'All Respondents'!CH130-'All Respondents'!CH129","v":1.0000000000000009E-2},{"$f":"'All Respondents'!CI130-'All Respondents'!CI129","v":-1.0000000000000009E-2},{"$f":"'All Respondents'!CJ130-'All Respondents'!CJ129","v":0},{"$f":"'All Respondents'!CK130-'All Respondents'!CK129","v":-0.03},{"$f":"'All Respondents'!CL130-'All Respondents'!CL129","v":1.999999999999999E-2},{"$f":"'All Respondents'!CM130-'All Respondents'!CM129","v":-1.0000000000000009E-2},{"$f":"'All Respondents'!CN130-'All Respondents'!CN129","v":0},{"$f":"'All Respondents'!CO130-'All Respondents'!CO129","v":2.0000000000000018E-2},{"$f":"'All Respondents'!CP130-'All Respondents'!CP129","v":-2.0000000000000018E-2},{"$f":"'All Respondents'!CQ130-'All Respondents'!CQ129","v":1.0000000000000009E-2},{"$f":"'All Respondents'!CR130-'All Respondents'!CR129","v":0},{"$f":"'All Respondents'!CS130-'All Respondents'!CS129","v":3.9999999999999994E-2},{"$f":"'All Respondents'!CT130-'All Respondents'!CT129","v":3.999999999999998E-2},{"$f":"'All Respondents'!CU130-'All Respondents'!CU129","v":-0.03},{"$f":"'All Respondents'!CV130-'All Respondents'!CV129","v":-3.0000000000000013E-2},{"$f":"'All Respondents'!CW130-'All Respondents'!CW129","v":0},{"$f":"'All Respondents'!CX130-'All Respondents'!CX129","v":0},{"$f":"'All Respondents'!CY130-'All Respondents'!CY129","v":1.0000000000000002E-2},{"$f":"'All Respondents'!CZ130-'All Respondents'!CZ129","v":0.01},{"$f":"'All Respondents'!DA130-'All Respondents'!DA129","v":-0.01},{"$f":"'All Respondents'!DB130-'All Respondents'!DB129","v":{"$error":"#VALUE!"}},{"$f":"'All Respondents'!DC130-'All Respondents'!DC129","v":{"$error":"#VALUE!"}},{"$f":"'All Respondents'!DD130-'All Respondents'!DD129","v":{"$error":"#VALUE!"}},{"$f":"'All Respondents'!DE130-'All Respondents'!DE129","v":{"$error":"#VALUE!"}},{"$f":"'All Respondents'!DF130-'All Respondents'!DF129","v":{"$error":"#VALUE!"}},{"$f":"'All Respondents'!DG130-'All Respondents'!DG129","v":{"$error":"#VALUE!"}},{"$f":"'All Respondents'!DH130-'All Respondents'!DH129","v":{"$error":"#VALUE!"}},{"$f":"'All Respondents'!DI130-'All Respondents'!DI129","v":{"$error":"#VALUE!"}},{"$f":"'All Respondents'!DJ130-'All Respondents'!DJ129","v":{"$error":"#VALUE!"}},{"$f":"'All Respondents'!DK130-'All Respondents'!DK129","v":{"$error":"#VALUE!"}},{"$f":"'All Respondents'!DL130-'All Respondents'!DL129","v":{"$error":"#VALUE!"}},{"$f":"'All Respondents'!DM130-'All Respondents'!DM129","v":{"$error":"#VALUE!"}},{"$f":"'All Respondents'!DN130-'All Respondents'!DN129","v":{"$error":"#VALUE!"}},{"$f":"'All Respondents'!DO130-'All Respondents'!DO129","v":{"$error":"#VALUE!"}},{"$f":"'All Respondents'!DP130-'All Respondents'!DP129","v":{"$error":"#VALUE!"}},{"$f":"'All Respondents'!DQ130-'All Respondents'!DQ129","v":{"$error":"#VALUE!"}},{"$f":"'All Respondents'!DR130-'All Respondents'!DR129","v":{"$error":"#VALUE!"}},{"$f":"'All Respondents'!DS130-'All Respondents'!DS129","v":{"$error":"#VALUE!"}}]
["Jan 21 - Feb 21",{"$f":"'All Respondents'!B131-'All Respondents'!B130","v":-1.2000000000000028},{"$f":"'All Respondents'!D131-'All Respondents'!D130","v":-0.79999999999999716},{"$f":"'All Respondents'!E131-'All Respondents'!E130","v":0.06},{"$f":"'All Respondents'!F131-'All Respondents'!F130","v":9.9999999999999811E-3},{"$f":"'All Respondents'!G131-'All Respondents'!G130","v":-5.0000000000000044E-2},{"$f":"'All Respondents'!H131-'All Respondents'!H130","v":5.0000000000000017E-2},{"$f":"'All Respondents'!I131-'All Respondents'!I130","v":-9.6000000000000252E-3},{"$f":"'All Respondents'!J131-'All Respondents'!J130","v":3.600000000000006E-3},{"$f":"'All Respondents'!K131-'All Respondents'!K130","v":4.0640000000000016E-3},{"$f":"'All Respondents'!L131-'All Respondents'!L130","v":1.9999999999999962E-2},{"$f":"'All Respondents'!M131-'All Respondents'!M130","v":-9.999999999999995E-3},{"$f":"'All Respondents'!N131-'All Respondents'!N130","v":1.0000000000000009E-2},{"$f":"'All Respondents'!O131-'All Respondents'!O130","v":-2.9999999999999971E-2},null,{"$f":"'All Respondents'!Q131-'All Respondents'!Q130","v":{"$error":"#VALUE!"}},{"$f":"'All Respondents'!R131-'All Respondents'!R130","v":-1.999999999999999E-2},{"$f":"'All Respondents'!S131-'All Respondents'!S130","v":-2.0000000000000018E-2},{"$f":"'All Respondents'!T131-'All Respondents'!T130","v":-4.0000000000000036E-2},{"$f":"'All Respondents'!U131-'All Respondents'!U130","v":0.03},{"$f":"'All Respondents'!V131-'All Respondents'!V130","v":0.03},{"$f":"'All Respondents'!W131-'All Respondents'!W130","v":0.06},{"$f":"'All Respondents'!X131-'All Respondents'!X130","v":-0.10000000000000003},{"$f":"'All Respondents'!Y131-'All Respondents'!Y130","v":2.0000000000000004E-2},{"$f":"'All Respondents'!Z131-'All Respondents'!Z130","v":-2.0000000000000018E-2},{"$f":"'All Respondents'!AA131-'All Respondents'!AA130","v":-2.0000000000000004E-2},{"$f":"'All Respondents'!AB131-'All Respondents'!AB130","v":1.0000000000000002E-2},{"$f":"'All Respondents'!AC131-'All Respondents'!AC130","v":0.03},{"$f":"'All Respondents'!AD131-'All Respondents'!AD130","v":-0.10999999999999999},{"$f":"'All Respondents'!AE131-'All Respondents'!AE130","v":0},{"$f":"'All Respondents'!AF131-'All Respondents'!AF130","v":0.03},{"$f":"'All Respondents'!AG131-'All Respondents'!AG130","v":-2.0000000000000004E-2},{"$f":"'All Respondents'!AH131-'All Respondents'!AH130","v":2.9999999999999971E-2},{"$f":"'All Respondents'!AI131-'All Respondents'!AI130","v":-2.9999999999999971E-2},{"$f":"'All Respondents'!AJ131-'All Respondents'!AJ130","v":9.9999999999999534E-3},{"$f":"'All Respondents'!AK131-'All Respondents'!AK130","v":-2.0000000000000018E-2},{"$f":"'All Respondents'!AL131-'All Respondents'!AL130","v":0},{"$f":"'All Respondents'!AM131-'All Respondents'!AM130","v":2.0000000000000018E-2},{"$f":"'All Respondents'!AN131-'All Respondents'!AN130","v":2.0000000000000018E-2},{"$f":"'All Respondents'!AO131-'All Respondents'!AO130","v":-4.0000000000000036E-2},{"$f":"'All Respondents'!AP131-'All Respondents'!AP130","v":4.0000000000000036E-2},{"$f":"'All Respondents'!AQ131-'All Respondents'!AQ130","v":0},{"$f":"'All Respondents'!AR131-'All Respondents'!AR130","v":-2.0000000000000018E-2},{"$f":"'All Respondents'!AS131-'All Respondents'!AS130","v":-4.9999999999999996E-2},{"$f":"'All Respondents'!AT131-'All Respondents'!AT130","v":2.0000000000000004E-2},{"$f":"'All Respondents'!AU131-'All Respondents'!AU130","v":-4.0000000000000008E-2},{"$f":"'All Respondents'!AV131-'All Respondents'!AV130","v":-1.0000000000000002E-2},{"$f":"'All Respondents'!AW131-'All Respondents'!AW130","v":2.0000000000000004E-2},{"$f":"'All Respondents'!AX131-'All Respondents'!AX130","v":-1.999999999999999E-2},{"$f":"'All Respondents'!AY131-'All Respondents'!AY130","v":1.0000000000000009E-2},{"$f":"'All Respondents'!AZ131-'All Respondents'!AZ130","v":7.999999999999996E-2},{"$f":"'All Respondents'!BA131-'All Respondents'!BA130","v":-1.999999999999999E-2},{"$f":"'All Respondents'!BB131-'All Respondents'!BB130","v":-4.0000000000000036E-2},{"$f":"'All Respondents'!BC131-'All Respondents'!BC130","v":9.9999999999999978E-2},{"$f":"'All Respondents'!BD131-'All Respondents'!BD130","v":1.6205999999999998E-2},{"$f":"'All Respondents'!BE131-'All Respondents'!BE130","v":-2.9999999999999916E-2},{"$f":"'All Respondents'!BF131-'All Respondents'!BF130","v":2.0000000000000018E-2},{"$f":"'All Respondents'!BG131-'All Respondents'!BG130","v":-4.9999999999999933E-2},{"$f":"'All Respondents'!BH131-'All Respondents'!BH130","v":5.0000000000000044E-2},{"$f":"'All Respondents'!BI131-'All Respondents'!BI130","v":-5.9999999999999942E-2},{"$f":"'All Respondents'!BJ131-'All Respondents'!BJ130","v":0.10999999999999999},{"$f":"'All Respondents'!BK131-'All Respondents'!BK130","v":0.03},{"$f":"'All Respondents'!BL131-'All Respondents'!BL130","v":-5.0000000000000017E-2},{"$f":"'All Respondents'!BM131-'All Respondents'!BM130","v":-2.0000000000000018E-2},{"$f":"'All Respondents'!BN131-'All Respondents'!BN130","v":1.9999999999999962E-2},{"$f":"'All Respondents'!BO131-'All Respondents'!BO130","v":0},{"$f":"'All Respondents'!BP131-'All Respondents'!BP130","v":9.999999999999995E-3},{"$f":"'All Respondents'!BQ131-'All Respondents'!BQ130","v":9.9999999999999811E-3},{"$f":"'All Respondents'!BR131-'All Respondents'!BR130","v":-2.9999999999999971E-2},{"$f":"'All Respondents'!BS131-'All Respondents'!BS130","v":-3.999999999999998E-2},{"$f":"'All Respondents'!BT131-'All Respondents'!BT130","v":4.9999999999999989E-2},{"$f":"'All Respondents'!BU131-'All Respondents'!BU130","v":-3.0000000000000027E-2},{"$f":"'All Respondents'!BV131-'All Respondents'!BV130","v":-8.9999999999999969E-2},{"$f":"'All Respondents'!BW131-'All Respondents'!BW130","v":4.9999999999999989E-2},{"$f":"'All Respondents'!BX131-'All Respondents'!BX130","v":-2.9999999999999916E-2},{"$f":"'All Respondents'!BY131-'All Respondents'!BY130","v":-7.9999999999999905E-2},{"$f":"'All Respondents'!BZ131-'All Respondents'!BZ130","v":{"$error":"#VALUE!"}},{"$f":"'All Respondents'!CA131-'All Respondents'!CA130","v":{"$error":"#VALUE!"}},{"$f":"'All Respondents'!CB131-'All Respondents'!CB130","v":{"$error":"#VALUE!"}},{"$f":"'All Respondents'!CC131-'All Respondents'!CC130","v":{"$error":"#VALUE!"}},{"$f":"'All Respondents'!CD131-'All Respondents'!CD130","v":{"$error":"#VALUE!"}},{"$f":"'All Respondents'!CE131-'All Respondents'!CE130","v":{"$error":"#VALUE!"}},{"$f":"'All Respondents'!CF131-'All Respondents'!CF130","v":{"$error":"#VALUE!"}},{"$f":"'All Respondents'!CG131-'All Respondents'!CG130","v":{"$error":"#VALUE!"}},{"$f":"'All Respondents'!CH131-'All Respondents'!CH130","v":{"$error":"#VALUE!"}},{"$f":"'All Respondents'!CI131-'All Respondents'!CI130","v":{"$error":"#VALUE!"}},{"$f":"'All Respondents'!CJ131-'All Respondents'!CJ130","v":{"$error":"#VALUE!"}},{"$f":"'All Respondents'!CK131-'All Respondents'!CK130","v":-9.999999999999995E-3},{"$f":"'All Respondents'!CL131-'All Respondents'!CL130","v":-0.06},{"$f":"'All Respondents'!CM131-'All Respondents'!CM130","v":-7.0000000000000007E-2},{"$f":"'All Respondents'!CN131-'All Respondents'!CN130","v":7.0000000000000062E-2},{"$f":"'All Respondents'!CO131-'All Respondents'!CO130","v":-4.0000000000000008E-2},{"$f":"'All Respondents'!CP131-'All Respondents'!CP130","v":0.10999999999999999},{"$f":"'All Respondents'!CQ131-'All Respondents'!CQ130","v":0.14000000000000012},{"$f":"'All Respondents'!CR131-'All Respondents'!CR130","v":2.0000000000000018E-2},{"$f":"'All Respondents'!CS131-'All Respondents'!CS130","v":-9.9999999999999811E-3},{"$f":"'All Respondents'!CT131-'All Respondents'!CT130","v":-4.9999999999999989E-2},{"$f":"'All Respondents'!CU131-'All Respondents'!CU130","v":0.03},{"$f":"'All Respondents'!CV131-'All Respondents'!CV130","v":0},{"$f":"'All Respondents'!CW131-'All Respondents'!CW130","v":-1.0000000000000009E-2},{"$f":"'All Respondents'!CX131-'All Respondents'!CX130","v":-4.0000000000000008E-2},{"$f":"'All Respondents'!CY131-'All Respondents'!CY130","v":0.04},{"$f":"'All Respondents'!CZ131-'All Respondents'!CZ130","v":9.9999999999999985E-3},{"$f":"'All Respondents'!DA131-'All Respondents'!DA130","v":0},{"$f":"'All Respondents'!DB131-'All Respondents'!DB130","v":{"$error":"#VALUE!"}},{"$f":"'All Respondents'!DC131-'All Respondents'!DC130","v":{"$error":"#VALUE!"}},{"$f":"'All Respondents'!DD131-'All Respondents'!DD130","v":{"$error":"#VALUE!"}},{"$f":"'All Respondents'!DE131-'All Respondents'!DE130","v":{"$error":"#VALUE!"}},{"$f":"'All Respondents'!DF131-'All Respondents'!DF130","v":{"$error":"#VALUE!"}},{"$f":"'All Respondents'!DG131-'All Respondents'!DG130","v":{"$error":"#VALUE!"}},{"$f":"'All Respondents'!DH131-'All Respondents'!DH130","v":{"$error":"#VALUE!"}},{"$f":"'All Respondents'!DI131-'All Respondents'!DI130","v":{"$error":"#VALUE!"}},{"$f":"'All Respondents'!DJ131-'All Respondents'!DJ130","v":{"$error":"#VALUE!"}},{"$f":"'All Respondents'!DK131-'All Respondents'!DK130","v":{"$error":"#VALUE!"}},{"$f":"'All Respondents'!DL131-'All Respondents'!DL130","v":{"$error":"#VALUE!"}},{"$f":"'All Respondents'!DM131-'All Respondents'!DM130","v":{"$error":"#VALUE!"}},{"$f":"'All Respondents'!DN131-'All Respondents'!DN130","v":{"$error":"#VALUE!"}},{"$f":"'All Respondents'!DO131-'All Respondents'!DO130","v":{"$error":"#VALUE!"}},{"$f":"'All Respondents'!DP131-'All Respondents'!DP130","v":{"$error":"#VALUE!"}},{"$f":"'All Respondents'!DQ131-'All Respondents'!DQ130","v":{"$error":"#VALUE!"}},{"$f":"'All Respondents'!DR131-'All Respondents'!DR130","v":{"$error":"#VALUE!"}},{"$f":"'All Respondents'!DS131-'All Respondents'!DS130","v":{"$error":"#VALUE!"}}]
["Min",{"$f":"MIN(B3:B130)","v":-17.799999999999997},-23.199999999999989,-0.16,-9.9999999999999978E-2,-8.0000000000000016E-2,-0.28000000000000003,-5.1199999999999996E-2,-3.4600000000000006E-2,-2.7001000000000001E-2,-0.10000000000000003,-7.9999999999999988E-2,-0.13,-0.15,null,{"$f":"MIN(P3:P130)","v":{"$error":"#VALUE!"}},-5.0000000000000044E-2,-6.9999999999999951E-2,-8.0000000000000071E-2,-7.0000000000000007E-2,-0.05,-0.12,-0.18999999999999995,-7.9999999999999988E-2,-8.0000000000000016E-2,-0.09,-0.06,-8.0000000000000016E-2,-0.18,-0.1,-6.9999999999999993E-2,-0.1,-0.12,-0.13,-0.1,-0.23000000000000004,-8.0000000000000016E-2,-0.10000000000000003,-0.14000000000000012,-0.52,-0.13,-9.0000000000000024E-2,-7.0000000000000007E-2,-0.08,-8.0000000000000016E-2,-0.11,-0.08,{"$f":"MIN(AV3:AV130)","v":-0.13},-0.09,-0.16999999999999998,-0.23000000000000004,-3.0000000000000002E-2,-0.12,-0.30000000000000004,-1.8617000000000002E-2,-5.0000000000000044E-2,-0.06,-0.10000000000000009,-0.16999999999999998,-0.11999999999999994,-0.3,-0.06,-0.06,-8.9999999999999969E-2,-0.06,-0.04,-3.0000000000000002E-2,-5.0000000000000017E-2,-0.12000000000000002,-7.0000000000000007E-2,-0.06,-8.0000000000000071E-2,-0.17,-7.0000000000000062E-2,-7.0000000000000007E-2,-0.14000000000000001,{"$error":"#VALUE!"},{"$error":"#VALUE!"},{"$error":"#VALUE!"},{"$f":"MIN(CB3:CB130)","v":{"$error":"#VALUE!"}},{"$error":"#VALUE!"},{"$error":"#VALUE!"},{"$error":"#VALUE!"},{"$error":"#VALUE!"},{"$error":"#VALUE!"},{"$error":"#VALUE!"},{"$error":"#VALUE!"},-0.05,-0.06,-0.09,-8.9999999999999969E-2,-0.09,-9.9999999999999978E-2,-0.18000000000000005,-6.9999999999999951E-2,-4.0000000000000008E-2,-7.0000000000000007E-2,-4.0000000000000008E-2,-0.06,-7.0000000000000062E-2,-6.9999999999999979E-2,-3.0000000000000002E-2,-4.0000000000000008E-2,-0.03,{"$error":"#VALUE!"},{"$error":"#VALUE!"},{"$error":"#VALUE!"},{"$error":"#VALUE!"},{"$error":"#VALUE!"},{"$error":"#VALUE!"},{"$error":"#VALUE!"},{"$f":"MIN(DH3:DH130)","v":{"$error":"#VALUE!"}},{"$error":"#VALUE!"},{"$error":"#VALUE!"},{"$error":"#VALUE!"},{"$error":"#VALUE!"},{"$error":"#VALUE!"},{"$error":"#VALUE!"},{"$error":"#VALUE!"},{"$error":"#VALUE!"},{"$error":"#VALUE!"},{"$error":"#VALUE!"}]
["Max",{"$f":"MAX(B3:B130)","v":9},13.799999999999997,8.0000000000000016E-2,0.14000000000000001,9.0000000000000024E-2,0.18,4.3999999999999997E-2,3.1699999999999992E-2,3.0005E-2,0.10999999999999999,0.12000000000000001,0.10000000000000003,0.12,null,{"$f":"MAX(P3:P130)","v":{"$error":"#VALUE!"}},0.06,0.06,8.9999999999999969E-2,0.09,7.9999999999999988E-2,0.10999999999999999,0.20999999999999996,7.0000000000000007E-2,0.12,7.9999999999999988E-2,0.06,7.9999999999999988E-2,0.1,0.12,7.0000000000000007E-2,8.0000000000000016E-2,0.2,0.09,7.9999999999999988E-2,0.10000000000000003,0.13,0.16000000000000003,0.29000000000000004,0.23000000000000015,8.0000000000000016E-2,7.9999999999999988E-2,7.0000000000000007E-2,0.08,6.0000000000000026E-2,9.0000000000000024E-2,0.1,{"$f":"MAX(AV3:AV130)","v":0.11000000000000001},9.0000000000000011E-2,0.18,8.9999999999999969E-2,7.0000000000000007E-2,0.13,9.9999999999999978E-2,1.6205999999999998E-2,7.999999999999996E-2,5.0000000000000044E-2,0.12999999999999995,9.9999999999999978E-2,0.13,0.20999999999999991,0.06,7.999999999999996E-2,6.9999999999999951E-2,9.0000000000000024E-2,0.06,3.0000000000000006E-2,7.9999999999999988E-2,0.10999999999999996,7.0000000000000007E-2,9.9999999999999992E-2,9.9999999999999978E-2,0.10999999999999999,7.0000000000000062E-2,7.0000000000000062E-2,0.13000000000000006,{"$error":"#VALUE!"},{"$error":"#VALUE!"},{"$error":"#VALUE!"},{"$f":"MAX(CB3:CB130)","v":{"$error":"#VALUE!"}},{"$error":"#VALUE!"},{"$error":"#VALUE!"},{"$error":"#VALUE!"},{"$error":"#VALUE!"},{"$error":"#VALUE!"},{"$error":"#VALUE!"},{"$error":"#VALUE!"},4.0000000000000008E-2,7.0000000000000007E-2,9.9999999999999978E-2,8.9999999999999858E-2,0.09,0.10999999999999999,0.17999999999999983,7.0000000000000007E-2,5.0000000000000017E-2,7.0000000000000007E-2,0.03,9.0000000000000011E-2,8.9999999999999969E-2,5.0000000000000017E-2,4.9999999999999996E-2,6.0000000000000005E-2,0.02,{"$error":"#VALUE!"},{"$error":"#VALUE!"},{"$error":"#VALUE!"},{"$error":"#VALUE!"},{"$error":"#VALUE!"},{"$error":"#VALUE!"},{"$error":"#VALUE!"},{"$f":"MAX(DH3:DH130)","v":{"$error":"#VALUE!"}},{"$error":"#VALUE!"},{"$error":"#VALUE!"},{"$error":"#VALUE!"},{"$error":"#VALUE!"},{"$error":"#VALUE!"},{"$error":"#VALUE!"},{"$error":"#VALUE!"},{"$error":"#VALUE!"},{"$error":"#VALUE!"},{"$error":"#VALUE!"}]
["St. Dev.",{"$f":"STDEV(B3:B130)","v":3.1763989109217148},3.9963435787873816,3.783511679633255E-2,2.9430285970127184E-2,3.4884158690715983E-2,5.69431267585419E-2,1.7927019301556678E-2,8.987322518042129E-3,6.7936437562772399E-3,3.9563315148149689E-2,2.1985589410618119E-2,3.9203436696530793E-2,5.0117971064499868E-2,null,{"$f":"STDEV(P3:P130)","v":{"$error":"#VALUE!"}},2.2823435384619593E-2,2.8325021457206015E-2,3.0397627342138002E-2,2.6113843547114039E-2,1.912695232173987E-2,3.3408339168301257E-2,6.1171108601684315E-2,2.858926148955734E-2,3.7073594520336262E-2,3.4453298544032965E-2,1.9825518950884781E-2,3.0863360509568196E-2,5.6348297370106298E-2,3.3677235892303765E-2,2.5624896462313449E-2,4.1858596617215936E-2,5.892985043869764E-2,2.6246367390195216E-2,3.2183880520445809E-2,4.0331960983463901E-2,3.6937297236876367E-2,3.1691080087094148E-2,4.4721359549995801E-2,8.3218322045182758E-2,3.9194475332012341E-2,3.5865183531660148E-2,2.5571574719731541E-2,2.4651966163709484E-2,3.2812877852728135E-2,4.1574139689344029E-2,2.876779808912305E-2,{"$f":"STDEV(AV3:AV130)","v":4.0228578871167334E-2},3.7088212786419092E-2,5.7466541080725006E-2,3.6674560337981582E-2,1.45232639874924E-2,3.3225547518047245E-2,4.471138581674184E-2,5.8793241442069693E-3,2.5301212001407315E-2,2.5050023771343646E-2,4.8504200646077661E-2,4.1696019844418508E-2,4.2738158557083315E-2,8.1846312669770258E-2,2.7876692597176601E-2,2.7751068469179751E-2,2.9875067950372439E-2,2.8017566023934199E-2,1.7546163802188451E-2,1.2261253468311185E-2,2.3000770271251057E-2,4.451731504238185E-2,2.8889808981579067E-2,2.3138895059335248E-2,3.0507114827825168E-2,4.336259863788057E-2,3.0497434382862575E-2,3.0342127233260515E-2,5.9346009292096782E-2,{"$error":"#VALUE!"},{"$error":"#VALUE!"},{"$error":"#VALUE!"},{"$f":"STDEV(CB3:CB130)","v":{"$error":"#VALUE!"}},{"$error":"#VALUE!"},{"$error":"#VALUE!"},{"$error":"#VALUE!"},{"$error":"#VALUE!"},{"$error":"#VALUE!"},{"$error":"#VALUE!"},{"$error":"#VALUE!"},1.7511873604338042E-2,2.762626230407075E-2,3.2883760265791692E-2,3.1825259979573008E-2,3.4785852693915466E-2,4.5102077643681439E-2,6.3907335708258212E-2,2.99909375823934E-2,2.0520329626121069E-2,2.6102596915809663E-2,1.6042862228241757E-2,2.1747086697222546E-2,2.9219515203516337E-2,2.6286486669832836E-2,1.6039979047213604E-2,1.1084841511731513E-2,8.5992787198530939E-3,{"$error":"#VALUE!"},{"$error":"#VALUE!"},{"$error":"#VALUE!"},{"$error":"#VALUE!"},{"$error":"#VALUE!"},{"$error":"#VALUE!"},{"$error":"#VALUE!"},{"$f":"STDEV(DH3:DH130)","v":{"$error":"#VALUE!"}},{"$error":"#VALUE!"},{"$error":"#VALUE!"},{"$error":"#VALUE!"},{"$error":"#VALUE!"},{"$error":"#VALUE!"},{"$error":"#VALUE!"},{"$error":"#VALUE!"},{"$error":"#VALUE!"},{"$error":"#VALUE!"},{"$error":"#VALUE!"}]

{"sheet":"Renters Only","index":4,"n_rows":135,"n_cols":17,"rows_kept":135,"cut":false,"hidden":false,"merged":[[0,9,0,16],[0,7,1,8],[0,5,1,6],[0,4,1,4],[0,1,1,3],[1,9,1,10],[1,11,1,12],[1,13,1,14],[1,15,1,16]]}
[null,"Share of renters who say home rental prices will go up/go down/stay the same in the next 12 months (18)",null,null,"Average Rental Price Level Expectation ","Share of renters who say they would buy/rent if they were going to move (31) ",null,"Share of all owners who say they would buy/rent if they were going to move (31) ",null,"Share of GP who say they would buy/rent if they were going to move (31) "]
[null,null,null,null,null,null,null,null,null,"18-34",null,"35-44",null,"45-64",null,"65+"]
[null,"Go Up ","Go Down","Stay the Same","Renters","Buy","Rent","Buy","Rent","Buy","Rent","Buy","Rent","Buy","Rent","Buy","Rent"]
["2010-06-01",0.48,0.12,0.38,4.2155999999999992E-2,0.37,0.6,0.8,0.16,0.56000000000000005,0.43,0.73,0.22,0.76,0.21,0.56000000000000005,0.35]
["2010-07-01",0.51,0.09,0.37,4.3781999999999995E-2,0.48,0.5,0.77,0.18,0.64,0.34,0.76,0.22,0.69,0.28000000000000003,0.6,0.28999999999999998]
["2010-08-01",0.47,0.08,0.44,4.2416999999999996E-2,0.37,0.62,0.76,0.17,0.55000000000000004,0.45,0.7,0.24,0.72,0.22,0.5,0.37]
["2010-09-01",0.46,0.04,0.48,3.5507999999999998E-2,0.33,0.64,0.76,0.18,0.52,0.45,0.68,0.27,0.7,0.27,0.56999999999999995,0.34]
["2010-10-01",0.38,0.08,0.49,3.8310000000000011E-2,0.42,0.55000000000000004,0.75,0.2,0.59,0.39,0.73,0.24,0.69,0.27,0.53,0.36]
["2010-11-01",0.48,0.08,0.4,3.5032000000000001E-2,0.38,0.6,0.77,0.17,0.52,0.47,0.75,0.22,0.72,0.23,0.57999999999999996,0.3]
["2010-12-01",0.41,0.09,0.5,3.1578000000000002E-2,0.47,0.51,0.79,0.16,0.62,0.36,0.73,0.24,0.78,0.2,0.56000000000000005,0.3]
["2011-01-01",0.41,0.06,0.5,3.1952999999999995E-2,0.46,0.51,0.8,0.15,0.61,0.38,0.74,0.22,0.79,0.19,0.53,0.34]
["2011-02-01",0.49,0.08,0.41,3.7256999999999998E-2,0.44,0.53,0.76,0.18,0.6,0.37,0.74,0.25,0.74,0.22,0.53,0.36]
["2011-03-01",0.55000000000000004,0.05,0.38,4.0820000000000009E-2,0.43,0.56000000000000005,0.77,0.18,0.61,0.38,0.79,0.2,0.68,0.26,0.54,0.36]
["2011-04-01",0.45,0.05,0.43,3.2160000000000001E-2,0.35,0.61,0.8,0.15,0.56000000000000005,0.41,0.81,0.15,0.69,0.27,0.55000000000000004,0.35]
["2011-05-01",0.46,0.05,0.45,4.1369999999999997E-2,0.4,0.56999999999999995,0.78,0.17,0.56000000000000005,0.43,0.78,0.17,0.73,0.25,0.56000000000000005,0.34]
["2011-06-01",0.47,0.03,0.48,4.8735000000000001E-2,0.39,0.59,0.79,0.18,0.54,0.45,0.78,0.2,0.77,0.21,0.5,0.43]
["2011-07-01",0.47,0.05,0.47,4.7089999999999993E-2,0.37,0.61,0.74,0.19,0.52,0.46,0.74,0.26,0.68,0.26,0.54,0.32]
["2011-08-01",0.55000000000000004,0.04,0.39,4.6761000000000011E-2,0.35,0.64,0.77,0.19,0.51,0.47,0.74,0.24,0.72,0.25,0.55000000000000004,0.39]
["2011-09-01",0.49,7.0000000000000007E-2,0.42,4.5871000000000002E-2,0.34,0.61,0.77,0.19,0.46,0.51,0.76,0.2,0.73,0.23,0.56999999999999995,0.33]
["2011-10-01",0.5,0.05,0.44,4.0529999999999997E-2,0.42,0.56000000000000005,0.78,0.18,0.6,0.38,0.81,0.16,0.7,0.28000000000000003,0.53,0.37]
["2011-11-01",0.44,0.03,0.51,3.7615000000000003E-2,0.34,0.64,0.75,0.2,0.5,0.49,0.76,0.22,0.7,0.27,0.48,0.4]
["2011-12-01",0.45,0.05,0.46,3.9640000000000002E-2,0.4,0.57999999999999996,0.77,0.18,0.57999999999999996,0.42,0.77,0.21,0.73,0.23,0.48,0.39]
["2012-01-01",0.53,0.04,0.4,4.5827E-2,0.43,0.53,0.75,0.18,0.54,0.42,0.77,0.22,0.76,0.19,0.43,0.42]
["2012-02-01",0.47,0.05,0.46,3.6027999999999991E-2,0.43,0.55000000000000004,0.77,0.16,0.62,0.37,0.74,0.21,0.69,0.27,0.53,0.33]
["2012-03-01",0.52,0.04,0.42,4.508800000000001E-2,0.41,0.56999999999999995,0.8,0.15,0.57999999999999996,0.4,0.8,0.19,0.73,0.24,0.53,0.36]
["2012-04-01",0.52,7.0000000000000007E-2,0.39,4.1092000000000004E-2,0.42,0.56000000000000005,0.75,0.19,0.57999999999999996,0.41,0.71,0.27,0.71,0.26,0.51,0.35]
["2012-05-01",0.5,0.06,0.42,3.9141999999999996E-2,0.38,0.61,0.76,0.19,0.6,0.39,0.75,0.23,0.69,0.28999999999999998,0.43,0.45]
["2012-06-01",0.51,7.0000000000000007E-2,0.4,4.3872000000000001E-2,0.44,0.54,0.79,0.15,0.6,0.39,0.76,0.22,0.75,0.2,0.55000000000000004,0.33]
["2012-07-01",0.51,0.01,0.47,4.6693999999999992E-2,0.46,0.53,0.76,0.19,0.56000000000000005,0.42,0.75,0.23,0.74,0.22,0.54,0.38]
["2012-08-01",0.47,7.0000000000000007E-2,0.41,3.7333999999999992E-2,0.45,0.52,0.78,0.18,0.57999999999999996,0.39,0.73,0.24,0.73,0.23,0.53,0.36]
["2012-09-01",0.56999999999999995,0.06,0.35,3.9029999999999995E-2,0.42,0.56999999999999995,0.82,0.15,0.61,0.39,0.78,0.21,0.74,0.24,0.59,0.36]
["2012-10-01",0.51,0.06,0.43,4.0974000000000003E-2,0.44,0.52,0.79,0.15,0.56999999999999995,0.4,0.8,0.14000000000000001,0.75,0.2,0.52,0.41]
["2012-11-01",0.5,0.03,0.44,4.5024999999999996E-2,0.45,0.52,0.8,0.15,0.56999999999999995,0.41,0.84,0.15,0.69,0.25,0.64,0.26]
["2012-12-01",0.56000000000000005,7.0000000000000007E-2,0.34,5.7288000000000006E-2,0.39,0.6,0.79,0.15,0.56000000000000005,0.42,0.77,0.2,0.74,0.23,0.5,0.37]
["2013-01-01",0.53,0.08,0.37,3.4054000000000008E-2,0.37,0.56999999999999995,0.8,0.15,0.59,0.4,0.77,0.2,0.71,0.25,0.5,0.32]
["2013-02-01",0.52,0.03,0.42,4.2250999999999997E-2,0.41,0.57999999999999996,0.82,0.15,0.62,0.38,0.77,0.21,0.72,0.26,0.56999999999999995,0.35]
["2013-03-01",0.53,0.04,0.39,5.0339000000000009E-2,0.4,0.59,0.77,0.17,0.56000000000000005,0.44,0.78,0.19,0.71,0.24,0.52,0.38]
["2013-04-01",0.53,0.03,0.42,5.5217000000000002E-2,0.36,0.62,0.81,0.13,0.59,0.4,0.77,0.21,0.73,0.21,0.48,0.41]
["2013-05-01",0.54,0.04,0.4,3.8574000000000004E-2,0.47,0.49,0.77,0.18,0.59,0.38,0.74,0.23,0.74,0.23,0.56000000000000005,0.32]
["2013-06-01",0.61,0.03,0.35,5.3813999999999994E-2,0.41,0.56999999999999995,0.78,0.15,0.56999999999999995,0.37,0.8,0.2,0.74,0.23,0.46,0.42]
["2013-07-01",0.61,0.03,0.35,5.2398999999999994E-2,0.41,0.56999999999999995,0.76,0.19,0.56999999999999995,0.41,0.73,0.26,0.72,0.25,0.53,0.37]
["2013-08-01",0.54,0.05,0.38,4.0815000000000004E-2,0.43,0.56000000000000005,0.77,0.19,0.59,0.39,0.77,0.21,0.68,0.27,0.53,0.4]
["2013-09-01",0.57999999999999996,0.05,0.37,3.4284999999999989E-2,0.48,0.48,0.81,0.16,0.66,0.32,0.73,0.24,0.76,0.21,0.56000000000000005,0.34]
["2013-10-01",0.61,0.04,0.33,6.3503000000000004E-2,0.5,0.48,0.82,0.15,0.61,0.37,0.8,0.18,0.76,0.2,0.64,0.31]
["2013-11-01",0.52,0.08,0.4,2.2219999999999997E-2,0.46,0.52,0.8,0.15,0.64,0.36,0.85,0.12,0.71,0.24,0.53,0.39]
["2013-12-01",0.55000000000000004,0.02,0.42,4.6989000000000003E-2,0.34,0.65,0.84,0.13,0.56999999999999995,0.42,0.78,0.19,0.73,0.24,0.56999999999999995,0.37]
["2014-01-01",0.51,0.05,0.38,2.5850999999999999E-2,0.52,0.47,0.81,0.14000000000000001,0.72,0.27,0.88,0.11,0.81,0.13,0.56999999999999995,0.37]
["2014-02-01",0.57999999999999996,0.01,0.38,5.1685000000000002E-2,0.4,0.57999999999999996,0.8,0.16,0.56999999999999995,0.43,0.82,0.16,0.74,0.21,0.51,0.37]
["2014-03-01",0.56999999999999995,0.04,0.39,4.6095999999999984E-2,0.42,0.54,0.81,0.15,0.55000000000000004,0.41,0.8,0.17,0.78,0.18,0.56000000000000005,0.38]
["2014-04-01",0.57999999999999996,0.01,0.39,4.7589999999999993E-2,0.4,0.57999999999999996,0.78,0.18,0.61,0.38,0.72,0.26,0.75,0.21,0.47,0.47]
["2014-05-01",0.53,0.05,0.33,3.5378000000000007E-2,0.4,0.56000000000000005,0.81,0.13,0.56000000000000005,0.41,0.77,0.2,0.76,0.22,0.55000000000000004,0.3]
["2014-06-01",0.59,0.04,0.37,4.2465999999999997E-2,0.44,0.53,0.81,0.15,0.69,0.3,0.74,0.21,0.73,0.23,0.51,0.41]
["2014-07-01",0.56999999999999995,0.03,0.39,4.5594000000000003E-2,0.4,0.59,0.81,0.13,0.62,0.37,0.75,0.21,0.73,0.22,0.56000000000000005,0.38]
["2014-08-01",0.53,7.0000000000000007E-2,0.33,4.8477000000000006E-2,0.43,0.56999999999999995,0.75,0.19,0.56000000000000005,0.43,0.78,0.2,0.71,0.25,0.49,0.4]
["2014-09-01",0.56000000000000005,0.01,0.41,2.9348000000000006E-2,0.42,0.51,0.78,0.15,0.6,0.36,0.76,0.21,0.75,0.21,0.44,0.35]
["2014-10-01",0.61,0.03,0.32,4.2283000000000001E-2,0.46,0.51,0.76,0.19,0.62,0.37,0.78,0.21,0.73,0.21,0.43,0.45]
["2014-11-01",0.6,0.04,0.32,4.4768000000000002E-2,0.37,0.59,0.77,0.16,0.53,0.46,0.85,0.12,0.7,0.23,0.4,0.42]
["2014-12-01",0.59,0.04,0.4,4.7483999999999991E-2,0.35,0.62,0.76,0.18,0.51,0.46,0.81,0.17,0.67,0.28000000000000003,0.46,0.4]
["2015-01-01",0.56000000000000005,0.02,0.4,4.1790000000000001E-2,0.46,0.51,0.79,0.16,0.59,0.38,0.83,0.15,0.73,0.23,0.51,0.38]
["2015-02-01",0.56000000000000005,0.04,0.37,4.8368000000000001E-2,0.47,0.48,0.77,0.18,0.55000000000000004,0.43,0.8,0.16,0.76,0.21,0.5,0.34]
["2015-03-01",0.56999999999999995,0.06,0.33,4.6430999999999993E-2,0.38,0.59,0.74,0.19,0.48,0.5,0.79,0.18,0.67,0.26,0.52,0.4]
["2015-04-01",0.59,0.03,0.36,5.5645999999999987E-2,0.36,0.6,0.8,0.14000000000000001,0.54,0.43,0.7,0.27,0.72,0.23,0.55000000000000004,0.33]
["2015-05-01",0.63,0.03,0.3,5.8331999999999995E-2,0.43,0.53,0.8,0.12,0.62,0.36,0.8,0.12,0.7,0.25,0.53,0.31]
["2015-06-01",0.61,0.04,0.31,4.4542999999999999E-2,0.45,0.51,0.77,0.16,0.54,0.44,0.78,0.2,0.74,0.2,0.51,0.34]
["2015-07-01",0.6,0.03,0.33,5.7557999999999998E-2,0.47,0.49,0.77,0.15,0.56999999999999995,0.42,0.76,0.21,0.75,0.19,0.54,0.28999999999999998]
["2015-08-01",0.57999999999999996,0.01,0.38,5.1179000000000002E-2,0.42,0.56000000000000005,0.79,0.16,0.59,0.4,0.77,0.19,0.73,0.24,0.47,0.41]
["2015-09-01",0.59,0.06,0.34,5.1121999999999994E-2,0.44,0.54,0.8,0.14000000000000001,0.5,0.49,0.88,0.11,0.77,0.2,0.56999999999999995,0.28999999999999998]
["2015-10-01",0.64,0.02,0.33,4.8582E-2,0.35,0.62,0.8,0.13,0.5,0.47,0.77,0.18,0.75,0.2,0.45,0.38]
["2015-11-01",0.61,0.01,0.36,5.6269999999999987E-2,0.4,0.56999999999999995,0.84,0.12,0.54,0.45,0.82,0.17,0.77,0.19,0.56999999999999995,0.34]
["2015-12-01",0.6,0.04,0.31,3.8235999999999999E-2,0.34,0.65,0.81,0.13,0.52,0.46,0.78,0.21,0.75,0.22,0.44,0.44]
["2016-01-01",0.56000000000000005,0.05,0.37,4.7902000000000007E-2,0.47,0.51,0.8,0.15,0.52,0.46,0.84,0.15,0.79,0.16,0.57999999999999996,0.34]
["2016-02-01",0.57999999999999996,0.05,0.33,3.4332999999999989E-2,0.38,0.59,0.79,0.15,0.46,0.51,0.77,0.22,0.75,0.2,0.6,0.27]
["2016-03-01",0.56000000000000005,0.02,0.36,4.6488000000000002E-2,0.43,0.54,0.8,0.14000000000000001,0.57999999999999996,0.4,0.76,0.21,0.74,0.2,0.53,0.35]
["2016-04-01",0.62,0.05,0.3,4.0753999999999999E-2,0.41,0.56000000000000005,0.76,0.18,0.56999999999999995,0.42,0.76,0.21,0.67,0.26,0.54,0.36]
["2016-05-01",0.59,0.05,0.32,4.3753999999999987E-2,0.39,0.57999999999999996,0.77,0.13,0.49,0.49,0.75,0.17,0.73,0.21,0.56000000000000005,0.24]
["2016-06-01",0.63,0.05,0.31,4.3840000000000004E-2,0.41,0.55000000000000004,0.77,0.17,0.52,0.45,0.82,0.14000000000000001,0.71,0.26,0.53,0.32]
["2016-07-01",0.59,0.04,0.33,4.3831999999999989E-2,0.5,0.48,0.79,0.13,0.66,0.32,0.75,0.19,0.72,0.2,0.54,0.33]
["2016-08-01",0.57999999999999996,0.05,0.32,4.0343999999999998E-2,0.47,0.48,0.76,0.18,0.57999999999999996,0.39,0.76,0.19,0.74,0.21,0.5,0.38]
["2016-09-01",0.59,0.03,0.32,4.1882999999999997E-2,0.42,0.56000000000000005,0.78,0.16,0.54,0.45,0.81,0.17,0.74,0.21,0.48,0.38]
["2016-10-01",0.59,0.01,0.34,4.8317000000000006E-2,0.5,0.48,0.77,0.18,0.59,0.4,0.83,0.14000000000000001,0.72,0.24,0.55000000000000004,0.38]
["2016-11-01",0.56999999999999995,0.04,0.35,4.2911000000000005E-2,0.46,0.51,0.79,0.12,0.62,0.35,0.79,0.2,0.74,0.21,0.5,0.3]
["2016-12-16",0.56000000000000005,0.03,0.36,3.9528000000000001E-2,0.44,0.54,0.83,0.13,0.61,0.37,0.8,0.17,0.73,0.22,0.6,0.33]
["2017-01-01",0.59,0.04,0.33,5.0115000000000007E-2,0.38,0.59,0.79,0.13,0.56000000000000005,0.42,0.8,0.18,0.69,0.22,0.56000000000000005,0.31]
["2017-02-01",0.6,0.03,0.34,3.7589999999999998E-2,0.4,0.56999999999999995,0.81,0.13,0.61,0.36,0.83,0.17,0.72,0.21,0.5,0.41]
["2017-03-01",0.61,0.05,0.33,4.8430000000000001E-2,0.4,0.56999999999999995,0.79,0.15,0.59,0.4,0.79,0.2,0.69,0.25,0.57999999999999996,0.3]
["2017-04-01",0.51,0.03,0.42,4.3149000000000007E-2,0.45,0.52,0.79,0.14000000000000001,0.54,0.44,0.73,0.22,0.78,0.19,0.61,0.26]
["2017-05-01",0.54,7.0000000000000007E-2,0.35,3.2621000000000004E-2,0.46,0.53,0.81,0.12,0.68,0.31,0.76,0.2,0.73,0.2,0.52,0.4]
["2017-06-01",0.6,0.06,0.3,6.2009999999999996E-2,0.49,0.47,0.77,0.17,0.62,0.36,0.8,0.19,0.73,0.23,0.52,0.34]
["2017-07-01",0.62,0.04,0.3,5.3763999999999992E-2,0.41,0.56000000000000005,0.78,0.15,0.51,0.48,0.76,0.21,0.75,0.2,0.6,0.27]
["2017-08-01",0.62,0.04,0.31,4.5852000000000004E-2,0.41,0.56999999999999995,0.8,0.12,0.55000000000000004,0.42,0.75,0.24,0.78,0.18,0.53,0.28999999999999998]
["2017-09-01",0.56000000000000005,0.02,0.37,4.2743999999999997E-2,0.47,0.49,0.79,0.15,0.6,0.37,0.8,0.17,0.75,0.22,0.53,0.31]
["2017-10-01",0.6,0.05,0.28999999999999998,4.2404999999999991E-2,0.49,0.46,0.78,0.13,0.62,0.37,0.85,0.15,0.73,0.18,0.51,0.28999999999999998]
["2017-11-01",0.7,0.02,0.26,5.9590000000000004E-2,0.37,0.61,0.81,0.13,0.53,0.46,0.69,0.28999999999999998,0.79,0.17,0.57999999999999996,0.3]
["2017-12-01",0.73,0.01,0.23,6.8058000000000007E-2,0.43,0.55000000000000004,0.85,0.11,0.57999999999999996,0.41,0.86,0.12,0.79,0.18,0.56000000000000005,0.32]
["2018-01-01",0.61,0.04,0.28999999999999998,5.2801000000000001E-2,0.41,0.56000000000000005,0.83,0.12,0.52,0.47,0.81,0.19,0.79,0.16,0.6,0.28000000000000003]
["2018-02-01",0.56000000000000005,0.05,0.33,4.5164999999999997E-2,0.46,0.5,0.77,0.16,0.57999999999999996,0.4,0.8,0.19,0.71,0.22,0.57999999999999996,0.32]
["2018-03-01",0.6,0.02,0.35,4.9239999999999992E-2,0.47,0.52,0.83,0.11,0.56999999999999995,0.42,0.82,0.16,0.78,0.19,0.67,0.22]
["2018-04-01",0.6,0.04,0.32,5.6459999999999996E-2,0.42,0.52,0.8,0.14000000000000001,0.56000000000000005,0.4,0.84,0.15,0.72,0.22,0.59,0.3]
["2018-05-02",0.6,0.02,0.31,4.8210000000000003E-2,0.51,0.46,0.79,0.15,0.57999999999999996,0.4,0.83,0.17,0.76,0.18,0.52,0.38]
["2018-06-19",0.57999999999999996,0.04,0.37,3.9101999999999998E-2,0.46,0.49,0.8,0.12,0.64,0.33,0.78,0.16,0.77,0.16,0.49,0.38]
["2018-07-20",0.65,0.02,0.3,5.4818000000000006E-2,0.4,0.59,0.8,0.13,0.48,0.51,0.79,0.18,0.78,0.17,0.57999999999999996,0.3]
["2018-08-20",0.68,0.05,0.24,5.4364999999999997E-2,0.43,0.54,0.81,0.13,0.57999999999999996,0.41,0.78,0.16,0.77,0.2,0.56000000000000005,0.32]
["2018-09-20",0.64,0.03,0.31,4.2394999999999995E-2,0.43,0.55000000000000004,0.79,0.15,0.56000000000000005,0.41,0.77,0.22,0.76,0.2,0.56000000000000005,0.34]
["2018-10-01",0.6,0.08,0.28999999999999998,4.3740000000000008E-2,0.44,0.53,0.84,0.11,0.59,0.4,0.85,0.13,0.79,0.18,0.56000000000000005,0.3]
["2018-11-01",0.65,0.03,0.31,5.0744999999999998E-2,0.43,0.55000000000000004,0.83,0.13,0.62,0.38,0.85,0.15,0.79,0.17,0.48,0.42]
["2018-12-01",0.62,0.04,0.33,5.2261999999999996E-2,0.43,0.54,0.81,0.14000000000000001,0.56000000000000005,0.43,0.74,0.23,0.81,0.17,0.53,0.31]
["2019-01-01",0.59,0.06,0.33,4.0686E-2,0.41,0.56000000000000005,0.84,0.12,0.59,0.38,0.83,0.12,0.8,0.16,0.49,0.43]
["2019-02-01",0.59,0.02,0.35,5.0795999999999994E-2,0.39,0.59,0.8,0.14000000000000001,0.5,0.49,0.82,0.18,0.73,0.19,0.6,0.31]
["2019-03-01",0.6,0.06,0.28999999999999998,3.8567999999999998E-2,0.48,0.5,0.81,0.13,0.62,0.37,0.75,0.2,0.79,0.16,0.56999999999999995,0.32]
["2019-04-01",0.64,0.03,0.3,4.7751000000000002E-2,0.44,0.54,0.79,0.15,0.62,0.37,0.75,0.24,0.75,0.21,0.53,0.35]
["2019-05-01",0.67,0.04,0.24,6.0990000000000003E-2,0.39,0.56000000000000005,0.78,0.16,0.56999999999999995,0.4,0.7,0.26,0.77,0.2,0.5,0.38]
["2019-06-01",0.6,0.03,0.33,4.2900000000000001E-2,0.37,0.6,0.78,0.14000000000000001,0.51,0.47,0.76,0.22,0.77,0.17,0.46,0.39]
["2019-07-01",0.65,0.04,0.27,5.1302E-2,0.42,0.56000000000000005,0.8,0.14000000000000001,0.6,0.39,0.78,0.21,0.74,0.19,0.53,0.37]
["2019-08-01",0.66,0.01,0.28999999999999998,5.8372E-2,0.46,0.51,0.76,0.17,0.65,0.31,0.76,0.22,0.69,0.28000000000000003,0.52,0.34]
["2019-09-01",0.6,0.06,0.32,4.9793999999999998E-2,0.45,0.53,0.82,0.12,0.66,0.33,0.78,0.22,0.75,0.21,0.56999999999999995,0.31]
["2019-10-01",0.63,0.06,0.28000000000000003,5.1707999999999997E-2,0.38,0.57999999999999996,0.83,0.13,0.53,0.45,0.84,0.15,0.76,0.21,0.59,0.31]
["2019-11-01",0.66,0.04,0.25,4.7750000000000001E-2,0.44,0.54,0.8,0.13,0.54,0.45,0.79,0.17,0.8,0.17,0.56000000000000005,0.28999999999999998]
["2019-12-01",0.59,7.0000000000000007E-2,0.31,4.9067E-2,0.39,0.57999999999999996,0.82,0.11,0.56000000000000005,0.43,0.78,0.19,0.74,0.18,0.59,0.28999999999999998]
["2020-01-01",0.6,0.05,0.31,5.0255000000000001E-2,0.36,0.62,0.79,0.15,0.51,0.49,0.81,0.19,0.72,0.23,0.56000000000000005,0.32]
["2020-02-01",0.69,0.03,0.24,6.3146999999999995E-2,0.36,0.62,0.85,0.11,0.56999999999999995,0.43,0.76,0.2,0.76,0.21,0.6,0.31]
["2020-03-01",0.54,7.0000000000000007E-2,0.36,4.1770000000000002E-2,0.38,0.6,0.82,0.13,0.53,0.47,0.78,0.19,0.79,0.17,0.56000000000000005,0.33]
["2020-04-01",0.28000000000000003,0.15,0.49,1.5675000000000001E-2,0.4,0.59,0.8,0.12,0.51,0.49,0.81,0.17,0.8,0.16,0.51,0.31]
["2020-05-01",0.33,0.14000000000000001,0.48,2.9086000000000001E-2,0.45,0.52,0.78,0.14000000000000001,0.54,0.44,0.72,0.22,0.78,0.16,0.6,0.28000000000000003]
["2020-06-01",0.49,0.15,0.3,2.2169999999999999E-2,0.46,0.52,0.81,0.11,0.56000000000000005,0.42,0.83,0.15,0.76,0.18,0.63,0.22]
["2020-07-01",0.47,0.13,0.36,2.7542000000000001E-2,0.45,0.52,0.84,0.11,0.61,0.38,0.88,0.12,0.78,0.18,0.56000000000000005,0.3]
["2020-08-01",0.53,0.16,0.28000000000000003,5.3129000000000003E-2,0.45,0.51,0.83,0.11,0.57999999999999996,0.39,0.84,0.13,0.77,0.19,0.59,0.28000000000000003]
["2020-09-01",0.56000000000000005,0.09,0.34,4.1524999999999999E-2,0.52,0.44,0.82,0.13,0.6,0.39,0.86,0.11,0.78,0.17,0.64,0.24]
["2020-10-01",0.42,0.12,0.42,2.6603999999999999E-2,0.48,0.49,0.81,0.14000000000000001,0.57999999999999996,0.38,0.8,0.19,0.78,0.18,0.61,0.31]
["2020-11-01",0.57999999999999996,0.09,0.3,5.1402999999999997E-2,0.36,0.61,0.84,0.1,0.5,0.46,0.74,0.22,0.83,0.13,0.6,0.33]
["2020-12-01",0.53,7.0000000000000007E-2,0.35,5.6042000000000002E-2,0.32,0.59,0.79,0.14000000000000001,0.52,0.42,0.77,0.21,0.72,0.22,0.51,0.35]
["2021-01-01",0.56000000000000005,0.11,0.3,3.4806999999999998E-2,0.49,0.48,0.82,0.12,0.61,0.38,0.86,0.12,0.77,0.2,0.57999999999999996,0.24]
["2021-02-01",0.6,0.09,0.3,5.5412999999999997E-2,0.4,0.55000000000000004,0.81,0.11,0.59,0.36,0.77,0.18,0.74,0.21,0.56999999999999995,0.3]
["Min",{"$f":"MIN(B4:B132)","v":0.28000000000000003},0.01,0.23,1.5675000000000001E-2,0.32,0.44,0.74,0.1,0.46,0.27,0.68,0.11,0.67,0.13,0.4,0.22]
["Max",{"$f":"MAX(B4:B132)","v":0.73},0.16,0.51,6.8058000000000007E-2,0.52,0.65,0.85,0.2,0.72,0.51,0.88,0.28999999999999998,0.83,0.28999999999999998,0.67,0.47]
["St. Dev.",{"$f":"STDEV(B4:B132)","v":7.1100499349524726E-2},2.9813494876384277E-2,6.1796035471543026E-2,8.9352997274764583E-3,4.3974644738134061E-2,4.589033629334479E-2,2.4820577078537628E-2,2.4606151543840764E-2,4.6927135089966231E-2,4.6945715393404849E-2,4.1729216615937613E-2,3.8851299201087111E-2,3.4174405911147093E-2,3.3759688531847833E-2,4.8569408099139684E-2,4.9949950725895399E-2]

{"sheet":"Month-to-Month Renters Change","index":5,"n_rows":134,"n_cols":17,"rows_kept":134,"cut":false,"hidden":false,"merged":[[0,1,0,3],[0,5,0,6],[0,7,0,8],[0,9,0,16],[1,9,1,10],[1,11,1,12],[1,13,1,14],[1,15,1,16],[1,1,1,3],[1,5,1,6],[1,7,1,8]]}
[null,"Share of renters who say home rental prices will go up/go down/stay the same in the next 12 months (18)",null,null,"Average Rental Price Level Expectation ","Share of renters who say they would buy/rent if they were going to move (31) ",null,"Share of owners + mortgage who say they would buy/rent if they were going to move (31) ",null,"Share of GP who say they would buy/rent if they were going to move (31) "]
[null,null,null,null,null,null,null,null,null,"18-34",null,"35-44",null,"45-64",null,"65+"]
[null,"Go Up ","Go Down","Stay the Same","Renters","Buy","Rent","Buy","Rent","Buy","Rent","Buy","Rent","Buy","Rent","Buy","Rent"]
["Jun-Jul 10",{"$f":"'Renters Only'!B5-'Renters Only'!B4","v":3.0000000000000027E-2},{"$f":"'Renters Only'!C5-'Renters Only'!C4","v":-0.03},{"$f":"'Renters Only'!D5-'Renters Only'!D4","v":-1.0000000000000009E-2},{"$f":"'Renters Only'!E5-'Renters Only'!E4","v":1.6260000000000024E-3},{"$f":"'Renters Only'!F5-'Renters Only'!F4","v":0.10999999999999999},{"$f":"'Renters Only'!G5-'Renters Only'!G4","v":-9.9999999999999978E-2},{"$f":"'Renters Only'!H5-'Renters Only'!H4","v":-3.0000000000000027E-2},{"$f":"'Renters Only'!I5-'Renters Only'!I4","v":1.999999999999999E-2},{"$f":"'Renters Only'!J5-'Renters Only'!J4","v":7.999999999999996E-2},{"$f":"'Renters Only'!K5-'Renters Only'!K4","v":-8.9999999999999969E-2},{"$f":"'Renters Only'!L5-'Renters Only'!L4","v":3.0000000000000027E-2},{"$f":"'Renters Only'!M5-'Renters Only'!M4","v":0},{"$f":"'Renters Only'!N5-'Renters Only'!N4","v":-7.0000000000000062E-2},{"$f":"'Renters Only'!O5-'Renters Only'!O4","v":7.0000000000000034E-2},{"$f":"'Renters Only'!P5-'Renters Only'!P4","v":3.9999999999999925E-2},{"$f":"'Renters Only'!Q5-'Renters Only'!Q4","v":-0.06}]
["Jul-Aug 10",{"$f":"'Renters Only'!B6-'Renters Only'!B5","v":-4.0000000000000036E-2},{"$f":"'Renters Only'!C6-'Renters Only'!C5","v":-9.999999999999995E-3},{"$f":"'Renters Only'!D6-'Renters Only'!D5","v":7.0000000000000007E-2},{"$f":"'Renters Only'!E6-'Renters Only'!E5","v":-1.3649999999999982E-3},{"$f":"'Renters Only'!F6-'Renters Only'!F5","v":-0.10999999999999999},{"$f":"'Renters Only'!G6-'Renters Only'!G5","v":0.12},{"$f":"'Renters Only'!H6-'Renters Only'!H5","v":-1.0000000000000009E-2},{"$f":"'Renters Only'!I6-'Renters Only'!I5","v":-9.9999999999999811E-3},{"$f":"'Renters Only'!J6-'Renters Only'!J5","v":-8.9999999999999969E-2},{"$f":"'Renters Only'!K6-'Renters Only'!K5","v":0.10999999999999999},{"$f":"'Renters Only'!L6-'Renters Only'!L5","v":-6.0000000000000053E-2},{"$f":"'Renters Only'!M6-'Renters Only'!M5","v":1.999999999999999E-2},{"$f":"'Renters Only'!N6-'Renters Only'!N5","v":3.0000000000000027E-2},{"$f":"'Renters Only'!O6-'Renters Only'!O5","v":-6.0000000000000026E-2},{"$f":"'Renters Only'!P6-'Renters Only'!P5","v":-9.9999999999999978E-2},{"$f":"'Renters Only'!Q6-'Renters Only'!Q5","v":8.0000000000000016E-2}]
["Aug-Sep 10",{"$f":"'Renters Only'!B7-'Renters Only'!B6","v":-9.9999999999999534E-3},{"$f":"'Renters Only'!C7-'Renters Only'!C6","v":-0.04},{"$f":"'Renters Only'!D7-'Renters Only'!D6","v":3.999999999999998E-2},{"$f":"'Renters Only'!E7-'Renters Only'!E6","v":-6.9089999999999985E-3},{"$f":"'Renters Only'!F7-'Renters Only'!F6","v":-3.999999999999998E-2},{"$f":"'Renters Only'!G7-'Renters Only'!G6","v":2.0000000000000018E-2},{"$f":"'Renters Only'!H7-'Renters Only'!H6","v":0},{"$f":"'Renters Only'!I7-'Renters Only'!I6","v":9.9999999999999811E-3},{"$f":"'Renters Only'!J7-'Renters Only'!J6","v":-3.0000000000000027E-2},{"$f":"'Renters Only'!K7-'Renters Only'!K6","v":0},{"$f":"'Renters Only'!L7-'Renters Only'!L6","v":-1.9999999999999907E-2},{"$f":"'Renters Only'!M7-'Renters Only'!M6","v":3.0000000000000027E-2},{"$f":"'Renters Only'!N7-'Renters Only'!N6","v":-2.0000000000000018E-2},{"$f":"'Renters Only'!O7-'Renters Only'!O6","v":5.0000000000000017E-2},{"$f":"'Renters Only'!P7-'Renters Only'!P6","v":6.9999999999999951E-2},{"$f":"'Renters Only'!Q7-'Renters Only'!Q6","v":-2.9999999999999971E-2}]
["Sep-Oct 10",{"$f":"'Renters Only'!B8-'Renters Only'!B7","v":-8.0000000000000016E-2},{"$f":"'Renters Only'!C8-'Renters Only'!C7","v":0.04},{"$f":"'Renters Only'!D8-'Renters Only'!D7","v":1.0000000000000009E-2},{"$f":"'Renters Only'!E8-'Renters Only'!E7","v":2.8020000000000128E-3},{"$f":"'Renters Only'!F8-'Renters Only'!F7","v":8.9999999999999969E-2},{"$f":"'Renters Only'!G8-'Renters Only'!G7","v":-8.9999999999999969E-2},{"$f":"'Renters Only'!H8-'Renters Only'!H7","v":-1.0000000000000009E-2},{"$f":"'Renters Only'!I8-'Renters Only'!I7","v":2.0000000000000018E-2},{"$f":"'Renters Only'!J8-'Renters Only'!J7","v":6.9999999999999951E-2},{"$f":"'Renters Only'!K8-'Renters Only'!K7","v":-0.06},{"$f":"'Renters Only'!L8-'Renters Only'!L7","v":4.9999999999999933E-2},{"$f":"'Renters Only'!M8-'Renters Only'!M7","v":-3.0000000000000027E-2},{"$f":"'Renters Only'!N8-'Renters Only'!N7","v":-1.0000000000000009E-2},{"$f":"'Renters Only'!O8-'Renters Only'!O7","v":0},{"$f":"'Renters Only'!P8-'Renters Only'!P7","v":-3.9999999999999925E-2},{"$f":"'Renters Only'!Q8-'Renters Only'!Q7","v":1.9999999999999962E-2}]
["Oct-Nov 10",{"$f":"'Renters Only'!B9-'Renters Only'!B8","v":9.9999999999999978E-2},{"$f":"'Renters Only'!C9-'Renters Only'!C8","v":0},{"$f":"'Renters Only'!D9-'Renters Only'!D8","v":-8.9999999999999969E-2},{"$f":"'Renters Only'!E9-'Renters Only'!E8","v":-3.2780000000000101E-3},{"$f":"'Renters Only'!F9-'Renters Only'!F8","v":-3.999999999999998E-2},{"$f":"'Renters Only'!G9-'Renters Only'!G8","v":4.9999999999999933E-2},{"$f":"'Renters Only'!H9-'Renters Only'!H8","v":2.0000000000000018E-2},{"$f":"'Renters Only'!I9-'Renters Only'!I8","v":-0.03},{"$f":"'Renters Only'!J9-'Renters Only'!J8","v":-6.9999999999999951E-2},{"$f":"'Renters Only'!K9-'Renters Only'!K8","v":7.999999999999996E-2},{"$f":"'Renters Only'!L9-'Renters Only'!L8","v":2.0000000000000018E-2},{"$f":"'Renters Only'!M9-'Renters Only'!M8","v":-1.999999999999999E-2},{"$f":"'Renters Only'!N9-'Renters Only'!N8","v":3.0000000000000027E-2},{"$f":"'Renters Only'!O9-'Renters Only'!O8","v":-4.0000000000000008E-2},{"$f":"'Renters Only'!P9-'Renters Only'!P8","v":4.9999999999999933E-2},{"$f":"'Renters Only'!Q9-'Renters Only'!Q8","v":-0.06}]
["Nov-Dec 10",{"$f":"'Renters Only'!B10-'Renters Only'!B9","v":-7.0000000000000007E-2},{"$f":"'Renters Only'!C10-'Renters Only'!C9","v":9.999999999999995E-3},{"$f":"'Renters Only'!D10-'Renters Only'!D9","v":9.9999999999999978E-2},{"$f":"'Renters Only'!E10-'Renters Only'!E9","v":-3.4539999999999987E-3},{"$f":"'Renters Only'!F10-'Renters Only'!F9","v":8.9999999999999969E-2},{"$f":"'Renters Only'!G10-'Renters Only'!G9","v":-8.9999999999999969E-2},{"$f":"'Renters Only'!H10-'Renters Only'!H9","v":2.0000000000000018E-2},{"$f":"'Renters Only'!I10-'Renters Only'!I9","v":-1.0000000000000009E-2},{"$f":"'Renters Only'!J10-'Renters Only'!J9","v":9.9999999999999978E-2},{"$f":"'Renters Only'!K10-'Renters Only'!K9","v":-0.10999999999999999},{"$f":"'Renters Only'!L10-'Renters Only'!L9","v":-2.0000000000000018E-2},{"$f":"'Renters Only'!M10-'Renters Only'!M9","v":1.999999999999999E-2},{"$f":"'Renters Only'!N10-'Renters Only'!N9","v":6.0000000000000053E-2},{"$f":"'Renters Only'!O10-'Renters Only'!O9","v":-0.03},{"$f":"'Renters Only'!P10-'Renters Only'!P9","v":-1.9999999999999907E-2},{"$f":"'Renters Only'!Q10-'Renters Only'!Q9","v":0}]
["Dec 10-Jan 11",{"$f":"'Renters Only'!B11-'Renters Only'!B10","v":0},{"$f":"'Renters Only'!C11-'Renters Only'!C10","v":-0.03},{"$f":"'Renters Only'!D11-'Renters Only'!D10","v":0},{"$f":"'Renters Only'!E11-'Renters Only'!E10","v":3.7499999999999339E-4},{"$f":"'Renters Only'!F11-'Renters Only'!F10","v":-9.9999999999999534E-3},{"$f":"'Renters Only'!G11-'Renters Only'!G10","v":0},{"$f":"'Renters Only'!H11-'Renters Only'!H10","v":1.0000000000000009E-2},{"$f":"'Renters Only'!I11-'Renters Only'!I10","v":-1.0000000000000009E-2},{"$f":"'Renters Only'!J11-'Renters Only'!J10","v":-1.0000000000000009E-2},{"$f":"'Renters Only'!K11-'Renters Only'!K10","v":2.0000000000000018E-2},{"$f":"'Renters Only'!L11-'Renters Only'!L10","v":1.0000000000000009E-2},{"$f":"'Renters Only'!M11-'Renters Only'!M10","v":-1.999999999999999E-2},{"$f":"'Renters Only'!N11-'Renters Only'!N10","v":1.0000000000000009E-2},{"$f":"'Renters Only'!O11-'Renters Only'!O10","v":-1.0000000000000009E-2},{"$f":"'Renters Only'!P11-'Renters Only'!P10","v":-3.0000000000000027E-2},{"$f":"'Renters Only'!Q11-'Renters Only'!Q10","v":4.0000000000000036E-2}]
["Jan-Feb 11",{"$f":"'Renters Only'!B12-'Renters Only'!B11","v":8.0000000000000016E-2},{"$f":"'Renters Only'!C12-'Renters Only'!C11","v":2.0000000000000004E-2},{"$f":"'Renters Only'!D12-'Renters Only'!D11","v":-9.0000000000000024E-2},{"$f":"'Renters Only'!E12-'Renters Only'!E11","v":5.3040000000000032E-3},{"$f":"'Renters Only'!F12-'Renters Only'!F11","v":-2.0000000000000018E-2},{"$f":"'Renters Only'!G12-'Renters Only'!G11","v":2.0000000000000018E-2},{"$f":"'Renters Only'!H12-'Renters Only'!H11","v":-4.0000000000000036E-2},{"$f":"'Renters Only'!I12-'Renters Only'!I11","v":0.03},{"$f":"'Renters Only'!J12-'Renters Only'!J11","v":-1.0000000000000009E-2},{"$f":"'Renters Only'!K12-'Renters Only'!K11","v":-1.0000000000000009E-2},{"$f":"'Renters Only'!L12-'Renters Only'!L11","v":0},{"$f":"'Renters Only'!M12-'Renters Only'!M11","v":0.03},{"$f":"'Renters Only'!N12-'Renters Only'!N11","v":-5.0000000000000044E-2},{"$f":"'Renters Only'!O12-'Renters Only'!O11","v":0.03},{"$f":"'Renters Only'!P12-'Renters Only'!P11","v":0},{"$f":"'Renters Only'!Q12-'Renters Only'!Q11","v":1.9999999999999962E-2}]
["Feb-Mar 11",{"$f":"'Renters Only'!B13-'Renters Only'!B12","v":6.0000000000000053E-2},{"$f":"'Renters Only'!C13-'Renters Only'!C12","v":-0.03},{"$f":"'Renters Only'!D13-'Renters Only'!D12","v":-2.9999999999999971E-2},{"$f":"'Renters Only'!E13-'Renters Only'!E12","v":3.5630000000000106E-3},{"$f":"'Renters Only'!F13-'Renters Only'!F12","v":-1.0000000000000009E-2},{"$f":"'Renters Only'!G13-'Renters Only'!G12","v":3.0000000000000027E-2},{"$f":"'Renters Only'!H13-'Renters Only'!H12","v":1.0000000000000009E-2},{"$f":"'Renters Only'!I13-'Renters Only'!I12","v":0},{"$f":"'Renters Only'!J13-'Renters Only'!J12","v":1.0000000000000009E-2},{"$f":"'Renters Only'!K13-'Renters Only'!K12","v":1.0000000000000009E-2},{"$f":"'Renters Only'!L13-'Renters Only'!L12","v":5.0000000000000044E-2},{"$f":"'Renters Only'!M13-'Renters Only'!M12","v":-4.9999999999999989E-2},{"$f":"'Renters Only'!N13-'Renters Only'!N12","v":-5.9999999999999942E-2},{"$f":"'Renters Only'!O13-'Renters Only'!O12","v":4.0000000000000008E-2},{"$f":"'Renters Only'!P13-'Renters Only'!P12","v":1.0000000000000009E-2},{"$f":"'Renters Only'!Q13-'Renters Only'!Q12","v":0}]
["Mar-Apr 11",{"$f":"'Renters Only'!B14-'Renters Only'!B13","v":-0.10000000000000003},{"$f":"'Renters Only'!C14-'Renters Only'!C13","v":0},{"$f":"'Renters Only'!D14-'Renters Only'!D13","v":4.9999999999999989E-2},{"$f":"'Renters Only'!E14-'Renters Only'!E13","v":-8.660000000000008E-3},{"$f":"'Renters Only'!F14-'Renters Only'!F13","v":-8.0000000000000016E-2},{"$f":"'Renters Only'!G14-'Renters Only'!G13","v":4.9999999999999933E-2},{"$f":"'Renters Only'!H14-'Renters Only'!H13","v":3.0000000000000027E-2},{"$f":"'Renters Only'!I14-'Renters Only'!I13","v":-0.03},{"$f":"'Renters Only'!J14-'Renters Only'!J13","v":-4.9999999999999933E-2},{"$f":"'Renters Only'!K14-'Renters Only'!K13","v":2.9999999999999971E-2},{"$f":"'Renters Only'!L14-'Renters Only'!L13","v":2.0000000000000018E-2},{"$f":"'Renters Only'!M14-'Renters Only'!M13","v":-5.0000000000000017E-2},{"$f":"'Renters Only'!N14-'Renters Only'!N13","v":9.9999999999998979E-3},{"$f":"'Renters Only'!O14-'Renters Only'!O13","v":1.0000000000000009E-2},{"$f":"'Renters Only'!P14-'Renters Only'!P13","v":1.0000000000000009E-2},{"$f":"'Renters Only'!Q14-'Renters Only'!Q13","v":-1.0000000000000009E-2}]
["Apr-May 11",{"$f":"'Renters Only'!B15-'Renters Only'!B14","v":1.0000000000000009E-2},{"$f":"'Renters Only'!C15-'Renters Only'!C14","v":0},{"$f":"'Renters Only'!D15-'Renters Only'!D14","v":2.0000000000000018E-2},{"$f":"'Renters Only'!E15-'Renters Only'!E14","v":9.209999999999996E-3},{"$f":"'Renters Only'!F15-'Renters Only'!F14","v":5.0000000000000044E-2},{"$f":"'Renters Only'!G15-'Renters Only'!G14","v":-4.0000000000000036E-2},{"$f":"'Renters Only'!H15-'Renters Only'!H14","v":-2.0000000000000018E-2},{"$f":"'Renters Only'!I15-'Renters Only'!I14","v":2.0000000000000018E-2},{"$f":"'Renters Only'!J15-'Renters Only'!J14","v":0},{"$f":"'Renters Only'!K15-'Renters Only'!K14","v":2.0000000000000018E-2},{"$f":"'Renters Only'!L15-'Renters Only'!L14","v":-3.0000000000000027E-2},{"$f":"'Renters Only'!M15-'Renters Only'!M14","v":2.0000000000000018E-2},{"$f":"'Renters Only'!N15-'Renters Only'!N14","v":4.0000000000000036E-2},{"$f":"'Renters Only'!O15-'Renters Only'!O14","v":-2.0000000000000018E-2},{"$f":"'Renters Only'!P15-'Renters Only'!P14","v":1.0000000000000009E-2},{"$f":"'Renters Only'!Q15-'Renters Only'!Q14","v":-9.9999999999999534E-3}]
["May-Jun 11",{"$f":"'Renters Only'!B16-'Renters Only'!B15","v":9.9999999999999534E-3},{"$f":"'Renters Only'!C16-'Renters Only'!C15","v":-2.0000000000000004E-2},{"$f":"'Renters Only'!D16-'Renters Only'!D15","v":2.9999999999999971E-2},{"$f":"'Renters Only'!E16-'Renters Only'!E15","v":7.3650000000000035E-3},{"$f":"'Renters Only'!F16-'Renters Only'!F15","v":-1.0000000000000009E-2},{"$f":"'Renters Only'!G16-'Renters Only'!G15","v":2.0000000000000018E-2},{"$f":"'Renters Only'!H16-'Renters Only'!H15","v":1.0000000000000009E-2},{"$f":"'Renters Only'!I16-'Renters Only'!I15","v":9.9999999999999811E-3},{"$f":"'Renters Only'!J16-'Renters Only'!J15","v":-2.0000000000000018E-2},{"$f":"'Renters Only'!K16-'Renters Only'!K15","v":2.0000000000000018E-2},{"$f":"'Renters Only'!L16-'Renters Only'!L15","v":0},{"$f":"'Renters Only'!M16-'Renters Only'!M15","v":0.03},{"$f":"'Renters Only'!N16-'Renters Only'!N15","v":4.0000000000000036E-2},{"$f":"'Renters Only'!O16-'Renters Only'!O15","v":-4.0000000000000008E-2},{"$f":"'Renters Only'!P16-'Renters Only'!P15","v":-6.0000000000000053E-2},{"$f":"'Renters Only'!Q16-'Renters Only'!Q15","v":8.9999999999999969E-2}]
["Jun-Jul 11",{"$f":"'Renters Only'!B17-'Renters Only'!B16","v":0},{"$f":"'Renters Only'!C17-'Renters Only'!C16","v":2.0000000000000004E-2},{"$f":"'Renters Only'!D17-'Renters Only'!D16","v":-1.0000000000000009E-2},{"$f":"'Renters Only'!E17-'Renters Only'!E16","v":-1.6450000000000076E-3},{"$f":"'Renters Only'!F17-'Renters Only'!F16","v":-2.0000000000000018E-2},{"$f":"'Renters Only'!G17-'Renters Only'!G16","v":2.0000000000000018E-2},{"$f":"'Renters Only'!H17-'Renters Only'!H16","v":-5.0000000000000044E-2},{"$f":"'Renters Only'!I17-'Renters Only'!I16","v":1.0000000000000009E-2},{"$f":"'Renters Only'!J17-'Renters Only'!J16","v":-2.0000000000000018E-2},{"$f":"'Renters Only'!K17-'Renters Only'!K16","v":1.0000000000000009E-2},{"$f":"'Renters Only'!L17-'Renters Only'!L16","v":-4.0000000000000036E-2},{"$f":"'Renters Only'!M17-'Renters Only'!M16","v":0.06},{"$f":"'Renters Only'!N17-'Renters Only'!N16","v":-8.9999999999999969E-2},{"$f":"'Renters Only'!O17-'Renters Only'!O16","v":5.0000000000000017E-2},{"$f":"'Renters Only'!P17-'Renters Only'!P16","v":4.0000000000000036E-2},{"$f":"'Renters Only'!Q17-'Renters Only'!Q16","v":-0.10999999999999999}]
["Jul-Aug 11",{"$f":"'Renters Only'!B18-'Renters Only'!B17","v":8.0000000000000071E-2},{"$f":"'Renters Only'!C18-'Renters Only'!C17","v":-1.0000000000000002E-2},{"$f":"'Renters Only'!D18-'Renters Only'!D17","v":-7.999999999999996E-2},{"$f":"'Renters Only'!E18-'Renters Only'!E17","v":-3.2899999999998208E-4},{"$f":"'Renters Only'!F18-'Renters Only'!F17","v":-2.0000000000000018E-2},{"$f":"'Renters Only'!G18-'Renters Only'!G17","v":3.0000000000000027E-2},{"$f":"'Renters Only'!H18-'Renters Only'!H17","v":3.0000000000000027E-2},{"$f":"'Renters Only'!I18-'Renters Only'!I17","v":0},{"$f":"'Renters Only'!J18-'Renters Only'!J17","v":-1.0000000000000009E-2},{"$f":"'Renters Only'!K18-'Renters Only'!K17","v":9.9999999999999534E-3},{"$f":"'Renters Only'!L18-'Renters Only'!L17","v":0},{"$f":"'Renters Only'!M18-'Renters Only'!M17","v":-2.0000000000000018E-2},{"$f":"'Renters Only'!N18-'Renters Only'!N17","v":3.9999999999999925E-2},{"$f":"'Renters Only'!O18-'Renters Only'!O17","v":-1.0000000000000009E-2},{"$f":"'Renters Only'!P18-'Renters Only'!P17","v":1.0000000000000009E-2},{"$f":"'Renters Only'!Q18-'Renters Only'!Q17","v":7.0000000000000007E-2}]
["Aug-Sep 11",{"$f":"'Renters Only'!B19-'Renters Only'!B18","v":-6.0000000000000053E-2},{"$f":"'Renters Only'!C19-'Renters Only'!C18","v":3.0000000000000006E-2},{"$f":"'Renters Only'!D19-'Renters Only'!D18","v":2.9999999999999971E-2},{"$f":"'Renters Only'!E19-'Renters Only'!E18","v":-8.9000000000000884E-4},{"$f":"'Renters Only'!F19-'Renters Only'!F18","v":-9.9999999999999534E-3},{"$f":"'Renters Only'!G19-'Renters Only'!G18","v":-3.0000000000000027E-2},{"$f":"'Renters Only'!H19-'Renters Only'!H18","v":0},{"$f":"'Renters Only'!I19-'Renters Only'!I18","v":0},{"$f":"'Renters Only'!J19-'Renters Only'!J18","v":-4.9999999999999989E-2},{"$f":"'Renters Only'!K19-'Renters Only'!K18","v":4.0000000000000036E-2},{"$f":"'Renters Only'!L19-'Renters Only'!L18","v":2.0000000000000018E-2},{"$f":"'Renters Only'!M19-'Renters Only'!M18","v":-3.999999999999998E-2},{"$f":"'Renters Only'!N19-'Renters Only'!N18","v":1.0000000000000009E-2},{"$f":"'Renters Only'!O19-'Renters Only'!O18","v":-1.999999999999999E-2},{"$f":"'Renters Only'!P19-'Renters Only'!P18","v":1.9999999999999907E-2},{"$f":"'Renters Only'!Q19-'Renters Only'!Q18","v":-0.06}]
["Sep-Oct 11",{"$f":"'Renters Only'!B20-'Renters Only'!B19","v":1.0000000000000009E-2},{"$f":"'Renters Only'!C20-'Renters Only'!C19","v":-2.0000000000000004E-2},{"$f":"'Renters Only'!D20-'Renters Only'!D19","v":2.0000000000000018E-2},{"$f":"'Renters Only'!E20-'Renters Only'!E19","v":-5.3410000000000055E-3},{"$f":"'Renters Only'!F20-'Renters Only'!F19","v":7.999999999999996E-2},{"$f":"'Renters Only'!G20-'Renters Only'!G19","v":-4.9999999999999933E-2},{"$f":"'Renters Only'!H20-'Renters Only'!H19","v":1.0000000000000009E-2},{"$f":"'Renters Only'!I20-'Renters Only'!I19","v":-1.0000000000000009E-2},{"$f":"'Renters Only'!J20-'Renters Only'!J19","v":0.13999999999999996},{"$f":"'Renters Only'!K20-'Renters Only'!K19","v":-0.13},{"$f":"'Renters Only'!L20-'Renters Only'!L19","v":5.0000000000000044E-2},{"$f":"'Renters Only'!M20-'Renters Only'!M19","v":-4.0000000000000008E-2},{"$f":"'Renters Only'!N20-'Renters Only'!N19","v":-3.0000000000000027E-2},{"$f":"'Renters Only'!O20-'Renters Only'!O19","v":5.0000000000000017E-2},{"$f":"'Renters Only'!P20-'Renters Only'!P19","v":-3.9999999999999925E-2},{"$f":"'Renters Only'!Q20-'Renters Only'!Q19","v":3.999999999999998E-2}]
["Oct-Nov 11",{"$f":"'Renters Only'!B21-'Renters Only'!B20","v":-0.06},{"$f":"'Renters Only'!C21-'Renters Only'!C20","v":-2.0000000000000004E-2},{"$f":"'Renters Only'!D21-'Renters Only'!D20","v":7.0000000000000007E-2},{"$f":"'Renters Only'!E21-'Renters Only'!E20","v":-2.914999999999994E-3},{"$f":"'Renters Only'!F21-'Renters Only'!F20","v":-7.999999999999996E-2},{"$f":"'Renters Only'!G21-'Renters Only'!G20","v":7.999999999999996E-2},{"$f":"'Renters Only'!H21-'Renters Only'!H20","v":-3.0000000000000027E-2},{"$f":"'Renters Only'!I21-'Renters Only'!I20","v":2.0000000000000018E-2},{"$f":"'Renters Only'!J21-'Renters Only'!J20","v":-9.9999999999999978E-2},{"$f":"'Renters Only'!K21-'Renters Only'!K20","v":0.10999999999999999},{"$f":"'Renters Only'!L21-'Renters Only'!L20","v":-5.0000000000000044E-2},{"$f":"'Renters Only'!M21-'Renters Only'!M20","v":0.06},{"$f":"'Renters Only'!N21-'Renters Only'!N20","v":0},{"$f":"'Renters Only'!O21-'Renters Only'!O20","v":-1.0000000000000009E-2},{"$f":"'Renters Only'!P21-'Renters Only'!P20","v":-5.0000000000000044E-2},{"$f":"'Renters Only'!Q21-'Renters Only'!Q20","v":3.0000000000000027E-2}]
["Nov-Dec 11",{"$f":"'Renters Only'!B22-'Renters Only'!B21","v":1.0000000000000009E-2},{"$f":"'Renters Only'!C22-'Renters Only'!C21","v":2.0000000000000004E-2},{"$f":"'Renters Only'!D22-'Renters Only'!D21","v":-4.9999999999999989E-2},{"$f":"'Renters Only'!E22-'Renters Only'!E21","v":2.024999999999999E-3},{"$f":"'Renters Only'!F22-'Renters Only'!F21","v":0.06},{"$f":"'Renters Only'!G22-'Renters Only'!G21","v":-6.0000000000000053E-2},{"$f":"'Renters Only'!H22-'Renters Only'!H21","v":2.0000000000000018E-2},{"$f":"'Renters Only'!I22-'Renters Only'!I21","v":-2.0000000000000018E-2},{"$f":"'Renters Only'!J22-'Renters Only'!J21","v":7.999999999999996E-2},{"$f":"'Renters Only'!K22-'Renters Only'!K21","v":-7.0000000000000007E-2},{"$f":"'Renters Only'!L22-'Renters Only'!L21","v":1.0000000000000009E-2},{"$f":"'Renters Only'!M22-'Renters Only'!M21","v":-1.0000000000000009E-2},{"$f":"'Renters Only'!N22-'Renters Only'!N21","v":3.0000000000000027E-2},{"$f":"'Renters Only'!O22-'Renters Only'!O21","v":-4.0000000000000008E-2},{"$f":"'Renters Only'!P22-'Renters Only'!P21","v":0},{"$f":"'Renters Only'!Q22-'Renters Only'!Q21","v":-1.0000000000000009E-2}]
["Dec 11-Jan 12",{"$f":"'Renters Only'!B23-'Renters Only'!B22","v":8.0000000000000016E-2},{"$f":"'Renters Only'!C23-'Renters Only'!C22","v":-1.0000000000000002E-2},{"$f":"'Renters Only'!D23-'Renters Only'!D22","v":-0.06},{"$f":"'Renters Only'!E23-'Renters Only'!E22","v":6.1869999999999981E-3},{"$f":"'Renters Only'!F23-'Renters Only'!F22","v":2.9999999999999971E-2},{"$f":"'Renters Only'!G23-'Renters Only'!G22","v":-4.9999999999999933E-2},{"$f":"'Renters Only'!H23-'Renters Only'!H22","v":-2.0000000000000018E-2},{"$f":"'Renters Only'!I23-'Renters Only'!I22","v":0},{"$f":"'Renters Only'!J23-'Renters Only'!J22","v":-3.9999999999999925E-2},{"$f":"'Renters Only'!K23-'Renters Only'!K22","v":0},{"$f":"'Renters Only'!L23-'Renters Only'!L22","v":0},{"$f":"'Renters Only'!M23-'Renters Only'!M22","v":1.0000000000000009E-2},{"$f":"'Renters Only'!N23-'Renters Only'!N22","v":3.0000000000000027E-2},{"$f":"'Renters Only'!O23-'Renters Only'!O22","v":-4.0000000000000008E-2},{"$f":"'Renters Only'!P23-'Renters Only'!P22","v":-4.9999999999999989E-2},{"$f":"'Renters Only'!Q23-'Renters Only'!Q22","v":2.9999999999999971E-2}]
["Jan-Feb 12",{"$f":"'Renters Only'!B24-'Renters Only'!B23","v":-6.0000000000000053E-2},{"$f":"'Renters Only'!C24-'Renters Only'!C23","v":1.0000000000000002E-2},{"$f":"'Renters Only'!D24-'Renters Only'!D23","v":0.06},{"$f":"'Renters Only'!E24-'Renters Only'!E23","v":-9.7990000000000091E-3},{"$f":"'Renters Only'!F24-'Renters Only'!F23","v":0},{"$f":"'Renters Only'!G24-'Renters Only'!G23","v":2.0000000000000018E-2},{"$f":"'Renters Only'!H24-'Renters Only'!H23","v":2.0000000000000018E-2},{"$f":"'Renters Only'!I24-'Renters Only'!I23","v":-1.999999999999999E-2},{"$f":"'Renters Only'!J24-'Renters Only'!J23","v":7.999999999999996E-2},{"$f":"'Renters Only'!K24-'Renters Only'!K23","v":-4.9999999999999989E-2},{"$f":"'Renters Only'!L24-'Renters Only'!L23","v":-3.0000000000000027E-2},{"$f":"'Renters Only'!M24-'Renters Only'!M23","v":-1.0000000000000009E-2},{"$f":"'Renters Only'!N24-'Renters Only'!N23","v":-7.0000000000000062E-2},{"$f":"'Renters Only'!O24-'Renters Only'!O23","v":8.0000000000000016E-2},{"$f":"'Renters Only'!P24-'Renters Only'!P23","v":0.10000000000000003},{"$f":"'Renters Only'!Q24-'Renters Only'!Q23","v":-8.9999999999999969E-2}]
["Feb-Mar 12",{"$f":"'Renters Only'!B25-'Renters Only'!B24","v":5.0000000000000044E-2},{"$f":"'Renters Only'!C25-'Renters Only'!C24","v":-1.0000000000000002E-2},{"$f":"'Renters Only'!D25-'Renters Only'!D24","v":-4.0000000000000036E-2},{"$f":"'Renters Only'!E25-'Renters Only'!E24","v":9.0600000000000194E-3},{"$f":"'Renters Only'!F25-'Renters Only'!F24","v":-2.0000000000000018E-2},{"$f":"'Renters Only'!G25-'Renters Only'!G24","v":1.9999999999999907E-2},{"$f":"'Renters Only'!H25-'Renters Only'!H24","v":3.0000000000000027E-2},{"$f":"'Renters Only'!I25-'Renters Only'!I24","v":-1.0000000000000009E-2},{"$f":"'Renters Only'!J25-'Renters Only'!J24","v":-4.0000000000000036E-2},{"$f":"'Renters Only'!K25-'Renters Only'!K24","v":3.0000000000000027E-2},{"$f":"'Renters Only'!L25-'Renters Only'!L24","v":6.0000000000000053E-2},{"$f":"'Renters Only'!M25-'Renters Only'!M24","v":-1.999999999999999E-2},{"$f":"'Renters Only'!N25-'Renters Only'!N24","v":4.0000000000000036E-2},{"$f":"'Renters Only'!O25-'Renters Only'!O24","v":-3.0000000000000027E-2},{"$f":"'Renters Only'!P25-'Renters Only'!P24","v":0},{"$f":"'Renters Only'!Q25-'Renters Only'!Q24","v":2.9999999999999971E-2}]
["Mar-Apr 12",{"$f":"'Renters Only'!B26-'Renters Only'!B25","v":0},{"$f":"'Renters Only'!C26-'Renters Only'!C25","v":3.0000000000000006E-2},{"$f":"'Renters Only'!D26-'Renters Only'!D25","v":-2.9999999999999971E-2},{"$f":"'Renters Only'!E26-'Renters Only'!E25","v":-3.9960000000000065E-3},{"$f":"'Renters Only'!F26-'Renters Only'!F25","v":1.0000000000000009E-2},{"$f":"'Renters Only'!G26-'Renters Only'!G25","v":-9.9999999999998979E-3},{"$f":"'Renters Only'!H26-'Renters Only'!H25","v":-5.0000000000000044E-2},{"$f":"'Renters Only'!I26-'Renters Only'!I25","v":4.0000000000000008E-2},{"$f":"'Renters Only'!J26-'Renters Only'!J25","v":0},{"$f":"'Renters Only'!K26-'Renters Only'!K25","v":9.9999999999999534E-3},{"$f":"'Renters Only'!L26-'Renters Only'!L25","v":-9.000000000000008E-2},{"$f":"'Renters Only'!M26-'Renters Only'!M25","v":8.0000000000000016E-2},{"$f":"'Renters Only'!N26-'Renters Only'!N25","v":-2.0000000000000018E-2},{"$f":"'Renters Only'!O26-'Renters Only'!O25","v":2.0000000000000018E-2},{"$f":"'Renters Only'!P26-'Renters Only'!P25","v":-2.0000000000000018E-2},{"$f":"'Renters Only'!Q26-'Renters Only'!Q25","v":-1.0000000000000009E-2}]
["Apr-May 12",{"$f":"'Renters Only'!B27-'Renters Only'!B26","v":-2.0000000000000018E-2},{"$f":"'Renters Only'!C27-'Renters Only'!C26","v":-1.0000000000000009E-2},{"$f":"'Renters Only'!D27-'Renters Only'!D26","v":2.9999999999999971E-2},{"$f":"'Renters Only'!E27-'Renters Only'!E26","v":-1.9500000000000073E-3},{"$f":"'Renters Only'!F27-'Renters Only'!F26","v":-3.999999999999998E-2},{"$f":"'Renters Only'!G27-'Renters Only'!G26","v":4.9999999999999933E-2},{"$f":"'Renters Only'!H27-'Renters Only'!H26","v":1.0000000000000009E-2},{"$f":"'Renters Only'!I27-'Renters Only'!I26","v":0},{"$f":"'Renters Only'!J27-'Renters Only'!J26","v":2.0000000000000018E-2},{"$f":"'Renters Only'!K27-'Renters Only'!K26","v":-1.9999999999999962E-2},{"$f":"'Renters Only'!L27-'Renters Only'!L26","v":4.0000000000000036E-2},{"$f":"'Renters Only'!M27-'Renters Only'!M26","v":-4.0000000000000008E-2},{"$f":"'Renters Only'!N27-'Renters Only'!N26","v":-2.0000000000000018E-2},{"$f":"'Renters Only'!O27-'Renters Only'!O26","v":2.9999999999999971E-2},{"$f":"'Renters Only'!P27-'Renters Only'!P26","v":-8.0000000000000016E-2},{"$f":"'Renters Only'!Q27-'Renters Only'!Q26","v":0.10000000000000003}]
["May-Jun 12",{"$f":"'Renters Only'!B28-'Renters Only'!B27","v":1.0000000000000009E-2},{"$f":"'Renters Only'!C28-'Renters Only'!C27","v":1.0000000000000009E-2},{"$f":"'Renters Only'!D28-'Renters Only'!D27","v":-1.9999999999999962E-2},{"$f":"'Renters Only'!E28-'Renters Only'!E27","v":4.730000000000005E-3},{"$f":"'Renters Only'!F28-'Renters Only'!F27","v":0.06},{"$f":"'Renters Only'!G28-'Renters Only'!G27","v":-6.9999999999999951E-2},{"$f":"'Renters Only'!H28-'Renters Only'!H27","v":3.0000000000000027E-2},{"$f":"'Renters Only'!I28-'Renters Only'!I27","v":-4.0000000000000008E-2},{"$f":"'Renters Only'!J28-'Renters Only'!J27","v":0},{"$f":"'Renters Only'!K28-'Renters Only'!K27","v":0},{"$f":"'Renters Only'!L28-'Renters Only'!L27","v":1.0000000000000009E-2},{"$f":"'Renters Only'!M28-'Renters Only'!M27","v":-1.0000000000000009E-2},{"$f":"'Renters Only'!N28-'Renters Only'!N27","v":6.0000000000000053E-2},{"$f":"'Renters Only'!O28-'Renters Only'!O27","v":-8.9999999999999969E-2},{"$f":"'Renters Only'!P28-'Renters Only'!P27","v":0.12000000000000005},{"$f":"'Renters Only'!Q28-'Renters Only'!Q27","v":-0.12}]
["Jun-Jul 12",{"$f":"'Renters Only'!B29-'Renters Only'!B28","v":0},{"$f":"'Renters Only'!C29-'Renters Only'!C28","v":-6.0000000000000005E-2},{"$f":"'Renters Only'!D29-'Renters Only'!D28","v":6.9999999999999951E-2},{"$f":"'Renters Only'!E29-'Renters Only'!E28","v":2.8219999999999912E-3},{"$f":"'Renters Only'!F29-'Renters Only'!F28","v":2.0000000000000018E-2},{"$f":"'Renters Only'!G29-'Renters Only'!G28","v":-1.0000000000000009E-2},{"$f":"'Renters Only'!H29-'Renters Only'!H28","v":-3.0000000000000027E-2},{"$f":"'Renters Only'!I29-'Renters Only'!I28","v":4.0000000000000008E-2},{"$f":"'Renters Only'!J29-'Renters Only'!J28","v":-3.9999999999999925E-2},{"$f":"'Renters Only'!K29-'Renters Only'!K28","v":2.9999999999999971E-2},{"$f":"'Renters Only'!L29-'Renters Only'!L28","v":-1.0000000000000009E-2},{"$f":"'Renters Only'!M29-'Renters Only'!M28","v":1.0000000000000009E-2},{"$f":"'Renters Only'!N29-'Renters Only'!N28","v":-1.0000000000000009E-2},{"$f":"'Renters Only'!O29-'Renters Only'!O28","v":1.999999999999999E-2},{"$f":"'Renters Only'!P29-'Renters Only'!P28","v":-1.0000000000000009E-2},{"$f":"'Renters Only'!Q29-'Renters Only'!Q28","v":4.9999999999999989E-2}]
["Jul-Aug12",{"$f":"'Renters Only'!B30-'Renters Only'!B29","v":-4.0000000000000036E-2},{"$f":"'Renters Only'!C30-'Renters Only'!C29","v":6.0000000000000005E-2},{"$f":"'Renters Only'!D30-'Renters Only'!D29","v":-0.06},{"$f":"'Renters Only'!E30-'Renters Only'!E29","v":-9.3600000000000003E-3},{"$f":"'Renters Only'!F30-'Renters Only'!F29","v":-1.0000000000000009E-2},{"$f":"'Renters Only'!G30-'Renters Only'!G29","v":-1.0000000000000009E-2},{"$f":"'Renters Only'!H30-'Renters Only'!H29","v":2.0000000000000018E-2},{"$f":"'Renters Only'!I30-'Renters Only'!I29","v":-1.0000000000000009E-2},{"$f":"'Renters Only'!J30-'Renters Only'!J29","v":1.9999999999999907E-2},{"$f":"'Renters Only'!K30-'Renters Only'!K29","v":-2.9999999999999971E-2},{"$f":"'Renters Only'!L30-'Renters Only'!L29","v":-2.0000000000000018E-2},{"$f":"'Renters Only'!M30-'Renters Only'!M29","v":9.9999999999999811E-3},{"$f":"'Renters Only'!N30-'Renters Only'!N29","v":-1.0000000000000009E-2},{"$f":"'Renters Only'!O30-'Renters Only'!O29","v":1.0000000000000009E-2},{"$f":"'Renters Only'!P30-'Renters Only'!P29","v":-1.0000000000000009E-2},{"$f":"'Renters Only'!Q30-'Renters Only'!Q29","v":-2.0000000000000018E-2}]
["Aug-Sep 12",{"$f":"'Renters Only'!B31-'Renters Only'!B30","v":9.9999999999999978E-2},{"$f":"'Renters Only'!C31-'Renters Only'!C30","v":-1.0000000000000009E-2},{"$f":"'Renters Only'!D31-'Renters Only'!D30","v":-0.06},{"$f":"'Renters Only'!E31-'Renters Only'!E30","v":1.6960000000000031E-3},{"$f":"'Renters Only'!F31-'Renters Only'!F30","v":-3.0000000000000027E-2},{"$f":"'Renters Only'!G31-'Renters Only'!G30","v":4.9999999999999933E-2},{"$f":"'Renters Only'!H31-'Renters Only'!H30","v":3.9999999999999925E-2},{"$f":"'Renters Only'!I31-'Renters Only'!I30","v":-0.03},{"$f":"'Renters Only'!J31-'Renters Only'!J30","v":3.0000000000000027E-2},{"$f":"'Renters Only'!K31-'Renters Only'!K30","v":0},{"$f":"'Renters Only'!L31-'Renters Only'!L30","v":5.0000000000000044E-2},{"$f":"'Renters Only'!M31-'Renters Only'!M30","v":-0.03},{"$f":"'Renters Only'!N31-'Renters Only'!N30","v":1.0000000000000009E-2},{"$f":"'Renters Only'!O31-'Renters Only'!O30","v":9.9999999999999811E-3},{"$f":"'Renters Only'!P31-'Renters Only'!P30","v":5.9999999999999942E-2},{"$f":"'Renters Only'!Q31-'Renters Only'!Q30","v":0}]
["Sep-Oct 12",{"$f":"'Renters Only'!B32-'Renters Only'!B31","v":-5.9999999999999942E-2},{"$f":"'Renters Only'!C32-'Renters Only'!C31","v":0},{"$f":"'Renters Only'!D32-'Renters Only'!D31","v":8.0000000000000016E-2},{"$f":"'Renters Only'!E32-'Renters Only'!E31","v":1.9440000000000082E-3},{"$f":"'Renters Only'!F32-'Renters Only'!F31","v":2.0000000000000018E-2},{"$f":"'Renters Only'!G32-'Renters Only'!G31","v":-4.9999999999999933E-2},{"$f":"'Renters Only'!H32-'Renters Only'!H31","v":-2.9999999999999916E-2},{"$f":"'Renters Only'!I32-'Renters Only'!I31","v":0},{"$f":"'Renters Only'!J32-'Renters Only'!J31","v":-4.0000000000000036E-2},{"$f":"'Renters Only'!K32-'Renters Only'!K31","v":1.0000000000000009E-2},{"$f":"'Renters Only'!L32-'Renters Only'!L31","v":2.0000000000000018E-2},{"$f":"'Renters Only'!M32-'Renters Only'!M31","v":-6.9999999999999979E-2},{"$f":"'Renters Only'!N32-'Renters Only'!N31","v":1.0000000000000009E-2},{"$f":"'Renters Only'!O32-'Renters Only'!O31","v":-3.999999999999998E-2},{"$f":"'Renters Only'!P32-'Renters Only'!P31","v":-6.9999999999999951E-2},{"$f":"'Renters Only'!Q32-'Renters Only'!Q31","v":4.9999999999999989E-2}]
["Oct-Nov 12",{"$f":"'Renters Only'!B33-'Renters Only'!B32","v":-1.0000000000000009E-2},{"$f":"'Renters Only'!C33-'Renters Only'!C32","v":-0.03},{"$f":"'Renters Only'!D33-'Renters Only'!D32","v":1.0000000000000009E-2},{"$f":"'Renters Only'!E33-'Renters Only'!E32","v":4.0509999999999921E-3},{"$f":"'Renters Only'!F33-'Renters Only'!F32","v":1.0000000000000009E-2},{"$f":"'Renters Only'!G33-'Renters Only'!G32","v":0},{"$f":"'Renters Only'!H33-'Renters Only'!H32","v":1.0000000000000009E-2},{"$f":"'Renters Only'!I33-'Renters Only'!I32","v":0},{"$f":"'Renters Only'!J33-'Renters Only'!J32","v":0},{"$f":"'Renters Only'!K33-'Renters Only'!K32","v":9.9999999999999534E-3},{"$f":"'Renters Only'!L33-'Renters Only'!L32","v":3.9999999999999925E-2},{"$f":"'Renters Only'!M33-'Renters Only'!M32","v":9.9999999999999811E-3},{"$f":"'Renters Only'!N33-'Renters Only'!N32","v":-6.0000000000000053E-2},{"$f":"'Renters Only'!O33-'Renters Only'!O32","v":4.9999999999999989E-2},{"$f":"'Renters Only'!P33-'Renters Only'!P32","v":0.12},{"$f":"'Renters Only'!Q33-'Renters Only'!Q32","v":-0.14999999999999997}]
["Nov-Dec 12",{"$f":"'Renters Only'!B34-'Renters Only'!B33","v":6.0000000000000053E-2},{"$f":"'Renters Only'!C34-'Renters Only'!C33","v":4.0000000000000008E-2},{"$f":"'Renters Only'!D34-'Renters Only'!D33","v":-9.9999999999999978E-2},{"$f":"'Renters Only'!E34-'Renters Only'!E33","v":1.226300000000001E-2},{"$f":"'Renters Only'!F34-'Renters Only'!F33","v":-0.06},{"$f":"'Renters Only'!G34-'Renters Only'!G33","v":7.999999999999996E-2},{"$f":"'Renters Only'!H34-'Renters Only'!H33","v":-1.0000000000000009E-2},{"$f":"'Renters Only'!I34-'Renters Only'!I33","v":0},{"$f":"'Renters Only'!J34-'Renters Only'!J33","v":-9.9999999999998979E-3},{"$f":"'Renters Only'!K34-'Renters Only'!K33","v":1.0000000000000009E-2},{"$f":"'Renters Only'!L34-'Renters Only'!L33","v":-6.9999999999999951E-2},{"$f":"'Renters Only'!M34-'Renters Only'!M33","v":5.0000000000000017E-2},{"$f":"'Renters Only'!N34-'Renters Only'!N33","v":5.0000000000000044E-2},{"$f":"'Renters Only'!O34-'Renters Only'!O33","v":-1.999999999999999E-2},{"$f":"'Renters Only'!P34-'Renters Only'!P33","v":-0.14000000000000001},{"$f":"'Renters Only'!Q34-'Renters Only'!Q33","v":0.10999999999999999}]
["Dec 12-Jan 13",{"$f":"'Renters Only'!B35-'Renters Only'!B34","v":-3.0000000000000027E-2},{"$f":"'Renters Only'!C35-'Renters Only'!C34","v":9.999999999999995E-3},{"$f":"'Renters Only'!D35-'Renters Only'!D34","v":2.9999999999999971E-2},{"$f":"'Renters Only'!E35-'Renters Only'!E34","v":-2.3233999999999998E-2},{"$f":"'Renters Only'!F35-'Renters Only'!F34","v":-2.0000000000000018E-2},{"$f":"'Renters Only'!G35-'Renters Only'!G34","v":-3.0000000000000027E-2},{"$f":"'Renters Only'!H35-'Renters Only'!H34","v":1.0000000000000009E-2},{"$f":"'Renters Only'!I35-'Renters Only'!I34","v":0},{"$f":"'Renters Only'!J35-'Renters Only'!J34","v":2.9999999999999916E-2},{"$f":"'Renters Only'!K35-'Renters Only'!K34","v":-1.9999999999999962E-2},{"$f":"'Renters Only'!L35-'Renters Only'!L34","v":0},{"$f":"'Renters Only'!M35-'Renters Only'!M34","v":0},{"$f":"'Renters Only'!N35-'Renters Only'!N34","v":-3.0000000000000027E-2},{"$f":"'Renters Only'!O35-'Renters Only'!O34","v":1.999999999999999E-2},{"$f":"'Renters Only'!P35-'Renters Only'!P34","v":0},{"$f":"'Renters Only'!Q35-'Renters Only'!Q34","v":-4.9999999999999989E-2}]
["Jan-Feb 13",{"$f":"'Renters Only'!B36-'Renters Only'!B35","v":-1.0000000000000009E-2},{"$f":"'Renters Only'!C36-'Renters Only'!C35","v":-0.05},{"$f":"'Renters Only'!D36-'Renters Only'!D35","v":4.9999999999999989E-2},{"$f":"'Renters Only'!E36-'Renters Only'!E35","v":8.196999999999989E-3},{"$f":"'Renters Only'!F36-'Renters Only'!F35","v":3.999999999999998E-2},{"$f":"'Renters Only'!G36-'Renters Only'!G35","v":1.0000000000000009E-2},{"$f":"'Renters Only'!H36-'Renters Only'!H35","v":1.9999999999999907E-2},{"$f":"'Renters Only'!I36-'Renters Only'!I35","v":0},{"$f":"'Renters Only'!J36-'Renters Only'!J35","v":3.0000000000000027E-2},{"$f":"'Renters Only'!K36-'Renters Only'!K35","v":-2.0000000000000018E-2},{"$f":"'Renters Only'!L36-'Renters Only'!L35","v":0},{"$f":"'Renters Only'!M36-'Renters Only'!M35","v":9.9999999999999811E-3},{"$f":"'Renters Only'!N36-'Renters Only'!N35","v":1.0000000000000009E-2},{"$f":"'Renters Only'!O36-'Renters Only'!O35","v":1.0000000000000009E-2},{"$f":"'Renters Only'!P36-'Renters Only'!P35","v":6.9999999999999951E-2},{"$f":"'Renters Only'!Q36-'Renters Only'!Q35","v":2.9999999999999971E-2}]
["Feb-Mar 13",{"$f":"'Renters Only'!B37-'Renters Only'!B36","v":1.0000000000000009E-2},{"$f":"'Renters Only'!C37-'Renters Only'!C36","v":1.0000000000000002E-2},{"$f":"'Renters Only'!D37-'Renters Only'!D36","v":-2.9999999999999971E-2},{"$f":"'Renters Only'!E37-'Renters Only'!E36","v":8.0880000000000118E-3},{"$f":"'Renters Only'!F37-'Renters Only'!F36","v":-9.9999999999999534E-3},{"$f":"'Renters Only'!G37-'Renters Only'!G36","v":1.0000000000000009E-2},{"$f":"'Renters Only'!H37-'Renters Only'!H36","v":-4.9999999999999933E-2},{"$f":"'Renters Only'!I37-'Renters Only'!I36","v":2.0000000000000018E-2},{"$f":"'Renters Only'!J37-'Renters Only'!J36","v":-5.9999999999999942E-2},{"$f":"'Renters Only'!K37-'Renters Only'!K36","v":0.06},{"$f":"'Renters Only'!L37-'Renters Only'!L36","v":1.0000000000000009E-2},{"$f":"'Renters Only'!M37-'Renters Only'!M36","v":-1.999999999999999E-2},{"$f":"'Renters Only'!N37-'Renters Only'!N36","v":-1.0000000000000009E-2},{"$f":"'Renters Only'!O37-'Renters Only'!O36","v":-2.0000000000000018E-2},{"$f":"'Renters Only'!P37-'Renters Only'!P36","v":-4.9999999999999933E-2},{"$f":"'Renters Only'!Q37-'Renters Only'!Q36","v":3.0000000000000027E-2}]
["Mar-Apr 13",{"$f":"'Renters Only'!B38-'Renters Only'!B37","v":0},{"$f":"'Renters Only'!C38-'Renters Only'!C37","v":-1.0000000000000002E-2},{"$f":"'Renters Only'!D38-'Renters Only'!D37","v":2.9999999999999971E-2},{"$f":"'Renters Only'!E38-'Renters Only'!E37","v":4.8779999999999935E-3},{"$f":"'Renters Only'!F38-'Renters Only'!F37","v":-4.0000000000000036E-2},{"$f":"'Renters Only'!G38-'Renters Only'!G37","v":3.0000000000000027E-2},{"$f":"'Renters Only'!H38-'Renters Only'!H37","v":4.0000000000000036E-2},{"$f":"'Renters Only'!I38-'Renters Only'!I37","v":-4.0000000000000008E-2},{"$f":"'Renters Only'!J38-'Renters Only'!J37","v":2.9999999999999916E-2},{"$f":"'Renters Only'!K38-'Renters Only'!K37","v":-3.999999999999998E-2},{"$f":"'Renters Only'!L38-'Renters Only'!L37","v":-1.0000000000000009E-2},{"$f":"'Renters Only'!M38-'Renters Only'!M37","v":1.999999999999999E-2},{"$f":"'Renters Only'!N38-'Renters Only'!N37","v":2.0000000000000018E-2},{"$f":"'Renters Only'!O38-'Renters Only'!O37","v":-0.03},{"$f":"'Renters Only'!P38-'Renters Only'!P37","v":-4.0000000000000036E-2},{"$f":"'Renters Only'!Q38-'Renters Only'!Q37","v":2.9999999999999971E-2}]
["Apr-May 13",{"$f":"'Renters Only'!B39-'Renters Only'!B38","v":1.0000000000000009E-2},{"$f":"'Renters Only'!C39-'Renters Only'!C38","v":1.0000000000000002E-2},{"$f":"'Renters Only'!D39-'Renters Only'!D38","v":-1.9999999999999962E-2},{"$f":"'Renters Only'!E39-'Renters Only'!E38","v":-1.6642999999999998E-2},{"$f":"'Renters Only'!F39-'Renters Only'!F38","v":0.10999999999999999},{"$f":"'Renters Only'!G39-'Renters Only'!G38","v":-0.13},{"$f":"'Renters Only'!H39-'Renters Only'!H38","v":-4.0000000000000036E-2},{"$f":"'Renters Only'!I39-'Renters Only'!I38","v":4.9999999999999989E-2},{"$f":"'Renters Only'!J39-'Renters Only'!J38","v":0},{"$f":"'Renters Only'!K39-'Renters Only'!K38","v":-2.0000000000000018E-2},{"$f":"'Renters Only'!L39-'Renters Only'!L38","v":-3.0000000000000027E-2},{"$f":"'Renters Only'!M39-'Renters Only'!M38","v":2.0000000000000018E-2},{"$f":"'Renters Only'!N39-'Renters Only'!N38","v":1.0000000000000009E-2},{"$f":"'Renters Only'!O39-'Renters Only'!O38","v":2.0000000000000018E-2},{"$f":"'Renters Only'!P39-'Renters Only'!P38","v":8.0000000000000071E-2},{"$f":"'Renters Only'!Q39-'Renters Only'!Q38","v":-8.9999999999999969E-2}]
["May-Jun 13",{"$f":"'Renters Only'!B40-'Renters Only'!B39","v":6.9999999999999951E-2},{"$f":"'Renters Only'!C40-'Renters Only'!C39","v":-1.0000000000000002E-2},{"$f":"'Renters Only'!D40-'Renters Only'!D39","v":-5.0000000000000044E-2},{"$f":"'Renters Only'!E40-'Renters Only'!E39","v":1.523999999999999E-2},{"$f":"'Renters Only'!F40-'Renters Only'!F39","v":-0.06},{"$f":"'Renters Only'!G40-'Renters Only'!G39","v":7.999999999999996E-2},{"$f":"'Renters Only'!H40-'Renters Only'!H39","v":1.0000000000000009E-2},{"$f":"'Renters Only'!I40-'Renters Only'!I39","v":-0.03},{"$f":"'Renters Only'!J40-'Renters Only'!J39","v":-2.0000000000000018E-2},{"$f":"'Renters Only'!K40-'Renters Only'!K39","v":-1.0000000000000009E-2},{"$f":"'Renters Only'!L40-'Renters Only'!L39","v":6.0000000000000053E-2},{"$f":"'Renters Only'!M40-'Renters Only'!M39","v":-0.03},{"$f":"'Renters Only'!N40-'Renters Only'!N39","v":0},{"$f":"'Renters Only'!O40-'Renters Only'!O39","v":0},{"$f":"'Renters Only'!P40-'Renters Only'!P39","v":-0.10000000000000003},{"$f":"'Renters Only'!Q40-'Renters Only'!Q39","v":9.9999999999999978E-2}]
["Jun-Jul 13",{"$f":"'Renters Only'!B41-'Renters Only'!B40","v":0},{"$f":"'Renters Only'!C41-'Renters Only'!C40","v":0},{"$f":"'Renters Only'!D41-'Renters Only'!D40","v":0},{"$f":"'Renters Only'!E41-'Renters Only'!E40","v":-1.4149999999999996E-3},{"$f":"'Renters Only'!F41-'Renters Only'!F40","v":0},{"$f":"'Renters Only'!G41-'Renters Only'!G40","v":0},{"$f":"'Renters Only'!H41-'Renters Only'!H40","v":-2.0000000000000018E-2},{"$f":"'Renters Only'!I41-'Renters Only'!I40","v":4.0000000000000008E-2},{"$f":"'Renters Only'!J41-'Renters Only'!J40","v":0},{"$f":"'Renters Only'!K41-'Renters Only'!K40","v":3.999999999999998E-2},{"$f":"'Renters Only'!L41-'Renters Only'!L40","v":-7.0000000000000062E-2},{"$f":"'Renters Only'!M41-'Renters Only'!M40","v":0.06},{"$f":"'Renters Only'!N41-'Renters Only'!N40","v":-2.0000000000000018E-2},{"$f":"'Renters Only'!O41-'Renters Only'!O40","v":1.999999999999999E-2},{"$f":"'Renters Only'!P41-'Renters Only'!P40","v":7.0000000000000007E-2},{"$f":"'Renters Only'!Q41-'Renters Only'!Q40","v":-4.9999999999999989E-2}]
["Jul-Aug 13",{"$f":"'Renters Only'!B42-'Renters Only'!B41","v":-6.9999999999999951E-2},{"$f":"'Renters Only'!C42-'Renters Only'!C41","v":2.0000000000000004E-2},{"$f":"'Renters Only'!D42-'Renters Only'!D41","v":3.0000000000000027E-2},{"$f":"'Renters Only'!E42-'Renters Only'!E41","v":-1.158399999999999E-2},{"$f":"'Renters Only'!F42-'Renters Only'!F41","v":2.0000000000000018E-2},{"$f":"'Renters Only'!G42-'Renters Only'!G41","v":-9.9999999999998979E-3},{"$f":"'Renters Only'!H42-'Renters Only'!H41","v":1.0000000000000009E-2},{"$f":"'Renters Only'!I42-'Renters Only'!I41","v":0},{"$f":"'Renters Only'!J42-'Renters Only'!J41","v":2.0000000000000018E-2},{"$f":"'Renters Only'!K42-'Renters Only'!K41","v":-1.9999999999999962E-2},{"$f":"'Renters Only'!L42-'Renters Only'!L41","v":4.0000000000000036E-2},{"$f":"'Renters Only'!M42-'Renters Only'!M41","v":-5.0000000000000017E-2},{"$f":"'Renters Only'!N42-'Renters Only'!N41","v":-3.9999999999999925E-2},{"$f":"'Renters Only'!O42-'Renters Only'!O41","v":2.0000000000000018E-2},{"$f":"'Renters Only'!P42-'Renters Only'!P41","v":0},{"$f":"'Renters Only'!Q42-'Renters Only'!Q41","v":3.0000000000000027E-2}]
["Aug-Sep 13",{"$f":"'Renters Only'!B43-'Renters Only'!B42","v":3.9999999999999925E-2},{"$f":"'Renters Only'!C43-'Renters Only'!C42","v":0},{"$f":"'Renters Only'!D43-'Renters Only'!D42","v":-1.0000000000000009E-2},{"$f":"'Renters Only'!E43-'Renters Only'!E42","v":-6.530000000000015E-3},{"$f":"'Renters Only'!F43-'Renters Only'!F42","v":4.9999999999999989E-2},{"$f":"'Renters Only'!G43-'Renters Only'!G42","v":-8.0000000000000071E-2},{"$f":"'Renters Only'!H43-'Renters Only'!H42","v":4.0000000000000036E-2},{"$f":"'Renters Only'!I43-'Renters Only'!I42","v":-0.03},{"$f":"'Renters Only'!J43-'Renters Only'!J42","v":7.0000000000000062E-2},{"$f":"'Renters Only'!K43-'Renters Only'!K42","v":-7.0000000000000007E-2},{"$f":"'Renters Only'!L43-'Renters Only'!L42","v":-4.0000000000000036E-2},{"$f":"'Renters Only'!M43-'Renters Only'!M42","v":0.03},{"$f":"'Renters Only'!N43-'Renters Only'!N42","v":7.999999999999996E-2},{"$f":"'Renters Only'!O43-'Renters Only'!O42","v":-6.0000000000000026E-2},{"$f":"'Renters Only'!P43-'Renters Only'!P42","v":3.0000000000000027E-2},{"$f":"'Renters Only'!Q43-'Renters Only'!Q42","v":-0.06}]
["Sep-Oct 13",{"$f":"'Renters Only'!B44-'Renters Only'!B43","v":3.0000000000000027E-2},{"$f":"'Renters Only'!C44-'Renters Only'!C43","v":-1.0000000000000002E-2},{"$f":"'Renters Only'!D44-'Renters Only'!D43","v":-3.999999999999998E-2},{"$f":"'Renters Only'!E44-'Renters Only'!E43","v":2.9218000000000015E-2},{"$f":"'Renters Only'!F44-'Renters Only'!F43","v":2.0000000000000018E-2},{"$f":"'Renters Only'!G44-'Renters Only'!G43","v":0},{"$f":"'Renters Only'!H44-'Renters Only'!H43","v":9.9999999999998979E-3},{"$f":"'Renters Only'!I44-'Renters Only'!I43","v":-1.0000000000000009E-2},{"$f":"'Renters Only'!J44-'Renters Only'!J43","v":-5.0000000000000044E-2},{"$f":"'Renters Only'!K44-'Renters Only'!K43","v":4.9999999999999989E-2},{"$f":"'Renters Only'!L44-'Renters Only'!L43","v":7.0000000000000062E-2},{"$f":"'Renters Only'!M44-'Renters Only'!M43","v":-0.06},{"$f":"'Renters Only'!N44-'Renters Only'!N43","v":0},{"$f":"'Renters Only'!O44-'Renters Only'!O43","v":-9.9999999999999811E-3},{"$f":"'Renters Only'!P44-'Renters Only'!P43","v":7.999999999999996E-2},{"$f":"'Renters Only'!Q44-'Renters Only'!Q43","v":-3.0000000000000027E-2}]
["Oct-Nov 13",{"$f":"'Renters Only'!B45-'Renters Only'!B44","v":-8.9999999999999969E-2},{"$f":"'Renters Only'!C45-'Renters Only'!C44","v":0.04},{"$f":"'Renters Only'!D45-'Renters Only'!D44","v":7.0000000000000007E-2},{"$f":"'Renters Only'!E45-'Renters Only'!E44","v":-4.1283000000000007E-2},{"$f":"'Renters Only'!F45-'Renters Only'!F44","v":-3.999999999999998E-2},{"$f":"'Renters Only'!G45-'Renters Only'!G44","v":4.0000000000000036E-2},{"$f":"'Renters Only'!H45-'Renters Only'!H44","v":-1.9999999999999907E-2},{"$f":"'Renters Only'!I45-'Renters Only'!I44","v":0},{"$f":"'Renters Only'!J45-'Renters Only'!J44","v":3.0000000000000027E-2},{"$f":"'Renters Only'!K45-'Renters Only'!K44","v":-1.0000000000000009E-2},{"$f":"'Renters Only'!L45-'Renters Only'!L44","v":4.9999999999999933E-2},{"$f":"'Renters Only'!M45-'Renters Only'!M44","v":-0.06},{"$f":"'Renters Only'!N45-'Renters Only'!N44","v":-5.0000000000000044E-2},{"$f":"'Renters Only'!O45-'Renters Only'!O44","v":3.999999999999998E-2},{"$f":"'Renters Only'!P45-'Renters Only'!P44","v":-0.10999999999999999},{"$f":"'Renters Only'!Q45-'Renters Only'!Q44","v":8.0000000000000016E-2}]
["Nov-Dec 13",{"$f":"'Renters Only'!B46-'Renters Only'!B45","v":3.0000000000000027E-2},{"$f":"'Renters Only'!C46-'Renters Only'!C45","v":-0.06},{"$f":"'Renters Only'!D46-'Renters Only'!D45","v":1.9999999999999962E-2},{"$f":"'Renters Only'!E46-'Renters Only'!E45","v":2.4769000000000006E-2},{"$f":"'Renters Only'!F46-'Renters Only'!F45","v":-0.12},{"$f":"'Renters Only'!G46-'Renters Only'!G45","v":0.13},{"$f":"'Renters Only'!H46-'Renters Only'!H45","v":3.9999999999999925E-2},{"$f":"'Renters Only'!I46-'Renters Only'!I45","v":-1.999999999999999E-2},{"$f":"'Renters Only'!J46-'Renters Only'!J45","v":-7.0000000000000062E-2},{"$f":"'Renters Only'!K46-'Renters Only'!K45","v":0.06},{"$f":"'Renters Only'!L46-'Renters Only'!L45","v":-6.9999999999999951E-2},{"$f":"'Renters Only'!M46-'Renters Only'!M45","v":7.0000000000000007E-2},{"$f":"'Renters Only'!N46-'Renters Only'!N45","v":2.0000000000000018E-2},{"$f":"'Renters Only'!O46-'Renters Only'!O45","v":0},{"$f":"'Renters Only'!P46-'Renters Only'!P45","v":3.9999999999999925E-2},{"$f":"'Renters Only'!Q46-'Renters Only'!Q45","v":-2.0000000000000018E-2}]
["Dec 13- Jan 14",{"$f":"'Renters Only'!B47-'Renters Only'!B46","v":-4.0000000000000036E-2},{"$f":"'Renters Only'!C47-'Renters Only'!C46","v":3.0000000000000002E-2},{"$f":"'Renters Only'!D47-'Renters Only'!D46","v":-3.999999999999998E-2},{"$f":"'Renters Only'!E47-'Renters Only'!E46","v":-2.1138000000000004E-2},{"$f":"'Renters Only'!F47-'Renters Only'!F46","v":0.18},{"$f":"'Renters Only'!G47-'Renters Only'!G46","v":-0.18000000000000005},{"$f":"'Renters Only'!H47-'Renters Only'!H46","v":-2.9999999999999916E-2},{"$f":"'Renters Only'!I47-'Renters Only'!I46","v":1.0000000000000009E-2},{"$f":"'Renters Only'!J47-'Renters Only'!J46","v":0.15000000000000002},{"$f":"'Renters Only'!K47-'Renters Only'!K46","v":-0.14999999999999997},{"$f":"'Renters Only'!L47-'Renters Only'!L46","v":9.9999999999999978E-2},{"$f":"'Renters Only'!M47-'Renters Only'!M46","v":-0.08},{"$f":"'Renters Only'!N47-'Renters Only'!N46","v":8.0000000000000071E-2},{"$f":"'Renters Only'!O47-'Renters Only'!O46","v":-0.10999999999999999},{"$f":"'Renters Only'!P47-'Renters Only'!P46","v":0},{"$f":"'Renters Only'!Q47-'Renters Only'!Q46","v":0}]
["Jan 14-Feb 14",{"$f":"'Renters Only'!B48-'Renters Only'!B47","v":6.9999999999999951E-2},{"$f":"'Renters Only'!C48-'Renters Only'!C47","v":-0.04},{"$f":"'Renters Only'!D48-'Renters Only'!D47","v":0},{"$f":"'Renters Only'!E48-'Renters Only'!E47","v":2.5834000000000003E-2},{"$f":"'Renters Only'!F48-'Renters Only'!F47","v":-0.12},{"$f":"'Renters Only'!G48-'Renters Only'!G47","v":0.10999999999999999},{"$f":"'Renters Only'!H48-'Renters Only'!H47","v":-1.0000000000000009E-2},{"$f":"'Renters Only'!I48-'Renters Only'!I47","v":1.999999999999999E-2},{"$f":"'Renters Only'!J48-'Renters Only'!J47","v":-0.15000000000000002},{"$f":"'Renters Only'!K48-'Renters Only'!K47","v":0.15999999999999998},{"$f":"'Renters Only'!L48-'Renters Only'!L47","v":-6.0000000000000053E-2},{"$f":"'Renters Only'!M48-'Renters Only'!M47","v":0.05},{"$f":"'Renters Only'!N48-'Renters Only'!N47","v":-7.0000000000000062E-2},{"$f":"'Renters Only'!O48-'Renters Only'!O47","v":7.9999999999999988E-2},{"$f":"'Renters Only'!P48-'Renters Only'!P47","v":-5.9999999999999942E-2},{"$f":"'Renters Only'!Q48-'Renters Only'!Q47","v":0}]
["Feb 14-Mar 14",{"$f":"'Renters Only'!B49-'Renters Only'!B48","v":-1.0000000000000009E-2},{"$f":"'Renters Only'!C49-'Renters Only'!C48","v":0.03},{"$f":"'Renters Only'!D49-'Renters Only'!D48","v":1.0000000000000009E-2},{"$f":"'Renters Only'!E49-'Renters Only'!E48","v":-5.5890000000000176E-3},{"$f":"'Renters Only'!F49-'Renters Only'!F48","v":1.9999999999999962E-2},{"$f":"'Renters Only'!G49-'Renters Only'!G48","v":-3.9999999999999925E-2},{"$f":"'Renters Only'!H49-'Renters Only'!H48","v":1.0000000000000009E-2},{"$f":"'Renters Only'!I49-'Renters Only'!I48","v":-1.0000000000000009E-2},{"$f":"'Renters Only'!J49-'Renters Only'!J48","v":-1.9999999999999907E-2},{"$f":"'Renters Only'!K49-'Renters Only'!K48","v":-2.0000000000000018E-2},{"$f":"'Renters Only'!L49-'Renters Only'!L48","v":-1.9999999999999907E-2},{"$f":"'Renters Only'!M49-'Renters Only'!M48","v":1.0000000000000009E-2},{"$f":"'Renters Only'!N49-'Renters Only'!N48","v":4.0000000000000036E-2},{"$f":"'Renters Only'!O49-'Renters Only'!O48","v":-0.03},{"$f":"'Renters Only'!P49-'Renters Only'!P48","v":5.0000000000000044E-2},{"$f":"'Renters Only'!Q49-'Renters Only'!Q48","v":1.0000000000000009E-2}]
["Mar 14-Apr 14",{"$f":"'Renters Only'!B50-'Renters Only'!B49","v":1.0000000000000009E-2},{"$f":"'Renters Only'!C50-'Renters Only'!C49","v":-0.03},{"$f":"'Renters Only'!D50-'Renters Only'!D49","v":0},{"$f":"'Renters Only'!E50-'Renters Only'!E49","v":1.4940000000000092E-3},{"$f":"'Renters Only'!F50-'Renters Only'!F49","v":-1.9999999999999962E-2},{"$f":"'Renters Only'!G50-'Renters Only'!G49","v":3.9999999999999925E-2},{"$f":"'Renters Only'!H50-'Renters Only'!H49","v":-3.0000000000000027E-2},{"$f":"'Renters Only'!I50-'Renters Only'!I49","v":0.03},{"$f":"'Renters Only'!J50-'Renters Only'!J49","v":5.9999999999999942E-2},{"$f":"'Renters Only'!K50-'Renters Only'!K49","v":-2.9999999999999971E-2},{"$f":"'Renters Only'!L50-'Renters Only'!L49","v":-8.0000000000000071E-2},{"$f":"'Renters Only'!M50-'Renters Only'!M49","v":0.09},{"$f":"'Renters Only'!N50-'Renters Only'!N49","v":-3.0000000000000027E-2},{"$f":"'Renters Only'!O50-'Renters Only'!O49","v":0.03},{"$f":"'Renters Only'!P50-'Renters Only'!P49","v":-9.000000000000008E-2},{"$f":"'Renters Only'!Q50-'Renters Only'!Q49","v":8.9999999999999969E-2}]
["Apr 14-May 14",{"$f":"'Renters Only'!B51-'Renters Only'!B50","v":-4.9999999999999933E-2},{"$f":"'Renters Only'!C51-'Renters Only'!C50","v":0.04},{"$f":"'Renters Only'!D51-'Renters Only'!D50","v":-0.06},{"$f":"'Renters Only'!E51-'Renters Only'!E50","v":-1.2211999999999987E-2},{"$f":"'Renters Only'!F51-'Renters Only'!F50","v":0},{"$f":"'Renters Only'!G51-'Renters Only'!G50","v":-1.9999999999999907E-2},{"$f":"'Renters Only'!H51-'Renters Only'!H50","v":3.0000000000000027E-2},{"$f":"'Renters Only'!I51-'Renters Only'!I50","v":-4.9999999999999989E-2},{"$f":"'Renters Only'!J51-'Renters Only'!J50","v":-4.9999999999999933E-2},{"$f":"'Renters Only'!K51-'Renters Only'!K50","v":2.9999999999999971E-2},{"$f":"'Renters Only'!L51-'Renters Only'!L50","v":5.0000000000000044E-2},{"$f":"'Renters Only'!M51-'Renters Only'!M50","v":-0.06},{"$f":"'Renters Only'!N51-'Renters Only'!N50","v":1.0000000000000009E-2},{"$f":"'Renters Only'!O51-'Renters Only'!O50","v":1.0000000000000009E-2},{"$f":"'Renters Only'!P51-'Renters Only'!P50","v":8.0000000000000071E-2},{"$f":"'Renters Only'!Q51-'Renters Only'!Q50","v":-0.16999999999999998}]
["May 14-Jun 14",{"$f":"'Renters Only'!B52-'Renters Only'!B51","v":5.9999999999999942E-2},{"$f":"'Renters Only'!C52-'Renters Only'!C51","v":-1.0000000000000002E-2},{"$f":"'Renters Only'!D52-'Renters Only'!D51","v":3.999999999999998E-2},{"$f":"'Renters Only'!E52-'Renters Only'!E51","v":7.0879999999999901E-3},{"$f":"'Renters Only'!F52-'Renters Only'!F51","v":3.999999999999998E-2},{"$f":"'Renters Only'!G52-'Renters Only'!G51","v":-3.0000000000000027E-2},{"$f":"'Renters Only'!H52-'Renters Only'!H51","v":0},{"$f":"'Renters Only'!I52-'Renters Only'!I51","v":1.999999999999999E-2},{"$f":"'Renters Only'!J52-'Renters Only'!J51","v":0.12999999999999989},{"$f":"'Renters Only'!K52-'Renters Only'!K51","v":-0.10999999999999999},{"$f":"'Renters Only'!L52-'Renters Only'!L51","v":-3.0000000000000027E-2},{"$f":"'Renters Only'!M52-'Renters Only'!M51","v":9.9999999999999811E-3},{"$f":"'Renters Only'!N52-'Renters Only'!N51","v":-3.0000000000000027E-2},{"$f":"'Renters Only'!O52-'Renters Only'!O51","v":1.0000000000000009E-2},{"$f":"'Renters Only'!P52-'Renters Only'!P51","v":-4.0000000000000036E-2},{"$f":"'Renters Only'!Q52-'Renters Only'!Q51","v":0.10999999999999999}]
["Jun 14-Jul 14",{"$f":"'Renters Only'!B53-'Renters Only'!B52","v":-2.0000000000000018E-2},{"$f":"'Renters Only'!C53-'Renters Only'!C52","v":-1.0000000000000002E-2},{"$f":"'Renters Only'!D53-'Renters Only'!D52","v":2.0000000000000018E-2},{"$f":"'Renters Only'!E53-'Renters Only'!E52","v":3.1280000000000058E-3},{"$f":"'Renters Only'!F53-'Renters Only'!F52","v":-3.999999999999998E-2},{"$f":"'Renters Only'!G53-'Renters Only'!G52","v":5.9999999999999942E-2},{"$f":"'Renters Only'!H53-'Renters Only'!H52","v":0},{"$f":"'Renters Only'!I53-'Renters Only'!I52","v":-1.999999999999999E-2},{"$f":"'Renters Only'!J53-'Renters Only'!J52","v":-6.9999999999999951E-2},{"$f":"'Renters Only'!K53-'Renters Only'!K52","v":7.0000000000000007E-2},{"$f":"'Renters Only'!L53-'Renters Only'!L52","v":1.0000000000000009E-2},{"$f":"'Renters Only'!M53-'Renters Only'!M52","v":0},{"$f":"'Renters Only'!N53-'Renters Only'!N52","v":0},{"$f":"'Renters Only'!O53-'Renters Only'!O52","v":-1.0000000000000009E-2},{"$f":"'Renters Only'!P53-'Renters Only'!P52","v":5.0000000000000044E-2},{"$f":"'Renters Only'!Q53-'Renters Only'!Q52","v":-2.9999999999999971E-2}]
["Jul 14-Aug 14",{"$f":"'Renters Only'!B54-'Renters Only'!B53","v":-3.9999999999999925E-2},{"$f":"'Renters Only'!C54-'Renters Only'!C53","v":4.0000000000000008E-2},{"$f":"'Renters Only'!D54-'Renters Only'!D53","v":-0.06},{"$f":"'Renters Only'!E54-'Renters Only'!E53","v":2.8830000000000036E-3},{"$f":"'Renters Only'!F54-'Renters Only'!F53","v":2.9999999999999971E-2},{"$f":"'Renters Only'!G54-'Renters Only'!G53","v":-2.0000000000000018E-2},{"$f":"'Renters Only'!H54-'Renters Only'!H53","v":-6.0000000000000053E-2},{"$f":"'Renters Only'!I54-'Renters Only'!I53","v":0.06},{"$f":"'Renters Only'!J54-'Renters Only'!J53","v":-5.9999999999999942E-2},{"$f":"'Renters Only'!K54-'Renters Only'!K53","v":0.06},{"$f":"'Renters Only'!L54-'Renters Only'!L53","v":3.0000000000000027E-2},{"$f":"'Renters Only'!M54-'Renters Only'!M53","v":-9.9999999999999811E-3},{"$f":"'Renters Only'!N54-'Renters Only'!N53","v":-2.0000000000000018E-2},{"$f":"'Renters Only'!O54-'Renters Only'!O53","v":0.03},{"$f":"'Renters Only'!P54-'Renters Only'!P53","v":-7.0000000000000062E-2},{"$f":"'Renters Only'!Q54-'Renters Only'!Q53","v":2.0000000000000018E-2}]
["Aug 14-Sep 14",{"$f":"'Renters Only'!B55-'Renters Only'!B54","v":3.0000000000000027E-2},{"$f":"'Renters Only'!C55-'Renters Only'!C54","v":-6.0000000000000005E-2},{"$f":"'Renters Only'!D55-'Renters Only'!D54","v":7.999999999999996E-2},{"$f":"'Renters Only'!E55-'Renters Only'!E54","v":-1.9129E-2},{"$f":"'Renters Only'!F55-'Renters Only'!F54","v":-1.0000000000000009E-2},{"$f":"'Renters Only'!G55-'Renters Only'!G54","v":-5.9999999999999942E-2},{"$f":"'Renters Only'!H55-'Renters Only'!H54","v":3.0000000000000027E-2},{"$f":"'Renters Only'!I55-'Renters Only'!I54","v":-4.0000000000000008E-2},{"$f":"'Renters Only'!J55-'Renters Only'!J54","v":3.9999999999999925E-2},{"$f":"'Renters Only'!K55-'Renters Only'!K54","v":-7.0000000000000007E-2},{"$f":"'Renters Only'!L55-'Renters Only'!L54","v":-2.0000000000000018E-2},{"$f":"'Renters Only'!M55-'Renters Only'!M54","v":9.9999999999999811E-3},{"$f":"'Renters Only'!N55-'Renters Only'!N54","v":4.0000000000000036E-2},{"$f":"'Renters Only'!O55-'Renters Only'!O54","v":-4.0000000000000008E-2},{"$f":"'Renters Only'!P55-'Renters Only'!P54","v":-4.9999999999999989E-2},{"$f":"'Renters Only'!Q55-'Renters Only'!Q54","v":-5.0000000000000044E-2}]
["Sep 14-Oct 14",{"$f":"'Renters Only'!B56-'Renters Only'!B55","v":4.9999999999999933E-2},{"$f":"'Renters Only'!C56-'Renters Only'!C55","v":1.9999999999999997E-2},{"$f":"'Renters Only'!D56-'Renters Only'!D55","v":-8.9999999999999969E-2},{"$f":"'Renters Only'!E56-'Renters Only'!E55","v":1.2934999999999995E-2},{"$f":"'Renters Only'!F56-'Renters Only'!F55","v":4.0000000000000036E-2},{"$f":"'Renters Only'!G56-'Renters Only'!G55","v":0},{"$f":"'Renters Only'!H56-'Renters Only'!H55","v":-2.0000000000000018E-2},{"$f":"'Renters Only'!I56-'Renters Only'!I55","v":4.0000000000000008E-2},{"$f":"'Renters Only'!J56-'Renters Only'!J55","v":2.0000000000000018E-2},{"$f":"'Renters Only'!K56-'Renters Only'!K55","v":1.0000000000000009E-2},{"$f":"'Renters Only'!L56-'Renters Only'!L55","v":2.0000000000000018E-2},{"$f":"'Renters Only'!M56-'Renters Only'!M55","v":0},{"$f":"'Renters Only'!N56-'Renters Only'!N55","v":-2.0000000000000018E-2},{"$f":"'Renters Only'!O56-'Renters Only'!O55","v":0},{"$f":"'Renters Only'!P56-'Renters Only'!P55","v":-1.0000000000000009E-2},{"$f":"'Renters Only'!Q56-'Renters Only'!Q55","v":0.10000000000000003}]
["Oct 14-Nov 14",{"$f":"'Renters Only'!B57-'Renters Only'!B56","v":-1.0000000000000009E-2},{"$f":"'Renters Only'!C57-'Renters Only'!C56","v":1.0000000000000002E-2},{"$f":"'Renters Only'!D57-'Renters Only'!D56","v":0},{"$f":"'Renters Only'!E57-'Renters Only'!E56","v":2.4850000000000011E-3},{"$f":"'Renters Only'!F57-'Renters Only'!F56","v":-9.0000000000000024E-2},{"$f":"'Renters Only'!G57-'Renters Only'!G56","v":7.999999999999996E-2},{"$f":"'Renters Only'!H57-'Renters Only'!H56","v":1.0000000000000009E-2},{"$f":"'Renters Only'!I57-'Renters Only'!I56","v":-0.03},{"$f":"'Renters Only'!J57-'Renters Only'!J56","v":-8.9999999999999969E-2},{"$f":"'Renters Only'!K57-'Renters Only'!K56","v":9.0000000000000024E-2},{"$f":"'Renters Only'!L57-'Renters Only'!L56","v":6.9999999999999951E-2},{"$f":"'Renters Only'!M57-'Renters Only'!M56","v":-0.09},{"$f":"'Renters Only'!N57-'Renters Only'!N56","v":-3.0000000000000027E-2},{"$f":"'Renters Only'!O57-'Renters Only'!O56","v":2.0000000000000018E-2},{"$f":"'Renters Only'!P57-'Renters Only'!P56","v":-2.9999999999999971E-2},{"$f":"'Renters Only'!Q57-'Renters Only'!Q56","v":-3.0000000000000027E-2}]
["Nov 14-Dec 14",{"$f":"'Renters Only'!B58-'Renters Only'!B57","v":-1.0000000000000009E-2},{"$f":"'Renters Only'!C58-'Renters Only'!C57","v":0},{"$f":"'Renters Only'!D58-'Renters Only'!D57","v":8.0000000000000016E-2},{"$f":"'Renters Only'!E58-'Renters Only'!E57","v":2.7159999999999893E-3},{"$f":"'Renters Only'!F58-'Renters Only'!F57","v":-2.0000000000000018E-2},{"$f":"'Renters Only'!G58-'Renters Only'!G57","v":3.0000000000000027E-2},{"$f":"'Renters Only'!H58-'Renters Only'!H57","v":-1.0000000000000009E-2},{"$f":"'Renters Only'!I58-'Renters Only'!I57","v":1.999999999999999E-2},{"$f":"'Renters Only'!J58-'Renters Only'!J57","v":-2.0000000000000018E-2},{"$f":"'Renters Only'!K58-'Renters Only'!K57","v":0},{"$f":"'Renters Only'!L58-'Renters Only'!L57","v":-3.9999999999999925E-2},{"$f":"'Renters Only'!M58-'Renters Only'!M57","v":5.0000000000000017E-2},{"$f":"'Renters Only'!N58-'Renters Only'!N57","v":-2.9999999999999916E-2},{"$f":"'Renters Only'!O58-'Renters Only'!O57","v":5.0000000000000017E-2},{"$f":"'Renters Only'!P58-'Renters Only'!P57","v":0.06},{"$f":"'Renters Only'!Q58-'Renters Only'!Q57","v":-1.9999999999999962E-2}]
["Dec 14- Jan 15",{"$f":"'Renters Only'!B59-'Renters Only'!B58","v":-2.9999999999999916E-2},{"$f":"'Renters Only'!C59-'Renters Only'!C58","v":-0.02},{"$f":"'Renters Only'!D59-'Renters Only'!D58","v":0},{"$f":"'Renters Only'!E59-'Renters Only'!E58","v":-5.6939999999999907E-3},{"$f":"'Renters Only'!F59-'Renters Only'!F58","v":0.11000000000000004},{"$f":"'Renters Only'!G59-'Renters Only'!G58","v":-0.10999999999999999},{"$f":"'Renters Only'!H59-'Renters Only'!H58","v":3.0000000000000027E-2},{"$f":"'Renters Only'!I59-'Renters Only'!I58","v":-1.999999999999999E-2},{"$f":"'Renters Only'!J59-'Renters Only'!J58","v":7.999999999999996E-2},{"$f":"'Renters Only'!K59-'Renters Only'!K58","v":-8.0000000000000016E-2},{"$f":"'Renters Only'!L59-'Renters Only'!L58","v":1.9999999999999907E-2},{"$f":"'Renters Only'!M59-'Renters Only'!M58","v":-2.0000000000000018E-2},{"$f":"'Renters Only'!N59-'Renters Only'!N58","v":5.9999999999999942E-2},{"$f":"'Renters Only'!O59-'Renters Only'!O58","v":-5.0000000000000017E-2},{"$f":"'Renters Only'!P59-'Renters Only'!P58","v":4.9999999999999989E-2},{"$f":"'Renters Only'!Q59-'Renters Only'!Q58","v":-2.0000000000000018E-2}]
["Jan 15 - Feb 15",{"$f":"'Renters Only'!B60-'Renters Only'!B59","v":0},{"$f":"'Renters Only'!C60-'Renters Only'!C59","v":0.02},{"$f":"'Renters Only'!D60-'Renters Only'!D59","v":-3.0000000000000027E-2},{"$f":"'Renters Only'!E60-'Renters Only'!E59","v":6.5780000000000005E-3},{"$f":"'Renters Only'!F60-'Renters Only'!F59","v":9.9999999999999534E-3},{"$f":"'Renters Only'!G60-'Renters Only'!G59","v":-3.0000000000000027E-2},{"$f":"'Renters Only'!H60-'Renters Only'!H59","v":-2.0000000000000018E-2},{"$f":"'Renters Only'!I60-'Renters Only'!I59","v":1.999999999999999E-2},{"$f":"'Renters Only'!J60-'Renters Only'!J59","v":-3.9999999999999925E-2},{"$f":"'Renters Only'!K60-'Renters Only'!K59","v":4.9999999999999989E-2},{"$f":"'Renters Only'!L60-'Renters Only'!L59","v":-2.9999999999999916E-2},{"$f":"'Renters Only'!M60-'Renters Only'!M59","v":1.0000000000000009E-2},{"$f":"'Renters Only'!N60-'Renters Only'!N59","v":3.0000000000000027E-2},{"$f":"'Renters Only'!O60-'Renters Only'!O59","v":-2.0000000000000018E-2},{"$f":"'Renters Only'!P60-'Renters Only'!P59","v":-1.0000000000000009E-2},{"$f":"'Renters Only'!Q60-'Renters Only'!Q59","v":-3.999999999999998E-2}]
["Feb 15 - Mar 15",{"$f":"'Renters Only'!B61-'Renters Only'!B60","v":9.9999999999998979E-3},{"$f":"'Renters Only'!C61-'Renters Only'!C60","v":1.9999999999999997E-2},{"$f":"'Renters Only'!D61-'Renters Only'!D60","v":-3.999999999999998E-2},{"$f":"'Renters Only'!E61-'Renters Only'!E60","v":-1.9370000000000082E-3},{"$f":"'Renters Only'!F61-'Renters Only'!F60","v":-8.9999999999999969E-2},{"$f":"'Renters Only'!G61-'Renters Only'!G60","v":0.10999999999999999},{"$f":"'Renters Only'!H61-'Renters Only'!H60","v":-3.0000000000000027E-2},{"$f":"'Renters Only'!I61-'Renters Only'!I60","v":1.0000000000000009E-2},{"$f":"'Renters Only'!J61-'Renters Only'!J60","v":-7.0000000000000062E-2},{"$f":"'Renters Only'!K61-'Renters Only'!K60","v":7.0000000000000007E-2},{"$f":"'Renters Only'!L61-'Renters Only'!L60","v":-1.0000000000000009E-2},{"$f":"'Renters Only'!M61-'Renters Only'!M60","v":1.999999999999999E-2},{"$f":"'Renters Only'!N61-'Renters Only'!N60","v":-8.9999999999999969E-2},{"$f":"'Renters Only'!O61-'Renters Only'!O60","v":5.0000000000000017E-2},{"$f":"'Renters Only'!P61-'Renters Only'!P60","v":2.0000000000000018E-2},{"$f":"'Renters Only'!Q61-'Renters Only'!Q60","v":0.06}]
["Mar 15 - Apr 15",{"$f":"'Renters Only'!B62-'Renters Only'!B61","v":2.0000000000000018E-2},{"$f":"'Renters Only'!C62-'Renters Only'!C61","v":-0.03},{"$f":"'Renters Only'!D62-'Renters Only'!D61","v":2.9999999999999971E-2},{"$f":"'Renters Only'!E62-'Renters Only'!E61","v":9.214999999999994E-3},{"$f":"'Renters Only'!F62-'Renters Only'!F61","v":-2.0000000000000018E-2},{"$f":"'Renters Only'!G62-'Renters Only'!G61","v":1.0000000000000009E-2},{"$f":"'Renters Only'!H62-'Renters Only'!H61","v":6.0000000000000053E-2},{"$f":"'Renters Only'!I62-'Renters Only'!I61","v":-4.9999999999999989E-2},{"$f":"'Renters Only'!J62-'Renters Only'!J61","v":6.0000000000000053E-2},{"$f":"'Renters Only'!K62-'Renters Only'!K61","v":-7.0000000000000007E-2},{"$f":"'Renters Only'!L62-'Renters Only'!L61","v":-9.000000000000008E-2},{"$f":"'Renters Only'!M62-'Renters Only'!M61","v":9.0000000000000024E-2},{"$f":"'Renters Only'!N62-'Renters Only'!N61","v":4.9999999999999933E-2},{"$f":"'Renters Only'!O62-'Renters Only'!O61","v":-0.03},{"$f":"'Renters Only'!P62-'Renters Only'!P61","v":3.0000000000000027E-2},{"$f":"'Renters Only'!Q62-'Renters Only'!Q61","v":-7.0000000000000007E-2}]
["Apr 15 - May 15",{"$f":"'Renters Only'!B63-'Renters Only'!B62","v":4.0000000000000036E-2},{"$f":"'Renters Only'!C63-'Renters Only'!C62","v":0},{"$f":"'Renters Only'!D63-'Renters Only'!D62","v":-0.06},{"$f":"'Renters Only'!E63-'Renters Only'!E62","v":2.6860000000000078E-3},{"$f":"'Renters Only'!F63-'Renters Only'!F62","v":7.0000000000000007E-2},{"$f":"'Renters Only'!G63-'Renters Only'!G62","v":-6.9999999999999951E-2},{"$f":"'Renters Only'!H63-'Renters Only'!H62","v":0},{"$f":"'Renters Only'!I63-'Renters Only'!I62","v":-2.0000000000000018E-2},{"$f":"'Renters Only'!J63-'Renters Only'!J62","v":7.999999999999996E-2},{"$f":"'Renters Only'!K63-'Renters Only'!K62","v":-7.0000000000000007E-2},{"$f":"'Renters Only'!L63-'Renters Only'!L62","v":0.10000000000000009},{"$f":"'Renters Only'!M63-'Renters Only'!M62","v":-0.15000000000000002},{"$f":"'Renters Only'!N63-'Renters Only'!N62","v":-2.0000000000000018E-2},{"$f":"'Renters Only'!O63-'Renters Only'!O62","v":1.999999999999999E-2},{"$f":"'Renters Only'!P63-'Renters Only'!P62","v":-2.0000000000000018E-2},{"$f":"'Renters Only'!Q63-'Renters Only'!Q62","v":-2.0000000000000018E-2}]
["May 15 - Jun 15",{"$f":"'Renters Only'!B64-'Renters Only'!B63","v":-2.0000000000000018E-2},{"$f":"'Renters Only'!C64-'Renters Only'!C63","v":1.0000000000000002E-2},{"$f":"'Renters Only'!D64-'Renters Only'!D63","v":1.0000000000000009E-2},{"$f":"'Renters Only'!E64-'Renters Only'!E63","v":-1.3788999999999996E-2},{"$f":"'Renters Only'!F64-'Renters Only'!F63","v":2.0000000000000018E-2},{"$f":"'Renters Only'!G64-'Renters Only'!G63","v":-2.0000000000000018E-2},{"$f":"'Renters Only'!H64-'Renters Only'!H63","v":-3.0000000000000027E-2},{"$f":"'Renters Only'!I64-'Renters Only'!I63","v":4.0000000000000008E-2},{"$f":"'Renters Only'!J64-'Renters Only'!J63","v":-7.999999999999996E-2},{"$f":"'Renters Only'!K64-'Renters Only'!K63","v":8.0000000000000016E-2},{"$f":"'Renters Only'!L64-'Renters Only'!L63","v":-2.0000000000000018E-2},{"$f":"'Renters Only'!M64-'Renters Only'!M63","v":8.0000000000000016E-2},{"$f":"'Renters Only'!N64-'Renters Only'!N63","v":4.0000000000000036E-2},{"$f":"'Renters Only'!O64-'Renters Only'!O63","v":-4.9999999999999989E-2},{"$f":"'Renters Only'!P64-'Renters Only'!P63","v":-2.0000000000000018E-2},{"$f":"'Renters Only'!Q64-'Renters Only'!Q63","v":3.0000000000000027E-2}]
["Jun 15 - Jul 15",{"$f":"'Renters Only'!B65-'Renters Only'!B64","v":-1.0000000000000009E-2},{"$f":"'Renters Only'!C65-'Renters Only'!C64","v":-1.0000000000000002E-2},{"$f":"'Renters Only'!D65-'Renters Only'!D64","v":2.0000000000000018E-2},{"$f":"'Renters Only'!E65-'Renters Only'!E64","v":1.3014999999999999E-2},{"$f":"'Renters Only'!F65-'Renters Only'!F64","v":1.9999999999999962E-2},{"$f":"'Renters Only'!G65-'Renters Only'!G64","v":-2.0000000000000018E-2},{"$f":"'Renters Only'!H65-'Renters Only'!H64","v":0},{"$f":"'Renters Only'!I65-'Renters Only'!I64","v":-1.0000000000000009E-2},{"$f":"'Renters Only'!J65-'Renters Only'!J64","v":2.9999999999999916E-2},{"$f":"'Renters Only'!K65-'Renters Only'!K64","v":-2.0000000000000018E-2},{"$f":"'Renters Only'!L65-'Renters Only'!L64","v":-2.0000000000000018E-2},{"$f":"'Renters Only'!M65-'Renters Only'!M64","v":9.9999999999999811E-3},{"$f":"'Renters Only'!N65-'Renters Only'!N64","v":1.0000000000000009E-2},{"$f":"'Renters Only'!O65-'Renters Only'!O64","v":-1.0000000000000009E-2},{"$f":"'Renters Only'!P65-'Renters Only'!P64","v":3.0000000000000027E-2},{"$f":"'Renters Only'!Q65-'Renters Only'!Q64","v":-5.0000000000000044E-2}]
["Jul 15 - Aug 15",{"$f":"'Renters Only'!B66-'Renters Only'!B65","v":-2.0000000000000018E-2},{"$f":"'Renters Only'!C66-'Renters Only'!C65","v":-1.9999999999999997E-2},{"$f":"'Renters Only'!D66-'Renters Only'!D65","v":4.9999999999999989E-2},{"$f":"'Renters Only'!E66-'Renters Only'!E65","v":-6.3789999999999958E-3},{"$f":"'Renters Only'!F66-'Renters Only'!F65","v":-4.9999999999999989E-2},{"$f":"'Renters Only'!G66-'Renters Only'!G65","v":7.0000000000000062E-2},{"$f":"'Renters Only'!H66-'Renters Only'!H65","v":2.0000000000000018E-2},{"$f":"'Renters Only'!I66-'Renters Only'!I65","v":1.0000000000000009E-2},{"$f":"'Renters Only'!J66-'Renters Only'!J65","v":2.0000000000000018E-2},{"$f":"'Renters Only'!K66-'Renters Only'!K65","v":-1.9999999999999962E-2},{"$f":"'Renters Only'!L66-'Renters Only'!L65","v":1.0000000000000009E-2},{"$f":"'Renters Only'!M66-'Renters Only'!M65","v":-1.999999999999999E-2},{"$f":"'Renters Only'!N66-'Renters Only'!N65","v":-2.0000000000000018E-2},{"$f":"'Renters Only'!O66-'Renters Only'!O65","v":4.9999999999999989E-2},{"$f":"'Renters Only'!P66-'Renters Only'!P65","v":-7.0000000000000062E-2},{"$f":"'Renters Only'!Q66-'Renters Only'!Q65","v":0.12}]
["Aug 15 - Sept 15",{"$f":"'Renters Only'!B67-'Renters Only'!B66","v":1.0000000000000009E-2},{"$f":"'Renters Only'!C67-'Renters Only'!C66","v":4.9999999999999996E-2},{"$f":"'Renters Only'!D67-'Renters Only'!D66","v":-3.999999999999998E-2},{"$f":"'Renters Only'!E67-'Renters Only'!E66","v":-5.7000000000008433E-5},{"$f":"'Renters Only'!F67-'Renters Only'!F66","v":2.0000000000000018E-2},{"$f":"'Renters Only'!G67-'Renters Only'!G66","v":-2.0000000000000018E-2},{"$f":"'Renters Only'!H67-'Renters Only'!H66","v":1.0000000000000009E-2},{"$f":"'Renters Only'!I67-'Renters Only'!I66","v":-1.999999999999999E-2},{"$f":"'Renters Only'!J67-'Renters Only'!J66","v":-8.9999999999999969E-2},{"$f":"'Renters Only'!K67-'Renters Only'!K66","v":8.9999999999999969E-2},{"$f":"'Renters Only'!L67-'Renters Only'!L66","v":0.10999999999999999},{"$f":"'Renters Only'!M67-'Renters Only'!M66","v":-0.08},{"$f":"'Renters Only'!N67-'Renters Only'!N66","v":4.0000000000000036E-2},{"$f":"'Renters Only'!O67-'Renters Only'!O66","v":-3.999999999999998E-2},{"$f":"'Renters Only'!P67-'Renters Only'!P66","v":9.9999999999999978E-2},{"$f":"'Renters Only'!Q67-'Renters Only'!Q66","v":-0.12}]
["Sept 15 - Oct 15",{"$f":"'Renters Only'!B68-'Renters Only'!B67","v":5.0000000000000044E-2},{"$f":"'Renters Only'!C68-'Renters Only'!C67","v":-3.9999999999999994E-2},{"$f":"'Renters Only'!D68-'Renters Only'!D67","v":-1.0000000000000009E-2},{"$f":"'Renters Only'!E68-'Renters Only'!E67","v":-2.5399999999999937E-3},{"$f":"'Renters Only'!F68-'Renters Only'!F67","v":-9.0000000000000024E-2},{"$f":"'Renters Only'!G68-'Renters Only'!G67","v":7.999999999999996E-2},{"$f":"'Renters Only'!H68-'Renters Only'!H67","v":0},{"$f":"'Renters Only'!I68-'Renters Only'!I67","v":-1.0000000000000009E-2},{"$f":"'Renters Only'!J68-'Renters Only'!J67","v":0},{"$f":"'Renters Only'!K68-'Renters Only'!K67","v":-2.0000000000000018E-2},{"$f":"'Renters Only'!L68-'Renters Only'!L67","v":-0.10999999999999999},{"$f":"'Renters Only'!M68-'Renters Only'!M67","v":6.9999999999999993E-2},{"$f":"'Renters Only'!N68-'Renters Only'!N67","v":-2.0000000000000018E-2},{"$f":"'Renters Only'!O68-'Renters Only'!O67","v":0},{"$f":"'Renters Only'!P68-'Renters Only'!P67","v":-0.11999999999999994},{"$f":"'Renters Only'!Q68-'Renters Only'!Q67","v":9.0000000000000024E-2}]
["Oct 15 - Nov 15",{"$f":"'Renters Only'!B69-'Renters Only'!B68","v":-3.0000000000000027E-2},{"$f":"'Renters Only'!C69-'Renters Only'!C68","v":-0.01},{"$f":"'Renters Only'!D69-'Renters Only'!D68","v":2.9999999999999971E-2},{"$f":"'Renters Only'!E69-'Renters Only'!E68","v":7.6879999999999865E-3},{"$f":"'Renters Only'!F69-'Renters Only'!F68","v":5.0000000000000044E-2},{"$f":"'Renters Only'!G69-'Renters Only'!G68","v":-5.0000000000000044E-2},{"$f":"'Renters Only'!H69-'Renters Only'!H68","v":3.9999999999999925E-2},{"$f":"'Renters Only'!I69-'Renters Only'!I68","v":-1.0000000000000009E-2},{"$f":"'Renters Only'!J69-'Renters Only'!J68","v":4.0000000000000036E-2},{"$f":"'Renters Only'!K69-'Renters Only'!K68","v":-1.9999999999999962E-2},{"$f":"'Renters Only'!L69-'Renters Only'!L68","v":4.9999999999999933E-2},{"$f":"'Renters Only'!M69-'Renters Only'!M68","v":-9.9999999999999811E-3},{"$f":"'Renters Only'!N69-'Renters Only'!N68","v":2.0000000000000018E-2},{"$f":"'Renters Only'!O69-'Renters Only'!O68","v":-1.0000000000000009E-2},{"$f":"'Renters Only'!P69-'Renters Only'!P68","v":0.11999999999999994},{"$f":"'Renters Only'!Q69-'Renters Only'!Q68","v":-3.999999999999998E-2}]
["Nov 15 - Dec 15",{"$f":"'Renters Only'!B70-'Renters Only'!B69","v":-1.0000000000000009E-2},{"$f":"'Renters Only'!C70-'Renters Only'!C69","v":0.03},{"$f":"'Renters Only'!D70-'Renters Only'!D69","v":-4.9999999999999989E-2},{"$f":"'Renters Only'!E70-'Renters Only'!E69","v":-1.8033999999999988E-2},{"$f":"'Renters Only'!F70-'Renters Only'!F69","v":-0.06},{"$f":"'Renters Only'!G70-'Renters Only'!G69","v":8.0000000000000071E-2},{"$f":"'Renters Only'!H70-'Renters Only'!H69","v":-2.9999999999999916E-2},{"$f":"'Renters Only'!I70-'Renters Only'!I69","v":1.0000000000000009E-2},{"$f":"'Renters Only'!J70-'Renters Only'!J69","v":-2.0000000000000018E-2},{"$f":"'Renters Only'!K70-'Renters Only'!K69","v":1.0000000000000009E-2},{"$f":"'Renters Only'!L70-'Renters Only'!L69","v":-3.9999999999999925E-2},{"$f":"'Renters Only'!M70-'Renters Only'!M69","v":3.999999999999998E-2},{"$f":"'Renters Only'!N70-'Renters Only'!N69","v":-2.0000000000000018E-2},{"$f":"'Renters Only'!O70-'Renters Only'!O69","v":0.03},{"$f":"'Renters Only'!P70-'Renters Only'!P69","v":-0.12999999999999995},{"$f":"'Renters Only'!Q70-'Renters Only'!Q69","v":9.9999999999999978E-2}]
["Dec 15 - Jan 16",{"$f":"'Renters Only'!B71-'Renters Only'!B70","v":-3.9999999999999925E-2},{"$f":"'Renters Only'!C71-'Renters Only'!C70","v":1.0000000000000002E-2},{"$f":"'Renters Only'!D71-'Renters Only'!D70","v":0.06},{"$f":"'Renters Only'!E71-'Renters Only'!E70","v":9.6660000000000079E-3},{"$f":"'Renters Only'!F71-'Renters Only'!F70","v":0.12999999999999995},{"$f":"'Renters Only'!G71-'Renters Only'!G70","v":-0.14000000000000001},{"$f":"'Renters Only'!H71-'Renters Only'!H70","v":-1.0000000000000009E-2},{"$f":"'Renters Only'!I71-'Renters Only'!I70","v":1.999999999999999E-2},{"$f":"'Renters Only'!J71-'Renters Only'!J70","v":0},{"$f":"'Renters Only'!K71-'Renters Only'!K70","v":0},{"$f":"'Renters Only'!L71-'Renters Only'!L70","v":5.9999999999999942E-2},{"$f":"'Renters Only'!M71-'Renters Only'!M70","v":-0.06},{"$f":"'Renters Only'!N71-'Renters Only'!N70","v":4.0000000000000036E-2},{"$f":"'Renters Only'!O71-'Renters Only'!O70","v":-0.06},{"$f":"'Renters Only'!P71-'Renters Only'!P70","v":0.13999999999999996},{"$f":"'Renters Only'!Q71-'Renters Only'!Q70","v":-9.9999999999999978E-2}]
["Jan 16 - Feb 16",{"$f":"'Renters Only'!B72-'Renters Only'!B71","v":1.9999999999999907E-2},{"$f":"'Renters Only'!C72-'Renters Only'!C71","v":0},{"$f":"'Renters Only'!D72-'Renters Only'!D71","v":-3.999999999999998E-2},{"$f":"'Renters Only'!E72-'Renters Only'!E71","v":-1.3569000000000019E-2},{"$f":"'Renters Only'!F72-'Renters Only'!F71","v":-8.9999999999999969E-2},{"$f":"'Renters Only'!G72-'Renters Only'!G71","v":7.999999999999996E-2},{"$f":"'Renters Only'!H72-'Renters Only'!H71","v":-1.0000000000000009E-2},{"$f":"'Renters Only'!I72-'Renters Only'!I71","v":0},{"$f":"'Renters Only'!J72-'Renters Only'!J71","v":-0.06},{"$f":"'Renters Only'!K72-'Renters Only'!K71","v":4.9999999999999989E-2},{"$f":"'Renters Only'!L72-'Renters Only'!L71","v":-6.9999999999999951E-2},{"$f":"'Renters Only'!M72-'Renters Only'!M71","v":7.0000000000000007E-2},{"$f":"'Renters Only'!N72-'Renters Only'!N71","v":-4.0000000000000036E-2},{"$f":"'Renters Only'!O72-'Renters Only'!O71","v":4.0000000000000008E-2},{"$f":"'Renters Only'!P72-'Renters Only'!P71","v":2.0000000000000018E-2},{"$f":"'Renters Only'!Q72-'Renters Only'!Q71","v":-7.0000000000000007E-2}]
["Feb 16 - Mar 16",{"$f":"'Renters Only'!B73-'Renters Only'!B72","v":-1.9999999999999907E-2},{"$f":"'Renters Only'!C73-'Renters Only'!C72","v":-3.0000000000000002E-2},{"$f":"'Renters Only'!D73-'Renters Only'!D72","v":2.9999999999999971E-2},{"$f":"'Renters Only'!E73-'Renters Only'!E72","v":1.2155000000000013E-2},{"$f":"'Renters Only'!F73-'Renters Only'!F72","v":4.9999999999999989E-2},{"$f":"'Renters Only'!G73-'Renters Only'!G72","v":-4.9999999999999933E-2},{"$f":"'Renters Only'!H73-'Renters Only'!H72","v":1.0000000000000009E-2},{"$f":"'Renters Only'!I73-'Renters Only'!I72","v":-9.9999999999999811E-3},{"$f":"'Renters Only'!J73-'Renters Only'!J72","v":0.11999999999999994},{"$f":"'Renters Only'!K73-'Renters Only'!K72","v":-0.10999999999999999},{"$f":"'Renters Only'!L73-'Renters Only'!L72","v":-1.0000000000000009E-2},{"$f":"'Renters Only'!M73-'Renters Only'!M72","v":-1.0000000000000009E-2},{"$f":"'Renters Only'!N73-'Renters Only'!N72","v":-1.0000000000000009E-2},{"$f":"'Renters Only'!O73-'Renters Only'!O72","v":0},{"$f":"'Renters Only'!P73-'Renters Only'!P72","v":-6.9999999999999951E-2},{"$f":"'Renters Only'!Q73-'Renters Only'!Q72","v":7.999999999999996E-2}]
["Mar 16 - Apr 16",{"$f":"'Renters Only'!B74-'Renters Only'!B73","v":5.9999999999999942E-2},{"$f":"'Renters Only'!C74-'Renters Only'!C73","v":3.0000000000000002E-2},{"$f":"'Renters Only'!D74-'Renters Only'!D73","v":-0.06},{"$f":"'Renters Only'!E74-'Renters Only'!E73","v":-5.734000000000003E-3},{"$f":"'Renters Only'!F74-'Renters Only'!F73","v":-2.0000000000000018E-2},{"$f":"'Renters Only'!G74-'Renters Only'!G73","v":2.0000000000000018E-2},{"$f":"'Renters Only'!H74-'Renters Only'!H73","v":-4.0000000000000036E-2},{"$f":"'Renters Only'!I74-'Renters Only'!I73","v":3.999999999999998E-2},{"$f":"'Renters Only'!J74-'Renters Only'!J73","v":-1.0000000000000009E-2},{"$f":"'Renters Only'!K74-'Renters Only'!K73","v":1.9999999999999962E-2},{"$f":"'Renters Only'!L74-'Renters Only'!L73","v":0},{"$f":"'Renters Only'!M74-'Renters Only'!M73","v":0},{"$f":"'Renters Only'!N74-'Renters Only'!N73","v":-6.9999999999999951E-2},{"$f":"'Renters Only'!O74-'Renters Only'!O73","v":0.06},{"$f":"'Renters Only'!P74-'Renters Only'!P73","v":1.0000000000000009E-2},{"$f":"'Renters Only'!Q74-'Renters Only'!Q73","v":1.0000000000000009E-2}]
["Apr 16 - May 16",{"$f":"'Renters Only'!B75-'Renters Only'!B74","v":-3.0000000000000027E-2},{"$f":"'Renters Only'!C75-'Renters Only'!C74","v":0},{"$f":"'Renters Only'!D75-'Renters Only'!D74","v":2.0000000000000018E-2},{"$f":"'Renters Only'!E75-'Renters Only'!E74","v":2.9999999999999888E-3},{"$f":"'Renters Only'!F75-'Renters Only'!F74","v":-1.9999999999999962E-2},{"$f":"'Renters Only'!G75-'Renters Only'!G74","v":1.9999999999999907E-2},{"$f":"'Renters Only'!H75-'Renters Only'!H74","v":1.0000000000000009E-2},{"$f":"'Renters Only'!I75-'Renters Only'!I74","v":-4.9999999999999989E-2},{"$f":"'Renters Only'!J75-'Renters Only'!J74","v":-7.999999999999996E-2},{"$f":"'Renters Only'!K75-'Renters Only'!K74","v":7.0000000000000007E-2},{"$f":"'Renters Only'!L75-'Renters Only'!L74","v":-1.0000000000000009E-2},{"$f":"'Renters Only'!M75-'Renters Only'!M74","v":-3.999999999999998E-2},{"$f":"'Renters Only'!N75-'Renters Only'!N74","v":5.9999999999999942E-2},{"$f":"'Renters Only'!O75-'Renters Only'!O74","v":-5.0000000000000017E-2},{"$f":"'Renters Only'!P75-'Renters Only'!P74","v":2.0000000000000018E-2},{"$f":"'Renters Only'!Q75-'Renters Only'!Q74","v":-0.12}]
["May 16 - Jun 16",{"$f":"'Renters Only'!B76-'Renters Only'!B75","v":4.0000000000000036E-2},{"$f":"'Renters Only'!C76-'Renters Only'!C75","v":0},{"$f":"'Renters Only'!D76-'Renters Only'!D75","v":-1.0000000000000009E-2},{"$f":"'Renters Only'!E76-'Renters Only'!E75","v":8.6000000000016619E-5},{"$f":"'Renters Only'!F76-'Renters Only'!F75","v":1.9999999999999962E-2},{"$f":"'Renters Only'!G76-'Renters Only'!G75","v":-2.9999999999999916E-2},{"$f":"'Renters Only'!H76-'Renters Only'!H75","v":0},{"$f":"'Renters Only'!I76-'Renters Only'!I75","v":4.0000000000000008E-2},{"$f":"'Renters Only'!J76-'Renters Only'!J75","v":3.0000000000000027E-2},{"$f":"'Renters Only'!K76-'Renters Only'!K75","v":-3.999999999999998E-2},{"$f":"'Renters Only'!L76-'Renters Only'!L75","v":6.9999999999999951E-2},{"$f":"'Renters Only'!M76-'Renters Only'!M75","v":-0.03},{"$f":"'Renters Only'!N76-'Renters Only'!N75","v":-2.0000000000000018E-2},{"$f":"'Renters Only'!O76-'Renters Only'!O75","v":5.0000000000000017E-2},{"$f":"'Renters Only'!P76-'Renters Only'!P75","v":-3.0000000000000027E-2},{"$f":"'Renters Only'!Q76-'Renters Only'!Q75","v":8.0000000000000016E-2}]
["Jun 16 - Jul 16",{"$f":"'Renters Only'!B77-'Renters Only'!B76","v":-4.0000000000000036E-2},{"$f":"'Renters Only'!C77-'Renters Only'!C76","v":-1.0000000000000002E-2},{"$f":"'Renters Only'!D77-'Renters Only'!D76","v":2.0000000000000018E-2},{"$f":"'Renters Only'!E77-'Renters Only'!E76","v":-8.0000000000149396E-6},{"$f":"'Renters Only'!F77-'Renters Only'!F76","v":9.0000000000000024E-2},{"$f":"'Renters Only'!G77-'Renters Only'!G76","v":-7.0000000000000062E-2},{"$f":"'Renters Only'!H77-'Renters Only'!H76","v":2.0000000000000018E-2},{"$f":"'Renters Only'!I77-'Renters Only'!I76","v":-4.0000000000000008E-2},{"$f":"'Renters Only'!J77-'Renters Only'!J76","v":0.14000000000000001},{"$f":"'Renters Only'!K77-'Renters Only'!K76","v":-0.13},{"$f":"'Renters Only'!L77-'Renters Only'!L76","v":-6.9999999999999951E-2},{"$f":"'Renters Only'!M77-'Renters Only'!M76","v":4.9999999999999989E-2},{"$f":"'Renters Only'!N77-'Renters Only'!N76","v":1.0000000000000009E-2},{"$f":"'Renters Only'!O77-'Renters Only'!O76","v":-0.06},{"$f":"'Renters Only'!P77-'Renters Only'!P76","v":1.0000000000000009E-2},{"$f":"'Renters Only'!Q77-'Renters Only'!Q76","v":1.0000000000000009E-2}]
["Jul 16 - Aug 16",{"$f":"'Renters Only'!B78-'Renters Only'!B77","v":-1.0000000000000009E-2},{"$f":"'Renters Only'!C78-'Renters Only'!C77","v":1.0000000000000002E-2},{"$f":"'Renters Only'!D78-'Renters Only'!D77","v":-1.0000000000000009E-2},{"$f":"'Renters Only'!E78-'Renters Only'!E77","v":-3.4879999999999911E-3},{"$f":"'Renters Only'!F78-'Renters Only'!F77","v":-3.0000000000000027E-2},{"$f":"'Renters Only'!G78-'Renters Only'!G77","v":0},{"$f":"'Renters Only'!H78-'Renters Only'!H77","v":-3.0000000000000027E-2},{"$f":"'Renters Only'!I78-'Renters Only'!I77","v":4.9999999999999989E-2},{"$f":"'Renters Only'!J78-'Renters Only'!J77","v":-8.0000000000000071E-2},{"$f":"'Renters Only'!K78-'Renters Only'!K77","v":7.0000000000000007E-2},{"$f":"'Renters Only'!L78-'Renters Only'!L77","v":1.0000000000000009E-2},{"$f":"'Renters Only'!M78-'Renters Only'!M77","v":0},{"$f":"'Renters Only'!N78-'Renters Only'!N77","v":2.0000000000000018E-2},{"$f":"'Renters Only'!O78-'Renters Only'!O77","v":9.9999999999999811E-3},{"$f":"'Renters Only'!P78-'Renters Only'!P77","v":-4.0000000000000036E-2},{"$f":"'Renters Only'!Q78-'Renters Only'!Q77","v":4.9999999999999989E-2}]
["Aug 16 - Sep 16",{"$f":"'Renters Only'!B79-'Renters Only'!B78","v":1.0000000000000009E-2},{"$f":"'Renters Only'!C79-'Renters Only'!C78","v":-2.0000000000000004E-2},{"$f":"'Renters Only'!D79-'Renters Only'!D78","v":0},{"$f":"'Renters Only'!E79-'Renters Only'!E78","v":1.5389999999999987E-3},{"$f":"'Renters Only'!F79-'Renters Only'!F78","v":-4.9999999999999989E-2},{"$f":"'Renters Only'!G79-'Renters Only'!G78","v":8.0000000000000071E-2},{"$f":"'Renters Only'!H79-'Renters Only'!H78","v":2.0000000000000018E-2},{"$f":"'Renters Only'!I79-'Renters Only'!I78","v":-1.999999999999999E-2},{"$f":"'Renters Only'!J79-'Renters Only'!J78","v":-3.9999999999999925E-2},{"$f":"'Renters Only'!K79-'Renters Only'!K78","v":0.06},{"$f":"'Renters Only'!L79-'Renters Only'!L78","v":5.0000000000000044E-2},{"$f":"'Renters Only'!M79-'Renters Only'!M78","v":-1.999999999999999E-2},{"$f":"'Renters Only'!N79-'Renters Only'!N78","v":0},{"$f":"'Renters Only'!O79-'Renters Only'!O78","v":0},{"$f":"'Renters Only'!P79-'Renters Only'!P78","v":-2.0000000000000018E-2},{"$f":"'Renters Only'!Q79-'Renters Only'!Q78","v":0}]
["Sep 16 - Oct 16",{"$f":"'Renters Only'!B80-'Renters Only'!B79","v":0},{"$f":"'Renters Only'!C80-'Renters Only'!C79","v":-1.9999999999999997E-2},{"$f":"'Renters Only'!D80-'Renters Only'!D79","v":2.0000000000000018E-2},{"$f":"'Renters Only'!E80-'Renters Only'!E79","v":6.4340000000000092E-3},{"$f":"'Renters Only'!F80-'Renters Only'!F79","v":8.0000000000000016E-2},{"$f":"'Renters Only'!G80-'Renters Only'!G79","v":-8.0000000000000071E-2},{"$f":"'Renters Only'!H80-'Renters Only'!H79","v":-1.0000000000000009E-2},{"$f":"'Renters Only'!I80-'Renters Only'!I79","v":1.999999999999999E-2},{"$f":"'Renters Only'!J80-'Renters Only'!J79","v":4.9999999999999933E-2},{"$f":"'Renters Only'!K80-'Renters Only'!K79","v":-4.9999999999999989E-2},{"$f":"'Renters Only'!L80-'Renters Only'!L79","v":1.9999999999999907E-2},{"$f":"'Renters Only'!M80-'Renters Only'!M79","v":-0.03},{"$f":"'Renters Only'!N80-'Renters Only'!N79","v":-2.0000000000000018E-2},{"$f":"'Renters Only'!O80-'Renters Only'!O79","v":0.03},{"$f":"'Renters Only'!P80-'Renters Only'!P79","v":7.0000000000000062E-2},{"$f":"'Renters Only'!Q80-'Renters Only'!Q79","v":0}]
["Oct 16 - Nov 16",{"$f":"'Renters Only'!B81-'Renters Only'!B80","v":-2.0000000000000018E-2},{"$f":"'Renters Only'!C81-'Renters Only'!C80","v":0.03},{"$f":"'Renters Only'!D81-'Renters Only'!D80","v":9.9999999999999534E-3},{"$f":"'Renters Only'!E81-'Renters Only'!E80","v":-5.4060000000000011E-3},{"$f":"'Renters Only'!F81-'Renters Only'!F80","v":-3.999999999999998E-2},{"$f":"'Renters Only'!G81-'Renters Only'!G80","v":3.0000000000000027E-2},{"$f":"'Renters Only'!H81-'Renters Only'!H80","v":2.0000000000000018E-2},{"$f":"'Renters Only'!I81-'Renters Only'!I80","v":-0.06},{"$f":"'Renters Only'!J81-'Renters Only'!J80","v":3.0000000000000027E-2},{"$f":"'Renters Only'!K81-'Renters Only'!K80","v":-5.0000000000000044E-2},{"$f":"'Renters Only'!L81-'Renters Only'!L80","v":-3.9999999999999925E-2},{"$f":"'Renters Only'!M81-'Renters Only'!M80","v":0.06},{"$f":"'Renters Only'!N81-'Renters Only'!N80","v":2.0000000000000018E-2},{"$f":"'Renters Only'!O81-'Renters Only'!O80","v":-0.03},{"$f":"'Renters Only'!P81-'Renters Only'!P80","v":-5.0000000000000044E-2},{"$f":"'Renters Only'!Q81-'Renters Only'!Q80","v":-8.0000000000000016E-2}]
["Nov 16 - Dec 16",{"$f":"'Renters Only'!B82-'Renters Only'!B81","v":-9.9999999999998979E-3},{"$f":"'Renters Only'!C82-'Renters Only'!C81","v":-1.0000000000000002E-2},{"$f":"'Renters Only'!D82-'Renters Only'!D81","v":1.0000000000000009E-2},{"$f":"'Renters Only'!E82-'Renters Only'!E81","v":-3.3830000000000041E-3},{"$f":"'Renters Only'!F82-'Renters Only'!F81","v":-2.0000000000000018E-2},{"$f":"'Renters Only'!G82-'Renters Only'!G81","v":3.0000000000000027E-2},{"$f":"'Renters Only'!H82-'Renters Only'!H81","v":3.9999999999999925E-2},{"$f":"'Renters Only'!I82-'Renters Only'!I81","v":1.0000000000000009E-2},{"$f":"'Renters Only'!J82-'Renters Only'!J81","v":-1.0000000000000009E-2},{"$f":"'Renters Only'!K82-'Renters Only'!K81","v":2.0000000000000018E-2},{"$f":"'Renters Only'!L82-'Renters Only'!L81","v":1.0000000000000009E-2},{"$f":"'Renters Only'!M82-'Renters Only'!M81","v":-0.03},{"$f":"'Renters Only'!N82-'Renters Only'!N81","v":-1.0000000000000009E-2},{"$f":"'Renters Only'!O82-'Renters Only'!O81","v":1.0000000000000009E-2},{"$f":"'Renters Only'!P82-'Renters Only'!P81","v":9.9999999999999978E-2},{"$f":"'Renters Only'!Q82-'Renters Only'!Q81","v":3.0000000000000027E-2}]
["Dec 16 - Jan 17",{"$f":"'Renters Only'!B83-'Renters Only'!B82","v":2.9999999999999916E-2},{"$f":"'Renters Only'!C83-'Renters Only'!C82","v":1.0000000000000002E-2},{"$f":"'Renters Only'!D83-'Renters Only'!D82","v":-2.9999999999999971E-2},{"$f":"'Renters Only'!E83-'Renters Only'!E82","v":1.0587000000000006E-2},{"$f":"'Renters Only'!F83-'Renters Only'!F82","v":-0.06},{"$f":"'Renters Only'!G83-'Renters Only'!G82","v":4.9999999999999933E-2},{"$f":"'Renters Only'!H83-'Renters Only'!H82","v":-3.9999999999999925E-2},{"$f":"'Renters Only'!I83-'Renters Only'!I82","v":0},{"$f":"'Renters Only'!J83-'Renters Only'!J82","v":-4.9999999999999933E-2},{"$f":"'Renters Only'!K83-'Renters Only'!K82","v":4.9999999999999989E-2},{"$f":"'Renters Only'!L83-'Renters Only'!L82","v":0},{"$f":"'Renters Only'!M83-'Renters Only'!M82","v":9.9999999999999811E-3},{"$f":"'Renters Only'!N83-'Renters Only'!N82","v":-4.0000000000000036E-2},{"$f":"'Renters Only'!O83-'Renters Only'!O82","v":0},{"$f":"'Renters Only'!P83-'Renters Only'!P82","v":-3.9999999999999925E-2},{"$f":"'Renters Only'!Q83-'Renters Only'!Q82","v":-2.0000000000000018E-2}]
["Jan 17 - Feb 17",{"$f":"'Renters Only'!B84-'Renters Only'!B83","v":1.0000000000000009E-2},{"$f":"'Renters Only'!C84-'Renters Only'!C83","v":-1.0000000000000002E-2},{"$f":"'Renters Only'!D84-'Renters Only'!D83","v":1.0000000000000009E-2},{"$f":"'Renters Only'!E84-'Renters Only'!E83","v":-1.2525000000000008E-2},{"$f":"'Renters Only'!F84-'Renters Only'!F83","v":2.0000000000000018E-2},{"$f":"'Renters Only'!G84-'Renters Only'!G83","v":-2.0000000000000018E-2},{"$f":"'Renters Only'!H84-'Renters Only'!H83","v":2.0000000000000018E-2},{"$f":"'Renters Only'!I84-'Renters Only'!I83","v":0},{"$f":"'Renters Only'!J84-'Renters Only'!J83","v":4.9999999999999933E-2},{"$f":"'Renters Only'!K84-'Renters Only'!K83","v":-0.06},{"$f":"'Renters Only'!L84-'Renters Only'!L83","v":2.9999999999999916E-2},{"$f":"'Renters Only'!M84-'Renters Only'!M83","v":-9.9999999999999811E-3},{"$f":"'Renters Only'!N84-'Renters Only'!N83","v":3.0000000000000027E-2},{"$f":"'Renters Only'!O84-'Renters Only'!O83","v":-1.0000000000000009E-2},{"$f":"'Renters Only'!P84-'Renters Only'!P83","v":-6.0000000000000053E-2},{"$f":"'Renters Only'!Q84-'Renters Only'!Q83","v":9.9999999999999978E-2}]
["Feb 17 - Mar 17",{"$f":"'Renters Only'!B85-'Renters Only'!B84","v":1.0000000000000009E-2},{"$f":"'Renters Only'!C85-'Renters Only'!C84","v":2.0000000000000004E-2},{"$f":"'Renters Only'!D85-'Renters Only'!D84","v":-1.0000000000000009E-2},{"$f":"'Renters Only'!E85-'Renters Only'!E84","v":1.0840000000000002E-2},{"$f":"'Renters Only'!F85-'Renters Only'!F84","v":0},{"$f":"'Renters Only'!G85-'Renters Only'!G84","v":0},{"$f":"'Renters Only'!H85-'Renters Only'!H84","v":-2.0000000000000018E-2},{"$f":"'Renters Only'!I85-'Renters Only'!I84","v":1.999999999999999E-2},{"$f":"'Renters Only'!J85-'Renters Only'!J84","v":-2.0000000000000018E-2},{"$f":"'Renters Only'!K85-'Renters Only'!K84","v":4.0000000000000036E-2},{"$f":"'Renters Only'!L85-'Renters Only'!L84","v":-3.9999999999999925E-2},{"$f":"'Renters Only'!M85-'Renters Only'!M84","v":0.03},{"$f":"'Renters Only'!N85-'Renters Only'!N84","v":-3.0000000000000027E-2},{"$f":"'Renters Only'!O85-'Renters Only'!O84","v":4.0000000000000008E-2},{"$f":"'Renters Only'!P85-'Renters Only'!P84","v":7.999999999999996E-2},{"$f":"'Renters Only'!Q85-'Renters Only'!Q84","v":-0.10999999999999999}]
["Mar 17 - Apr 17",{"$f":"'Renters Only'!B86-'Renters Only'!B85","v":-9.9999999999999978E-2},{"$f":"'Renters Only'!C86-'Renters Only'!C85","v":-2.0000000000000004E-2},{"$f":"'Renters Only'!D86-'Renters Only'!D85","v":8.9999999999999969E-2},{"$f":"'Renters Only'!E86-'Renters Only'!E85","v":-5.280999999999994E-3},{"$f":"'Renters Only'!F86-'Renters Only'!F85","v":4.9999999999999989E-2},{"$f":"'Renters Only'!G86-'Renters Only'!G85","v":-4.9999999999999933E-2},{"$f":"'Renters Only'!H86-'Renters Only'!H85","v":0},{"$f":"'Renters Only'!I86-'Renters Only'!I85","v":-9.9999999999999811E-3},{"$f":"'Renters Only'!J86-'Renters Only'!J85","v":-4.9999999999999933E-2},{"$f":"'Renters Only'!K86-'Renters Only'!K85","v":3.999999999999998E-2},{"$f":"'Renters Only'!L86-'Renters Only'!L85","v":-6.0000000000000053E-2},{"$f":"'Renters Only'!M86-'Renters Only'!M85","v":1.999999999999999E-2},{"$f":"'Renters Only'!N86-'Renters Only'!N85","v":9.000000000000008E-2},{"$f":"'Renters Only'!O86-'Renters Only'!O85","v":-0.06},{"$f":"'Renters Only'!P86-'Renters Only'!P85","v":3.0000000000000027E-2},{"$f":"'Renters Only'!Q86-'Renters Only'!Q85","v":-3.999999999999998E-2}]
["Apr 17 - May 17",{"$f":"'Renters Only'!B87-'Renters Only'!B86","v":3.0000000000000027E-2},{"$f":"'Renters Only'!C87-'Renters Only'!C86","v":4.0000000000000008E-2},{"$f":"'Renters Only'!D87-'Renters Only'!D86","v":-7.0000000000000007E-2},{"$f":"'Renters Only'!E87-'Renters Only'!E86","v":-1.0528000000000003E-2},{"$f":"'Renters Only'!F87-'Renters Only'!F86","v":1.0000000000000009E-2},{"$f":"'Renters Only'!G87-'Renters Only'!G86","v":1.0000000000000009E-2},{"$f":"'Renters Only'!H87-'Renters Only'!H86","v":2.0000000000000018E-2},{"$f":"'Renters Only'!I87-'Renters Only'!I86","v":-2.0000000000000018E-2},{"$f":"'Renters Only'!J87-'Renters Only'!J86","v":0.14000000000000001},{"$f":"'Renters Only'!K87-'Renters Only'!K86","v":-0.13},{"$f":"'Renters Only'!L87-'Renters Only'!L86","v":3.0000000000000027E-2},{"$f":"'Renters Only'!M87-'Renters Only'!M86","v":-1.999999999999999E-2},{"$f":"'Renters Only'!N87-'Renters Only'!N86","v":-5.0000000000000044E-2},{"$f":"'Renters Only'!O87-'Renters Only'!O86","v":1.0000000000000009E-2},{"$f":"'Renters Only'!P87-'Renters Only'!P86","v":-8.9999999999999969E-2},{"$f":"'Renters Only'!Q87-'Renters Only'!Q86","v":0.14000000000000001}]
["May 17 - Jun 17",{"$f":"'Renters Only'!B88-'Renters Only'!B87","v":5.9999999999999942E-2},{"$f":"'Renters Only'!C88-'Renters Only'!C87","v":-1.0000000000000009E-2},{"$f":"'Renters Only'!D88-'Renters Only'!D87","v":-4.9999999999999989E-2},{"$f":"'Renters Only'!E88-'Renters Only'!E87","v":2.9388999999999992E-2},{"$f":"'Renters Only'!F88-'Renters Only'!F87","v":2.9999999999999971E-2},{"$f":"'Renters Only'!G88-'Renters Only'!G87","v":-6.0000000000000053E-2},{"$f":"'Renters Only'!H88-'Renters Only'!H87","v":-4.0000000000000036E-2},{"$f":"'Renters Only'!I88-'Renters Only'!I87","v":5.0000000000000017E-2},{"$f":"'Renters Only'!J88-'Renters Only'!J87","v":-6.0000000000000053E-2},{"$f":"'Renters Only'!K88-'Renters Only'!K87","v":4.9999999999999989E-2},{"$f":"'Renters Only'!L88-'Renters Only'!L87","v":4.0000000000000036E-2},{"$f":"'Renters Only'!M88-'Renters Only'!M87","v":-1.0000000000000009E-2},{"$f":"'Renters Only'!N88-'Renters Only'!N87","v":0},{"$f":"'Renters Only'!O88-'Renters Only'!O87","v":0.03},{"$f":"'Renters Only'!P88-'Renters Only'!P87","v":0},{"$f":"'Renters Only'!Q88-'Renters Only'!Q87","v":-0.06}]
["Jun 17 - Jul 17",{"$f":"'Renters Only'!B89-'Renters Only'!B88","v":2.0000000000000018E-2},{"$f":"'Renters Only'!C89-'Renters Only'!C88","v":-1.9999999999999997E-2},{"$f":"'Renters Only'!D89-'Renters Only'!D88","v":0},{"$f":"'Renters Only'!E89-'Renters Only'!E88","v":-8.2460000000000033E-3},{"$f":"'Renters Only'!F89-'Renters Only'!F88","v":-8.0000000000000016E-2},{"$f":"'Renters Only'!G89-'Renters Only'!G88","v":9.000000000000008E-2},{"$f":"'Renters Only'!H89-'Renters Only'!H88","v":1.0000000000000009E-2},{"$f":"'Renters Only'!I89-'Renters Only'!I88","v":-2.0000000000000018E-2},{"$f":"'Renters Only'!J89-'Renters Only'!J88","v":-0.10999999999999999},{"$f":"'Renters Only'!K89-'Renters Only'!K88","v":0.12},{"$f":"'Renters Only'!L89-'Renters Only'!L88","v":-4.0000000000000036E-2},{"$f":"'Renters Only'!M89-'Renters Only'!M88","v":1.999999999999999E-2},{"$f":"'Renters Only'!N89-'Renters Only'!N88","v":2.0000000000000018E-2},{"$f":"'Renters Only'!O89-'Renters Only'!O88","v":-0.03},{"$f":"'Renters Only'!P89-'Renters Only'!P88","v":7.999999999999996E-2},{"$f":"'Renters Only'!Q89-'Renters Only'!Q88","v":-7.0000000000000007E-2}]
["Jul 17 - Aug 17",{"$f":"'Renters Only'!B90-'Renters Only'!B89","v":0},{"$f":"'Renters Only'!C90-'Renters Only'!C89","v":0},{"$f":"'Renters Only'!D90-'Renters Only'!D89","v":1.0000000000000009E-2},{"$f":"'Renters Only'!E90-'Renters Only'!E89","v":-7.9119999999999885E-3},{"$f":"'Renters Only'!F90-'Renters Only'!F89","v":0},{"$f":"'Renters Only'!G90-'Renters Only'!G89","v":9.9999999999998979E-3},{"$f":"'Renters Only'!H90-'Renters Only'!H89","v":2.0000000000000018E-2},{"$f":"'Renters Only'!I90-'Renters Only'!I89","v":-0.03},{"$f":"'Renters Only'!J90-'Renters Only'!J89","v":4.0000000000000036E-2},{"$f":"'Renters Only'!K90-'Renters Only'!K89","v":-0.06},{"$f":"'Renters Only'!L90-'Renters Only'!L89","v":-1.0000000000000009E-2},{"$f":"'Renters Only'!M90-'Renters Only'!M89","v":0.03},{"$f":"'Renters Only'!N90-'Renters Only'!N89","v":3.0000000000000027E-2},{"$f":"'Renters Only'!O90-'Renters Only'!O89","v":-2.0000000000000018E-2},{"$f":"'Renters Only'!P90-'Renters Only'!P89","v":-6.9999999999999951E-2},{"$f":"'Renters Only'!Q90-'Renters Only'!Q89","v":1.9999999999999962E-2}]
["Aug 17 - Sep 17",{"$f":"'Renters Only'!B91-'Renters Only'!B90","v":-5.9999999999999942E-2},{"$f":"'Renters Only'!C91-'Renters Only'!C90","v":-0.02},{"$f":"'Renters Only'!D91-'Renters Only'!D90","v":0.06},{"$f":"'Renters Only'!E91-'Renters Only'!E90","v":-3.1080000000000066E-3},{"$f":"'Renters Only'!F91-'Renters Only'!F90","v":0.06},{"$f":"'Renters Only'!G91-'Renters Only'!G90","v":-7.999999999999996E-2},{"$f":"'Renters Only'!H91-'Renters Only'!H90","v":-1.0000000000000009E-2},{"$f":"'Renters Only'!I91-'Renters Only'!I90","v":0.03},{"$f":"'Renters Only'!J91-'Renters Only'!J90","v":4.9999999999999933E-2},{"$f":"'Renters Only'!K91-'Renters Only'!K90","v":-4.9999999999999989E-2},{"$f":"'Renters Only'!L91-'Renters Only'!L90","v":5.0000000000000044E-2},{"$f":"'Renters Only'!M91-'Renters Only'!M90","v":-6.9999999999999979E-2},{"$f":"'Renters Only'!N91-'Renters Only'!N90","v":-3.0000000000000027E-2},{"$f":"'Renters Only'!O91-'Renters Only'!O90","v":4.0000000000000008E-2},{"$f":"'Renters Only'!P91-'Renters Only'!P90","v":0},{"$f":"'Renters Only'!Q91-'Renters Only'!Q90","v":2.0000000000000018E-2}]
["Sep 17 - Oct 17",{"$f":"'Renters Only'!B92-'Renters Only'!B91","v":3.9999999999999925E-2},{"$f":"'Renters Only'!C92-'Renters Only'!C91","v":3.0000000000000002E-2},{"$f":"'Renters Only'!D92-'Renters Only'!D91","v":-8.0000000000000016E-2},{"$f":"'Renters Only'!E92-'Renters Only'!E91","v":-3.3900000000000596E-4},{"$f":"'Renters Only'!F92-'Renters Only'!F91","v":2.0000000000000018E-2},{"$f":"'Renters Only'!G92-'Renters Only'!G91","v":-2.9999999999999971E-2},{"$f":"'Renters Only'!H92-'Renters Only'!H91","v":-1.0000000000000009E-2},{"$f":"'Renters Only'!I92-'Renters Only'!I91","v":-1.999999999999999E-2},{"$f":"'Renters Only'!J92-'Renters Only'!J91","v":2.0000000000000018E-2},{"$f":"'Renters Only'!K92-'Renters Only'!K91","v":0},{"$f":"'Renters Only'!L92-'Renters Only'!L91","v":4.9999999999999933E-2},{"$f":"'Renters Only'!M92-'Renters Only'!M91","v":-2.0000000000000018E-2},{"$f":"'Renters Only'!N92-'Renters Only'!N91","v":-2.0000000000000018E-2},{"$f":"'Renters Only'!O92-'Renters Only'!O91","v":-4.0000000000000008E-2},{"$f":"'Renters Only'!P92-'Renters Only'!P91","v":-2.0000000000000018E-2},{"$f":"'Renters Only'!Q92-'Renters Only'!Q91","v":-2.0000000000000018E-2}]
["Oct 17 - Nov 17",{"$f":"'Renters Only'!B93-'Renters Only'!B92","v":9.9999999999999978E-2},{"$f":"'Renters Only'!C93-'Renters Only'!C92","v":-3.0000000000000002E-2},{"$f":"'Renters Only'!D93-'Renters Only'!D92","v":-2.9999999999999971E-2},{"$f":"'Renters Only'!E93-'Renters Only'!E92","v":1.7185000000000013E-2},{"$f":"'Renters Only'!F93-'Renters Only'!F92","v":-0.12},{"$f":"'Renters Only'!G93-'Renters Only'!G92","v":0.14999999999999997},{"$f":"'Renters Only'!H93-'Renters Only'!H92","v":3.0000000000000027E-2},{"$f":"'Renters Only'!I93-'Renters Only'!I92","v":0},{"$f":"'Renters Only'!J93-'Renters Only'!J92","v":-8.9999999999999969E-2},{"$f":"'Renters Only'!K93-'Renters Only'!K92","v":9.0000000000000024E-2},{"$f":"'Renters Only'!L93-'Renters Only'!L92","v":-0.16000000000000003},{"$f":"'Renters Only'!M93-'Renters Only'!M92","v":0.13999999999999999},{"$f":"'Renters Only'!N93-'Renters Only'!N92","v":6.0000000000000053E-2},{"$f":"'Renters Only'!O93-'Renters Only'!O92","v":-9.9999999999999811E-3},{"$f":"'Renters Only'!P93-'Renters Only'!P92","v":6.9999999999999951E-2},{"$f":"'Renters Only'!Q93-'Renters Only'!Q92","v":1.0000000000000009E-2}]
["Nov 17 - Dec 17",{"$f":"'Renters Only'!B94-'Renters Only'!B93","v":3.0000000000000027E-2},{"$f":"'Renters Only'!C94-'Renters Only'!C93","v":-0.01},{"$f":"'Renters Only'!D94-'Renters Only'!D93","v":-0.03},{"$f":"'Renters Only'!E94-'Renters Only'!E93","v":8.4680000000000033E-3},{"$f":"'Renters Only'!F94-'Renters Only'!F93","v":0.06},{"$f":"'Renters Only'!G94-'Renters Only'!G93","v":-5.9999999999999942E-2},{"$f":"'Renters Only'!H94-'Renters Only'!H93","v":3.9999999999999925E-2},{"$f":"'Renters Only'!I94-'Renters Only'!I93","v":-2.0000000000000004E-2},{"$f":"'Renters Only'!J94-'Renters Only'!J93","v":4.9999999999999933E-2},{"$f":"'Renters Only'!K94-'Renters Only'!K93","v":-5.0000000000000044E-2},{"$f":"'Renters Only'!L94-'Renters Only'!L93","v":0.17000000000000004},{"$f":"'Renters Only'!M94-'Renters Only'!M93","v":-0.16999999999999998},{"$f":"'Renters Only'!N94-'Renters Only'!N93","v":0},{"$f":"'Renters Only'!O94-'Renters Only'!O93","v":9.9999999999999811E-3},{"$f":"'Renters Only'!P94-'Renters Only'!P93","v":-1.9999999999999907E-2},{"$f":"'Renters Only'!Q94-'Renters Only'!Q93","v":2.0000000000000018E-2}]
["Dec 17 - Jan 18",{"$f":"'Renters Only'!B95-'Renters Only'!B94","v":-0.12},{"$f":"'Renters Only'!C95-'Renters Only'!C94","v":0.03},{"$f":"'Renters Only'!D95-'Renters Only'!D94","v":5.999999999999997E-2},{"$f":"'Renters Only'!E95-'Renters Only'!E94","v":-1.5257000000000007E-2},{"$f":"'Renters Only'!F95-'Renters Only'!F94","v":-2.0000000000000018E-2},{"$f":"'Renters Only'!G95-'Renters Only'!G94","v":1.0000000000000009E-2},{"$f":"'Renters Only'!H95-'Renters Only'!H94","v":-2.0000000000000018E-2},{"$f":"'Renters Only'!I95-'Renters Only'!I94","v":9.999999999999995E-3},{"$f":"'Renters Only'!J95-'Renters Only'!J94","v":-5.9999999999999942E-2},{"$f":"'Renters Only'!K95-'Renters Only'!K94","v":0.06},{"$f":"'Renters Only'!L95-'Renters Only'!L94","v":-4.9999999999999933E-2},{"$f":"'Renters Only'!M95-'Renters Only'!M94","v":7.0000000000000007E-2},{"$f":"'Renters Only'!N95-'Renters Only'!N94","v":0},{"$f":"'Renters Only'!O95-'Renters Only'!O94","v":-1.999999999999999E-2},{"$f":"'Renters Only'!P95-'Renters Only'!P94","v":3.9999999999999925E-2},{"$f":"'Renters Only'!Q95-'Renters Only'!Q94","v":-3.999999999999998E-2}]
["Jan 18 - Feb 18",{"$f":"'Renters Only'!B96-'Renters Only'!B95","v":-4.9999999999999933E-2},{"$f":"'Renters Only'!C96-'Renters Only'!C95","v":1.0000000000000002E-2},{"$f":"'Renters Only'!D96-'Renters Only'!D95","v":4.0000000000000036E-2},{"$f":"'Renters Only'!E96-'Renters Only'!E95","v":-7.6360000000000039E-3},{"$f":"'Renters Only'!F96-'Renters Only'!F95","v":5.0000000000000044E-2},{"$f":"'Renters Only'!G96-'Renters Only'!G95","v":-6.0000000000000053E-2},{"$f":"'Renters Only'!H96-'Renters Only'!H95","v":-5.9999999999999942E-2},{"$f":"'Renters Only'!I96-'Renters Only'!I95","v":4.0000000000000008E-2},{"$f":"'Renters Only'!J96-'Renters Only'!J95","v":5.9999999999999942E-2},{"$f":"'Renters Only'!K96-'Renters Only'!K95","v":-6.9999999999999951E-2},{"$f":"'Renters Only'!L96-'Renters Only'!L95","v":-1.0000000000000009E-2},{"$f":"'Renters Only'!M96-'Renters Only'!M95","v":0},{"$f":"'Renters Only'!N96-'Renters Only'!N95","v":-8.0000000000000071E-2},{"$f":"'Renters Only'!O96-'Renters Only'!O95","v":0.06},{"$f":"'Renters Only'!P96-'Renters Only'!P95","v":-2.0000000000000018E-2},{"$f":"'Renters Only'!Q96-'Renters Only'!Q95","v":3.999999999999998E-2}]
["Feb 18 - Mar 18",{"$f":"'Renters Only'!B97-'Renters Only'!B96","v":3.9999999999999925E-2},{"$f":"'Renters Only'!C97-'Renters Only'!C96","v":-3.0000000000000002E-2},{"$f":"'Renters Only'!D97-'Renters Only'!D96","v":1.9999999999999962E-2},{"$f":"'Renters Only'!E97-'Renters Only'!E96","v":4.0749999999999953E-3},{"$f":"'Renters Only'!F97-'Renters Only'!F96","v":9.9999999999999534E-3},{"$f":"'Renters Only'!G97-'Renters Only'!G96","v":2.0000000000000018E-2},{"$f":"'Renters Only'!H97-'Renters Only'!H96","v":5.9999999999999942E-2},{"$f":"'Renters Only'!I97-'Renters Only'!I96","v":-0.05},{"$f":"'Renters Only'!J97-'Renters Only'!J96","v":-1.0000000000000009E-2},{"$f":"'Renters Only'!K97-'Renters Only'!K96","v":1.9999999999999962E-2},{"$f":"'Renters Only'!L97-'Renters Only'!L96","v":1.9999999999999907E-2},{"$f":"'Renters Only'!M97-'Renters Only'!M96","v":-0.03},{"$f":"'Renters Only'!N97-'Renters Only'!N96","v":7.0000000000000062E-2},{"$f":"'Renters Only'!O97-'Renters Only'!O96","v":-0.03},{"$f":"'Renters Only'!P97-'Renters Only'!P96","v":9.000000000000008E-2},{"$f":"'Renters Only'!Q97-'Renters Only'!Q96","v":-0.1}]
["Mar 18 - Apr 18",{"$f":"'Renters Only'!B98-'Renters Only'!B97","v":0},{"$f":"'Renters Only'!C98-'Renters Only'!C97","v":0.02},{"$f":"'Renters Only'!D98-'Renters Only'!D97","v":-2.9999999999999971E-2},{"$f":"'Renters Only'!E98-'Renters Only'!E97","v":7.2200000000000042E-3},{"$f":"'Renters Only'!F98-'Renters Only'!F97","v":-4.9999999999999989E-2},{"$f":"'Renters Only'!G98-'Renters Only'!G97","v":0},{"$f":"'Renters Only'!H98-'Renters Only'!H97","v":-2.9999999999999916E-2},{"$f":"'Renters Only'!I98-'Renters Only'!I97","v":3.0000000000000013E-2},{"$f":"'Renters Only'!J98-'Renters Only'!J97","v":-9.9999999999998979E-3},{"$f":"'Renters Only'!K98-'Renters Only'!K97","v":-1.9999999999999962E-2},{"$f":"'Renters Only'!L98-'Renters Only'!L97","v":2.0000000000000018E-2},{"$f":"'Renters Only'!M98-'Renters Only'!M97","v":-1.0000000000000009E-2},{"$f":"'Renters Only'!N98-'Renters Only'!N97","v":-6.0000000000000053E-2},{"$f":"'Renters Only'!O98-'Renters Only'!O97","v":0.03},{"$f":"'Renters Only'!P98-'Renters Only'!P97","v":-8.0000000000000071E-2},{"$f":"'Renters Only'!Q98-'Renters Only'!Q97","v":7.9999999999999988E-2}]
["Apr 18 - May 18",{"$f":"'Renters Only'!B99-'Renters Only'!B98","v":0},{"$f":"'Renters Only'!C99-'Renters Only'!C98","v":-0.02},{"$f":"'Renters Only'!D99-'Renters Only'!D98","v":-1.0000000000000009E-2},{"$f":"'Renters Only'!E99-'Renters Only'!E98","v":-8.2499999999999934E-3},{"$f":"'Renters Only'!F99-'Renters Only'!F98","v":9.0000000000000024E-2},{"$f":"'Renters Only'!G99-'Renters Only'!G98","v":-0.06},{"$f":"'Renters Only'!H99-'Renters Only'!H98","v":-1.0000000000000009E-2},{"$f":"'Renters Only'!I99-'Renters Only'!I98","v":9.9999999999999811E-3},{"$f":"'Renters Only'!J99-'Renters Only'!J98","v":1.9999999999999907E-2},{"$f":"'Renters Only'!K99-'Renters Only'!K98","v":0},{"$f":"'Renters Only'!L99-'Renters Only'!L98","v":-1.0000000000000009E-2},{"$f":"'Renters Only'!M99-'Renters Only'!M98","v":2.0000000000000018E-2},{"$f":"'Renters Only'!N99-'Renters Only'!N98","v":4.0000000000000036E-2},{"$f":"'Renters Only'!O99-'Renters Only'!O98","v":-4.0000000000000008E-2},{"$f":"'Renters Only'!P99-'Renters Only'!P98","v":-6.9999999999999951E-2},{"$f":"'Renters Only'!Q99-'Renters Only'!Q98","v":8.0000000000000016E-2}]
["May 18-Jun 18",{"$f":"'Renters Only'!B100-'Renters Only'!B99","v":-2.0000000000000018E-2},{"$f":"'Renters Only'!C100-'Renters Only'!C99","v":0.02},{"$f":"'Renters Only'!D100-'Renters Only'!D99","v":0.06},{"$f":"'Renters Only'!E100-'Renters Only'!E99","v":-9.108000000000005E-3},{"$f":"'Renters Only'!F100-'Renters Only'!F99","v":-4.9999999999999989E-2},{"$f":"'Renters Only'!G100-'Renters Only'!G99","v":2.9999999999999971E-2},{"$f":"'Renters Only'!H100-'Renters Only'!H99","v":1.0000000000000009E-2},{"$f":"'Renters Only'!I100-'Renters Only'!I99","v":-0.03},{"$f":"'Renters Only'!J100-'Renters Only'!J99","v":6.0000000000000053E-2},{"$f":"'Renters Only'!K100-'Renters Only'!K99","v":-7.0000000000000007E-2},{"$f":"'Renters Only'!L100-'Renters Only'!L99","v":-4.9999999999999933E-2},{"$f":"'Renters Only'!M100-'Renters Only'!M99","v":-1.0000000000000009E-2},{"$f":"'Renters Only'!N100-'Renters Only'!N99","v":1.0000000000000009E-2},{"$f":"'Renters Only'!O100-'Renters Only'!O99","v":-1.999999999999999E-2},{"$f":"'Renters Only'!P100-'Renters Only'!P99","v":-3.0000000000000027E-2},{"$f":"'Renters Only'!Q100-'Renters Only'!Q99","v":0}]
["Jun 18-Jul 18",{"$f":"'Renters Only'!B101-'Renters Only'!B100","v":7.0000000000000062E-2},{"$f":"'Renters Only'!C101-'Renters Only'!C100","v":-0.02},{"$f":"'Renters Only'!D101-'Renters Only'!D100","v":-7.0000000000000007E-2},{"$f":"'Renters Only'!E101-'Renters Only'!E100","v":1.5716000000000008E-2},{"$f":"'Renters Only'!F101-'Renters Only'!F100","v":-0.06},{"$f":"'Renters Only'!G101-'Renters Only'!G100","v":9.9999999999999978E-2},{"$f":"'Renters Only'!H101-'Renters Only'!H100","v":0},{"$f":"'Renters Only'!I101-'Renters Only'!I100","v":1.0000000000000009E-2},{"$f":"'Renters Only'!J101-'Renters Only'!J100","v":-0.16000000000000003},{"$f":"'Renters Only'!K101-'Renters Only'!K100","v":0.18},{"$f":"'Renters Only'!L101-'Renters Only'!L100","v":1.0000000000000009E-2},{"$f":"'Renters Only'!M101-'Renters Only'!M100","v":1.999999999999999E-2},{"$f":"'Renters Only'!N101-'Renters Only'!N100","v":1.0000000000000009E-2},{"$f":"'Renters Only'!O101-'Renters Only'!O100","v":1.0000000000000009E-2},{"$f":"'Renters Only'!P101-'Renters Only'!P100","v":8.9999999999999969E-2},{"$f":"'Renters Only'!Q101-'Renters Only'!Q100","v":-8.0000000000000016E-2}]
["Jul 18-Aug 18",{"$f":"'Renters Only'!B102-'Renters Only'!B101","v":3.0000000000000027E-2},{"$f":"'Renters Only'!C102-'Renters Only'!C101","v":3.0000000000000002E-2},{"$f":"'Renters Only'!D102-'Renters Only'!D101","v":-0.06},{"$f":"'Renters Only'!E102-'Renters Only'!E101","v":-4.5300000000000895E-4},{"$f":"'Renters Only'!F102-'Renters Only'!F101","v":2.9999999999999971E-2},{"$f":"'Renters Only'!G102-'Renters Only'!G101","v":-4.9999999999999933E-2},{"$f":"'Renters Only'!H102-'Renters Only'!H101","v":1.0000000000000009E-2},{"$f":"'Renters Only'!I102-'Renters Only'!I101","v":0},{"$f":"'Renters Only'!J102-'Renters Only'!J101","v":9.9999999999999978E-2},{"$f":"'Renters Only'!K102-'Renters Only'!K101","v":-0.10000000000000003},{"$f":"'Renters Only'!L102-'Renters Only'!L101","v":-1.0000000000000009E-2},{"$f":"'Renters Only'!M102-'Renters Only'!M101","v":-1.999999999999999E-2},{"$f":"'Renters Only'!N102-'Renters Only'!N101","v":-1.0000000000000009E-2},{"$f":"'Renters Only'!O102-'Renters Only'!O101","v":0.03},{"$f":"'Renters Only'!P102-'Renters Only'!P101","v":-1.9999999999999907E-2},{"$f":"'Renters Only'!Q102-'Renters Only'!Q101","v":2.0000000000000018E-2}]
["Aug 18-Sep 18",{"$f":"'Renters Only'!B103-'Renters Only'!B102","v":-4.0000000000000036E-2},{"$f":"'Renters Only'!C103-'Renters Only'!C102","v":-2.0000000000000004E-2},{"$f":"'Renters Only'!D103-'Renters Only'!D102","v":7.0000000000000007E-2},{"$f":"'Renters Only'!E103-'Renters Only'!E102","v":-1.1970000000000001E-2},{"$f":"'Renters Only'!F103-'Renters Only'!F102","v":0},{"$f":"'Renters Only'!G103-'Renters Only'!G102","v":1.0000000000000009E-2},{"$f":"'Renters Only'!H103-'Renters Only'!H102","v":-2.0000000000000018E-2},{"$f":"'Renters Only'!I103-'Renters Only'!I102","v":1.999999999999999E-2},{"$f":"'Renters Only'!J103-'Renters Only'!J102","v":-1.9999999999999907E-2},{"$f":"'Renters Only'!K103-'Renters Only'!K102","v":0},{"$f":"'Renters Only'!L103-'Renters Only'!L102","v":-1.0000000000000009E-2},{"$f":"'Renters Only'!M103-'Renters Only'!M102","v":0.06},{"$f":"'Renters Only'!N103-'Renters Only'!N102","v":-1.0000000000000009E-2},{"$f":"'Renters Only'!O103-'Renters Only'!O102","v":0},{"$f":"'Renters Only'!P103-'Renters Only'!P102","v":0},{"$f":"'Renters Only'!Q103-'Renters Only'!Q102","v":2.0000000000000018E-2}]
["Sep 18 - Oct 18",{"$f":"'Renters Only'!B104-'Renters Only'!B103","v":-4.0000000000000036E-2},{"$f":"'Renters Only'!C104-'Renters Only'!C103","v":0.05},{"$f":"'Renters Only'!D104-'Renters Only'!D103","v":-2.0000000000000018E-2},{"$f":"'Renters Only'!E104-'Renters Only'!E103","v":1.3450000000000129E-3},{"$f":"'Renters Only'!F104-'Renters Only'!F103","v":1.0000000000000009E-2},{"$f":"'Renters Only'!G104-'Renters Only'!G103","v":-2.0000000000000018E-2},{"$f":"'Renters Only'!H104-'Renters Only'!H103","v":4.9999999999999933E-2},{"$f":"'Renters Only'!I104-'Renters Only'!I103","v":-3.9999999999999994E-2},{"$f":"'Renters Only'!J104-'Renters Only'!J103","v":2.9999999999999916E-2},{"$f":"'Renters Only'!K104-'Renters Only'!K103","v":-9.9999999999999534E-3},{"$f":"'Renters Only'!L104-'Renters Only'!L103","v":7.999999999999996E-2},{"$f":"'Renters Only'!M104-'Renters Only'!M103","v":-0.09},{"$f":"'Renters Only'!N104-'Renters Only'!N103","v":3.0000000000000027E-2},{"$f":"'Renters Only'!O104-'Renters Only'!O103","v":-2.0000000000000018E-2},{"$f":"'Renters Only'!P104-'Renters Only'!P103","v":0},{"$f":"'Renters Only'!Q104-'Renters Only'!Q103","v":-4.0000000000000036E-2}]
["Oct 18 - Nov 18",{"$f":"'Renters Only'!B105-'Renters Only'!B104","v":5.0000000000000044E-2},{"$f":"'Renters Only'!C105-'Renters Only'!C104","v":-0.05},{"$f":"'Renters Only'!D105-'Renters Only'!D104","v":2.0000000000000018E-2},{"$f":"'Renters Only'!E105-'Renters Only'!E104","v":7.0049999999999904E-3},{"$f":"'Renters Only'!F105-'Renters Only'!F104","v":-1.0000000000000009E-2},{"$f":"'Renters Only'!G105-'Renters Only'!G104","v":2.0000000000000018E-2},{"$f":"'Renters Only'!H105-'Renters Only'!H104","v":-1.0000000000000009E-2},{"$f":"'Renters Only'!I105-'Renters Only'!I104","v":2.0000000000000004E-2},{"$f":"'Renters Only'!J105-'Renters Only'!J104","v":3.0000000000000027E-2},{"$f":"'Renters Only'!K105-'Renters Only'!K104","v":-2.0000000000000018E-2},{"$f":"'Renters Only'!L105-'Renters Only'!L104","v":0},{"$f":"'Renters Only'!M105-'Renters Only'!M104","v":1.999999999999999E-2},{"$f":"'Renters Only'!N105-'Renters Only'!N104","v":0},{"$f":"'Renters Only'!O105-'Renters Only'!O104","v":-9.9999999999999811E-3},{"$f":"'Renters Only'!P105-'Renters Only'!P104","v":-8.0000000000000071E-2},{"$f":"'Renters Only'!Q105-'Renters Only'!Q104","v":0.12}]
["Nov 18 - Dec 18",{"$f":"'Renters Only'!B106-'Renters Only'!B105","v":-3.0000000000000027E-2},{"$f":"'Renters Only'!C106-'Renters Only'!C105","v":1.0000000000000002E-2},{"$f":"'Renters Only'!D106-'Renters Only'!D105","v":2.0000000000000018E-2},{"$f":"'Renters Only'!E106-'Renters Only'!E105","v":1.5169999999999975E-3},{"$f":"'Renters Only'!F106-'Renters Only'!F105","v":0},{"$f":"'Renters Only'!G106-'Renters Only'!G105","v":-1.0000000000000009E-2},{"$f":"'Renters Only'!H106-'Renters Only'!H105","v":-1.9999999999999907E-2},{"$f":"'Renters Only'!I106-'Renters Only'!I105","v":1.0000000000000009E-2},{"$f":"'Renters Only'!J106-'Renters Only'!J105","v":-5.9999999999999942E-2},{"$f":"'Renters Only'!K106-'Renters Only'!K105","v":4.9999999999999989E-2},{"$f":"'Renters Only'!L106-'Renters Only'!L105","v":-0.10999999999999999},{"$f":"'Renters Only'!M106-'Renters Only'!M105","v":8.0000000000000016E-2},{"$f":"'Renters Only'!N106-'Renters Only'!N105","v":2.0000000000000018E-2},{"$f":"'Renters Only'!O106-'Renters Only'!O105","v":0},{"$f":"'Renters Only'!P106-'Renters Only'!P105","v":5.0000000000000044E-2},{"$f":"'Renters Only'!Q106-'Renters Only'!Q105","v":-0.10999999999999999}]
["Dec 18 - Jan 19",{"$f":"'Renters Only'!B107-'Renters Only'!B106","v":-3.0000000000000027E-2},{"$f":"'Renters Only'!C107-'Renters Only'!C106","v":1.9999999999999997E-2},{"$f":"'Renters Only'!D107-'Renters Only'!D106","v":0},{"$f":"'Renters Only'!E107-'Renters Only'!E106","v":-1.1575999999999996E-2},{"$f":"'Renters Only'!F107-'Renters Only'!F106","v":-2.0000000000000018E-2},{"$f":"'Renters Only'!G107-'Renters Only'!G106","v":2.0000000000000018E-2},{"$f":"'Renters Only'!H107-'Renters Only'!H106","v":2.9999999999999916E-2},{"$f":"'Renters Only'!I107-'Renters Only'!I106","v":-2.0000000000000018E-2},{"$f":"'Renters Only'!J107-'Renters Only'!J106","v":2.9999999999999916E-2},{"$f":"'Renters Only'!K107-'Renters Only'!K106","v":-4.9999999999999989E-2},{"$f":"'Renters Only'!L107-'Renters Only'!L106","v":8.9999999999999969E-2},{"$f":"'Renters Only'!M107-'Renters Only'!M106","v":-0.11000000000000001},{"$f":"'Renters Only'!N107-'Renters Only'!N106","v":-1.0000000000000009E-2},{"$f":"'Renters Only'!O107-'Renters Only'!O106","v":-1.0000000000000009E-2},{"$f":"'Renters Only'!P107-'Renters Only'!P106","v":-4.0000000000000036E-2},{"$f":"'Renters Only'!Q107-'Renters Only'!Q106","v":0.12}]
["Jan 19 - Feb 19",{"$f":"'Renters Only'!B108-'Renters Only'!B107","v":0},{"$f":"'Renters Only'!C108-'Renters Only'!C107","v":-3.9999999999999994E-2},{"$f":"'Renters Only'!D108-'Renters Only'!D107","v":1.9999999999999962E-2},{"$f":"'Renters Only'!E108-'Renters Only'!E107","v":1.0109999999999994E-2},{"$f":"'Renters Only'!F108-'Renters Only'!F107","v":-1.9999999999999962E-2},{"$f":"'Renters Only'!G108-'Renters Only'!G107","v":2.9999999999999916E-2},{"$f":"'Renters Only'!H108-'Renters Only'!H107","v":-3.9999999999999925E-2},{"$f":"'Renters Only'!I108-'Renters Only'!I107","v":2.0000000000000018E-2},{"$f":"'Renters Only'!J108-'Renters Only'!J107","v":-8.9999999999999969E-2},{"$f":"'Renters Only'!K108-'Renters Only'!K107","v":0.10999999999999999},{"$f":"'Renters Only'!L108-'Renters Only'!L107","v":-1.0000000000000009E-2},{"$f":"'Renters Only'!M108-'Renters Only'!M107","v":0.06},{"$f":"'Renters Only'!N108-'Renters Only'!N107","v":-7.0000000000000062E-2},{"$f":"'Renters Only'!O108-'Renters Only'!O107","v":0.03},{"$f":"'Renters Only'!P108-'Renters Only'!P107","v":0.10999999999999999},{"$f":"'Renters Only'!Q108-'Renters Only'!Q107","v":-0.12}]
["Feb 19 - Mar 19",{"$f":"'Renters Only'!B109-'Renters Only'!B108","v":1.0000000000000009E-2},{"$f":"'Renters Only'!C109-'Renters Only'!C108","v":3.9999999999999994E-2},{"$f":"'Renters Only'!D109-'Renters Only'!D108","v":-0.06},{"$f":"'Renters Only'!E109-'Renters Only'!E108","v":-1.2227999999999996E-2},{"$f":"'Renters Only'!F109-'Renters Only'!F108","v":8.9999999999999969E-2},{"$f":"'Renters Only'!G109-'Renters Only'!G108","v":-8.9999999999999969E-2},{"$f":"'Renters Only'!H109-'Renters Only'!H108","v":1.0000000000000009E-2},{"$f":"'Renters Only'!I109-'Renters Only'!I108","v":-1.0000000000000009E-2},{"$f":"'Renters Only'!J109-'Renters Only'!J108","v":0.12},{"$f":"'Renters Only'!K109-'Renters Only'!K108","v":-0.12},{"$f":"'Renters Only'!L109-'Renters Only'!L108","v":-6.9999999999999951E-2},{"$f":"'Renters Only'!M109-'Renters Only'!M108","v":2.0000000000000018E-2},{"$f":"'Renters Only'!N109-'Renters Only'!N108","v":6.0000000000000053E-2},{"$f":"'Renters Only'!O109-'Renters Only'!O108","v":-0.03},{"$f":"'Renters Only'!P109-'Renters Only'!P108","v":-3.0000000000000027E-2},{"$f":"'Renters Only'!Q109-'Renters Only'!Q108","v":1.0000000000000009E-2}]
["Mar 19 - Apr 19",{"$f":"'Renters Only'!B110-'Renters Only'!B109","v":4.0000000000000036E-2},{"$f":"'Renters Only'!C110-'Renters Only'!C109","v":-0.03},{"$f":"'Renters Only'!D110-'Renters Only'!D109","v":1.0000000000000009E-2},{"$f":"'Renters Only'!E110-'Renters Only'!E109","v":9.1830000000000037E-3},{"$f":"'Renters Only'!F110-'Renters Only'!F109","v":-3.999999999999998E-2},{"$f":"'Renters Only'!G110-'Renters Only'!G109","v":4.0000000000000036E-2},{"$f":"'Renters Only'!H110-'Renters Only'!H109","v":-2.0000000000000018E-2},{"$f":"'Renters Only'!I110-'Renters Only'!I109","v":1.999999999999999E-2},{"$f":"'Renters Only'!J110-'Renters Only'!J109","v":0},{"$f":"'Renters Only'!K110-'Renters Only'!K109","v":0},{"$f":"'Renters Only'!L110-'Renters Only'!L109","v":0},{"$f":"'Renters Only'!M110-'Renters Only'!M109","v":3.999999999999998E-2},{"$f":"'Renters Only'!N110-'Renters Only'!N109","v":-4.0000000000000036E-2},{"$f":"'Renters Only'!O110-'Renters Only'!O109","v":4.9999999999999989E-2},{"$f":"'Renters Only'!P110-'Renters Only'!P109","v":-3.9999999999999925E-2},{"$f":"'Renters Only'!Q110-'Renters Only'!Q109","v":2.9999999999999971E-2}]
["Apr 19 - May 19",{"$f":"'Renters Only'!B111-'Renters Only'!B110","v":3.0000000000000027E-2},{"$f":"'Renters Only'!C111-'Renters Only'!C110","v":1.0000000000000002E-2},{"$f":"'Renters Only'!D111-'Renters Only'!D110","v":-0.06},{"$f":"'Renters Only'!E111-'Renters Only'!E110","v":1.3239000000000001E-2},{"$f":"'Renters Only'!F111-'Renters Only'!F110","v":-4.9999999999999989E-2},{"$f":"'Renters Only'!G111-'Renters Only'!G110","v":2.0000000000000018E-2},{"$f":"'Renters Only'!H111-'Renters Only'!H110","v":-1.0000000000000009E-2},{"$f":"'Renters Only'!I111-'Renters Only'!I110","v":1.0000000000000009E-2},{"$f":"'Renters Only'!J111-'Renters Only'!J110","v":-5.0000000000000044E-2},{"$f":"'Renters Only'!K111-'Renters Only'!K110","v":3.0000000000000027E-2},{"$f":"'Renters Only'!L111-'Renters Only'!L110","v":-5.0000000000000044E-2},{"$f":"'Renters Only'!M111-'Renters Only'!M110","v":2.0000000000000018E-2},{"$f":"'Renters Only'!N111-'Renters Only'!N110","v":2.0000000000000018E-2},{"$f":"'Renters Only'!O111-'Renters Only'!O110","v":-9.9999999999999811E-3},{"$f":"'Renters Only'!P111-'Renters Only'!P110","v":-3.0000000000000027E-2},{"$f":"'Renters Only'!Q111-'Renters Only'!Q110","v":3.0000000000000027E-2}]
["May 19 - Jun 19",{"$f":"'Renters Only'!B112-'Renters Only'!B111","v":-7.0000000000000062E-2},{"$f":"'Renters Only'!C112-'Renters Only'!C111","v":-1.0000000000000002E-2},{"$f":"'Renters Only'!D112-'Renters Only'!D111","v":9.0000000000000024E-2},{"$f":"'Renters Only'!E112-'Renters Only'!E111","v":-1.8090000000000002E-2},{"$f":"'Renters Only'!F112-'Renters Only'!F111","v":-2.0000000000000018E-2},{"$f":"'Renters Only'!G112-'Renters Only'!G111","v":3.9999999999999925E-2},{"$f":"'Renters Only'!H112-'Renters Only'!H111","v":0},{"$f":"'Renters Only'!I112-'Renters Only'!I111","v":-1.999999999999999E-2},{"$f":"'Renters Only'!J112-'Renters Only'!J111","v":-5.9999999999999942E-2},{"$f":"'Renters Only'!K112-'Renters Only'!K111","v":6.9999999999999951E-2},{"$f":"'Renters Only'!L112-'Renters Only'!L111","v":6.0000000000000053E-2},{"$f":"'Renters Only'!M112-'Renters Only'!M111","v":-4.0000000000000008E-2},{"$f":"'Renters Only'!N112-'Renters Only'!N111","v":0},{"$f":"'Renters Only'!O112-'Renters Only'!O111","v":-0.03},{"$f":"'Renters Only'!P112-'Renters Only'!P111","v":-3.999999999999998E-2},{"$f":"'Renters Only'!Q112-'Renters Only'!Q111","v":1.0000000000000009E-2}]
["Jun 19 - Jul 19",{"$f":"'Renters Only'!B113-'Renters Only'!B112","v":5.0000000000000044E-2},{"$f":"'Renters Only'!C113-'Renters Only'!C112","v":1.0000000000000002E-2},{"$f":"'Renters Only'!D113-'Renters Only'!D112","v":-0.06},{"$f":"'Renters Only'!E113-'Renters Only'!E112","v":8.4019999999999997E-3},{"$f":"'Renters Only'!F113-'Renters Only'!F112","v":4.9999999999999989E-2},{"$f":"'Renters Only'!G113-'Renters Only'!G112","v":-3.9999999999999925E-2},{"$f":"'Renters Only'!H113-'Renters Only'!H112","v":2.0000000000000018E-2},{"$f":"'Renters Only'!I113-'Renters Only'!I112","v":0},{"$f":"'Renters Only'!J113-'Renters Only'!J112","v":8.9999999999999969E-2},{"$f":"'Renters Only'!K113-'Renters Only'!K112","v":-7.999999999999996E-2},{"$f":"'Renters Only'!L113-'Renters Only'!L112","v":2.0000000000000018E-2},{"$f":"'Renters Only'!M113-'Renters Only'!M112","v":-1.0000000000000009E-2},{"$f":"'Renters Only'!N113-'Renters Only'!N112","v":-3.0000000000000027E-2},{"$f":"'Renters Only'!O113-'Renters Only'!O112","v":1.999999999999999E-2},{"$f":"'Renters Only'!P113-'Renters Only'!P112","v":7.0000000000000007E-2},{"$f":"'Renters Only'!Q113-'Renters Only'!Q112","v":-2.0000000000000018E-2}]
["Jul 19 - Aug 19",{"$f":"'Renters Only'!B114-'Renters Only'!B113","v":1.0000000000000009E-2},{"$f":"'Renters Only'!C114-'Renters Only'!C113","v":-0.03},{"$f":"'Renters Only'!D114-'Renters Only'!D113","v":1.9999999999999962E-2},{"$f":"'Renters Only'!E114-'Renters Only'!E113","v":7.0699999999999999E-3},{"$f":"'Renters Only'!F114-'Renters Only'!F113","v":4.0000000000000036E-2},{"$f":"'Renters Only'!G114-'Renters Only'!G113","v":-5.0000000000000044E-2},{"$f":"'Renters Only'!H114-'Renters Only'!H113","v":-4.0000000000000036E-2},{"$f":"'Renters Only'!I114-'Renters Only'!I113","v":0.03},{"$f":"'Renters Only'!J114-'Renters Only'!J113","v":5.0000000000000044E-2},{"$f":"'Renters Only'!K114-'Renters Only'!K113","v":-8.0000000000000016E-2},{"$f":"'Renters Only'!L114-'Renters Only'!L113","v":-2.0000000000000018E-2},{"$f":"'Renters Only'!M114-'Renters Only'!M113","v":1.0000000000000009E-2},{"$f":"'Renters Only'!N114-'Renters Only'!N113","v":-5.0000000000000044E-2},{"$f":"'Renters Only'!O114-'Renters Only'!O113","v":9.0000000000000024E-2},{"$f":"'Renters Only'!P114-'Renters Only'!P113","v":-1.0000000000000009E-2},{"$f":"'Renters Only'!Q114-'Renters Only'!Q113","v":-2.9999999999999971E-2}]
["Aug 19 - Sep 19",{"$f":"'Renters Only'!B115-'Renters Only'!B114","v":-6.0000000000000053E-2},{"$f":"'Renters Only'!C115-'Renters Only'!C114","v":4.9999999999999996E-2},{"$f":"'Renters Only'!D115-'Renters Only'!D114","v":3.0000000000000027E-2},{"$f":"'Renters Only'!E115-'Renters Only'!E114","v":-8.5780000000000023E-3},{"$f":"'Renters Only'!F115-'Renters Only'!F114","v":-1.0000000000000009E-2},{"$f":"'Renters Only'!G115-'Renters Only'!G114","v":2.0000000000000018E-2},{"$f":"'Renters Only'!H115-'Renters Only'!H114","v":5.9999999999999942E-2},{"$f":"'Renters Only'!I115-'Renters Only'!I114","v":-5.0000000000000017E-2},{"$f":"'Renters Only'!J115-'Renters Only'!J114","v":1.0000000000000009E-2},{"$f":"'Renters Only'!K115-'Renters Only'!K114","v":2.0000000000000018E-2},{"$f":"'Renters Only'!L115-'Renters Only'!L114","v":2.0000000000000018E-2},{"$f":"'Renters Only'!M115-'Renters Only'!M114","v":0},{"$f":"'Renters Only'!N115-'Renters Only'!N114","v":6.0000000000000053E-2},{"$f":"'Renters Only'!O115-'Renters Only'!O114","v":-7.0000000000000034E-2},{"$f":"'Renters Only'!P115-'Renters Only'!P114","v":4.9999999999999933E-2},{"$f":"'Renters Only'!Q115-'Renters Only'!Q114","v":-3.0000000000000027E-2}]
["Sep 19 - Oct 19",{"$f":"'Renters Only'!B116-'Renters Only'!B115","v":3.0000000000000027E-2},{"$f":"'Renters Only'!C116-'Renters Only'!C115","v":0},{"$f":"'Renters Only'!D116-'Renters Only'!D115","v":-3.999999999999998E-2},{"$f":"'Renters Only'!E116-'Renters Only'!E115","v":1.913999999999999E-3},{"$f":"'Renters Only'!F116-'Renters Only'!F115","v":-7.0000000000000007E-2},{"$f":"'Renters Only'!G116-'Renters Only'!G115","v":4.9999999999999933E-2},{"$f":"'Renters Only'!H116-'Renters Only'!H115","v":1.0000000000000009E-2},{"$f":"'Renters Only'!I116-'Renters Only'!I115","v":1.0000000000000009E-2},{"$f":"'Renters Only'!J116-'Renters Only'!J115","v":-0.13},{"$f":"'Renters Only'!K116-'Renters Only'!K115","v":0.12},{"$f":"'Renters Only'!L116-'Renters Only'!L115","v":5.9999999999999942E-2},{"$f":"'Renters Only'!M116-'Renters Only'!M115","v":-7.0000000000000007E-2},{"$f":"'Renters Only'!N116-'Renters Only'!N115","v":1.0000000000000009E-2},{"$f":"'Renters Only'!O116-'Renters Only'!O115","v":0},{"$f":"'Renters Only'!P116-'Renters Only'!P115","v":2.0000000000000018E-2},{"$f":"'Renters Only'!Q116-'Renters Only'!Q115","v":0}]
["Oct 19 - Nov 19",{"$f":"'Renters Only'!B117-'Renters Only'!B116","v":3.0000000000000027E-2},{"$f":"'Renters Only'!C117-'Renters Only'!C116","v":-1.9999999999999997E-2},{"$f":"'Renters Only'!D117-'Renters Only'!D116","v":-3.0000000000000027E-2},{"$f":"'Renters Only'!E117-'Renters Only'!E116","v":-3.9579999999999962E-3},{"$f":"'Renters Only'!F117-'Renters Only'!F116","v":0.06},{"$f":"'Renters Only'!G117-'Renters Only'!G116","v":-3.9999999999999925E-2},{"$f":"'Renters Only'!H117-'Renters Only'!H116","v":-2.9999999999999916E-2},{"$f":"'Renters Only'!I117-'Renters Only'!I116","v":0},{"$f":"'Renters Only'!J117-'Renters Only'!J116","v":1.0000000000000009E-2},{"$f":"'Renters Only'!K117-'Renters Only'!K116","v":0},{"$f":"'Renters Only'!L117-'Renters Only'!L116","v":-4.9999999999999933E-2},{"$f":"'Renters Only'!M117-'Renters Only'!M116","v":2.0000000000000018E-2},{"$f":"'Renters Only'!N117-'Renters Only'!N116","v":4.0000000000000036E-2},{"$f":"'Renters Only'!O117-'Renters Only'!O116","v":-3.999999999999998E-2},{"$f":"'Renters Only'!P117-'Renters Only'!P116","v":-2.9999999999999916E-2},{"$f":"'Renters Only'!Q117-'Renters Only'!Q116","v":-2.0000000000000018E-2}]
["Nov 19 - Dec 19",{"$f":"'Renters Only'!B118-'Renters Only'!B117","v":-7.0000000000000062E-2},{"$f":"'Renters Only'!C118-'Renters Only'!C117","v":3.0000000000000006E-2},{"$f":"'Renters Only'!D118-'Renters Only'!D117","v":0.06},{"$f":"'Renters Only'!E118-'Renters Only'!E117","v":1.3169999999999987E-3},{"$f":"'Renters Only'!F118-'Renters Only'!F117","v":-4.9999999999999989E-2},{"$f":"'Renters Only'!G118-'Renters Only'!G117","v":3.9999999999999925E-2},{"$f":"'Renters Only'!H118-'Renters Only'!H117","v":1.9999999999999907E-2},{"$f":"'Renters Only'!I118-'Renters Only'!I117","v":-2.0000000000000004E-2},{"$f":"'Renters Only'!J118-'Renters Only'!J117","v":2.0000000000000018E-2},{"$f":"'Renters Only'!K118-'Renters Only'!K117","v":-2.0000000000000018E-2},{"$f":"'Renters Only'!L118-'Renters Only'!L117","v":-1.0000000000000009E-2},{"$f":"'Renters Only'!M118-'Renters Only'!M117","v":1.999999999999999E-2},{"$f":"'Renters Only'!N118-'Renters Only'!N117","v":-6.0000000000000053E-2},{"$f":"'Renters Only'!O118-'Renters Only'!O117","v":9.9999999999999811E-3},{"$f":"'Renters Only'!P118-'Renters Only'!P117","v":2.9999999999999916E-2},{"$f":"'Renters Only'!Q118-'Renters Only'!Q117","v":0}]
["Dec 19 - Jan 20",{"$f":"'Renters Only'!B119-'Renters Only'!B118","v":1.0000000000000009E-2},{"$f":"'Renters Only'!C119-'Renters Only'!C118","v":-2.0000000000000004E-2},{"$f":"'Renters Only'!D119-'Renters Only'!D118","v":0},{"$f":"'Renters Only'!E119-'Renters Only'!E118","v":1.1880000000000016E-3},{"$f":"'Renters Only'!F119-'Renters Only'!F118","v":-3.0000000000000027E-2},{"$f":"'Renters Only'!G119-'Renters Only'!G118","v":4.0000000000000036E-2},{"$f":"'Renters Only'!H119-'Renters Only'!H118","v":-2.9999999999999916E-2},{"$f":"'Renters Only'!I119-'Renters Only'!I118","v":3.9999999999999994E-2},{"$f":"'Renters Only'!J119-'Renters Only'!J118","v":-5.0000000000000044E-2},{"$f":"'Renters Only'!K119-'Renters Only'!K118","v":0.06},{"$f":"'Renters Only'!L119-'Renters Only'!L118","v":3.0000000000000027E-2},{"$f":"'Renters Only'!M119-'Renters Only'!M118","v":0},{"$f":"'Renters Only'!N119-'Renters Only'!N118","v":-2.0000000000000018E-2},{"$f":"'Renters Only'!O119-'Renters Only'!O118","v":5.0000000000000017E-2},{"$f":"'Renters Only'!P119-'Renters Only'!P118","v":-2.9999999999999916E-2},{"$f":"'Renters Only'!Q119-'Renters Only'!Q118","v":3.0000000000000027E-2}]
["Jan 20 - Feb 20",{"$f":"'Renters Only'!B120-'Renters Only'!B119","v":8.9999999999999969E-2},{"$f":"'Renters Only'!C120-'Renters Only'!C119","v":-2.0000000000000004E-2},{"$f":"'Renters Only'!D120-'Renters Only'!D119","v":-7.0000000000000007E-2},{"$f":"'Renters Only'!E120-'Renters Only'!E119","v":1.2891999999999994E-2},{"$f":"'Renters Only'!F120-'Renters Only'!F119","v":0},{"$f":"'Renters Only'!G120-'Renters Only'!G119","v":0},{"$f":"'Renters Only'!H120-'Renters Only'!H119","v":5.9999999999999942E-2},{"$f":"'Renters Only'!I120-'Renters Only'!I119","v":-3.9999999999999994E-2},{"$f":"'Renters Only'!J120-'Renters Only'!J119","v":5.9999999999999942E-2},{"$f":"'Renters Only'!K120-'Renters Only'!K119","v":-0.06},{"$f":"'Renters Only'!L120-'Renters Only'!L119","v":-5.0000000000000044E-2},{"$f":"'Renters Only'!M120-'Renters Only'!M119","v":1.0000000000000009E-2},{"$f":"'Renters Only'!N120-'Renters Only'!N119","v":4.0000000000000036E-2},{"$f":"'Renters Only'!O120-'Renters Only'!O119","v":-2.0000000000000018E-2},{"$f":"'Renters Only'!P120-'Renters Only'!P119","v":3.9999999999999925E-2},{"$f":"'Renters Only'!Q120-'Renters Only'!Q119","v":-1.0000000000000009E-2}]
["Feb 20 - Mar 20",{"$f":"'Renters Only'!B121-'Renters Only'!B120","v":-0.14999999999999991},{"$f":"'Renters Only'!C121-'Renters Only'!C120","v":4.0000000000000008E-2},{"$f":"'Renters Only'!D121-'Renters Only'!D120","v":0.12},{"$f":"'Renters Only'!E121-'Renters Only'!E120","v":-2.1376999999999993E-2},{"$f":"'Renters Only'!F121-'Renters Only'!F120","v":2.0000000000000018E-2},{"$f":"'Renters Only'!G121-'Renters Only'!G120","v":-2.0000000000000018E-2},{"$f":"'Renters Only'!H121-'Renters Only'!H120","v":-3.0000000000000027E-2},{"$f":"'Renters Only'!I121-'Renters Only'!I120","v":2.0000000000000004E-2},{"$f":"'Renters Only'!J121-'Renters Only'!J120","v":-3.9999999999999925E-2},{"$f":"'Renters Only'!K121-'Renters Only'!K120","v":3.999999999999998E-2},{"$f":"'Renters Only'!L121-'Renters Only'!L120","v":2.0000000000000018E-2},{"$f":"'Renters Only'!M121-'Renters Only'!M120","v":-1.0000000000000009E-2},{"$f":"'Renters Only'!N121-'Renters Only'!N120","v":3.0000000000000027E-2},{"$f":"'Renters Only'!O121-'Renters Only'!O120","v":-3.999999999999998E-2},{"$f":"'Renters Only'!P121-'Renters Only'!P120","v":-3.9999999999999925E-2},{"$f":"'Renters Only'!Q121-'Renters Only'!Q120","v":2.0000000000000018E-2}]
["Mar 20 - Apr 20",{"$f":"'Renters Only'!B122-'Renters Only'!B121","v":-0.26},{"$f":"'Renters Only'!C122-'Renters Only'!C121","v":7.9999999999999988E-2},{"$f":"'Renters Only'!D122-'Renters Only'!D121","v":0.13},{"$f":"'Renters Only'!E122-'Renters Only'!E121","v":-2.6095E-2},{"$f":"'Renters Only'!F122-'Renters Only'!F121","v":2.0000000000000018E-2},{"$f":"'Renters Only'!G122-'Renters Only'!G121","v":-1.0000000000000009E-2},{"$f":"'Renters Only'!H122-'Renters Only'!H121","v":-1.9999999999999907E-2},{"$f":"'Renters Only'!I122-'Renters Only'!I121","v":-1.0000000000000009E-2},{"$f":"'Renters Only'!J122-'Renters Only'!J121","v":-2.0000000000000018E-2},{"$f":"'Renters Only'!K122-'Renters Only'!K121","v":2.0000000000000018E-2},{"$f":"'Renters Only'!L122-'Renters Only'!L121","v":3.0000000000000027E-2},{"$f":"'Renters Only'!M122-'Renters Only'!M121","v":-1.999999999999999E-2},{"$f":"'Renters Only'!N122-'Renters Only'!N121","v":1.0000000000000009E-2},{"$f":"'Renters Only'!O122-'Renters Only'!O121","v":-1.0000000000000009E-2},{"$f":"'Renters Only'!P122-'Renters Only'!P121","v":-5.0000000000000044E-2},{"$f":"'Renters Only'!Q122-'Renters Only'!Q121","v":-2.0000000000000018E-2}]
["Apr 20 - May 20",{"$f":"'Renters Only'!B123-'Renters Only'!B122","v":4.9999999999999989E-2},{"$f":"'Renters Only'!C123-'Renters Only'!C122","v":-9.9999999999999811E-3},{"$f":"'Renters Only'!D123-'Renters Only'!D122","v":-1.0000000000000009E-2},{"$f":"'Renters Only'!E123-'Renters Only'!E122","v":1.3410999999999999E-2},{"$f":"'Renters Only'!F123-'Renters Only'!F122","v":4.9999999999999989E-2},{"$f":"'Renters Only'!G123-'Renters Only'!G122","v":-6.9999999999999951E-2},{"$f":"'Renters Only'!H123-'Renters Only'!H122","v":-2.0000000000000018E-2},{"$f":"'Renters Only'!I123-'Renters Only'!I122","v":2.0000000000000018E-2},{"$f":"'Renters Only'!J123-'Renters Only'!J122","v":3.0000000000000027E-2},{"$f":"'Renters Only'!K123-'Renters Only'!K122","v":-4.9999999999999989E-2},{"$f":"'Renters Only'!L123-'Renters Only'!L122","v":-9.000000000000008E-2},{"$f":"'Renters Only'!M123-'Renters Only'!M122","v":4.9999999999999989E-2},{"$f":"'Renters Only'!N123-'Renters Only'!N122","v":-2.0000000000000018E-2},{"$f":"'Renters Only'!O123-'Renters Only'!O122","v":0},{"$f":"'Renters Only'!P123-'Renters Only'!P122","v":8.9999999999999969E-2},{"$f":"'Renters Only'!Q123-'Renters Only'!Q122","v":-2.9999999999999971E-2}]
["May 20 - Jun 20",{"$f":"'Renters Only'!B124-'Renters Only'!B123","v":0.15999999999999998},{"$f":"'Renters Only'!C124-'Renters Only'!C123","v":9.9999999999999811E-3},{"$f":"'Renters Only'!D124-'Renters Only'!D123","v":-0.18},{"$f":"'Renters Only'!E124-'Renters Only'!E123","v":-6.916000000000002E-3},{"$f":"'Renters Only'!F124-'Renters Only'!F123","v":1.0000000000000009E-2},{"$f":"'Renters Only'!G124-'Renters Only'!G123","v":0},{"$f":"'Renters Only'!H124-'Renters Only'!H123","v":3.0000000000000027E-2},{"$f":"'Renters Only'!I124-'Renters Only'!I123","v":-3.0000000000000013E-2},{"$f":"'Renters Only'!J124-'Renters Only'!J123","v":2.0000000000000018E-2},{"$f":"'Renters Only'!K124-'Renters Only'!K123","v":-2.0000000000000018E-2},{"$f":"'Renters Only'!L124-'Renters Only'!L123","v":0.10999999999999999},{"$f":"'Renters Only'!M124-'Renters Only'!M123","v":-7.0000000000000007E-2},{"$f":"'Renters Only'!N124-'Renters Only'!N123","v":-2.0000000000000018E-2},{"$f":"'Renters Only'!O124-'Renters Only'!O123","v":1.999999999999999E-2},{"$f":"'Renters Only'!P124-'Renters Only'!P123","v":3.0000000000000027E-2},{"$f":"'Renters Only'!Q124-'Renters Only'!Q123","v":-6.0000000000000026E-2}]
["Jun 20 - Jul 20",{"$f":"'Renters Only'!B125-'Renters Only'!B124","v":-2.0000000000000018E-2},{"$f":"'Renters Only'!C125-'Renters Only'!C124","v":-1.999999999999999E-2},{"$f":"'Renters Only'!D125-'Renters Only'!D124","v":0.06},{"$f":"'Renters Only'!E125-'Renters Only'!E124","v":5.3720000000000018E-3},{"$f":"'Renters Only'!F125-'Renters Only'!F124","v":-1.0000000000000009E-2},{"$f":"'Renters Only'!G125-'Renters Only'!G124","v":0},{"$f":"'Renters Only'!H125-'Renters Only'!H124","v":2.9999999999999916E-2},{"$f":"'Renters Only'!I125-'Renters Only'!I124","v":0},{"$f":"'Renters Only'!J125-'Renters Only'!J124","v":4.9999999999999933E-2},{"$f":"'Renters Only'!K125-'Renters Only'!K124","v":-3.999999999999998E-2},{"$f":"'Renters Only'!L125-'Renters Only'!L124","v":5.0000000000000044E-2},{"$f":"'Renters Only'!M125-'Renters Only'!M124","v":-0.03},{"$f":"'Renters Only'!N125-'Renters Only'!N124","v":2.0000000000000018E-2},{"$f":"'Renters Only'!O125-'Renters Only'!O124","v":0},{"$f":"'Renters Only'!P125-'Renters Only'!P124","v":-6.9999999999999951E-2},{"$f":"'Renters Only'!Q125-'Renters Only'!Q124","v":7.9999999999999988E-2}]
["Jul 20 - Aug 20",{"$f":"'Renters Only'!B126-'Renters Only'!B125","v":6.0000000000000053E-2},{"$f":"'Renters Only'!C126-'Renters Only'!C125","v":0.03},{"$f":"'Renters Only'!D126-'Renters Only'!D125","v":-7.999999999999996E-2},{"$f":"'Renters Only'!E126-'Renters Only'!E125","v":2.5587000000000002E-2},{"$f":"'Renters Only'!F126-'Renters Only'!F125","v":0},{"$f":"'Renters Only'!G126-'Renters Only'!G125","v":-1.0000000000000009E-2},{"$f":"'Renters Only'!H126-'Renters Only'!H125","v":-1.0000000000000009E-2},{"$f":"'Renters Only'!I126-'Renters Only'!I125","v":0},{"$f":"'Renters Only'!J126-'Renters Only'!J125","v":-3.0000000000000027E-2},{"$f":"'Renters Only'!K126-'Renters Only'!K125","v":1.0000000000000009E-2},{"$f":"'Renters Only'!L126-'Renters Only'!L125","v":-4.0000000000000036E-2},{"$f":"'Renters Only'!M126-'Renters Only'!M125","v":1.0000000000000009E-2},{"$f":"'Renters Only'!N126-'Renters Only'!N125","v":-1.0000000000000009E-2},{"$f":"'Renters Only'!O126-'Renters Only'!O125","v":1.0000000000000009E-2},{"$f":"'Renters Only'!P126-'Renters Only'!P125","v":2.9999999999999916E-2},{"$f":"'Renters Only'!Q126-'Renters Only'!Q125","v":-1.9999999999999962E-2}]
["Aug 20 - Sep 20",{"$f":"'Renters Only'!B127-'Renters Only'!B126","v":3.0000000000000027E-2},{"$f":"'Renters Only'!C127-'Renters Only'!C126","v":-7.0000000000000007E-2},{"$f":"'Renters Only'!D127-'Renters Only'!D126","v":0.06},{"$f":"'Renters Only'!E127-'Renters Only'!E126","v":-1.1604000000000003E-2},{"$f":"'Renters Only'!F127-'Renters Only'!F126","v":7.0000000000000007E-2},{"$f":"'Renters Only'!G127-'Renters Only'!G126","v":-7.0000000000000007E-2},{"$f":"'Renters Only'!H127-'Renters Only'!H126","v":-1.0000000000000009E-2},{"$f":"'Renters Only'!I127-'Renters Only'!I126","v":2.0000000000000004E-2},{"$f":"'Renters Only'!J127-'Renters Only'!J126","v":2.0000000000000018E-2},{"$f":"'Renters Only'!K127-'Renters Only'!K126","v":0},{"$f":"'Renters Only'!L127-'Renters Only'!L126","v":2.0000000000000018E-2},{"$f":"'Renters Only'!M127-'Renters Only'!M126","v":-2.0000000000000004E-2},{"$f":"'Renters Only'!N127-'Renters Only'!N126","v":1.0000000000000009E-2},{"$f":"'Renters Only'!O127-'Renters Only'!O126","v":-1.999999999999999E-2},{"$f":"'Renters Only'!P127-'Renters Only'!P126","v":5.0000000000000044E-2},{"$f":"'Renters Only'!Q127-'Renters Only'!Q126","v":-4.0000000000000036E-2}]
["Sep 20 - Oct 20",{"$f":"'Renters Only'!B128-'Renters Only'!B127","v":-0.14000000000000007},{"$f":"'Renters Only'!C128-'Renters Only'!C127","v":0.03},{"$f":"'Renters Only'!D128-'Renters Only'!D127","v":7.999999999999996E-2},{"$f":"'Renters Only'!E128-'Renters Only'!E127","v":-1.4921E-2},{"$f":"'Renters Only'!F128-'Renters Only'!F127","v":-4.0000000000000036E-2},{"$f":"'Renters Only'!G128-'Renters Only'!G127","v":4.9999999999999989E-2},{"$f":"'Renters Only'!H128-'Renters Only'!H127","v":-9.9999999999998979E-3},{"$f":"'Renters Only'!I128-'Renters Only'!I127","v":1.0000000000000009E-2},{"$f":"'Renters Only'!J128-'Renters Only'!J127","v":-2.0000000000000018E-2},{"$f":"'Renters Only'!K128-'Renters Only'!K127","v":-1.0000000000000009E-2},{"$f":"'Renters Only'!L128-'Renters Only'!L127","v":-5.9999999999999942E-2},{"$f":"'Renters Only'!M128-'Renters Only'!M127","v":0.08},{"$f":"'Renters Only'!N128-'Renters Only'!N127","v":0},{"$f":"'Renters Only'!O128-'Renters Only'!O127","v":9.9999999999999811E-3},{"$f":"'Renters Only'!P128-'Renters Only'!P127","v":-3.0000000000000027E-2},{"$f":"'Renters Only'!Q128-'Renters Only'!Q127","v":7.0000000000000007E-2}]
["Oct 20 - Nov 20",{"$f":"'Renters Only'!B129-'Renters Only'!B128","v":0.15999999999999998},{"$f":"'Renters Only'!C129-'Renters Only'!C128","v":-0.03},{"$f":"'Renters Only'!D129-'Renters Only'!D128","v":-0.12},{"$f":"'Renters Only'!E129-'Renters Only'!E128","v":2.4798999999999998E-2},{"$f":"'Renters Only'!F129-'Renters Only'!F128","v":-0.12},{"$f":"'Renters Only'!G129-'Renters Only'!G128","v":0.12},{"$f":"'Renters Only'!H129-'Renters Only'!H128","v":2.9999999999999916E-2},{"$f":"'Renters Only'!I129-'Renters Only'!I128","v":-4.0000000000000008E-2},{"$f":"'Renters Only'!J129-'Renters Only'!J128","v":-7.999999999999996E-2},{"$f":"'Renters Only'!K129-'Renters Only'!K128","v":8.0000000000000016E-2},{"$f":"'Renters Only'!L129-'Renters Only'!L128","v":-6.0000000000000053E-2},{"$f":"'Renters Only'!M129-'Renters Only'!M128","v":0.03},{"$f":"'Renters Only'!N129-'Renters Only'!N128","v":4.9999999999999933E-2},{"$f":"'Renters Only'!O129-'Renters Only'!O128","v":-4.9999999999999989E-2},{"$f":"'Renters Only'!P129-'Renters Only'!P128","v":-1.0000000000000009E-2},{"$f":"'Renters Only'!Q129-'Renters Only'!Q128","v":2.0000000000000018E-2}]
["Nov 20 - Dec 20",{"$f":"'Renters Only'!B130-'Renters Only'!B129","v":-4.9999999999999933E-2},{"$f":"'Renters Only'!C130-'Renters Only'!C129","v":-1.999999999999999E-2},{"$f":"'Renters Only'!D130-'Renters Only'!D129","v":4.9999999999999989E-2},{"$f":"'Renters Only'!E130-'Renters Only'!E129","v":4.6390000000000042E-3},{"$f":"'Renters Only'!F130-'Renters Only'!F129","v":-3.999999999999998E-2},{"$f":"'Renters Only'!G130-'Renters Only'!G129","v":-2.0000000000000018E-2},{"$f":"'Renters Only'!H130-'Renters Only'!H129","v":-4.9999999999999933E-2},{"$f":"'Renters Only'!I130-'Renters Only'!I129","v":4.0000000000000008E-2},{"$f":"'Renters Only'!J130-'Renters Only'!J129","v":2.0000000000000018E-2},{"$f":"'Renters Only'!K130-'Renters Only'!K129","v":-4.0000000000000036E-2},{"$f":"'Renters Only'!L130-'Renters Only'!L129","v":3.0000000000000027E-2},{"$f":"'Renters Only'!M130-'Renters Only'!M129","v":-1.0000000000000009E-2},{"$f":"'Renters Only'!N130-'Renters Only'!N129","v":-0.10999999999999999},{"$f":"'Renters Only'!O130-'Renters Only'!O129","v":0.09},{"$f":"'Renters Only'!P130-'Renters Only'!P129","v":-8.9999999999999969E-2},{"$f":"'Renters Only'!Q130-'Renters Only'!Q129","v":1.9999999999999962E-2}]
["Dec 20 - Jan 21",{"$f":"'Renters Only'!B131-'Renters Only'!B130","v":3.0000000000000027E-2},{"$f":"'Renters Only'!C131-'Renters Only'!C130","v":3.9999999999999994E-2},{"$f":"'Renters Only'!D131-'Renters Only'!D130","v":-4.9999999999999989E-2},{"$f":"'Renters Only'!E131-'Renters Only'!E130","v":-2.1235000000000004E-2},{"$f":"'Renters Only'!F131-'Renters Only'!F130","v":0.16999999999999998},{"$f":"'Renters Only'!G131-'Renters Only'!G130","v":-0.10999999999999999},{"$f":"'Renters Only'!H131-'Renters Only'!H130","v":2.9999999999999916E-2},{"$f":"'Renters Only'!I131-'Renters Only'!I130","v":-2.0000000000000018E-2},{"$f":"'Renters Only'!J131-'Renters Only'!J130","v":8.9999999999999969E-2},{"$f":"'Renters Only'!K131-'Renters Only'!K130","v":-3.999999999999998E-2},{"$f":"'Renters Only'!L131-'Renters Only'!L130","v":8.9999999999999969E-2},{"$f":"'Renters Only'!M131-'Renters Only'!M130","v":-0.09},{"$f":"'Renters Only'!N131-'Renters Only'!N130","v":5.0000000000000044E-2},{"$f":"'Renters Only'!O131-'Renters Only'!O130","v":-1.999999999999999E-2},{"$f":"'Renters Only'!P131-'Renters Only'!P130","v":6.9999999999999951E-2},{"$f":"'Renters Only'!Q131-'Renters Only'!Q130","v":-0.10999999999999999}]
["Jan 21 - Feb 21",{"$f":"'Renters Only'!B132-'Renters Only'!B131","v":3.9999999999999925E-2},{"$f":"'Renters Only'!C132-'Renters Only'!C131","v":-2.0000000000000004E-2},{"$f":"'Renters Only'!D132-'Renters Only'!D131","v":0},{"$f":"'Renters Only'!E132-'Renters Only'!E131","v":2.0605999999999999E-2},{"$f":"'Renters Only'!F132-'Renters Only'!F131","v":-8.9999999999999969E-2},{"$f":"'Renters Only'!G132-'Renters Only'!G131","v":7.0000000000000062E-2},{"$f":"'Renters Only'!H132-'Renters Only'!H131","v":-9.9999999999998979E-3},{"$f":"'Renters Only'!I132-'Renters Only'!I131","v":-9.999999999999995E-3},{"$f":"'Renters Only'!J132-'Renters Only'!J131","v":-2.0000000000000018E-2},{"$f":"'Renters Only'!K132-'Renters Only'!K131","v":-2.0000000000000018E-2},{"$f":"'Renters Only'!L132-'Renters Only'!L131","v":-8.9999999999999969E-2},{"$f":"'Renters Only'!M132-'Renters Only'!M131","v":0.06},{"$f":"'Renters Only'!N132-'Renters Only'!N131","v":-3.0000000000000027E-2},{"$f":"'Renters Only'!O132-'Renters Only'!O131","v":9.9999999999999811E-3},{"$f":"'Renters Only'!P132-'Renters Only'!P131","v":-1.0000000000000009E-2},{"$f":"'Renters Only'!Q132-'Renters Only'!Q131","v":0.06}]
["Min",{"$f":"MIN(B4:B131)","v":-0.26},-7.0000000000000007E-2,-0.18,-4.1283000000000007E-2,-0.12,-0.18000000000000005,-6.0000000000000053E-2,-0.06,-0.16000000000000003,-0.14999999999999997,-0.16000000000000003,-0.16999999999999998,-0.10999999999999999,-0.10999999999999999,-0.14000000000000001,-0.16999999999999998]
["Max",{"$f":"MAX(B4:B131)","v":0.15999999999999998},7.9999999999999988E-2,0.13,2.9388999999999992E-2,0.18,0.14999999999999997,6.0000000000000053E-2,0.06,0.15000000000000002,0.18,0.17000000000000004,0.13999999999999999,9.000000000000008E-2,9.0000000000000024E-2,0.13999999999999996,0.14000000000000001]
["St. Dev.",{"$f":"STDEV(B4:B131)","v":5.7169970367414245E-2},2.7649802258978812E-2,5.2851746296732463E-2,1.1579068177244878E-2,5.7814049511050014E-2,5.913287245120695E-2,2.745063124068026E-2,2.5730350464759907E-2,6.2399081910139889E-2,6.1991980605952741E-2,5.2300426821100518E-2,4.8552877255254187E-2,3.9663632462968924E-2,3.7057095763924804E-2,5.9664364306596267E-2,6.4275518462491216E-2]